Crypt-Perl v0.38 Perl 5 v5.39.11 OpenBSD.amd64-openbsd-thread-multi

Status
Pass
From
Carlos Guevara
Dist
Crypt-Perl v0.38
Platform
Perl 5 v5.39.11 OpenBSD.amd64-openbsd-thread-multi
Date
2024-05-18 08:44:02
ID
c724c4ac-14f2-11ef-963f-f07a3adba34c
This distribution has been tested as part of the CPAN Testers
project, supporting the Perl programming language.  See
http://wiki.cpantesters.org/ for more information or email
questions to cpan-testers-discuss@perl.org


--
Dear Felipe Gasper,

This is a computer-generated report for Crypt-Perl-0.38
on perl 5.39.11, created by CPAN-Reporter-1.2019.

Thank you for uploading your work to CPAN.  Congratulations!
All tests were successful.

Sections of this report:

    * Tester comments
    * Program output
    * Prerequisites
    * Environment and other context

------------------------------
TESTER COMMENTS
------------------------------

Additional comments from tester:

this report is from an automated smoke testing program
and was not reviewed by a human for accuracy

------------------------------
PROGRAM OUTPUT
------------------------------

Output from '/usr/bin/make test':

PERL_DL_NONLAZY=1 "/home/cpan/bin/perl/bin/perl5.39.11" "-MExtUtils::Command::MM" "-MTest::Harness" "-e" "undef *Test::Harness::Switches; test_harness(0, 'blib/lib', 'blib/arch')" t/*.t
# Looking for OpenSSL binary …
# Found OpenSSL: /usr/bin/openssl
# LibreSSL 3.9.0
# compiler: information not available
t/Crypt-Perl-ASN1-BitString.t ..................... ok
# Math::BigInt 2.003002 (backend: Math::BigInt::LTM 0.080)
t/Crypt-Perl-BigInt.t ............................. ok
# Math::BigInt 2.003002 (backend: Math::BigInt::LTM 0.080)
# Math::BigInt::LTM 0.080
t/Crypt-Perl-ECDSA-Deterministic.t ................ ok
t/Crypt-Perl-ECDSA-EC-Point.t ..................... ok
# Looking for OpenSSL binary …
# Found OpenSSL: /usr/bin/openssl
# LibreSSL 3.9.0
# compiler: information not available
# Skipping “c2pnb163v1” (Crypt::Perl::X::ECDSA::NoCurveForOID) …
# Skipping “c2pnb163v2” (Crypt::Perl::X::ECDSA::NoCurveForOID) …
# Skipping “c2pnb163v3” (Crypt::Perl::X::ECDSA::NoCurveForOID) …
# Skipping “c2pnb176v1” (Crypt::Perl::X::ECDSA::NoCurveForOID) …
# Skipping “c2pnb208w1” (Crypt::Perl::X::ECDSA::NoCurveForOID) …
# Skipping “c2pnb272w1” (Crypt::Perl::X::ECDSA::NoCurveForOID) …
# Skipping “c2pnb304w1” (Crypt::Perl::X::ECDSA::NoCurveForOID) …
# Skipping “c2pnb368w1” (Crypt::Perl::X::ECDSA::NoCurveForOID) …
# Skipping “c2tnb191v1” (Crypt::Perl::X::ECDSA::NoCurveForOID) …
# Skipping “c2tnb191v2” (Crypt::Perl::X::ECDSA::NoCurveForOID) …
# Skipping “c2tnb191v3” (Crypt::Perl::X::ECDSA::NoCurveForOID) …
# Skipping “c2tnb239v1” (Crypt::Perl::X::ECDSA::NoCurveForOID) …
# Skipping “c2tnb239v2” (Crypt::Perl::X::ECDSA::NoCurveForOID) …
# Skipping “c2tnb239v3” (Crypt::Perl::X::ECDSA::NoCurveForOID) …
# Skipping “c2tnb359v1” (Crypt::Perl::X::ECDSA::NoCurveForOID) …
# Skipping “c2tnb431r1” (Crypt::Perl::X::ECDSA::NoCurveForOID) …
# Skipping “sect113r1” (Crypt::Perl::X::ECDSA::NoCurveForOID) …
# Skipping “sect113r2” (Crypt::Perl::X::ECDSA::NoCurveForOID) …
# Skipping “sect131r1” (Crypt::Perl::X::ECDSA::NoCurveForOID) …
# Skipping “sect131r2” (Crypt::Perl::X::ECDSA::NoCurveForOID) …
# Skipping “sect163k1” (Crypt::Perl::X::ECDSA::NoCurveForOID) …
# Skipping “sect163r1” (Crypt::Perl::X::ECDSA::NoCurveForOID) …
# Skipping “sect163r2” (Crypt::Perl::X::ECDSA::NoCurveForOID) …
# Skipping “sect193r1” (Crypt::Perl::X::ECDSA::NoCurveForOID) …
# Skipping “sect193r2” (Crypt::Perl::X::ECDSA::NoCurveForOID) …
# Skipping “sect233k1” (Crypt::Perl::X::ECDSA::NoCurveForOID) …
# Skipping “sect233r1” (Crypt::Perl::X::ECDSA::NoCurveForOID) …
# Skipping “sect239k1” (Crypt::Perl::X::ECDSA::NoCurveForOID) …
# Skipping “sect283k1” (Crypt::Perl::X::ECDSA::NoCurveForOID) …
# Skipping “sect283r1” (Crypt::Perl::X::ECDSA::NoCurveForOID) …
# Skipping “sect409k1” (Crypt::Perl::X::ECDSA::NoCurveForOID) …
# Skipping “sect409r1” (Crypt::Perl::X::ECDSA::NoCurveForOID) …
# Skipping “sect571k1” (Crypt::Perl::X::ECDSA::NoCurveForOID) …
# Skipping “sect571r1” (Crypt::Perl::X::ECDSA::NoCurveForOID) …
# Skipping “wap_wsg_idm_ecid_wtls1” (Crypt::Perl::X::ECDSA::NoCurveForOID) …
# Skipping “wap_wsg_idm_ecid_wtls10” (Crypt::Perl::X::ECDSA::NoCurveForOID) …
# Skipping “wap_wsg_idm_ecid_wtls11” (Crypt::Perl::X::ECDSA::NoCurveForOID) …
# Skipping “wap_wsg_idm_ecid_wtls3” (Crypt::Perl::X::ECDSA::NoCurveForOID) …
# Skipping “wap_wsg_idm_ecid_wtls4” (Crypt::Perl::X::ECDSA::NoCurveForOID) …
# Skipping “wap_wsg_idm_ecid_wtls5” (Crypt::Perl::X::ECDSA::NoCurveForOID) …
# Math::BigInt 2.003002 (backend: Math::BigInt::LTM 0.080)
# XXX NOTE: This test can take a while and/or spew a lot of text.
# Skipping “c2pnb163v1” (Crypt::Perl::X::ECDSA::NoCurveForOID) …
# Skipping “c2pnb163v2” (Crypt::Perl::X::ECDSA::NoCurveForOID) …
# Skipping “c2pnb163v3” (Crypt::Perl::X::ECDSA::NoCurveForOID) …
# Skipping “c2pnb176v1” (Crypt::Perl::X::ECDSA::NoCurveForOID) …
# Skipping “c2pnb208w1” (Crypt::Perl::X::ECDSA::NoCurveForOID) …
# Skipping “c2pnb272w1” (Crypt::Perl::X::ECDSA::NoCurveForOID) …
# Skipping “c2pnb304w1” (Crypt::Perl::X::ECDSA::NoCurveForOID) …
# Skipping “c2pnb368w1” (Crypt::Perl::X::ECDSA::NoCurveForOID) …
# Skipping “c2tnb191v1” (Crypt::Perl::X::ECDSA::NoCurveForOID) …
# Skipping “c2tnb191v2” (Crypt::Perl::X::ECDSA::NoCurveForOID) …
# Skipping “c2tnb191v3” (Crypt::Perl::X::ECDSA::NoCurveForOID) …
# Skipping “c2tnb239v1” (Crypt::Perl::X::ECDSA::NoCurveForOID) …
# Skipping “c2tnb239v2” (Crypt::Perl::X::ECDSA::NoCurveForOID) …
# Skipping “c2tnb239v3” (Crypt::Perl::X::ECDSA::NoCurveForOID) …
# Skipping “c2tnb359v1” (Crypt::Perl::X::ECDSA::NoCurveForOID) …
# Skipping “c2tnb431r1” (Crypt::Perl::X::ECDSA::NoCurveForOID) …
# Skipping “sect113r1” (Crypt::Perl::X::ECDSA::NoCurveForOID) …
# Skipping “sect113r2” (Crypt::Perl::X::ECDSA::NoCurveForOID) …
# Skipping “sect131r1” (Crypt::Perl::X::ECDSA::NoCurveForOID) …
# Skipping “sect131r2” (Crypt::Perl::X::ECDSA::NoCurveForOID) …
# Skipping “sect163k1” (Crypt::Perl::X::ECDSA::NoCurveForOID) …
# Skipping “sect163r1” (Crypt::Perl::X::ECDSA::NoCurveForOID) …
# Skipping “sect163r2” (Crypt::Perl::X::ECDSA::NoCurveForOID) …
# Skipping “sect193r1” (Crypt::Perl::X::ECDSA::NoCurveForOID) …
# Skipping “sect193r2” (Crypt::Perl::X::ECDSA::NoCurveForOID) …
# Skipping “sect233k1” (Crypt::Perl::X::ECDSA::NoCurveForOID) …
# Skipping “sect233r1” (Crypt::Perl::X::ECDSA::NoCurveForOID) …
# Skipping “sect239k1” (Crypt::Perl::X::ECDSA::NoCurveForOID) …
# Skipping “sect283k1” (Crypt::Perl::X::ECDSA::NoCurveForOID) …
# Skipping “sect283r1” (Crypt::Perl::X::ECDSA::NoCurveForOID) …
# Skipping “sect409k1” (Crypt::Perl::X::ECDSA::NoCurveForOID) …
# Skipping “sect409r1” (Crypt::Perl::X::ECDSA::NoCurveForOID) …
# Skipping “sect571k1” (Crypt::Perl::X::ECDSA::NoCurveForOID) …
# Skipping “sect571r1” (Crypt::Perl::X::ECDSA::NoCurveForOID) …
# Skipping “wap_wsg_idm_ecid_wtls1” (Crypt::Perl::X::ECDSA::NoCurveForOID) …
# Skipping “wap_wsg_idm_ecid_wtls10” (Crypt::Perl::X::ECDSA::NoCurveForOID) …
# Skipping “wap_wsg_idm_ecid_wtls11” (Crypt::Perl::X::ECDSA::NoCurveForOID) …
# Skipping “wap_wsg_idm_ecid_wtls3” (Crypt::Perl::X::ECDSA::NoCurveForOID) …
# Skipping “wap_wsg_idm_ecid_wtls4” (Crypt::Perl::X::ECDSA::NoCurveForOID) …
# Skipping “wap_wsg_idm_ecid_wtls5” (Crypt::Perl::X::ECDSA::NoCurveForOID) …
# curve: brainpoolP160r1
# curve: brainpoolP160t1
# curve: brainpoolP192r1
# curve: brainpoolP192t1
# curve: brainpoolP224r1
# curve: brainpoolP224t1
# curve: brainpoolP256r1
# curve: brainpoolP256t1
# curve: brainpoolP320r1
# curve: brainpoolP320t1
# curve: brainpoolP384r1
# curve: brainpoolP384t1
# curve: brainpoolP512r1
# curve: brainpoolP512t1
# curve: prime192v1
# curve: prime192v2
# curve: prime192v3
# curve: prime239v1
# curve: prime239v2
# curve: prime239v3
# curve: prime256v1
# curve: secp112r1
read EC key
writing EC key
# curve: secp112r2
# curve: secp128r1
# curve: secp128r2
# curve: secp160k1
# curve: secp160r1
# curve: secp160r2
# curve: secp192k1
# curve: secp224k1
# curve: secp224r1
# curve: secp256k1
# curve: secp384r1
# curve: secp521r1
# curve: wap_wsg_idm_ecid_wtls12
# curve: wap_wsg_idm_ecid_wtls6
# curve: wap_wsg_idm_ecid_wtls7
# curve: wap_wsg_idm_ecid_wtls8
# curve: wap_wsg_idm_ecid_wtls9
t/Crypt-Perl-ECDSA-Generate.t ..................... ok
# Math::BigInt 2.003002 (backend: Math::BigInt::LTM 0.080)
t/Crypt-Perl-ECDSA-Math.t ......................... ok
# Looking for OpenSSL binary …
# Found OpenSSL: /usr/bin/openssl
# LibreSSL 3.9.0
# compiler: information not available
# Math::BigInt 2.003002 (backend: Math::BigInt::LTM 0.080)
t/Crypt-Perl-ECDSA-Parse.t ........................ ok
# Looking for OpenSSL binary …
# Found OpenSSL: /usr/bin/openssl
# LibreSSL 3.9.0
# compiler: information not available
# Math::BigInt 2.003002 (backend: Math::BigInt::LTM 0.080)
# ---------- This test takes a while and spews a lot of text.
# Message: [Hello-0.999005133608939]
# brainpoolP160r1 (named_curve, compressed public point)
# Random Sig: 302d0215008c848db1c9f36908e533dae8559f23c8277428af02147272971bcacbafaebabd77709ffb2f1492a06e28
# Deterministic Sig: 302e021500c6067c22c64c304b65d28ce881a837fb3e77c13d02150092812b3487e6523e3fdf862b7195d726b1dcf8df
# brainpoolP160t1 (named_curve, compressed public point)
# Random Sig: 302d0215009d6e0ade5470121916b82fabe1486bac4beca08e02141b81d813553072b923580dea23ef95754a4d7958
# Deterministic Sig: 302e021500d1565dfdbca6f5ed64eccc967d396bf5348525ce021500e7e359d44df1cbab10ecbb7d68ef86486c955c0f
# brainpoolP192r1 (named_curve, compressed public point)
# Random Sig: 30350219008ff9d716441ec4605335607c6badd49e7dcab1cdb5613b2a021803bc74603811686df1099e8b9ab675251739b1b28b0e003e
# Deterministic Sig: 303402184d952d6adc9dd932ccf751a2e6e1ca35381338117b42fa18021835404f57fffc32c78846842b46305e463993a452a80b8d44
# brainpoolP192t1 (named_curve, compressed public point)
# Random Sig: 3036021900b2977ff97ba3c209cbe6f1f06735489b4fd21cd661a76713021900913da833a448eafcee413713d1c363024ffc1c5f5fed665a
# Deterministic Sig: 303402183322c8e6860b04f8c297cb16704912299dbb788cd0e9b2400218536dc86baff589e44adbeb12c7ec805273976117afeb2c44
# brainpoolP224r1 (named_curve, compressed public point)
# Random Sig: 303d021d00a65bb4bd7d8e14e18b8ef68dded12852d82a73e3728e13c02cdb11b9021c2fc504456f8ce95982070a67183a201f1b7656947ba4cb5bd41bb33a
# Deterministic Sig: 303e021d00d5ed342803be39b9ed4f43120e012ccad02bb6d5ac76aee716c908f8021d00b85106bf8f4f8b705bd51807ba255edf03a3bac2e9146744f67c2ee6
# brainpoolP224t1 (named_curve, compressed public point)
# Random Sig: 303c021c30e778b0a04bd61b87c3fe8be70262411f0d02d0e7be9b7d45710829021c092e80d40649bc81eaf4536c1e6724d257f8bed0ebb10b3d39c1d582
# Deterministic Sig: 303d021c6ee8a705a9fb6457d2323d110363baafdef365e71ff455d6dad289fe021d00b5d662a2ec44bc71be21715899e2eaa0f3dfea71a3cc7a6482dd07fb
# brainpoolP256r1 (named_curve, compressed public point)
# Random Sig: 3044022008ff692920f079083b320c7777d498ad51954f015110859bc77677a7e71a896f022003afaf616630ec45093113cbc7274b190d51daf4ef31d3b22e928ba1bfa4a066
# Deterministic Sig: 30440220089738ddfc7f0be0b1ea558d9814177b4f1fdc301634bf6ec59a762133111d870220548cbf386524a045c5ecf67b51907d9a9a4b86d06901c56380ed88421ad77458
# brainpoolP256t1 (named_curve, compressed public point)
# Random Sig: 304502210085b18e1454c1ed9f13b55dd1723067541019ea6aeeda92dc9d323922ded2254802200d22b75019f389d8d28d0fdc70400764e24533c08c638b01ed8b24faa8247d7a
# Deterministic Sig: 3044022038b63f9976ff162fac8cdd270791a407fed67d41986be456526204fa4065347b02203ca187fc8ddabda3aff99c4c90d7d860ebbd11ef3d1756a7e3703fbbff4570be
# brainpoolP320r1 (named_curve, compressed public point)
# Random Sig: 305502283b72204e06458a297bd0c684fefb975988c6fafa44e1edd96c1064e782f2fee7c12dbb669113a53a0229008ef34aab0b3fd8a795ca9ac1f71785cec75182ded4232238701eba247ae9fdec352cc5b4ca97bc64
# Deterministic Sig: 30550228601da6f48ce824183b015674fdaea577e63180af14616eb42b7b3d4dc7c3429ecb80b8b6584d97e4022900b9510c4ad23adba5bf4f4cce47c12c6bac4aa055be8b2213b6d7d6c1b6854de3ed4b26a4e383f66b
# brainpoolP320t1 (named_curve, compressed public point)
# Random Sig: 3055022900b629c179dbedf9077ae601320c2413fdef105ba5ad7840599c6112ecad1d58f124ba49c6470cab7802282e382c3213e6cbb00d5579084f89f29a8998739acf8079c93580b0c2c6644fa1dc666f03eb5493a9
# Deterministic Sig: 305402287ca792e2d765c18a7bbee5f4c740398c252ebadab35cf49f6a967238e0951c5651aebd3e4da6a67f022850f68a10087cf60298c6ae7c602363619efe97f4191238a8ec6abd850f1697a0ac382b24970958de
# brainpoolP384r1 (named_curve, compressed public point)
# Random Sig: 306402305b66911ad75b765afaf52a077bc8497d3cd02bb6711239a679f8e04fc13deb7f71d733b70ae476ddea10c2e4a851221e023068b7c8ca1acc91ebef0b832d13e920dade927bed9590836dd89f193c41503f40cbabe7ea1159dfd8c642bc57b733d8a8
# Deterministic Sig: 30640230628bb994d0a5fa82df1cb240e9f3c26a2a53e391ca7b22e29e0b20f8dde8c75ee303c7dc631e138344a0f6c436f3c145023052ee56cdcc46b958a440c7c7c9daf8fd307f8307a838e921f24618903ba9079410670f22216477505e226843166a08f0
# brainpoolP384t1 (named_curve, compressed public point)
# Random Sig: 30640230652e4f311e8e73144b2f3fe67026a701f70eb68c8f768c80dfa0987daa3baf65d2d3abe3bf6e9038a41cb17e8fcc84d502303fb4bfa4f339a4ae2393cf5acf8428a96979914b69f3f318780254e5568ddd06e0eedd9ef7e1b1b6ca64d4199c98a5e5
# Deterministic Sig: 3065023005a97b9d30ce409d140302ca8a474192fbfe66aacc8b70dc73286af64f06c209c27bc67eb1a200b4838007d3e604ddc0023100818e06a77eebe63b19b183e3eeacfc8e40efc45355ea94f146e9f315809cd739bbaf870bd62507333561e6b00ce650f2
# brainpoolP512r1 (named_curve, compressed public point)
# Random Sig: 308185024100a7d8961dfa3cb257659fb3308fa733a8f615bce203c1723af02a0fbeb54684290a91b074c3f12d5eb2fa49a3e559363bec1290fa40c3e701afe2ebdd0172f420024043880eeeaadef26eef988c5d09b78b3e6184fea8fdda65cc161f1c4abc6873648553398b27ade9b5029cbd27774d447007f9f46a1f38dc5a57cb69fdf46249d2
# Deterministic Sig: 308185024100a9f71b572ce5da35cde0217bba272ae1897d20745bcddc0a28aec2c8c162e82d5cc22163d25a562be932c7d5fa533d1f0cf0c490a7a395bbb46e7622dfecbd80024011ec78699478f3590a12a720fba407079acd5c5d59d8f27ec584fc5ba753585dc31b6580ddd8d9ae497ba2eca4422bf974ee0a79d0e13af5a1378013f162b206
# brainpoolP512t1 (named_curve, compressed public point)
# Random Sig: 308185024074d3d0430da840f02071513076fa0431e42edea201ade82d325a63814a527efab72c0adddecec062e4cab05a31d0d98e7911e7944fb6880ca12ae12458c653fe024100a2be8923aca30306de65a52604d35fc9d7726a4d7768d5c47c889cdebc4e9d3e0dd3c4026b5d9c508cfb58d953444d8bd3b121a92e67c8f50efb5616ef1ce851
# Deterministic Sig: 30818402402ef7eb1ba6a2c3e89dbec1bf69217e0ffe876f0546189505d84dbd338d39ba297843cc278e7b9e1ab39f5dfb0e62ef422cb632680652fcd69254426aed7aa5100240605bfe2464406b8e0eaf72c26a389fbf4bc0517a1dda294bdc72febf341bbbecdb1e99137bd8ef2c23bbbb5480940834d3dbba5b20eb25f9dce2c64b9348bf04
# c2pnb163v1 (named_curve, compressed public point)
# c2pnb163v2 (named_curve, compressed public point)
# c2pnb163v3 (named_curve, compressed public point)
# c2pnb176v1 (named_curve, compressed public point)
# c2pnb208w1 (named_curve, compressed public point)
# c2pnb272w1 (named_curve, compressed public point)
# c2pnb304w1 (named_curve, compressed public point)
# c2pnb368w1 (named_curve, compressed public point)
# c2tnb191v1 (named_curve, compressed public point)
# c2tnb191v2 (named_curve, compressed public point)
# c2tnb191v3 (named_curve, compressed public point)
# c2tnb239v1 (named_curve, compressed public point)
# c2tnb239v2 (named_curve, compressed public point)
# c2tnb239v3 (named_curve, compressed public point)
# c2tnb359v1 (named_curve, compressed public point)
# c2tnb431r1 (named_curve, compressed public point)
# prime192v1 (named_curve, compressed public point)
# Random Sig: 303502183db9726109cd147c3ce615c09856b037d36273e469ec103902190082cd6cb12d297872c0120e3e24f3062cc80f3e4028dc78bc
# Deterministic Sig: 3035021856c9430a5ce7b864a006bd55bb329380b5e756fba4a2f08d021900ece7c9343b2086e2e7969b818ce403698f50cf330bd060c1
# prime192v2 (named_curve, compressed public point)
# Random Sig: 30350218426ffd1c0bf0947c7e0a38f98d89860241fba5cd2710ff8b0219009e471b356b744ee8b6e724c486863c020412bdf8f26177b8
# Deterministic Sig: 30360219008ed05eeded0444644ffc03328f1ee2953b591ce0c8b8aa94021900e6d59f81ca20549b3e280547d563a0ed74108cc77aed544a
# prime192v3 (named_curve, compressed public point)
# Random Sig: 303502181016258c2dc86bc0365ae52cf2d0ed8d7ffe48d1051e7cf702190089bb3a76ffb0f3d5644ae46138a5552ba2b60b978c633e45
# Deterministic Sig: 303402186e67ca0096a6841d92a992172753f4b643d7f90955639db802181583dc7c3ab16536d8b488c9c908891d620d60aaabfefc9b
# prime239v1 (named_curve, compressed public point)
# Random Sig: 3040021e65b770d6887a781434df8aeb0335605c1fa1c24e8c758dd7d96237ff7fc5021e40bc43e43028f07a222f4e191fbe549875bc26b66099d2ec75a76e57c830
# Deterministic Sig: 3040021e3bea0b659f3f5df93d57fbf1f2300e2c4eb2d8f15f57dc61576abaab4916021e7760209c2aa9645a5594a305db26b83600a05990103fa7f1f915143da41a
# prime239v2 (named_curve, compressed public point)
# Random Sig: 3040021e5d9b1deb64c292fd66a088372d7fe17ecccb61d22f4d11cdc62da633eafc021e7881c65911ecbb3789cb21b569a90b6211658844f125479046c05bb9226d
# Deterministic Sig: 3040021e0e5ff7e26f3f436aeac16add15611b1df068ddb2fa34e6be8e5d509edc04021e39a6e28eae53fdf0735ac27ce034bfa7b56737b5ea146edf42ca298b30dd
# prime239v3 (named_curve, compressed public point)
# Random Sig: 3040021e21279b53f1de52c53a3975ce98b13dfc6f10d0d52fc9852feb445e5c40c8021e7282e49855b378239c48af2e540e56ae2c217b2c2dad8191fa217ff0dfa1
# Deterministic Sig: 3040021e45b62505b3f96c68d17c46cb31288b06c95bdb4a3848cf5d183e47978bc7021e6a2d091d5c724f7f376a4c850efc22c9fe701614538ee6f6afb40eddc4c5
# prime256v1 (named_curve, compressed public point)
# Random Sig: 304402205f615fb49465b370e4b366f93d1c984f607e8cf0ae4dca89042aa7b5803ab777022053f02912538df1b15411ab11b88ca03603c54a29d3066f698509d3578676eb73
# Deterministic Sig: 3045022100d40786a5124500184f4690d9b208095d43fe26484b6f6856e80823df8847dc430220264631b62c5a35c85cfa769eec25eb075d66b85ee7cc85c45ae02e654d0b8991
# secp112r1 (named_curve, compressed public point)
# secp112r2 (named_curve, compressed public point)
# secp128r1 (named_curve, compressed public point)
# secp128r2 (named_curve, compressed public point)
# secp160k1 (named_curve, compressed public point)
# Random Sig: 302e02150098a3eb057da8737ed4cbe327f02e588d62c4332502150096bb474f03118d9e933e2596085396b5c5517a0e
# Deterministic Sig: 302c021471241f1648e7a75539a86e5aa86560d032e7baa80214359560206880b7e054471a555dc313d5633fd7ab
# secp160r1 (named_curve, compressed public point)
# Random Sig: 302d021500ef515bb28582ecc06584ea1d6f545be7d942fa9a02146d2e28ae213cd9b40cd66cf1d2fa18b8854a9b51
# Deterministic Sig: 302d021500bebe046c1e87b7bbfa0b66c73514acdc6217fa29021424b56acb4c371d94a3341e442da985590d71bab5
# secp160r2 (named_curve, compressed public point)
# Random Sig: 302d021500ef282775cc3b6d4705c70a020a001d94a98918e5021424981db07afe7173a7c2541f8889a6d15aea6fdc
# Deterministic Sig: 302c02145873af755416d44e23c13444100757cb7fb54b3502143e93736bb298bf61322b777594bd0f36ce87aa89
# secp192k1 (named_curve, compressed public point)
# Random Sig: 303402186347177d99196f2536c2f42894c0f3b4619b6d3d90726b7d021833577fcc03459f176fe4dbbf70232276a484e6e2398d3433
# Deterministic Sig: 303402185b06f16b6bd22d7ba04dbc7fa4be6c86ff9ecf366954364e02185a154cf566f9f8ae7fa9d1ac9d6cd29202ada984eb61ab9a
# secp224k1 (named_curve, compressed public point)
# Random Sig: 303c021c6e61bfb6af210c2a8535216a77de89c5ddedf884a4c7111b3b80e017021c58f70aedbe757c450b5ff6aeec2587f1eb4e1ff733f693ad69ae4ddf
# Deterministic Sig: 303c021c75b7577df721b34c0fe15756c1916aee7f1b951130afe7e5c3ce2de5021c11d743af4dd45577c488da80e4b23c8e458a639705d3f26167dc94f0
# secp224r1 (named_curve, compressed public point)
# Random Sig: 303d021c62a303d764bf67476a963bf525765b299acbb7a41dd765650d4f1115021d00822c8a5cc0f598cdb6e0b1f6b8d3f57390b2c583553c15a2da8585d5
# Deterministic Sig: 303d021d008bf7a426459315aaf88d20a1f5ab8d36d08d54f90e10acefbc147410021c7c2d7488b2dfae760d3b690bb63af8f1163caaae658e1d64885f5b46
# secp256k1 (named_curve, compressed public point)
# Random Sig: 304502206782d1b54a0698ff9c953ac378990de5c8c3cf89aca1000589f99c6ececc7cd5022100ac948a49c125813e6dbf7fd42cbde8148f101072be551b6f5f9c04ff98f827ec
# Deterministic Sig: 3046022100cacfa1e4fe7d4306e9aea372fcd45c1ae649fbe76dfda0961127f80361b48be2022100c0f27b74435f93539627b04a29181c645a49d3b8f494ec611f8410ce81dca2bc
# secp384r1 (named_curve, compressed public point)
# Random Sig: 306502310083406c0e875642d7568c10b181be565709dba063d5bd058bbd662dd2389b51616298163ea44e4016928c6ecfe9bb85cf02307ddea62250909719bb83ef9075dba1da47da013dddde2ac385255c42d74683a222af1f47e191e30a3a51b7d3d753844e
# Deterministic Sig: 306402306d6354b9357ef7bbf425d02e500fb685475f8250165210cae559e8880df51f03b1e656ad21368c256b72e56d62bd8006023067213bcd8313404137077a77feac1c667340b3759aa367b427dd9ae36634f30a74c705742bc16aa9d3556af83ea6486a
# secp521r1 (named_curve, compressed public point)
# Random Sig: 308188024200dc27036f1c9f4e68288490561ee4d45f1a64a0f65194c5c49b523af0022303b4019d708492252bd99fcd07cb1ae37c544a10e474e44e36c3a2ea914166e8d673d9024201dec44a45f040061950f710e5a605b8c799efb00c616c01871cf741dfe6a551fce84af4a3162e6f9d5d2d9f73e35aaf7c49e6d496002f18611180324cad2122f410
# Deterministic Sig: 3081870242013bf774c622e9f5d4310cc38410f46baae7dfbd7a0a1418eaebab7367840dd1da5e0fb1296ddd4b5807a682a52570cfc1a04cf6b7bb9356af07a64ac44772fc28dc024166a6321792c8777675e02e6cd69265db07e8ccc81daf800fcc16d1769df93f73c92d3168117e75382afd72776a5f6060ee9e6dc2d253874709b69295bfb6decd60
# sect113r1 (named_curve, compressed public point)
# sect113r2 (named_curve, compressed public point)
# sect131r1 (named_curve, compressed public point)
# sect131r2 (named_curve, compressed public point)
# sect163k1 (named_curve, compressed public point)
# sect163r1 (named_curve, compressed public point)
# sect163r2 (named_curve, compressed public point)
# sect193r1 (named_curve, compressed public point)
# sect193r2 (named_curve, compressed public point)
# sect233k1 (named_curve, compressed public point)
# sect233r1 (named_curve, compressed public point)
# sect239k1 (named_curve, compressed public point)
# sect283k1 (named_curve, compressed public point)
# sect283r1 (named_curve, compressed public point)
# sect409k1 (named_curve, compressed public point)
# sect409r1 (named_curve, compressed public point)
# sect571k1 (named_curve, compressed public point)
# sect571r1 (named_curve, compressed public point)
# wap-wsg-idm-ecid-wtls1 (named_curve, compressed public point)
# wap-wsg-idm-ecid-wtls10 (named_curve, compressed public point)
# wap-wsg-idm-ecid-wtls11 (named_curve, compressed public point)
# wap-wsg-idm-ecid-wtls12 (named_curve, compressed public point)
# Random Sig: 303d021c0a25951e9d808877056bab9d68a91753aa5e136cb9707696a1f54708021d00e6c1fa931de49f27ad48a2d39c1c74e9eec7e726b4d1be66d481658e
# Deterministic Sig: 303e021d00c41df47af9e1fad718b9174f0a7e37716bd276e33b7867bdbf6086ef021d00ac82e6fbc5961eac822b715ab27a20cdf7d43d41d6cb9150c69c3216
# wap-wsg-idm-ecid-wtls3 (named_curve, compressed public point)
# wap-wsg-idm-ecid-wtls4 (named_curve, compressed public point)
# wap-wsg-idm-ecid-wtls5 (named_curve, compressed public point)
# wap-wsg-idm-ecid-wtls6 (named_curve, compressed public point)
# wap-wsg-idm-ecid-wtls7 (named_curve, compressed public point)
# Random Sig: 302c02141d2c90cb9bba84124a0ad1855a99e2990d8458c002147700a4fc04ff29bc50c26afb0caf99859f068103
# Deterministic Sig: 302d021500e3bdcbbc19fd05ffb75064071782f6af82c9581402146c879ccfd3e39c133ebbda0a38d8f46ff40d5c3e
# wap-wsg-idm-ecid-wtls8 (named_curve, compressed public point)
# wap-wsg-idm-ecid-wtls9 (named_curve, compressed public point)
# Random Sig: 302d021500ac9e31d503ead945010eb28acab23a17f75d1ddf02143389fc36c628bfb04ce51eb0ad3d6b329f1c4b81
# Deterministic Sig: 302c0214679aed2af4941a63512e780fbca6175a0421e84f02142c43c7ec6eabf9161a56c2ffa32ac16106691606
# brainpoolP160r1 (named_curve, uncompressed public point)
# Random Sig: 302d021500b8247715372271eea24a09a4cc74e19a40e511a702143e539787800cacb3b6cd9779253d7acc853b2304
# Deterministic Sig: 302d02140fa5aaa4b58ae06aabd87c36c8b7a25d4ce895a7021500c47a33fdaddb21a23e443ea2698078925b766eac
# brainpoolP160t1 (named_curve, uncompressed public point)
# Random Sig: 302d0215009e36a567e76b070358f2b5852675cb67f3ff39e502146f580919ec488263b20ac7f80172c4ff1f9e6e0c
# Deterministic Sig: 302c021406afd0792defb2458907fba9c390dccbe5e6736e021448327ebb73b53347cf541a5f137f8641591e8b67
# brainpoolP192r1 (named_curve, uncompressed public point)
# Random Sig: 303502186bee2bb1dedacef0e546cf9a10a43c86b754576370a8310c021900bebf23e3a8086c7908b28e742db5fa148d1a1034e7f3ac8c
# Deterministic Sig: 30350218767642095c1e6d2ff6c803600f06701e51171b4a669d759a02190097e6eb54eba2bcb14db73fe267aa9edad7f2f1d6f0dda844
# brainpoolP192t1 (named_curve, uncompressed public point)
# Random Sig: 3035021900a4082a895fc7eb4fba3e8fcc186538de4ab45cec0e5c6f35021820fc6975ab7ae7ffa411bc472a71f6d436910f94bc306ad4
# Deterministic Sig: 303402186b88d27b8b2c5e2b4a0aa5079bd7befe5d48058cd5425a560218673e2f878bf59000044e348a76cfffecdf5e1a7d35a1e044
# brainpoolP224r1 (named_curve, uncompressed public point)
# Random Sig: 303c021c614a0d8aef34a5fd5e142ab6a0ee8dc2d165b246034c107ac8468c26021c39f2b043f593119e0b09713059b62c5a2ea4047763f4f90da92eae3d
# Deterministic Sig: 303d021d00a7c76c5b3b670c1c68e394666851e2454f63eec3fde6ebfda30de8e5021c4c3d7f153ee32f477ea9d8fff49389d91a987c20804290344bc939f8
# brainpoolP224t1 (named_curve, uncompressed public point)
# Random Sig: 303e021d00afb82ce75964d706844d0df731ccea8c3974f22c4339fc36de6f6e6b021d00c676e724e1ba960a65f7a5baa25fda1f5feb2bde3901d8e60d4f1581
# Deterministic Sig: 303c021c2045f02e403ecb6e4a741a7d6d0f2012ec7ad48839ace4b4c3e81b8b021c73e9c4595f114a65ae93e3ce361da00a1eeb873301201ee13cca764d
# brainpoolP256r1 (named_curve, uncompressed public point)
# Random Sig: 30440220366d6e00daee1cd9628a86813b5f47f9012bdbbb5dce36f767665eb0418fe4c60220309fe963c9dc5634480664fb1640dda5d78f583cef3480d807ea42e9dcf06502
# Deterministic Sig: 304402206b2eebef00717468acae1a7c398c89fad4fdd2541954d608c70ee9418aac6a1402200fcccf95574bddee9e639529f777cd8dd99f3df0c1f0bd263a4252767a1c1220
# brainpoolP256t1 (named_curve, uncompressed public point)
# Random Sig: 3044022045285b81e037ccd0da415e019345d65be3bc3a385a433bac005e20031726e84d02205bafd1ff56d0e81ea888f34e0e6bd7e95fb854e415b0810b8ef99c4c642d6e11
# Deterministic Sig: 30450221009535610d18e618994e2dae0a485f20f9eb474d1b53fba380a8e7f2d972edd06202203682275872637b426f7c9b5225f43f51e0f55b2abba9d02298a79dcbd8d03eb6
# brainpoolP320r1 (named_curve, uncompressed public point)
# Random Sig: 30540228771c5ad1925e537a1c72f89938638aa44032b8ae55108f291c18d4f7e9bb51581e40c5b9dc9326b8022818a57db40e2faf69f9e963bdbd536ea77cc866bc43555833d33774475dd5fa1adec38dc203f7121d
# Deterministic Sig: 305402287a4ea7bbc83b3da4563ef679f60cbfcb9102f3143f0a898e132fbc33f7d11ffcb3e1451f65cabbfe02285348d7677cf8003fabb9696c4905663d52bb15cb2a166e17bec002ee89937047307e10dde6a38176
# brainpoolP320t1 (named_curve, uncompressed public point)
# Random Sig: 305502281b996db38e3d5ce248046a4465206deb545ce977951929997f43973f13289d7703811156c27c690c022900cd532eed9324641296d6bc8f3b03cfdf030ef7671828f9adba165629deeab5fa8e06e91d033c63ff
# Deterministic Sig: 305502281ef22babff3c52db14ecc65004d6253085448a9b0d16e9f718fdb69310befe11a3c53e2f3ccb99f5022900bf0f28a6478402fa9b0f9a8c39a14c3a0f7d42506b644f41f730704c9e0585f70a2cffbf479cadad
# brainpoolP384r1 (named_curve, uncompressed public point)
# Random Sig: 306402303480797814312886a876b07a6eaa23045afc658011271ee524c62958e44adb9dbb2004ae8c684872f44c7051866c588902302480d9f7a114ca6af095fe29a826fce1161a402c993e7bb513d6607a5a894083c27186bbf907642efdd1dd797f2fcb07
# Deterministic Sig: 3064023049b39019a9b8a5b79a528ca4804d6d25f8215bf910c654dea65f9c6cc63d35e4a5e0c288e6964e6b0b1a995d7d9b328b02305bdacf90b845f17e3db235a1bbf10cebe94e22cf6d9f235f1846bf7c9e8bb12997b939a69486fa8716208a0e36e60227
# brainpoolP384t1 (named_curve, uncompressed public point)
# Random Sig: 306502300e0e8c1bfde731571a4d51c3e8f5f1ec988e2e37555cc7cc212cc8f5a30280110768cbee13523bd0d61d604787200d6d0231008ae18b7dd3c6cc389cbb28037818c87d273ab2d84c7cae32e142a5815abeee4ae48cb8204acc66dd27513e8acbe04c1a
# Deterministic Sig: 3064023078e67c9dffcbff2ea9466e0745410345a9b1df1e03bba690722a537352f6861f10aae9919b5a0c18917a04c19632fbf9023008e5165900cc78741d91696b6bdd63afac2f8fed8ca35fd4eea9e3440e416b8606448488d938245817e4467a06940ec0
# brainpoolP512r1 (named_curve, uncompressed public point)
# Random Sig: 30818502407d8ce76000459e0f13aa94195277f38d1ed796eb750e16db30191b02eb34b363bea4fc859ad19d190d3db66739fa9edc859e3eb7323c051b9b7126f35ab7508202410089e1600ca917719e70648a5a6477904414ad5f201745470edd14a3c0dca729ed09d45e0c9d26d90853dfe0e155040c26a6f92347577a1581af482386078ebbf6
# Deterministic Sig: 30818502410087f3fd853d50cf44302032b66aba14c6bbc6376255a02835391476fa052475eaca4a44999285cb2a0b09d0277967c24d1a2435627e4e7f489be71f62e63abea2024015726bcd32660692ff10c801d0ade79cb10e5c9883a812b14aa28228e1c3589285b5c7d59f29d694908cedf90ad06f676310483eebc8dd72fe956cf20bcf0baf
# brainpoolP512t1 (named_curve, uncompressed public point)
# Random Sig: 308184024026aacac552f731790fb84ec36c82538bae086d73fdbbe7f05ea8ac281a796893b20ce2d7757e971b5c3844334edcadfbe66c972f58c909eda1c3caf6650d8ae102406c6441103aef6e1238cae0d457a1b24fc967862cd7beadb8c52f86e466dc38ad584dd19be2bcd49e806178263789302c74fa7a823d470add0d10020ad5ea25d9
# Deterministic Sig: 308184024073656602ab95727509e71520df8d6d051202948748f59821fff5db144bc8f97208cdb12a8dde20bb1eb51acc57a18b0069e879f248ce46853397694379249f11024022bf8410e72856e9714cc6070b406e6577021cee8ddcfd774387b64cc0747b625ad1de43b97e5ad21a883ddb928cf26d6833dee81c9e15c309fd7f713e7ffed1
# c2pnb163v1 (named_curve, uncompressed public point)
# c2pnb163v2 (named_curve, uncompressed public point)
# c2pnb163v3 (named_curve, uncompressed public point)
# c2pnb176v1 (named_curve, uncompressed public point)
# c2pnb208w1 (named_curve, uncompressed public point)
# c2pnb272w1 (named_curve, uncompressed public point)
# c2pnb304w1 (named_curve, uncompressed public point)
# c2pnb368w1 (named_curve, uncompressed public point)
# c2tnb191v1 (named_curve, uncompressed public point)
# c2tnb191v2 (named_curve, uncompressed public point)
# c2tnb191v3 (named_curve, uncompressed public point)
# c2tnb239v1 (named_curve, uncompressed public point)
# c2tnb239v2 (named_curve, uncompressed public point)
# c2tnb239v3 (named_curve, uncompressed public point)
# c2tnb359v1 (named_curve, uncompressed public point)
# c2tnb431r1 (named_curve, uncompressed public point)
# prime192v1 (named_curve, uncompressed public point)
# Random Sig: 3035021900facc31ace315fee4ea156a50054c32c87f5365469e37dcda021865bb07e91eeef736c83f89e1265af319e3abaa7bf88e6dc9
# Deterministic Sig: 30350219009a1c05a53edfc77d1e61739dfac6a1640713865e357ec8dc0218061a151d5d0b7f96ae72d9693689e34f4eeb500ec25c5147
# prime192v2 (named_curve, uncompressed public point)
# Random Sig: 30350219009db12bbe06fa9cbb8c04049e09469e849c783be6123976f2021812ada2872e0c0d11ebe56e1fd5f959a6791359bccdca01b8
# Deterministic Sig: 3035021817aa193da033f87864c55c4995378c042755552cc7fb0f4302190085df33947e9134f2f8f1ef442e69fa5df7c7fde62c5fea2c
# prime192v3 (named_curve, uncompressed public point)
# Random Sig: 303402185d19fce31aad6bb793f62557070d3bc670fc17e8fe77761e021815a012dbc3746a696608c5c6aa02ee871d6dfa5ccd586ca0
# Deterministic Sig: 3034021812a38f2121592f1695b5962a78f2ad3b0c677b65e3f4562102184cb83427d4fe446e229f37d37a18e1c64828cd8fe43e1ebb
# prime239v1 (named_curve, uncompressed public point)
# Random Sig: 3040021e487e9a1c00db9b5f5eab423808b967dabff7a38f979090fb68b9e9e91d6c021e41021b6e6e7c3a8f8e56ab5bc59c992f3b8c3dd076235971c5ba575792f5
# Deterministic Sig: 3040021e01d357d8323c36c6867c42704c6e3c73ec2620c5f44f22ba447f22f5d5a7021e0bd43043e22ff016818bb8c104592ef9cc6f326672d64be7c33114a4b9d3
# prime239v2 (named_curve, uncompressed public point)
# Random Sig: 3040021e438762f1dce94d4dae61f09770c3e69a4a0ae9648c1d6677c6bce2242c86021e3a09f923eb172e3a455dbe03083e95f13d43ebc8d9ab2ad0946541de49dd
# Deterministic Sig: 3040021e2b9164a4da9220971de7fc2abffa1db1405763a9a94976032b64c0d0b728021e16fb7bf23d0c7fe1511c89b2b2e0b942da246b5cdbe4601ed69dd4e788a5
# prime239v3 (named_curve, uncompressed public point)
# Random Sig: 3040021e2f11524c0df5a3a76c35d7c3dcbc7e930d3d2aa61a93eb45c226bcf7db4a021e77332485aceb50386672e208061177fbde698eedd571a1d957821d2c911e
# Deterministic Sig: 3040021e60662067a39dd7ace82b9f2db748ab8961e163d259788653f7bbee520183021e2647743a98f73f1996a3397cffd5d86ea5c574d1ae23f9717a401f03b9fd
# prime256v1 (named_curve, uncompressed public point)
# Random Sig: 304502207c002cc77844f444fdbf862bf0df6d9f333eae9a57d8630b77b8cf763bffbe3f022100ebf59d519412917f22a800b9163bd5180420769097a033b12d59a20b926be492
# Deterministic Sig: 3045022100f85a10a14fc12d4bf873d635b9e9238a176ccbaf1ee7efe435e791abcd64d027022072b6fdd3ef6deac410912c76ff153732815bb8508a18a823f78a9b907fabd3b5
# secp112r1 (named_curve, uncompressed public point)
# secp112r2 (named_curve, uncompressed public point)
# secp128r1 (named_curve, uncompressed public point)
# secp128r2 (named_curve, uncompressed public point)
# secp160k1 (named_curve, uncompressed public point)
# Random Sig: 302d021500e8d89b476cae5147a5dab11ed06e6cb3a970e1eb021432a7668d679a5d39ca95ba3687eb32e4c67cac78
# Deterministic Sig: 302d02146f41e1292031235f49bc068b64b347e3ad233649021500dac5637cc0f6713dcfb9335f76a98fe0a3b552ab
# secp160r1 (named_curve, uncompressed public point)
# Random Sig: 302e021500a23b119c92b3713a44cafd24865fa60ce6c47786021500ce243ecaf9234808559925a38e52c33a2e68b229
# Deterministic Sig: 302d02150085d13b731d25620153faf2e4f4802dd969620cef02142f0b4a9a6a23e33b311a76ee64992eb150aa5ea1
# secp160r2 (named_curve, uncompressed public point)
# Random Sig: 302c02140b3352550c1e2df14841e1f66ab0c11815aad317021400cbe75b28f4f8446241916f92a16479dad25cfb
# Deterministic Sig: 302c021438cb68e7c87d005958985054fcbf57234bc1eb4902147e149ff432e436b72ee9906ab47a8574af84916c
# secp192k1 (named_curve, uncompressed public point)
# Random Sig: 30350218562948506a7f8687c39890c6c7d47c53d7d387878450f80e021900871c20dad4a3a9fd9de59ce1ad1b82617f10a0781c4714aa
# Deterministic Sig: 303502190081cc530d1ecded784753721fb50fef3a07f7bf0a4152caa502184eb56ba889b533a5a1d213479f7c0bfd17910db040aabcbc
# secp224k1 (named_curve, uncompressed public point)
# Random Sig: 303e021d00ba61ffbd3f17082b70aab107fece491ab870a3a74577add4d7c8cf33021d00aba4c70bb2c972b7560f461b1d3909eb8346348f0c96236b880dcf79
# Deterministic Sig: 303c021c0cd6e3544308825b72385bf726c11f33c9f4ae779616549ce7868160021c4e9727805d2a92a6b36a6cd9cad5b51205149d9b6af1deef1976c4b2
# secp224r1 (named_curve, uncompressed public point)
# Random Sig: 303c021c655667c47b6833aade28d6f1f6f57b6f2cf4607594740e6b92d0e8a7021c1c13c50606d2970c7c738a740b2f25965c2138edfa3658d16b1ff9e8
# Deterministic Sig: 303c021c1302e562b033daf52071a4af3ae1d62826f79b09696143bb2230dbad021c43dc2d8bf0d9384e02547eb41dfc3d53f6f2f97b29d5699c6df80fee
# secp256k1 (named_curve, uncompressed public point)
# Random Sig: 30450220621edc2a442883a277f3404f77a3a83088068c2779c607e51408a71116f135ec022100d3b5c76ad6933fa9823bbf1652cbb66752727b36846f7f11d54eb9467ff75a6b
# Deterministic Sig: 3046022100de1a5705ad2363b709cf21600e861c9c9fc335883f7f03d858f2f5cfaa0ad609022100e966d2ec761451bc95f5f3f077ed568a7d89f8acd5dd3631c9d65cd7666f6ec1
# secp384r1 (named_curve, uncompressed public point)
# Random Sig: 3065023100bf0a73c926b571c2693cc5234ebeb08247922033c5e1fa08f0d9eb2caf6c41b62bf8fc815d2b874847c0a083867d2acc02307afea6a4c2319d2ccfaf4414c9a2edb4033528a21486409a3f2c8b42531708aa7b4186e39e8c3b5722f64b1394ea1340
# Deterministic Sig: 3064023011aceeee1ed88c74559d8f1d172c81c5864fd18a52eb7e851fd1e0eedd279812e0373b10f4243ac6637ae3452e8f4ef402304b066a94e7c003524b0f4c06a2e6a92511babd9df9ed5dd585fbd91010961c07af91b0a5cb92c80be03f854e4cf3c520
# secp521r1 (named_curve, uncompressed public point)
# Random Sig: 308188024200e1ac3a72c55716394907f339cc649eaa0b12e5d34a084c1bdfa17225aaacf2546f1c03c0aa4841e9577ef66e821e273026571ac1cc6ed0aaeda1e604f2eae5b3690242013c01b4d7e7e8a59ff40ff5b0d200ca78b88df807d77ca1c4908fcc1cb1bca042b86e838e559c14f8933928223afa6cab1da6425df2bf150518a4083ec08326d7d5
# Deterministic Sig: 30818802420162f25d3d5b588fb34fb37a4bdf3b298ec378c419ba745ebe763029b1987b8fae9b1ac11440d8c0c25fae1c22e01588b55f8b10123aeef12863bf29fc2bd0d7ee0a024200cbf72d7e47575cf9c4cf8672416acd263019a784cb1c4f30293af96f6b910492bb92e8bebd6c5859f75e460233e204880d35a23a7d8104f704c77df96833acafd2
# sect113r1 (named_curve, uncompressed public point)
# sect113r2 (named_curve, uncompressed public point)
# sect131r1 (named_curve, uncompressed public point)
# sect131r2 (named_curve, uncompressed public point)
# sect163k1 (named_curve, uncompressed public point)
# sect163r1 (named_curve, uncompressed public point)
# sect163r2 (named_curve, uncompressed public point)
# sect193r1 (named_curve, uncompressed public point)
# sect193r2 (named_curve, uncompressed public point)
# sect233k1 (named_curve, uncompressed public point)
# sect233r1 (named_curve, uncompressed public point)
# sect239k1 (named_curve, uncompressed public point)
# sect283k1 (named_curve, uncompressed public point)
# sect283r1 (named_curve, uncompressed public point)
# sect409k1 (named_curve, uncompressed public point)
# sect409r1 (named_curve, uncompressed public point)
# sect571k1 (named_curve, uncompressed public point)
# sect571r1 (named_curve, uncompressed public point)
# wap-wsg-idm-ecid-wtls1 (named_curve, uncompressed public point)
# wap-wsg-idm-ecid-wtls10 (named_curve, uncompressed public point)
# wap-wsg-idm-ecid-wtls11 (named_curve, uncompressed public point)
# wap-wsg-idm-ecid-wtls12 (named_curve, uncompressed public point)
# Random Sig: 303c021c4a22c5d10ade8a82e2ebdd68ce79d8c0fd07869c15284c9a5446fb64021c6fbc3438546c15bba5894cac769ed5b8fab8ec1124d8b838a0b89566
# Deterministic Sig: 303e021d00cfc4e1afb682bdf1c730f00ac727729893924585698034d597d0fab5021d00b662b6b48981e013b4e93304bc13e888d7755a452b1df27374c6770f
# wap-wsg-idm-ecid-wtls3 (named_curve, uncompressed public point)
# wap-wsg-idm-ecid-wtls4 (named_curve, uncompressed public point)
# wap-wsg-idm-ecid-wtls5 (named_curve, uncompressed public point)
# wap-wsg-idm-ecid-wtls6 (named_curve, uncompressed public point)
# wap-wsg-idm-ecid-wtls7 (named_curve, uncompressed public point)
# Random Sig: 302c021419d360e349741013668088ea536f462a6ba3decd0214742078e46a9d249744b68509058b8914f54d824a
# Deterministic Sig: 302c02147878ac8a3358cf4f4105d1335bb313e66113334602145c4c0b28ed64e656e2e628e939dbd39261790e74
# wap-wsg-idm-ecid-wtls8 (named_curve, uncompressed public point)
# wap-wsg-idm-ecid-wtls9 (named_curve, uncompressed public point)
# Random Sig: 302d0214454e22a2190c791c0f6922c9a3c666a638ae7a8b0215008ecb6334c859af312383ac31f458f0b755640cb2
# Deterministic Sig: 302c02146e9130b696196b314dce54a709a2f6007967bae8021410cd0f6c78c9a17a3c847ea3928af550262a9412
# brainpoolP160r1 (named_curve, hybrid public point)
# Random Sig: 302d021460284e6e61730420ef2d79313bed65f792d59cff021500b753747fd8f0467de872c8788111bcda8d9f9016
# Deterministic Sig: 302d021450956545ade5cf142c93e7eb7bd941b7334aec1b021500cebb2ec191ccf9a628f0c420b533bed9ceed0559
# brainpoolP160t1 (named_curve, hybrid public point)
# Random Sig: 302d02150097343be283f15d2cc7aebb602c907a052b44ef2f021406cdbc65324c1e5148b39923b42959226a98f2d5
# Deterministic Sig: 302d0215009a7c139009c24fb17d817010c4c186ab26b6fecb0214338bd7ec712837e94ee9b7e9c28fce47485ca232
# brainpoolP192r1 (named_curve, hybrid public point)
# Random Sig: 30340218360d843e6b93e742266819d28f56df99dd0323c5bb5788e4021806e2b0de68406657131a03b5b5faf0567b958d53155c7adb
# Deterministic Sig: 3034021829af049e90061cf4b011d0fa53c40bb42039259e134587b40218261c1e0b35d75d40d4d0bd9fff6dde4b28161050a7109a8e
# brainpoolP192t1 (named_curve, hybrid public point)
# Random Sig: 30360219008886740da446b95baed4e68f3d7023435ee0e812142a140102190095ed03a130a4415debf87b12059c2db9aae2e22fe6fcf56c
# Deterministic Sig: 303402182b67c542b6b3a2b74d3c171b449c3fb3a2763309eaf6ae6702182ceb3802775918c5b9b4b177572aec154a3c43c2ac3fddfc
# brainpoolP224r1 (named_curve, hybrid public point)
# Random Sig: 303d021d00c214d209d4b21ed6936a94bc2b86a5c98def27697ea1167ac0035ca8021c4a1a1d88264e20e05d0eec416a7bd61d8bbf5cdde4ebea062ba09cf4
# Deterministic Sig: 303d021c4cbc569223383f311b9194482ed393dfecc0b35be0eb3d6ed3b2ef0e021d00a00d6ee860b27a35d63489a294077a0053c62261c6aa9abd75a13ce0
# brainpoolP224t1 (named_curve, hybrid public point)
# Random Sig: 303d021d009d212e129b7927fb494656780ed5871dd252bfd6734fd7008e49569d021c30f605efcc74c78cf529cb4a228e21a3d94f36f7b7bdb0bd76dc9746
# Deterministic Sig: 303d021d00d76b366f3f396955771b611950bf493b3c5e3bcb545e1f2654c51beb021c5c45103c35fc0370c1159b9a042c6cb0f3e7ea8f5c51dd63a3c088c2
# brainpoolP256r1 (named_curve, hybrid public point)
# Random Sig: 3046022100939ab100562c152a33abd72d6f4aa4b45bc0d7dd6b7e75625bb83e645c0def3c02210095237d009df5e9539ea43b1a1cdb37b67831ae4121d2f39e961d64679209463d
# Deterministic Sig: 304402207cd7cfd1882ae3b7ea954f5d68182117b7ff09031961ad2d98f58eb169d8cfe10220069a161ed3f6d6bd260c6e99f2538f1e778a99633c03a1b302f1ed5369c063d3
# brainpoolP256t1 (named_curve, hybrid public point)
# Random Sig: 30450221008b50dc318951b45bdff8b4f010386ea1e3b8de4fe397601bb7444e48605921e902207661cde36c4701f220a59171be42599c9732a5150488ff09482fda1a1e1d28c0
# Deterministic Sig: 304402206bd7cee3ae0dd564fdb20c4ded55bb0d413c4201df734b357f05602772e08c9f022063a3748745f9756d780784b6400041c8f5a89b893c4648f7347cea4dbdf746c8
# brainpoolP320r1 (named_curve, hybrid public point)
# Random Sig: 30550228413c3bde1cba11a72c02098cb37c342afac340e1e9ea6955e789b0a7a590fa6650c69d3d24d2b76002290094b0f200b299671923cc3a5c40bb7fd13151e10a1284f8b477384939697fb997974510722144ffaa
# Deterministic Sig: 3056022900bf64c26bcad04e932a422ce2c893036c43bf879f241cfefa083964e0b8b7576e962d01260640c067022900cb61217bd06720f13f8f4705718a4bd4a7fdce1994525acc1919f23a93b78ebd52de60b1f98dd30b
# brainpoolP320t1 (named_curve, hybrid public point)
# Random Sig: 3056022900af18e2631902b451ac1340a0755f48042dec29012e6614931c3624e24b3750883678fc1e891b76be022900b76279afefd47e4f0a693f0cd83946f513cdca199b311320588f5b1042025f822abb1b0e491400d3
# Deterministic Sig: 30550229008394f3b1ffdf7e3dda16f64fea04b3a6fa716b08d984c0d688ecc3f8d6a015edfd4cb37aa56b49bb02282a3d9d7d8dbe7bc47a8aef7f092cb6aa12508dced6f937a84f12f8a0f870afa4b12740c7c8972ccb
# brainpoolP384r1 (named_curve, hybrid public point)
# Random Sig: 30660231008826b4d5d32e50aa7c1bc9c84425264af8a51a38d07d6f0ed1ef7c5ea49ae00d5188e1c08ed8da3b20646f2f8d12d01402310083b57b8c35421b8ca4e929c6ed6500aba0d2c888f051e0da03e46ee3e1175c94e458ceac7ccb9392dc691e04acc499a5
# Deterministic Sig: 306402301e81749edf2df419ff85a40bb961b7a9615bf8122badc5d918311a6208b9ecdf2dc325fbd1f429d66d6a19b0d555651e023076a340c4e1d8c016d68a43c545cce7a728728fad2f6b633501db0bd774d6ec02a1d8324cc202339d96db7116b5a38ccf
# brainpoolP384t1 (named_curve, hybrid public point)
# Random Sig: 3064023056025ce6e0578f3750cbae667840787dfe60b312278cb026189f158f1b46d5cefd8c27da361cdcb9645cc31d527451a40230728729063e82cc16589ba2ba4221f72f8a66d443b7a2a90ccc1426c99eb5e5d02082bbd0153e20a3bf6a31e20c3b1fe6
# Deterministic Sig: 306402303140a69ea1fc701a89473b0337b341112a76de0a34d0d4a819c97cb5a44fb34bd1a8696f9aeda412300784098bbb135a023052998b87f3b512b1fc1d5de23f5e0a3db4455bf8dc5452e33b48ed59ec5db26f8d85afc4a05cdbc77445866b0da18e6c
# brainpoolP512r1 (named_curve, hybrid public point)
# Random Sig: 30818402405b0182b94a111084effdcb025e3f9b9626e81b73d76c3abd226d7722a76e83531fea92453b158d6b482ed439c3bc93b716070a48fba5546ece8c922042d8ad1002400687e9d9d8e1528462c188419e15fd1b2fe3b3d3093161dac07dd6692afee49e08260390acb05f8f2752fdceb5291f820597eae74046028069ec02a21f30e090
# Deterministic Sig: 30818402405591c99ea0cfa33aec8b0095db43cbcc5034d180b8da2faf7db36c94521c057cecbec4dceb5c72750672c3042cc9d29c9a3bda23f2c84a3a436646e0a3907bb902402e30353190dcb7fb33c93441f7b9244ce70cb4f1a388214784017e0573c376a4b1df88eee7e0b2ff85c5f790f140763c4fc3ee4255d1f519a5194af563ea74ad
# brainpoolP512t1 (named_curve, hybrid public point)
# Random Sig: 308185024100a426a7cdfe1d349ea76cfec0c2eeb850d9962ae80c983b586ed73586e94de3de749dacfe9460e8da4aaa3776d1cc23af8645fcb82f9a880d5217df27daebfa73024065531922fa96a98d04d9f9e8138d8b2356a19524b6fe461d523b8abdab85d08d1f77f8c0e40efe14a027c7682c1a29c6219b29936d7d8a5a59ac3d2c3d417cef
# Deterministic Sig: 308185024100a8bc51b84f98f94b9680a0828c867ca205ac02089613e41c4572366f28e4e5850b00573eac18f1ff32b5a6f5643705ab24fc15340a385a149bcba8480fab79df0240610edc5c25c6af02908ca965c4214cb264c6d1ab211843096fc966ebf8c7c14fb15b486d554b889c5be10318fc7f79f98cd84c777d9626c9c8a73dbd33f151b4
# c2pnb163v1 (named_curve, hybrid public point)
# c2pnb163v2 (named_curve, hybrid public point)
# c2pnb163v3 (named_curve, hybrid public point)
# c2pnb176v1 (named_curve, hybrid public point)
# c2pnb208w1 (named_curve, hybrid public point)
# c2pnb272w1 (named_curve, hybrid public point)
# c2pnb304w1 (named_curve, hybrid public point)
# c2pnb368w1 (named_curve, hybrid public point)
# c2tnb191v1 (named_curve, hybrid public point)
# c2tnb191v2 (named_curve, hybrid public point)
# c2tnb191v3 (named_curve, hybrid public point)
# c2tnb239v1 (named_curve, hybrid public point)
# c2tnb239v2 (named_curve, hybrid public point)
# c2tnb239v3 (named_curve, hybrid public point)
# c2tnb359v1 (named_curve, hybrid public point)
# c2tnb431r1 (named_curve, hybrid public point)
# prime192v1 (named_curve, hybrid public point)
# Random Sig: 3035021900d20a313c96f39b13349285d24395523c33b0c0cec58b83bf021843d55389d1c552677a0c66dc8598826d57f2017c02f1e04a
# Deterministic Sig: 30340218272ea83f66780fbe336edcba7e22b80b64b8cf82900d42100218123c5950dbd2938fd119e3883aab73a7105cc7b9ac990af9
# prime192v2 (named_curve, hybrid public point)
# Random Sig: 303502181ba9fb312f755a12f1905e22d273f4773232b3585e28e080021900d66ada82ef65cfff6f7eac4e34970108ccd324c524a3fd51
# Deterministic Sig: 30360219008d895e6f8199fdec09b237487e8b147bd1f8aa36ee1b07d2021900be814516b08bc51e798110e908efbc767812bbf9bbc9b0e9
# prime192v3 (named_curve, hybrid public point)
# Random Sig: 30350218472a69d6a672a218e83042bf49df1eb0b57c5bc01ae999aa021900ccc876e51887397654bf4855814f1e83994ca7a5bde17c80
# Deterministic Sig: 3035021900f2788b3916d164baec21a6c6875d7a010a08f010adc180da02183d07c654c9824d5380c72ffbad7164287ff093ca11f47f3b
# prime239v1 (named_curve, hybrid public point)
# Random Sig: 303f021e68075c72d9b07660b66b832388ea85a93dab0632fa4da3d6e394537939b7021d10017283c01aa47f004571bbeac2cc90c4bbb4c34d6c697952124f33f1
# Deterministic Sig: 3040021e52c25a29c3699d6a074ac8a6a7b6362939d87f2d9999bdd09e8319fc21ba021e4830afcbd310dea110611ddeca265e1e38d90bdf43facd98f2ca360f7ec5
# prime239v2 (named_curve, hybrid public point)
# Random Sig: 3040021e74cb1aca5bc03c0c99ac5aa238b99642c0c1e6c1371df5015da85103e7c3021e627abf5cc75367ece14c6bbebe0c09cc2259fbb0a99984208e40617e8851
# Deterministic Sig: 3040021e081765f39499917a477823d70f39b10e95b19ea50965f0a68cda70a4dd53021e2d35999921ad6b4a45a31d0d28be68d7e6af8ca4efab72ef07f2c570dcb9
# prime239v3 (named_curve, hybrid public point)
# Random Sig: 3040021e52ba30b1cceb2a19ff20570e80cc0b63c1549a38d01578f7192178998351021e0825de7ee401382b9049256d367668b35ab53c0f5a21d5d2a572fd87d469
# Deterministic Sig: 3040021e1be567851c87d9a1183ced9173c2c934bd1ff6d51aa1bc3aec78ecd7e292021e7e68ffb3910a85c4a8029c7a8f48d76a5f54d8de3b5dbc7dbf933614e913
# prime256v1 (named_curve, hybrid public point)
# Random Sig: 3045022100eac93fd99c4e750f78292059f5b26a8b9758f754b4e25cda23bee7375e278db702201f3032e8cd6c712dfe12a8c9b0dba49bfbf1018aaf75c49dfe4f1996691aaaea
# Deterministic Sig: 30450221009dfd85b4eb0a2c9c6b21c3a3d129a1281f29a0f97eb1551edb55729ca5ae3fcf02200aae5eb7616eb2b15bbd05843c126498c8a875eb7450b6531a8d4f7c8e11a1ba
# secp112r1 (named_curve, hybrid public point)
# secp112r2 (named_curve, hybrid public point)
# secp128r1 (named_curve, hybrid public point)
# secp128r2 (named_curve, hybrid public point)
# secp160k1 (named_curve, hybrid public point)
# Random Sig: 302d0214671b772d58e1ae8a8630f5086cd81d50ddf47bb0021500b3505e69b6dc28ded0bca5546a04adf100b27494
# Deterministic Sig: 302d0214430ef875e84b64f076bab771d177a43c1e25a502021500dd267c599ca141935cbbcc1e43e5f12e506cf003
# secp160r1 (named_curve, hybrid public point)
# Random Sig: 302c02142cf7b55acb64bbd610b81785777b933ab3b597f202142853db07d00279e3e88eadbfa64aecd375eff316
# Deterministic Sig: 302c021465678caae1264a0d08a150620a008805a32a1ff302142f33955b7cb86481075ddfe1a7dd113a124bb4c0
# secp160r2 (named_curve, hybrid public point)
# Random Sig: 302e0215008741f263579979ab444364ebb0c71a84cce81f51021500c13cef0fc3ed284558eedda23324be787cd572db
# Deterministic Sig: 302e0215009579e18daabdb88ae8673b7452f250db712d80c6021500d1b1f792a8c294d418f0d4b1eed9446d12dde839
# secp192k1 (named_curve, hybrid public point)
# Random Sig: 303402183370085e2d141660f45939115efb893ea36a2b76f31b8382021873b83c74e0c6b347d146e4ed48be9c272c6d4c2e4e2a74f8
# Deterministic Sig: 3035021825cbcd0977ca1c6c44b97c4517fde6b9e572b193a34e24c6021900e340129e5233e7383c25789a8e0f5644b9831cc4309e6a47
# secp224k1 (named_curve, hybrid public point)
# Random Sig: 303d021d008606110c16df175acea05534dc4715547e109e825ad94a1e342ce73a021c0d94da3db9e3be9c250d7b1122f6e408d909ca049b9ff1927fd99839
# Deterministic Sig: 303c021c4a1eb1a0ed18adf4b98ff4e84aca3090c396cc411bec1456cf55258a021c7209b6887942392d8401f319e64ed692bd9de5758d7003bfc792fe9c
# secp224r1 (named_curve, hybrid public point)
# Random Sig: 303d021d00966ce9ed58150418cf8ef2d1188de7622f58f4a102291642992faddc021c1c3c8fbbde4be079984093637dc85e0113ea719c16b8c56b3e36a3d4
# Deterministic Sig: 303c021c50fb903fef64c2871d91f77c44ac8431ce36dc7025f659a2cb7caf17021c729e02d89507ff42e98f0a70db874442ac65f2b2d2aa246f91453eeb
# secp256k1 (named_curve, hybrid public point)
# Random Sig: 3044022019a0c735b56b9c3c234dbafffb1d8d4e8ce955e0e2c68d727782fadb2b77fdb4022072389a5fa0ea177a6a5476c390777d5b8b0b8882cfe5e70939e4264d490ccf80
# Deterministic Sig: 304402207a1874e484f2a9834726c6fa02148ba5dc263bc2737b074e0af9bb4c706a08e102207dee9472c902ac7e1437c26c8fb802bfb8ebbff5bd46b9cefc4362685724ec4a
# secp384r1 (named_curve, hybrid public point)
# Random Sig: 306502303bd82753ff262227061ca3211c62251f9e26b5b4929a24cb5062242a59abff9d68cbcab58c832966fd539f6662568e59023100a880684a4109aa7d4175bfa3a6adc4f63449a1533324117dcbb6922b04c7621a296344dd6342c56d830104818a430d69
# Deterministic Sig: 306402303d9951a92424d99f2a4059d5fb1107ee34e0991b48d6abc967ea32cf335b3c4512e72ce7f9a00b8ddaad862a25ab38d502307d1471e8740ce48f679471b7650294be68e5440c143ced344459c1dbd4537737148893580fa7dbe9768409773681f77d
# secp521r1 (named_curve, hybrid public point)
# Random Sig: 3081880242019fa753b9cc446c95d7cea2753c2595bef434f5d7b7292dd8d853898e309fa9f714940231342d7827d320a3d2ac21643075886447e24e19903e39c55ffdc55f1de4024200f0f02baab1485d9ff5468ebd56fdfad7f25ab02b1f025cfc0d5ebc3ebd79aa6576f00c3df6898305328fdb08c250dd0a70d17ef07d0c1299fc078b1f22a04c40e3
# Deterministic Sig: 308188024201071a4f0c0e2d83cfb95a532857adbfc0c0ebec5d2d4b11ba511537e71c6184d25740fef3c84a9a9c73d5b3a7aec9a8b2bd0cbefc87faa01801579fee0e6b8725f8024200a863dfffb344c56c517624f8a5c1ff78157e342c697e507a421251cc98e0c7c40e37c8c28049420c2c384e69fd157299a283bb91f86b1cad5b312a8dae5b3dfa8a
# sect113r1 (named_curve, hybrid public point)
# sect113r2 (named_curve, hybrid public point)
# sect131r1 (named_curve, hybrid public point)
# sect131r2 (named_curve, hybrid public point)
# sect163k1 (named_curve, hybrid public point)
# sect163r1 (named_curve, hybrid public point)
# sect163r2 (named_curve, hybrid public point)
# sect193r1 (named_curve, hybrid public point)
# sect193r2 (named_curve, hybrid public point)
# sect233k1 (named_curve, hybrid public point)
# sect233r1 (named_curve, hybrid public point)
# sect239k1 (named_curve, hybrid public point)
# sect283k1 (named_curve, hybrid public point)
# sect283r1 (named_curve, hybrid public point)
# sect409k1 (named_curve, hybrid public point)
# sect409r1 (named_curve, hybrid public point)
# sect571k1 (named_curve, hybrid public point)
# sect571r1 (named_curve, hybrid public point)
# wap-wsg-idm-ecid-wtls1 (named_curve, hybrid public point)
# wap-wsg-idm-ecid-wtls10 (named_curve, hybrid public point)
# wap-wsg-idm-ecid-wtls11 (named_curve, hybrid public point)
# wap-wsg-idm-ecid-wtls12 (named_curve, hybrid public point)
# Random Sig: 303d021d00efe6f86cbd1429eda24d530349552df836d6c6da8cec8dcfadf74a6c021c2a05718ca0e6db4889acf8a3660a2b12db9b17c2eda0dfcb0c46174f
# Deterministic Sig: 303d021d00947b4e9abe7c27a68feaae198e06b4a0abf822978f9328e48c5a8b69021c31f4ffbcd4e28faa8f2d80ca9daccbc9a0b9ee92788c2068b2b2fb4c
# wap-wsg-idm-ecid-wtls3 (named_curve, hybrid public point)
# wap-wsg-idm-ecid-wtls4 (named_curve, hybrid public point)
# wap-wsg-idm-ecid-wtls5 (named_curve, hybrid public point)
# wap-wsg-idm-ecid-wtls6 (named_curve, hybrid public point)
# wap-wsg-idm-ecid-wtls7 (named_curve, hybrid public point)
# Random Sig: 302c02140ea1999c76948ede99eb8a91e94108ac20d1ea1902142744074ae32e0d147677931f2fb7f5fc78728d6e
# Deterministic Sig: 302d021500e05d109861fe0e414648d810cdda99391997501102142d12fb33cbe0dc95b3ca3c99b85c27eaf132c681
# wap-wsg-idm-ecid-wtls8 (named_curve, hybrid public point)
# wap-wsg-idm-ecid-wtls9 (named_curve, hybrid public point)
# Random Sig: 302c0214293d61c88328f153e86e95b0dba8900b837e8d9b021442b82a080acc4051192a5ef873dd0b228a73a76f
# Deterministic Sig: 302c02140a94ca47a246e7fbd671919b37be8669ba9fa1df021461ffe37678e8c65530382665329fdd680cf74bd6
# brainpoolP160r1 (explicit, compressed public point)
# Random Sig: 302d02147f508e2bade703fa9a2483f1be7a4e811cbadb28021500b9df6113e51b3f56e3c54f4211e847b4e70a4f86
# Deterministic Sig: 302d021418e4d39614641b4290907b876b3febe87fc991f6021500e5a95958d6c55234c3618de5694705b3723d2ecb
# brainpoolP160t1 (explicit, compressed public point)
# Random Sig: 302c02141d141fc2394b0c159c66e9579f1cda38304ec2ea02147b0e924cc740903f4463e9d1bb21776ad2b23864
# Deterministic Sig: 302d021500d97e0452f17cf6fcf2dcabb5525312934c95f90702145aeaf7939232b9678ab77babf904a42e1ed79deb
# brainpoolP192r1 (explicit, compressed public point)
# Random Sig: 30340218599c62c06929d9402b4b360c2dfc95ba3fee086ad25b8b9202184396e1fc5a40c50f82672b8bc282b1b9ebaa6511de0bf1b7
# Deterministic Sig: 3035021900bca4e368894b0208f8a8d6704a71f31448c4a29c0c52e7a302183271fe583ec3dddc21dc457e63209619501bdc53dcb7460a
# brainpoolP192t1 (explicit, compressed public point)
# Random Sig: 30340218250e32fb0dfff0a7cd5fe9d02a98abf4d088f6e96939aa1902183826c51385778f8985bdd8d35912ee8a172c39307f31d57e
# Deterministic Sig: 303402185a5d138222016c6e09ef34d645ca0473e5b2702d1be47994021867c37c56d230d0721cb2aac22bc42ee05d8ee6bb3ac48529
# brainpoolP224r1 (explicit, compressed public point)
# Random Sig: 303d021d00af93597db691800588a6d642ef170f2941d1766e111fa7cede2222fb021c4da1312b9c7f59db20256ebe828db2d1ace6707c3d4ee3ac85dcf7cc
# Deterministic Sig: 303d021c0b92d9cf2e5e1f0d56c6f44279ae7fac0ec606473b656a6faccf28fb021d00ad223045c32e69a9ca5008b16d102bf3c014924d87a34f388422afb6
# brainpoolP224t1 (explicit, compressed public point)
# Random Sig: 303c021c56ad595fac8364fa52ab7c6276591b5603879acd0545ec069adfa7fb021c0d20ac0e8bb4cb5f4318185b8ea39554fdfd92eca3dd38f9315defa9
# Deterministic Sig: 303c021c018e0659bfab14cdc7d3200fcc2a0f50ef5ba435b0ef79cf47f49eba021c054b85b61bd1cf68025d67e1e9d80a95184e8baeaa15d70d02467888
# brainpoolP256r1 (explicit, compressed public point)
# Random Sig: 3044022016e12c509e4a060655da6fc8adecf6e24bca1d1ea5a2ed7dc1f2634da1067e63022048a25b153948d3032ef6730242b511acdaa7c983f3820d4fdb68c91aecc2a789
# Deterministic Sig: 30440220433dd5b23285d80b62f7c23887aa4e7db9091d2a778696d76bff829dab1d75c90220576dca41de1c59b8f02bf062b2d39168656264b09ea6b0b0171e742e8f6864f9
# brainpoolP256t1 (explicit, compressed public point)
# Random Sig: 30440220169b129dcd0190a5b792b3a27724f4b509c910985f5c38d815037a7c5f44a3dc02203a892e22fb79f752e4fa10814a8e1b05c2abde63a06ece05e5402d8a52325e82
# Deterministic Sig: 304502210097671f023df9d063afb6d9ed6fad0be4c547cc580f90a621a7ee917132c6782f02200791436aedfc694ef650fb64ec4e739c83647fce2c06f0ff59096dab76a9646d
# brainpoolP320r1 (explicit, compressed public point)
# Random Sig: 3055022900b107c8ae75c398569aebd6faefda455b0e83cb089ac0b464dd26c090940a1857cc759fe3b1e6c87502280c6882d859a3c51c377d1180eb613d4f3621323aecb9e1c2e8fccd7a989a6299e953da3cfad53280
# Deterministic Sig: 30540228541bf83c53f0d4add7036acc150bbc41aa75a76d54014e246a7e4178a0c8576cae04a2e9a3a87bcc022802e219360e9f29d36bbc1b6912e40ed41d7139735b12ab367548002ee49e5a4efa1988d31e4caf1f
# brainpoolP320t1 (explicit, compressed public point)
# Random Sig: 30540228653e019354e73836a618a88cd29ef5852ad8bc7954dc6594ada7ae267f0453b1b029d5fc51be70690228124a2bceca7106f225342af8a81c941f4f246d5d0df6248c9b38599f394cee7e25f15f18fad22e85
# Deterministic Sig: 3054022843cdd73f6787ac3c66acebc6382460a02c0bce76521a70bc23b3cf9430aaaf1202381ffe4f5cfaa4022801ea61fb38c88b41a5553f7a415bd3f74687cf14d501aa95f1b943438903fa3561621154e5defa2a
# brainpoolP384r1 (explicit, compressed public point)
# Random Sig: 30640230636714013eed027db9fe8f0bd78421a749ce9e308b61db271a19cfdc79dbb9d1c90f94986c0ed3f41d1db66370f335cd02305050c20a2b7d76f9fd71cd2fb24790917a7f93112667a895820ff1749fa937133bd6fec21226e530c15ebcc1819c9cc9
# Deterministic Sig: 3064023021a39f16f0e253b2774a8fc13d6acb00c3b98e4a8200dc9559a9a05ff198a438847b9da0b462696b27b60e8b693d9704023071e9288167997b7d2fe8be0b2e7cafa6991cb814011ee446f06380efdca71950e29f85ffee4d8be26d2d8f0b10a6e0be
# brainpoolP384t1 (explicit, compressed public point)
# Random Sig: 306402303f560c2dde0ae3c0ab4ff9954e8579621e7603030b1944f064a0a5f0be1a06f481273fc43cbe4ae45fa06c0161ff49a5023041afc3bd20f842b11a31546e227c112268dd5703696ed1cc370bb3099762bbba0379e06f2c2b910eaa3dfccbf39e5a07
# Deterministic Sig: 30640230644879ebcb5e3c184741c0b5497603e498455c3faf83c6965f386e3dee261a56ca05dbca9b36fea5c4a7d20ea71062c502305fa1e1d6a32dfb89b3bd3e55e40d8adad0e25fe0a2aef63dd4886349ec08659054d51b2825c138d2a7e9507785da01dd
# brainpoolP512r1 (explicit, compressed public point)
# Random Sig: 30818402403c19304ac57cf5aaef8409bd9055a49e2e6ced79c284ac38c462ce49e7adce60a349cb136d33d76156d17f0e5d25618d7a35888ae2adc23277f8f47293c967ac02404809e93eacdb8edd6f40a397e95ff5f0d9f0fdece8b1328d1edc2094a1a45d576be26fce6d181a387f9f38ac3cef2016386be4c8b74db0b4cedf713b0484e8be
# Deterministic Sig: 30818402402c29dfb87ff01d68f3a18679f734b390574da37d6935ae43094fcfca473420fec0ab8b4fc66f2dd2a273db48a02fa4ffdc7f90db07aeb69cff3ca8677ec3e9b102403992378b6dd0fb7938a305d38a0a02a02f69f3fe00bdf08568a412004366b775bb59bdf41422393b74d85b5b9947c1dc1ec2757c096341828c0745b971922b9f
# brainpoolP512t1 (explicit, compressed public point)
# Random Sig: 3081840240255297fe1d6b3e41eb4be356157985a1154ed63951db3ee8e65005f6b6ed7f307f25f81fe5305e6bf497ee1ec2bc004e134090bec066ebe304a01c4191b72460024054a8543f2fb5e25ff5d8eb00b53165d23bb60493252d4c17005772dee070fe552379c04769a610454669852261ba72ea940670e87dca36d3f78096acd65c67e0
# Deterministic Sig: 308184024050f45f0cbd24efa65ddc3dc5c46cca1a8046e26695df44854212eba6e2f89e63dfc3726271d4442bb865e97d46807b3d1383fd28e6a67983d6145dba988f527c024006cf587f79773eedc43846aef1c691fb2c6c9f894a75f73fcb75ed489447ebed7aa5d249f63e0e10d4a367272e398bd7a3c2ae82a314495196bef93294a98a34
# c2pnb163v1 (explicit, compressed public point)
# c2pnb163v2 (explicit, compressed public point)
# c2pnb163v3 (explicit, compressed public point)
# c2pnb176v1 (explicit, compressed public point)
# c2pnb208w1 (explicit, compressed public point)
# c2pnb272w1 (explicit, compressed public point)
# c2pnb304w1 (explicit, compressed public point)
# c2pnb368w1 (explicit, compressed public point)
# c2tnb191v1 (explicit, compressed public point)
# c2tnb191v2 (explicit, compressed public point)
# c2tnb191v3 (explicit, compressed public point)
# c2tnb239v1 (explicit, compressed public point)
# c2tnb239v2 (explicit, compressed public point)
# c2tnb239v3 (explicit, compressed public point)
# c2tnb359v1 (explicit, compressed public point)
# c2tnb431r1 (explicit, compressed public point)
# prime192v1 (explicit, compressed public point)
# Random Sig: 3036021900d4003777412d3c70e8e6b2397a2d912832b967861792a533021900ad878f0616e6a788d7d0ef72bb955a6498db61e16c0426f1
# Deterministic Sig: 30350218142ed4026d91f50e81695696a90101f6bf23649ff34d171e021900ccbe8aeb09a20d278eb4b8238067e320d02c6b0d6052e83c
# prime192v2 (explicit, compressed public point)
# Random Sig: 303402184639626ce94a319a7f2b47abfbdb450cada5ef76c488a7ca02180b25218c06c6feb6a744a2bc0ee07179d3b772d68ea30bca
# Deterministic Sig: 3034021809b15c20d325d477c00aa7e24516ef087d8aacf4453d1a0e02181251dd9fb13bc6f9dd08e59437a3a0d89e79420fa1506de9
# prime192v3 (explicit, compressed public point)
# Random Sig: 30350218724ccd11dcef0cfa77bab9ff9a514fbffa64e585afed3821021900be3c479493f843bf334ec700527fda07b34a54dd427f8046
# Deterministic Sig: 3036021900ef4807e0f6d49cdb6938d7676e692707d59cb21ecbd8eef8021900cc81b8ac8b4a6c1caebe8f027d02ed422b805bebd6a386d8
# prime239v1 (explicit, compressed public point)
# Random Sig: 3040021e00dd17fa50806cab1478bfd17d5e7bacd4a3d8cb3b8a1f0e9c6af9f5da62021e1cf65e57539f055e48ec5eb3c831192c6aa20b70eca04f59ca44b3e7efe0
# Deterministic Sig: 3040021e1e26e7ab306604e4142352f5dfcbaa0f171178c03963745e46b20945e917021e4c4d8b366cce03e52c0986f33045ca2a75b83734cbaf253f9a2e8a90e42d
# prime239v2 (explicit, compressed public point)
# Random Sig: 3040021e49ea3802f6433a3b43e435548782f15cdc3a97c7e8c8e837f324652d6883021e08c1d3d9e83db61feca8e1448d605d20ad28f700d24f9f495ca584ec8e8a
# Deterministic Sig: 3040021e54f71397781b80147df103762be526de35a3c8b28795409f736e58deffd6021e3366ad43741f5fc2a478f83aad91b6aceeca66c38d27340f357e1061c72c
# prime239v3 (explicit, compressed public point)
# Random Sig: 3040021e3c2983446c4b16a1a055f885179c1967c5649493f93864b0e7f5b59671ca021e41e0b113bb7ad30dd829d4a9428a144bee8f6c953c6471dc49556afbc3f0
# Deterministic Sig: 3040021e69700f0023d638f9e205513dc3f3c33b254d269b419c6da77db96d360e49021e53751757c747a4e89e0fe43e03b6bf723bbad961e29c8c85f0f1d3be9fa5
# prime256v1 (explicit, compressed public point)
# Random Sig: 3046022100b3e8244df5ace79ad25c3aa949536215775c7efdf12e57e44b5f7c95df580e04022100c894a2c38ee44508e48e0b5d5c4b16e160cff3799c5de3f00489477bedb62fcf
# Deterministic Sig: 3045022100a407b06326259cc11c03e1e96820fb6bfda5c57f72c286050f4a0d7667f4348d02205abc0e7efbc3c32de7e38d744a14bb3d8f13972c8be3982969c394ae7a18a562
# secp112r1 (explicit, compressed public point)
# secp112r2 (explicit, compressed public point)
# secp128r1 (explicit, compressed public point)
# secp128r2 (explicit, compressed public point)
# secp160k1 (explicit, compressed public point)
# Random Sig: 302d021500abb465b669f545927e261a97b3d1b562f24dd2a202145b032e9525749ad494247272c893ff28a719ad77
# Deterministic Sig: 302e021500b6476ba4d0c1b86ad19260629987c52f62360b6a0215009caa32b279537ae498f528f37384f4e5d6a11338
# secp160r1 (explicit, compressed public point)
# Random Sig: 302c0214080a21281c47696a843d33b1c008c03a2b804c16021477c7a8a80a4b0a87324a5a682b00ca60f643a811
# Deterministic Sig: 302c02146529560fa8479bc849e0a39926c52a5fc872ec4c02147660f86334d1f614a95f86b198d3f87420201103
# secp160r2 (explicit, compressed public point)
# Random Sig: 302d021500a27458f6141a105abf840d63ac56189ab1a9834e02142404d64e7da85303f1b940615d0f4ffa464b0c77
# Deterministic Sig: 302d0214290cc2d57319e1b063737d97052d017e521b6452021500aab475c7fd23af7420b872378c4f4c2c295d8d4e
# secp192k1 (explicit, compressed public point)
# Random Sig: 3036021900b5cb47228200da8ec7a0709d4213cf95180c53b4db44d655021900c9cb4faf9d796663777fe4200b7e7956565f58f02caa2565
# Deterministic Sig: 3036021900b34d5d6d31d7d4c40ea06514a2d974ca746926f3441c405d02190085440d6bf7dd55b7bb21cb5a4069a1ef1a37345744e41d89
# secp224k1 (explicit, compressed public point)
# Random Sig: 303d021c7e611bf6ab4c2616361937dc36b814349ff69f53dbd064175f9c6d7e021d00fdfaad787cbfe895199e4cb541074d11008979654754b8585eb3496d
# Deterministic Sig: 303e021d00f65f757c290e82984ded01cd7dde11f34e697221d1e35b8f6bdaf078021d00f09b3a1858f656e7907f90af0b652e631d4a44c726965cc777982c4d
# secp224r1 (explicit, compressed public point)
# Random Sig: 303e021d008e2dd9c520e70e7143c8e2c631cb146d8ce8a210f5312a160b361013021d00939d395f1684f02e610bf4a23b5ca4c57340dcb0d2a4a98d3082dd84
# Deterministic Sig: 303d021d00f5579c6f1891e4e71ed30038937234b3a3c52904abd9e035fdf2388e021c2a9dacaa19a76a80c644f7b45fc763d58ec2dfc4e4d705d795332b5a
# secp256k1 (explicit, compressed public point)
# Random Sig: 3045022100e15d9e1a297ff05756896a45f82d25769e7d1cd66c60f9213b0a1b10faec0710022062acaf9671786e24e9da18c55c7294dc0d47017be5f779ac8b24e94f43e298db
# Deterministic Sig: 3044022007f403cda602a129296b35b39aef8ea44eac7201709bc0d2faffeb6f7e7e6e2c0220663cef00e2fb1692f48573f697d94f1c2e2c2337d682a2bc6e4fb1b986c9bdf6
# secp384r1 (explicit, compressed public point)
# Random Sig: 3065023100fc0bf12fd94056692eaaf95cfb39e68bc286dce942fdf5649fe6b401b28334d306b86e52b353cb5d3df515ff1f9e6c6402305ea3636c12ae282b83a2d96f991ab5301e602fa22c4dc784b4123a552127c54e3acb38299a74b481ee2c1d22fba157df
# Deterministic Sig: 3066023100a635dfc0b3df3f171b3bbe128f6dfe1fe3c98e19ea013f14200d029449523a245be12685e9c323131d1a7f8362208791023100c19af5d6c67083094bdbb3af6031a3bc1ddcf9ccb37e56e12f592f360d7bc099ffb3bbf9d4ea7c5cac1a6e02f2246dd5
# secp521r1 (explicit, compressed public point)
# Random Sig: 30818702420177441226213185554c713b4e87a536da6369ebddb328d1d7a72c6ef5951a06d73c4298a9f2c4177c79a698f60e05775d2f8bc7627ca7916f660a441a5f0c168a2802411c97b8cf3ec33f2d0e895e39ca9353f42285f591d7978ef59e6f7bee68f3f04c71ce16dd4cfe5f5ededc0510df277252e3c71f3849acccd8af42a67b35915b4d65
# Deterministic Sig: 308188024201c23902d51d3411bfb7d11c2de9818fcd85d6e69b02fb02bacbe94ae48455b5ae7458bad2e3b3212f67ba0d45fdc22e28a8ace73df9ce87f0b6650ebc6f7dc005a5024200cad462dc246e6ce4c22803029d0dae511423ef3c174d314a134f89977c11793d73b175908f72d635bb7bfcdd74ee55c1025766581968c2b9b6f943d541f085db82
# sect113r1 (explicit, compressed public point)
# sect113r2 (explicit, compressed public point)
# sect131r1 (explicit, compressed public point)
# sect131r2 (explicit, compressed public point)
# sect163k1 (explicit, compressed public point)
# sect163r1 (explicit, compressed public point)
# sect163r2 (explicit, compressed public point)
# sect193r1 (explicit, compressed public point)
# sect193r2 (explicit, compressed public point)
# sect233k1 (explicit, compressed public point)
# sect233r1 (explicit, compressed public point)
# sect239k1 (explicit, compressed public point)
# sect283k1 (explicit, compressed public point)
# sect283r1 (explicit, compressed public point)
# sect409k1 (explicit, compressed public point)
# sect409r1 (explicit, compressed public point)
# sect571k1 (explicit, compressed public point)
# sect571r1 (explicit, compressed public point)
# wap-wsg-idm-ecid-wtls1 (explicit, compressed public point)
# wap-wsg-idm-ecid-wtls10 (explicit, compressed public point)
# wap-wsg-idm-ecid-wtls11 (explicit, compressed public point)
# wap-wsg-idm-ecid-wtls12 (explicit, compressed public point)
# Random Sig: 303c021c2fccd7ce396649d9ff4cd23bc154cfd8784284c56560b1f4d5ee70aa021c5b0b72d2e0a017a1ececbc11b033c9a96e6eb613aa8621a5f46f8168
# Deterministic Sig: 303c021c3aad0db35fc4035bc5b88e2cc47901978b3170b67aafb9b8af181fae021c52d8676393d04f6f5e676ff77483a71803453731409c8e0361b64b2b
# wap-wsg-idm-ecid-wtls3 (explicit, compressed public point)
# wap-wsg-idm-ecid-wtls4 (explicit, compressed public point)
# wap-wsg-idm-ecid-wtls5 (explicit, compressed public point)
# wap-wsg-idm-ecid-wtls6 (explicit, compressed public point)
# wap-wsg-idm-ecid-wtls7 (explicit, compressed public point)
# Random Sig: 302e0215009a384a5ab5d2847e4793d58bab9529df6442a78b0215008c0c3cfb19d9236bf5b78b7496bfa0166d01a008
# Deterministic Sig: 302e021500a928707beab7b02e3b757120b887c38a0fcce1dd021500e338e4fd5a300f53e001417fa9afd72be197e12c
# wap-wsg-idm-ecid-wtls8 (explicit, compressed public point)
# wap-wsg-idm-ecid-wtls9 (explicit, compressed public point)
# Random Sig: 302d021500c306f22cfa6808a32da887dbc442a075b15151d30214500600bf79a2c65d7ff5d4e554b783949da50de2
# Deterministic Sig: 302d02147b76c9685a9b882abee5ef2e420bed9edadec1d0021500eddaab33e5cb602cb32cff8b0602b39e21b8a14e
# brainpoolP160r1 (explicit, uncompressed public point)
# Random Sig: 302d0215009177fd5149f270496a07b89a74c634f63631decd0214353bca1fd5877ecc5c66e0b11b962252f38d97ff
# Deterministic Sig: 302e02150087eaf410eb5e2809f8f41cbee48714b6b5bf811d021500b69ccf5eefc55b0abe4ca3725f7d0dcade29434a
# brainpoolP160t1 (explicit, uncompressed public point)
# Random Sig: 302c021440ac184d28eef685fa00f3ab855331bc310299180214386311381b96e957029f0699cfeff1f42e9c9559
# Deterministic Sig: 302c02141bda0dcc7669d54c85a0f54a6f284f8ca09778680214348bd1addd144c087374ed22ac9759e204e38def
# brainpoolP192r1 (explicit, uncompressed public point)
# Random Sig: 3035021900bf64340b2d1aa378e92b2d98b0782f8bce961e728ac3ee88021868c4bcb4bc28b40a479e2aa736d68428344b728232410124
# Deterministic Sig: 303402182975d4425a91bc4e55888b336e7de084f14d6ee678ce3f3002180f5405fef0174c8b438c3e5eb5d8b9feffdd90415dbddbbb
# brainpoolP192t1 (explicit, uncompressed public point)
# Random Sig: 303402183146ab39771b94d1b9b2fb86f91f364308e1d58bda2fc73102184c5e87d877f4cc5ca676978a23ac55bfc9e624bd84a9f87d
# Deterministic Sig: 303502190098f7b376dd8a719b594a2b7c6f51f0d393362eca3c1b0efe02180531b77fb4675c73b258aa0ecdb9282d24b773a5ffae11f3
# brainpoolP224r1 (explicit, uncompressed public point)
# Random Sig: 303c021c71d9c6f652eeeb3505285d97a79330437e4069b945a5dccbd44b6357021c2ab3b6bcac6d548dfb57e84caaebb0554112cec67bfbae3a5735ea8a
# Deterministic Sig: 303d021c7bbae3ce788ef88fa1f5c48da9c5b61f764d18350b588813fbad23ec021d00899cfee6f9fca033f195b6f91299585fdd72563d2fb167a8902dd0e4
# brainpoolP224t1 (explicit, uncompressed public point)
# Random Sig: 303e021d009171f5340da4f696dd35ecd28a6b06ba8a073ea18e1b615ede601650021d00d58ec27a1fada8874a3b4dd657e238e82b6c46862897dce91e6d1148
# Deterministic Sig: 303d021c6d7d162510200e3bd413f43260eea9b07843b4434758feaa3972ae9f021d00c9e783a480d9f46ceacefaa7cabe1ae1705c3e426f39af6b4e26ee70
# brainpoolP256r1 (explicit, uncompressed public point)
# Random Sig: 30440220345822292858db6d0bc41febcf70251b2f0f7f0318a69f7a0dd82b981259264f02202db104ffdedb8e9c7b61e192c55bd0708ed36432c3abcb834a876a85129cc38c
# Deterministic Sig: 3044022016ca7602c3b9fdf50d62d655581d87aa519a1a4e58d7d023f395d77b9cae48a202207109ddfda33411e3573b92502217097342075cfc535a365ff82937ffaf28bd9d
# brainpoolP256t1 (explicit, uncompressed public point)
# Random Sig: 3046022100888d23aafa21c481d9b4ae5ac09f8f4a98ff4b525a0626ab05c5630cc9060e3f022100a3af4ab96531b023fb23250dd798916dce19aa0e31063cde79f4521f7a76eb46
# Deterministic Sig: 304502210098874cb4acb7f184c89713e662fa1741bbd1078d5f17aa30a05af7ea82545102022075dd2e13413b3a837de3abbe0f2175771776a46fde3fe23c84edae5e0fe89cd5
# brainpoolP320r1 (explicit, uncompressed public point)
# Random Sig: 3055022900abaf2026dd992f154b4c016b16d0f6d486d24bcdc58c0838f79e908e8235e35bc8d43d57d5834d9402282292ee42830463072f5831a2e1723ba4d5343ff1c746ed9a7cdebfc922b5eace77497e0c77b6615f
# Deterministic Sig: 3055022900b7a95bf21ea34c0c5e8a97e24fa1edc80bc2518f21cac19dcb20b15e008ea60da48c31886cb3fa1c022824d42c6e118f92dafa480e03b8de481b0343fbf30945a9162e7ef2c6cc56f5bed3ee449066b541d4
# brainpoolP320t1 (explicit, uncompressed public point)
# Random Sig: 3056022900a6b7fbcdb1936c706004e67e75d2b7886f07927306d84eb709e1f908419d83c153f0405282290490022900a0807a19df912ea6cc830cdeabdb331c6ee347b1d805136bc0df50bfb707ae5cda0bb1b5938f9d94
# Deterministic Sig: 305502286188f2166738f10ce31813cca254bef2b857e6c1a0adefd7fcdf285fe1f116e32892eb29774e787d02290099c4d304c9378ac24fcffc13b3acb8a3c7568bf0763b88c2b2b630935fb4f93615bf868185201720
# brainpoolP384r1 (explicit, uncompressed public point)
# Random Sig: 3064023044ba87fe0bdc49d52d7da48191aaa36bce3f4fc20390f3f793b51a1f8a81863a419bfb723a84b9822149b93acd1c547a02304e6dae0755f67752e108739f54a285d1adaa75df57106eae3aef5b54187bfc8085d763ed51058e1ed2e106fe4148c62b
# Deterministic Sig: 3064023073b44b7def395fb5273a97e360fca086912057b02bd2923c7e43d622bf93f5f772b94c9df8c18c2774acd08aa299e99e02300191d8757c22834adfb5455e33b60a39471e76a2b16266f9017acce8e69e6ffcb49481714ed81df1974d6b28565b88a0
# brainpoolP384t1 (explicit, uncompressed public point)
# Random Sig: 30640230552bd1efc95d57275c06c46155a547a8a2ea280f36bbe684c5ba82be211daa2514e5b2dd613a556472be34104458826c023078db9c345a95aeb3ba04e1feb78480a742827001b66e56ede1e9b263dbcf5628bde6c93b011fee3bc2fa65f6eb645615
# Deterministic Sig: 306402306efde91b30ebb145eff7e105fd9547dbdbf45309de1be916976cae26ffca394e6c29fe1c54d29d83e0ba1770137c02ca023079d041c1109554a90db46f20e636c398695643c9ac87db0a1721ae639a02c337e39af91bc565b050a8a8e69f9a837333
# brainpoolP512r1 (explicit, uncompressed public point)
# Random Sig: 30818402407252f8a2292d08bfaeaa1a52c3a82ad3a2d84106ab078f16e9c2b26ece1ebf073c9737bc344858090aa27316eec2b743d90bb1547cdd488e6b10f4ffd33d670f0240541a73a2808978b86c5cd84a8ab2b905f5fee5e1891bc77853c94ded40c51f4eeeb9fec8f61d193d9e6e5a5122dc673910d537b8419ecb6356f94ebc23429022
# Deterministic Sig: 3081850241009dd1c34dcff9f33449ab7068475c0ad712722fa1c742865b4fffe8dfb80e2a7ec17f34a29fed6bfc81bc9cb7e898c748848975ce8384ba15e7ff7477292457050240172a72bda646c2079020703aad7aa3529cc9575df449ffc6777e0dd7f5568edcc0865768a94549a13a10c628a2a80a500d0a3984f015fd48bc95401e1d9c46ca
# brainpoolP512t1 (explicit, uncompressed public point)
# Random Sig: 30818402403118524e2c98da8a97010f87ed7185e8c2953fb195da09da4df451eafc86f413eccf53de496b8c4a7aba6ecd44acf0d03b452a6e8c2c3382cea66f3f1995aff0024052d731096ead9785bf21cf7cd5b593626436ad115cd9a3f9b3bb99d2bc05c361f58ce43d7f59e043dad1395c3389a698dd7bf17807821a62f02b30b07035e864
# Deterministic Sig: 30818402403e53680e78648c4993d6af0af1b921c574e6ba27b342b55aa2f98a97ddc7b2ac48820d31ddb17fa7476e3d2386a3cb2bcd4fc1c8034ff0b2cdffe51205dcfe6102402bd267c861d8a7c6e5ebb21d972bc0af66b2c2f37016d03dfef7bd2a111c634efb548593e57fd677909a1f12f304687a1a5b74ba8634eed605ecec900cc4bb89
# c2pnb163v1 (explicit, uncompressed public point)
# c2pnb163v2 (explicit, uncompressed public point)
# c2pnb163v3 (explicit, uncompressed public point)
# c2pnb176v1 (explicit, uncompressed public point)
# c2pnb208w1 (explicit, uncompressed public point)
# c2pnb272w1 (explicit, uncompressed public point)
# c2pnb304w1 (explicit, uncompressed public point)
# c2pnb368w1 (explicit, uncompressed public point)
# c2tnb191v1 (explicit, uncompressed public point)
# c2tnb191v2 (explicit, uncompressed public point)
# c2tnb191v3 (explicit, uncompressed public point)
# c2tnb239v1 (explicit, uncompressed public point)
# c2tnb239v2 (explicit, uncompressed public point)
# c2tnb239v3 (explicit, uncompressed public point)
# c2tnb359v1 (explicit, uncompressed public point)
# c2tnb431r1 (explicit, uncompressed public point)
# prime192v1 (explicit, uncompressed public point)
# Random Sig: 303402183990d0d775e91b597ac8ab65fc401143878917729bd81e75021871800adfa3c4c0717e2383b32862065f738909c0e33a2bc3
# Deterministic Sig: 3036021900bc35dcac5136abdbf2d1eb3726aaa3995d59c684de46c2c9021900f9e3bb9c61639428ed392a0f71af719020fcd295d85d7fec
# prime192v2 (explicit, uncompressed public point)
# Random Sig: 303402183283c99965c6d2d78fad4edbc38f368e0c92452fdfed0ccc02186c802c38cacbf8b2cbc599d9999b05f4caea71c934e351d5
# Deterministic Sig: 30360219008b19944ec15f8e71ec9630f2862b2a81badf4c3b1be674da021900f4516e4eb234e1bf61608944ea5c7ef6948fdbe1c050f89d
# prime192v3 (explicit, uncompressed public point)
# Random Sig: 303402181bbb48aa19b2192abeac467e1ec1210bfafe7c740977d75e021852e0cd490c8978f29bcd2bc2718e20c8c87106357ae8b0b9
# Deterministic Sig: 303402180c0b20d90cafa87f78d9234687a55b82ab12450c6341bf1b02183fa954db647dacac8a371b3613ed3e2fefdf5a3497eb8909
# prime239v1 (explicit, uncompressed public point)
# Random Sig: 3040021e609afe3042ee993d9a41be4aaf972168eda95da89db28c14febaf09a22e3021e1033975d7df01461c49721c68fc8d654271979e33f7bd99370f471c9e096
# Deterministic Sig: 3040021e0892aa2e79b8cc826473cadeca007133afc290aac2d3b8b755f0c6a35dac021e2518863e4fd787a9ce7452b9186fa60514499dd82f480c5c5ecd6ba7cec4
# prime239v2 (explicit, uncompressed public point)
# Random Sig: 3040021e5a6f5da707015a42334d430161f8b19402c9c78962273625d669cf90a603021e6e270ccc50907c90464ff380676c9e7976d976f48c3952e9228d66d0b31d
# Deterministic Sig: 3040021e26abd4a8ecb2b08b2ba7e4fdfae5f2476b933b9ab0f647a3cb2d7289a72b021e00c97b3164858b41a96ab34022a63457be267cfa32bd874cd442809d2ef2
# prime239v3 (explicit, uncompressed public point)
# Random Sig: 3040021e7b8ada546a077c26f8a166aadd2004272015094af62767d997ef0d821feb021e586fa886a613fd768d02714023ed16a263b7dc5571ed947ebe47a8034292
# Deterministic Sig: 3040021e3dfcae9c98b8a54fb99c275ead02215fcc28dd1edcbc3d09b4c2c4d63c88021e45ea868390f2d4315e410311c1ba94e294646544266ca554a11d4a8fe36c
# prime256v1 (explicit, uncompressed public point)
# Random Sig: 3045022100a0a3871b1194415dcc56bef25caf5f9f675244e68cd8abf5f515d34efe6ed48302205a7b9d9f9667241bcea3a0563254920925eb3c33d1ee967c398cdfd76a60b50a
# Deterministic Sig: 304502204540509169f1c72a8352c48b4152f8daf0a4791b478e94c2e7df3841196bc6fa022100b1f8b199ae4812fd581ef610211db612d40f72b936cc0a9122c7d9f62fb9cb59
# secp112r1 (explicit, uncompressed public point)
# secp112r2 (explicit, uncompressed public point)
# secp128r1 (explicit, uncompressed public point)
# secp128r2 (explicit, uncompressed public point)
# secp160k1 (explicit, uncompressed public point)
# Random Sig: 302d0214453fd725a574157f63b3dbcffc6259f215393a18021500de2d9363ec1492504293dbae920e0651d6f235f5
# Deterministic Sig: 302e0215009fdc4cb32bd693528f54e59fd056567b798ec23a021500c779e22c301e15eb6e9152b3ff54c39349395e2b
# secp160r1 (explicit, uncompressed public point)
# Random Sig: 302d02140efbda79fd1e382b248118e48ac10ae83353304b021500e6e3fa9736ab18c40bc85b0f3697b226f2b4bacc
# Deterministic Sig: 302c0214301126104b38a4eb03faef1ccc62996ce495e400021418d120382ef1d29a3f65f2cd3eb70913762283d8
# secp160r2 (explicit, uncompressed public point)
# Random Sig: 302d021500cd2f5d481aaaf9c1bd247f83689873fa02173af7021423406602bc5d764649869ed5c38986933a1c7302
# Deterministic Sig: 302d02145302e8e886137586af6a2d215379cb1d1eefa2040215008457c01945f637e7110daa16b0b1d49aaf8135e4
# secp192k1 (explicit, uncompressed public point)
# Random Sig: 30340218698e1e7e166ef793011eabd301cfb396c52e97d18b2d640f02180101fd40d0cd0a8a68e0805e15282803a0244c3f6da930b7
# Deterministic Sig: 3036021900a11c7121ab6f020ee4c0d337d5ad7b466c24abc7408d569b021900f23e08ea767e844b3da985f92a0806381b691092783522a1
# secp224k1 (explicit, uncompressed public point)
# Random Sig: 303d021d00d6ab9b85e735c43760c0c214f553505c921c969f140cde5d1c0c8267021c55488dbcaf17708e01d7c637a44e219ba4c530ab9364424c5af4f91e
# Deterministic Sig: 303d021c141e5917d4c31873a888933fcb81acfe70572556ec855383f2738377021d00ba2b9ca06e799aa7b3299e162a7806b154503b221e345f4a56a39a38
# secp224r1 (explicit, uncompressed public point)
# Random Sig: 303e021d00ac918eac006fa5abfa895cfa4e723929b4183938822e104b24ed3ddf021d00b0e1d894ac10000ac62570d79dd80a96f3b4108e7f5c93007ecac973
# Deterministic Sig: 303e021d00eeae6fe939f60c876c8006f5a43189c678cf7f4fd3125b34d1029a47021d00fcb93ff66d5446465bf7182031c6010f1c1f6ea1dcb73fe3b6499e2d
# secp256k1 (explicit, uncompressed public point)
# Random Sig: 3046022100e4c20260a745e309fea8b163c8172da1410c1f87601afab1a2fbcaba88cc998e022100d56683b631bc748f350e882045021286bc067df23024537583a991f241570f0a
# Deterministic Sig: 304502203753184dfe69aa41a44229c8026bc8a7de95458545b551b893d2adc2c2c2c3980221008a8ab3f4703c4d2deb1dca2127458e3a78e7a8812bd499424afc42d0434040b0
# secp384r1 (explicit, uncompressed public point)
# Random Sig: 30660231008a0479b79ac8c4d0e1a59bfdaec36e98553b1aaf7c2dc1b1171674cf03e6d50bcb23fd5e87e68e82725fbcfcadb467c1023100c75a845e44b409d7ce2dfa700d66367b7b6f43c6aa7cffb040c201f010d598a7c9018e949d007dc8917db3aa97453990
# Deterministic Sig: 3063022f24c162bf17e49515ad0dc46ac1d5201973f888cccd6ce84b30dc4d97119bca3618be4e2da6a29c4465409003d656dc0230792425c1cfc555fb599aeff2505e90ebdb660c2a4f0963df8c94f4fcfe323edacf4c763985addcb898a09e770e7c60d9
# secp521r1 (explicit, uncompressed public point)
# Random Sig: 308188024201a4638ee1110c225b045231c1ace9f75ffc57226cc02d94a906065da42ab3305c0bf3997b8242db1852f0eca454a2bf5f4129c5997dfb4e8bb804a18a0f1636ab72024201e883343399d810368cd9da5b1eb44b74f88899305a7e5fb7d0f28e172b22633e4fb4da8cdf6dead3b08531e205119ed1a9141dc165591a007ea69fda9f96cc47c2
# Deterministic Sig: 30818802420162c0116cd6426f750522e144b6ba73126fa47ebf1f109b34480eeeeab4a359325f7d3eb3efef30be35597be5df93e9e59a10f5f1809661ebf3e5b31f2dcc31d0e502420142f6fd3298228e0f54c5436ff36f20e987c73c1d0aee1e6a3a5358ebeb51ed9fef5bfc8d05be1dce2a8195417014b8a422768b5dca99fe2f1dc8620ac8d7bf8f11
# sect113r1 (explicit, uncompressed public point)
# sect113r2 (explicit, uncompressed public point)
# sect131r1 (explicit, uncompressed public point)
# sect131r2 (explicit, uncompressed public point)
# sect163k1 (explicit, uncompressed public point)
# sect163r1 (explicit, uncompressed public point)
# sect163r2 (explicit, uncompressed public point)
# sect193r1 (explicit, uncompressed public point)
# sect193r2 (explicit, uncompressed public point)
# sect233k1 (explicit, uncompressed public point)
# sect233r1 (explicit, uncompressed public point)
# sect239k1 (explicit, uncompressed public point)
# sect283k1 (explicit, uncompressed public point)
# sect283r1 (explicit, uncompressed public point)
# sect409k1 (explicit, uncompressed public point)
# sect409r1 (explicit, uncompressed public point)
# sect571k1 (explicit, uncompressed public point)
# sect571r1 (explicit, uncompressed public point)
# wap-wsg-idm-ecid-wtls1 (explicit, uncompressed public point)
# wap-wsg-idm-ecid-wtls10 (explicit, uncompressed public point)
# wap-wsg-idm-ecid-wtls11 (explicit, uncompressed public point)
# wap-wsg-idm-ecid-wtls12 (explicit, uncompressed public point)
# Random Sig: 303c021c2eb71faa608e5c7353074e1c57dbc246862d78493b2fb408cfd50a06021c0421ca6a1692ae8b244d4f8665700972c7b9627448155365b4a4cb54
# Deterministic Sig: 303d021c4024831aa5b2869d1e5f50b0054d663a2a280b84b13f7aa3cb5a643a021d00df454738329ee483e3a91c6e577c4dcf5015f8df9e05ec7b0f894d86
# wap-wsg-idm-ecid-wtls3 (explicit, uncompressed public point)
# wap-wsg-idm-ecid-wtls4 (explicit, uncompressed public point)
# wap-wsg-idm-ecid-wtls5 (explicit, uncompressed public point)
# wap-wsg-idm-ecid-wtls6 (explicit, uncompressed public point)
# wap-wsg-idm-ecid-wtls7 (explicit, uncompressed public point)
# Random Sig: 302c021449f3037b5f707e656bc3f888f01001aa5fa25dfd02146d213d64d30cefaa835797841a65363fc2fe5891
# Deterministic Sig: 302d021500f0ad711f445a1e5a1d153741964d237876fde7bf021428536d6575621309c9e4768ddc2a6da8ac080315
# wap-wsg-idm-ecid-wtls8 (explicit, uncompressed public point)
# wap-wsg-idm-ecid-wtls9 (explicit, uncompressed public point)
# Random Sig: 302c0214770cb03389188991b3fc7733e8ffb436d966e2c602145761768d74c6de8b1a5a7f4f9a22d73c12621aca
# Deterministic Sig: 302d0214208bac5ede8ccd11055137e914562eb1d63318b0021500c6ecdf04ea5754d4facd8c45311655bdbfee0715
# brainpoolP160r1 (explicit, hybrid public point)
# Random Sig: 302d021431df314aa4864446f7e5700009b22620d262910c021500e9520dc7731a6f30b7a8b58c5bef319abfe6edf2
# Deterministic Sig: 302c02147d46e1234f5d07d01ed3e5cb52d8f4e7c890d5f20214143b81cd4c415cfe702c81b2ff888febc71d78ae
# brainpoolP160t1 (explicit, hybrid public point)
# Random Sig: 302c02145c004cc09a944a481d309da72b853e1f489739fd02146fab8f9ea7d249d64af55d4c2116b5436e6969b3
# Deterministic Sig: 302d02143c8677f5cc8205104020344b326ef0a6ba1b3b8a021500dfb91b72997bb736cd8af815336debca4c6e5fcf
# brainpoolP192r1 (explicit, hybrid public point)
# Random Sig: 3035021900a746ade864562991fdccd7278dede94865bd229d599871bb021834e21a81e193d0f5c022343740e53c71ffdc9e29ca9b514a
# Deterministic Sig: 303502186e29b7b0d79a26caafdd812975318d624aef217cf18e1834021900b8f54186cf3f95ab143f8e6a7eb98e8d390a790e9fd20fa4
# brainpoolP192t1 (explicit, hybrid public point)
# Random Sig: 303402182d59f01b5a8b7ad228a7f1557a6052a49231b7c443fa56c00218260c7b02e7de7ff82cd7e754ac82f5433b85c42165cc8028
# Deterministic Sig: 3035021900afa04bc014e5f6b2391b9469f1c10821e109ff81eee138520218466026e8a87e7b88130114e021cd4034aa94ec1cca5c95b8
# brainpoolP224r1 (explicit, hybrid public point)
# Random Sig: 303d021c67a75d6f4ec80e1f7e56fc87415fa6a55116dc70d92baf1aedca7146021d009caaa8866d63b995fcf2aa326b6dd2cebcc71d1ea5c641c00d4dbc86
# Deterministic Sig: 303d021c58205c1bb79dfd8e914fc8caf0ddb16a8bfc10a444d4eb5b0371456f021d008cf3c6a81604dbc53b2b7ac062550a42f8541020763fb6e9138992a5
# brainpoolP224t1 (explicit, hybrid public point)
# Random Sig: 303d021d0094fa47f7cec942b731d5f7fc5bfb0603609f326aa32b44fc749062b4021c53a6272990a2eef5690d01a41aecec97de144ec5de3ada9d80147634
# Deterministic Sig: 303e021d008454da7868a02a963953bf11af3f71f9caaea35c7aebc1ba000c2c24021d00af99f85bedc6ebc36dacc357fd40112924616f8b80886446286b8a8d
# brainpoolP256r1 (explicit, hybrid public point)
# Random Sig: 3045022100a43d916b899906bff5fb19d6798455af245e346a77dd261e92838caba40699ab02203fdb83c0e6e1244afa10f8d1e9dc37dd6da788dcc403436b0712dabf3f0f355c
# Deterministic Sig: 304402203499552630eda4beb852efb3e8fcde8e2c396dca2fe1d3ecda32d930fb9fd04102202703921a370dfaec98bcd35f87d170103fa76fd99c4a3323b2ed4afb05dbf784
# brainpoolP256t1 (explicit, hybrid public point)
# Random Sig: 304502205ede491ff7b2899b612de75c4fdda4d38055a8f5212564955e8c311b6d50ef620221009d5de5558271b33f50863fa6ddb42221764eb71807fa6e6fe26102743647c9ad
# Deterministic Sig: 3044022074f9501b4d72f17eb6db6ab75b5e55ac5f984e2c963eb6c53ef9367dcd47fd2402205bc7ecd909f53d226cbf406ed1991239fcbfd0d6c2d5d0439b66076efcd6efc6
# brainpoolP320r1 (explicit, hybrid public point)
# Random Sig: 305402282a265e95144a66a7e760f03cc7c52e15e93e31dd8f92c1f5719e6bfc36c692248814d81e232a5513022814175cd665325a8d06253b7cdaf5bb178495f9b77e796e9faabf5b3508f66b897cbe3b2d28a4f52a
# Deterministic Sig: 305402281e48e8f1ec347e153879407dff3c624cab5f2e30fa5bfaa5b14f796676a669c112bdf5f58b89321102286f00b04900c183c3f1e70e8fd5e21a03ea6b754e5b02665ff810323223473a1faaa1d50d08fbbe74
# brainpoolP320t1 (explicit, hybrid public point)
# Random Sig: 305402283d17be65d6845a0bc233b4dadb0e8c1f67138170122bef2e7c7f3d24bcff1ed3e2e5c4047b1d9751022827ae9be39d44469ead9480b8edde4a86d9b67863345e64a795f841589312ad6e95641db55a9c6b98
# Deterministic Sig: 30550229008b8c198d74b8d059eb46986402051bac73df07de50fd14f554977ec2507cd2df8cf6098c24d214e002283af90176ee67466032915bdf16692d8faa304e6614a2f204e1e17f96675796a02ef03c75f72ab645
# brainpoolP384r1 (explicit, hybrid public point)
# Random Sig: 306402305c3fe04c74843317e126fc480ad2ab7af6fa917f9dac9b8f7c18ff73f7f99e5f760dac6b6b08b427e991149efc7e5888023015c87a14fa131fab067210d8a1d4a684cc4f2bd46063a5025721e9b81daad685d30a3f1797dd036bd3a90c1aff008ef2
# Deterministic Sig: 30640230062ce78f184591f35fd9b798becabdc26915ce922b6e930e96f983ffb41a776f153db16aa6cbae250af9417ea55de48e02306a8bf1f198962566ddaf7a41fcaa1d5b8c954ae6e3a44773e8adec4362b03ae264ad77f5f54166d7f5f81f4379bf337d
# brainpoolP384t1 (explicit, hybrid public point)
# Random Sig: 30640230458773e7c3a7a2ba0da622560acae46946bac61b95ffcdef214b0dbb15fe5ae5f642741ca2c0e88571df08591dae6dee02300374b9549f1924cf2b517b921b8930c749ba68ddcd384626dfbebac0add6e26f1689ce8973f83779558d1fc15de99b4d
# Deterministic Sig: 3064023054ecb0205f5f756a225e3630127b96996515168a32db5ae4934881e2c4a1361ecc2c9b39991242fd8a2a016ec0086435023006af14a0759c86368b1ed38eb91adf87a344b27ce63d4d2c3d0bbbfbe25e7fb9b029c61d64ef10f52b7893bf09343ee4
# brainpoolP512r1 (explicit, hybrid public point)
# Random Sig: 308185024100aa0da0faab53c76f7caeecb87567fba5d39e62686941de26ca4b500e3d9b079ebbc4b7e3b0ecda59104aa957d34aa7193e252f1f74444cf927256f0a2bc6677a0240476a15089807fd3e83d1a08de8e534581626b1abe5664a9417de84c8f8cf51c94cb828f91f5b01956f3c63125d52baf591935f3814185f9f208de921f9f45a62
# Deterministic Sig: 3081850241009de43e42c8e5973352021eeac636665cfc6f04badc481d78ac704a774952526c20636c37e3cadc1235be96857f370aeca1f2222e02db244f49a4301b4ea5b6cd0240139eb7e481cacde458d833763e90fedce4ba833e5178d21d951c5d8bf28ba46bd666be7ace61fbfa3233fa6dcbe81edae9e9d611c0bd1f514a5b53856d6dd701
# brainpoolP512t1 (explicit, hybrid public point)
# Random Sig: 30818402404e0acecf8242867b13f3a83c798c99f1dabedaddea2eff6e43a61da9b2b41d749c4d5883a5b4750919e98a494300e81d0ddb41aa00f826016c1040e34f2b419c02406b27bad3f622ac2b6a7a8757395528f7b42cdb92ddbe401b7acaa29beddb3ff0c3ee6bd335cc72ed845ff9a22d57e54cc4a9267e51799333a5f063fd7d0411dd
# Deterministic Sig: 3081850241008b8ebbb5a8fe90cebeb4cfe488ef678573b3ddb9695b06e324f309e5220c2a4c5501afd0ed2598e2f9902127b61ac15027c109a48b03d67bd82246edc146774b024065ee6bc9535c21967d08b4f3a358d40ffb9eda59448bc133451c404a64cdb5ba13d275e662988719e32315501da8582d1ef519b02ddb39aec6cdec5c7bc89922
# c2pnb163v1 (explicit, hybrid public point)
# c2pnb163v2 (explicit, hybrid public point)
# c2pnb163v3 (explicit, hybrid public point)
# c2pnb176v1 (explicit, hybrid public point)
# c2pnb208w1 (explicit, hybrid public point)
# c2pnb272w1 (explicit, hybrid public point)
# c2pnb304w1 (explicit, hybrid public point)
# c2pnb368w1 (explicit, hybrid public point)
# c2tnb191v1 (explicit, hybrid public point)
# c2tnb191v2 (explicit, hybrid public point)
# c2tnb191v3 (explicit, hybrid public point)
# c2tnb239v1 (explicit, hybrid public point)
# c2tnb239v2 (explicit, hybrid public point)
# c2tnb239v3 (explicit, hybrid public point)
# c2tnb359v1 (explicit, hybrid public point)
# c2tnb431r1 (explicit, hybrid public point)
# prime192v1 (explicit, hybrid public point)
# Random Sig: 3035021900ecc933a6be2f230bef751e0544f53d7306d98452ca01b48402181b75bb69ec8d2268738888942ed81ac962f39848a54a6e18
# Deterministic Sig: 3036021900efe5aaaf3639bb4747a13f54c4fa3f07c8ebac77ac84910f021900bbbef1c461c1d7328d5dd9561075380d83539f37f7fff490
# prime192v2 (explicit, hybrid public point)
# Random Sig: 30340218374bf41386ea4f128ad46303954326b1610b57f709a1f43802185530205831aeccfb1c49b85ff6676182a329be7323e28842
# Deterministic Sig: 3035021900d6f159cd1c17fb4b2a065212923826001051268cfafef40602180d64177c6632bbe8770098d9a27439e35f823188fec771b7
# prime192v3 (explicit, hybrid public point)
# Random Sig: 303502181d697d0f48793083bfa8bfac79ecf4bb7855d956bbde5826021900d2a8c8370e3665b0368bb721c78d7bacc7e1206ba7be28cf
# Deterministic Sig: 3036021900fb84bdacb6680d6e76d1ab20d82f412d6be9be68a63a8953021900956091269a02355cf4ec31e57e5b218de7f30fd8e7db293f
# prime239v1 (explicit, hybrid public point)
# Random Sig: 3040021e079e0009338fd759ee6b90fc84647533e0d66bd59565874db1fce1eae16d021e4a00b18762b9c7886874f41d12a79403a0cfbee30bc1371b120d597f6fe2
# Deterministic Sig: 3040021e4450f1fc09ec40e9ef382d04bf515b3a992d97c004df8a73223803d8ef81021e54f66be9187560252ac9c7b1e02d54f1438cbee88c9aa30690c1b0696a50
# prime239v2 (explicit, hybrid public point)
# Random Sig: 3040021e53d42661f4f49234b714380e23e8a87ef0796685c7dcec5a80aa40985325021e134ad39ef92072d4838aa79e676cb5d6304824ad6c592a0b330690455b5a
# Deterministic Sig: 3040021e467fd735a670ec94564e0113986869a852d1cb3c2a798b4adc9970f60cbd021e38f7193de02d7bbadf36fce5370b970df092c31157e3a99fac8005ba29f9
# prime239v3 (explicit, hybrid public point)
# Random Sig: 3040021e55c2f0f9248f12ec1bdb2b1162d51df91ac50e8c212c13c4b1589a0b1118021e31cc0a3580549fef532f083b200f051defe1501ef3cf3a485f84d8241fcc
# Deterministic Sig: 3040021e3ad88aa25bddf5e1c62b014cbc42e4f488e28dd2b3bafb68df2727cc2f42021e1c5f0e7abd9665bcd54ee8d274c433995deae42e113b2696db0a2d320178
# prime256v1 (explicit, hybrid public point)
# Random Sig: 304402204d6b865cb35c3ecf4d14f36f2b808f7388b7a9f45de4c7241a2559361a7dcc2202205a223f69edaca9dc4e282331b1bf5d2ef1e503ac7a324628684dddde01cf64d4
# Deterministic Sig: 3046022100a4b330756cd0640c9a71dac78b4c4133fc14411b466ac45e9fec14630291b42d022100a45e9f1f622dae0a4ce7122ae74d391e5e6821683808f9853500fa1d49b990ad
# secp112r1 (explicit, hybrid public point)
# secp112r2 (explicit, hybrid public point)
# secp128r1 (explicit, hybrid public point)
# secp128r2 (explicit, hybrid public point)
# secp160k1 (explicit, hybrid public point)
# Random Sig: 302d0215008fb4f0b7865571a62fd36329144fa90441dc7961021476e86d82785c31c82834460f6a0a95c218075fff
# Deterministic Sig: 302d0215008263f32a2267ca7dbb9b5ee20c94cbf64cfc599602147b5b90608da9deaaf5cfed5a95e83fb6e8127579
# secp160r1 (explicit, hybrid public point)
# Random Sig: 302d0214665d8eb1d18c4218fa8aa555cae6528bc101c761021500f5a280ebe3d9d71ac605e9e6f640d731e9414bde
# Deterministic Sig: 302c0214751d253f63ba1a7663f5d603da6f42e122fff62a02147cbe10f7b9b8c29399d14fb9424924ec066fccf4
# secp160r2 (explicit, hybrid public point)
# Random Sig: 302c0214458d9af5a2e7ae95ef26c049aab05cdc8726b9d002145a3a017f532560fd5e999e37d731476f3966ec11
# Deterministic Sig: 302c02143b1ab9c9b4cac529af2946fc10ff7ff2951880100214188ce4c9c2bad322314d5214062948b5f0afe56f
# secp192k1 (explicit, hybrid public point)
# Random Sig: 3036021900ce211604db7debdbbdcdfb5d59d63d3518515af123ad1ee9021900fcdb331f985a62c95f851eeb80ec56c84c54eab1655da89c
# Deterministic Sig: 303502190093d9b0945fc7d3bd5c97b70fc65af61bf6c6479bbe7a1d61021866ece58f8082acedcda44695c957a9afb3e206cd408c71d2
# secp224k1 (explicit, hybrid public point)
# Random Sig: 303c021c53ad9b09a5d123f03d6792e5901432eabf34e8432e39d13e028a4f46021c38f963c16267a80c3f0ede81adb04b281f75c13f261a43e4c5bd05f0
# Deterministic Sig: 303e021d00f00c4ac4b6556b95ce230926322b48629d2dc7800b0c7aafcffdfcbf021d00f903c8471400f8072684e1a8db0834904286945518dcd5c2e70e8a66
# secp224r1 (explicit, hybrid public point)
# Random Sig: 303d021d00ab33f360effae2b6fbf98513eaac4ed79cc965b537200dccafd0e9bd021c7b27b94c21de609e8407315312af14e22aeaf720c932ba24f7feb462
# Deterministic Sig: 303d021c37b7b25d56553667d1a9c519f68650df3644fedc261b50a1528a66d1021d00cdf51e97ced91f7210076e0c41f0dd8fb8f93ae141f2c3509f64f378
# secp256k1 (explicit, hybrid public point)
# Random Sig: 3045022052b0aa6dc5000945eb1f9db6d70ac741c666876380e62dfe334a7c59a8d33a17022100e59d1ecf43e58e42df0b35ec30265c11569c0411e6173d33d3ea4e64cf213b5b
# Deterministic Sig: 30440220797faa4f326e1c7bc156a5c483fd499396cf2e5b146ad09283f135c1917d26a20220466aeb0edec50c0d6d510fa0bb1334f3900985ed8dceff13752b0f241b75580a
# secp384r1 (explicit, hybrid public point)
# Random Sig: 3065023100f295ae54d20f494c7522448ed6cccb780fd27ca5e37d7f7d03419d6d9be153dc94a5e97e9f8e08986ca987537b6cf7ef02304c83d4d4466891f839f81aea3557ab77ccfde052e5bae17e7cbb82faf333f588a88bfc88b733127649aa466139ecaa44
# Deterministic Sig: 3065023064258d2a548d89aeb31330ef8c36029286998c5bf0498f6c9bfd86692c8ac5875881cdbb3cab311703f75898ddfc76e0023100d1715d59315d870ac677d193ab72c7e5a41cff1c43e9923252547bd2dc2ec419c5de8053e4060b36a042f52af7291733
# secp521r1 (explicit, hybrid public point)
# Random Sig: 30818702412160693c81c12aed1cd1c9a7c759cb07e3a3ae9b72edc785a5c4a27c537e2620a35f10f2c18b8fe141bf62ee6fa0ae6fec40bfa33b25749532343d25ddb42bc26702420180d08afd5f83eb0a79bdde7d618579ace2fbf2fb4743e136a8fcede54747f89ac6810b459e7f7151deacc7aa09724f3eab0590640093e1fb8e715d4bc300bac76f
# Deterministic Sig: 3081880242010bf39ce26eb25f0f6c286efc3b5c8f40fbfc5241c8215b9127f8849dcac0e93b0c8cf4afa0108d98706ef0c287eb4d66a3b819d882185dfbad279825d95759413b0242010ea9b89a4b3be750374c4c3edde781f3ac1b988195e64e42177055d495ee061b1d1f96232602b00502c88fc2516571799f5570019212eb2e4f848ea8bd1343b1a4
# sect113r1 (explicit, hybrid public point)
# sect113r2 (explicit, hybrid public point)
# sect131r1 (explicit, hybrid public point)
# sect131r2 (explicit, hybrid public point)
# sect163k1 (explicit, hybrid public point)
# sect163r1 (explicit, hybrid public point)
# sect163r2 (explicit, hybrid public point)
# sect193r1 (explicit, hybrid public point)
# sect193r2 (explicit, hybrid public point)
# sect233k1 (explicit, hybrid public point)
# sect233r1 (explicit, hybrid public point)
# sect239k1 (explicit, hybrid public point)
# sect283k1 (explicit, hybrid public point)
# sect283r1 (explicit, hybrid public point)
# sect409k1 (explicit, hybrid public point)
# sect409r1 (explicit, hybrid public point)
# sect571k1 (explicit, hybrid public point)
# sect571r1 (explicit, hybrid public point)
# wap-wsg-idm-ecid-wtls1 (explicit, hybrid public point)
# wap-wsg-idm-ecid-wtls10 (explicit, hybrid public point)
# wap-wsg-idm-ecid-wtls11 (explicit, hybrid public point)
# wap-wsg-idm-ecid-wtls12 (explicit, hybrid public point)
# Random Sig: 303d021d00a9a1a8751195ded5b4e67caebe69637511a048d59751e80c702ec4d9021c2fb954455687a52ae33e75afe27ae556ed7910a6ff65fe74ba53b12b
# Deterministic Sig: 303e021d00c9e5af415426236806d601d1ea9418a5c08021b3f158dc4965484f08021d0082e4b6bdc0aad7cda5a7ede8aa32bcdd8f46e936b83d02945038ee36
# wap-wsg-idm-ecid-wtls3 (explicit, hybrid public point)
# wap-wsg-idm-ecid-wtls4 (explicit, hybrid public point)
# wap-wsg-idm-ecid-wtls5 (explicit, hybrid public point)
# wap-wsg-idm-ecid-wtls6 (explicit, hybrid public point)
# wap-wsg-idm-ecid-wtls7 (explicit, hybrid public point)
# Random Sig: 302d021500de51b007c25dad440f5340384e1c0ed476b9fe2e02143e8bde3d582fb0bdb2d51c30eda4a486d0f2137d
# Deterministic Sig: 302d02147ed8ed62d729f6ce658e4ea5212123aa11cf06cf021500e6631dfecf50775816033394c03daf5cb72f5985
# wap-wsg-idm-ecid-wtls8 (explicit, hybrid public point)
# wap-wsg-idm-ecid-wtls9 (explicit, hybrid public point)
# Random Sig: 302c021433326f56c5765a9f319c9766469891bb548b2fe30214667dc67caad11b38082f235ea9decd9c825879a0
# Deterministic Sig: 302d021415d319277a5edfd9656db76cbb0e315d21d0f77c021500c0fbf5556ffe1d6c5a14a01c9d2ed3f839abe899
# {
#   'c2pnb163v1 (explicit, compressed public point)' => 'Crypt::Perl::X::ECDSA::CharacteristicTwoUnsupported',
#   'c2pnb163v1 (explicit, hybrid public point)' => 'Crypt::Perl::X::ECDSA::CharacteristicTwoUnsupported',
#   'c2pnb163v1 (explicit, uncompressed public point)' => 'Crypt::Perl::X::ECDSA::CharacteristicTwoUnsupported',
#   'c2pnb163v1 (named_curve, compressed public point)' => 'Crypt::Perl::X::ECDSA::NoCurveForOID',
#   'c2pnb163v1 (named_curve, hybrid public point)' => 'Crypt::Perl::X::ECDSA::NoCurveForOID',
#   'c2pnb163v1 (named_curve, uncompressed public point)' => 'Crypt::Perl::X::ECDSA::NoCurveForOID',
#   'c2pnb163v2 (explicit, compressed public point)' => 'Crypt::Perl::X::ECDSA::CharacteristicTwoUnsupported',
#   'c2pnb163v2 (explicit, hybrid public point)' => 'Crypt::Perl::X::ECDSA::CharacteristicTwoUnsupported',
#   'c2pnb163v2 (explicit, uncompressed public point)' => 'Crypt::Perl::X::ECDSA::CharacteristicTwoUnsupported',
#   'c2pnb163v2 (named_curve, compressed public point)' => 'Crypt::Perl::X::ECDSA::NoCurveForOID',
#   'c2pnb163v2 (named_curve, hybrid public point)' => 'Crypt::Perl::X::ECDSA::NoCurveForOID',
#   'c2pnb163v2 (named_curve, uncompressed public point)' => 'Crypt::Perl::X::ECDSA::NoCurveForOID',
#   'c2pnb163v3 (explicit, compressed public point)' => 'Crypt::Perl::X::ECDSA::CharacteristicTwoUnsupported',
#   'c2pnb163v3 (explicit, hybrid public point)' => 'Crypt::Perl::X::ECDSA::CharacteristicTwoUnsupported',
#   'c2pnb163v3 (explicit, uncompressed public point)' => 'Crypt::Perl::X::ECDSA::CharacteristicTwoUnsupported',
#   'c2pnb163v3 (named_curve, compressed public point)' => 'Crypt::Perl::X::ECDSA::NoCurveForOID',
#   'c2pnb163v3 (named_curve, hybrid public point)' => 'Crypt::Perl::X::ECDSA::NoCurveForOID',
#   'c2pnb163v3 (named_curve, uncompressed public point)' => 'Crypt::Perl::X::ECDSA::NoCurveForOID',
#   'c2pnb176v1 (explicit, compressed public point)' => 'Crypt::Perl::X::ECDSA::CharacteristicTwoUnsupported',
#   'c2pnb176v1 (explicit, hybrid public point)' => 'Crypt::Perl::X::ECDSA::CharacteristicTwoUnsupported',
#   'c2pnb176v1 (explicit, uncompressed public point)' => 'Crypt::Perl::X::ECDSA::CharacteristicTwoUnsupported',
#   'c2pnb176v1 (named_curve, compressed public point)' => 'Crypt::Perl::X::ECDSA::NoCurveForOID',
#   'c2pnb176v1 (named_curve, hybrid public point)' => 'Crypt::Perl::X::ECDSA::NoCurveForOID',
#   'c2pnb176v1 (named_curve, uncompressed public point)' => 'Crypt::Perl::X::ECDSA::NoCurveForOID',
#   'c2pnb208w1 (explicit, compressed public point)' => 'Crypt::Perl::X::ECDSA::CharacteristicTwoUnsupported',
#   'c2pnb208w1 (explicit, hybrid public point)' => 'Crypt::Perl::X::ECDSA::CharacteristicTwoUnsupported',
#   'c2pnb208w1 (explicit, uncompressed public point)' => 'Crypt::Perl::X::ECDSA::CharacteristicTwoUnsupported',
#   'c2pnb208w1 (named_curve, compressed public point)' => 'Crypt::Perl::X::ECDSA::NoCurveForOID',
#   'c2pnb208w1 (named_curve, hybrid public point)' => 'Crypt::Perl::X::ECDSA::NoCurveForOID',
#   'c2pnb208w1 (named_curve, uncompressed public point)' => 'Crypt::Perl::X::ECDSA::NoCurveForOID',
#   'c2pnb272w1 (explicit, compressed public point)' => 'Crypt::Perl::X::ECDSA::CharacteristicTwoUnsupported',
#   'c2pnb272w1 (explicit, hybrid public point)' => 'Crypt::Perl::X::ECDSA::CharacteristicTwoUnsupported',
#   'c2pnb272w1 (explicit, uncompressed public point)' => 'Crypt::Perl::X::ECDSA::CharacteristicTwoUnsupported',
#   'c2pnb272w1 (named_curve, compressed public point)' => 'Crypt::Perl::X::ECDSA::NoCurveForOID',
#   'c2pnb272w1 (named_curve, hybrid public point)' => 'Crypt::Perl::X::ECDSA::NoCurveForOID',
#   'c2pnb272w1 (named_curve, uncompressed public point)' => 'Crypt::Perl::X::ECDSA::NoCurveForOID',
#   'c2pnb304w1 (explicit, compressed public point)' => 'Crypt::Perl::X::ECDSA::CharacteristicTwoUnsupported',
#   'c2pnb304w1 (explicit, hybrid public point)' => 'Crypt::Perl::X::ECDSA::CharacteristicTwoUnsupported',
#   'c2pnb304w1 (explicit, uncompressed public point)' => 'Crypt::Perl::X::ECDSA::CharacteristicTwoUnsupported',
#   'c2pnb304w1 (named_curve, compressed public point)' => 'Crypt::Perl::X::ECDSA::NoCurveForOID',
#   'c2pnb304w1 (named_curve, hybrid public point)' => 'Crypt::Perl::X::ECDSA::NoCurveForOID',
#   'c2pnb304w1 (named_curve, uncompressed public point)' => 'Crypt::Perl::X::ECDSA::NoCurveForOID',
#   'c2pnb368w1 (explicit, compressed public point)' => 'Crypt::Perl::X::ECDSA::CharacteristicTwoUnsupported',
#   'c2pnb368w1 (explicit, hybrid public point)' => 'Crypt::Perl::X::ECDSA::CharacteristicTwoUnsupported',
#   'c2pnb368w1 (explicit, uncompressed public point)' => 'Crypt::Perl::X::ECDSA::CharacteristicTwoUnsupported',
#   'c2pnb368w1 (named_curve, compressed public point)' => 'Crypt::Perl::X::ECDSA::NoCurveForOID',
#   'c2pnb368w1 (named_curve, hybrid public point)' => 'Crypt::Perl::X::ECDSA::NoCurveForOID',
#   'c2pnb368w1 (named_curve, uncompressed public point)' => 'Crypt::Perl::X::ECDSA::NoCurveForOID',
#   'c2tnb191v1 (explicit, compressed public point)' => 'Crypt::Perl::X::ECDSA::CharacteristicTwoUnsupported',
#   'c2tnb191v1 (explicit, hybrid public point)' => 'Crypt::Perl::X::ECDSA::CharacteristicTwoUnsupported',
#   'c2tnb191v1 (explicit, uncompressed public point)' => 'Crypt::Perl::X::ECDSA::CharacteristicTwoUnsupported',
#   'c2tnb191v1 (named_curve, compressed public point)' => 'Crypt::Perl::X::ECDSA::NoCurveForOID',
#   'c2tnb191v1 (named_curve, hybrid public point)' => 'Crypt::Perl::X::ECDSA::NoCurveForOID',
#   'c2tnb191v1 (named_curve, uncompressed public point)' => 'Crypt::Perl::X::ECDSA::NoCurveForOID',
#   'c2tnb191v2 (explicit, compressed public point)' => 'Crypt::Perl::X::ECDSA::CharacteristicTwoUnsupported',
#   'c2tnb191v2 (explicit, hybrid public point)' => 'Crypt::Perl::X::ECDSA::CharacteristicTwoUnsupported',
#   'c2tnb191v2 (explicit, uncompressed public point)' => 'Crypt::Perl::X::ECDSA::CharacteristicTwoUnsupported',
#   'c2tnb191v2 (named_curve, compressed public point)' => 'Crypt::Perl::X::ECDSA::NoCurveForOID',
#   'c2tnb191v2 (named_curve, hybrid public point)' => 'Crypt::Perl::X::ECDSA::NoCurveForOID',
#   'c2tnb191v2 (named_curve, uncompressed public point)' => 'Crypt::Perl::X::ECDSA::NoCurveForOID',
#   'c2tnb191v3 (explicit, compressed public point)' => 'Crypt::Perl::X::ECDSA::CharacteristicTwoUnsupported',
#   'c2tnb191v3 (explicit, hybrid public point)' => 'Crypt::Perl::X::ECDSA::CharacteristicTwoUnsupported',
#   'c2tnb191v3 (explicit, uncompressed public point)' => 'Crypt::Perl::X::ECDSA::CharacteristicTwoUnsupported',
#   'c2tnb191v3 (named_curve, compressed public point)' => 'Crypt::Perl::X::ECDSA::NoCurveForOID',
#   'c2tnb191v3 (named_curve, hybrid public point)' => 'Crypt::Perl::X::ECDSA::NoCurveForOID',
#   'c2tnb191v3 (named_curve, uncompressed public point)' => 'Crypt::Perl::X::ECDSA::NoCurveForOID',
#   'c2tnb239v1 (explicit, compressed public point)' => 'Crypt::Perl::X::ECDSA::CharacteristicTwoUnsupported',
#   'c2tnb239v1 (explicit, hybrid public point)' => 'Crypt::Perl::X::ECDSA::CharacteristicTwoUnsupported',
#   'c2tnb239v1 (explicit, uncompressed public point)' => 'Crypt::Perl::X::ECDSA::CharacteristicTwoUnsupported',
#   'c2tnb239v1 (named_curve, compressed public point)' => 'Crypt::Perl::X::ECDSA::NoCurveForOID',
#   'c2tnb239v1 (named_curve, hybrid public point)' => 'Crypt::Perl::X::ECDSA::NoCurveForOID',
#   'c2tnb239v1 (named_curve, uncompressed public point)' => 'Crypt::Perl::X::ECDSA::NoCurveForOID',
#   'c2tnb239v2 (explicit, compressed public point)' => 'Crypt::Perl::X::ECDSA::CharacteristicTwoUnsupported',
#   'c2tnb239v2 (explicit, hybrid public point)' => 'Crypt::Perl::X::ECDSA::CharacteristicTwoUnsupported',
#   'c2tnb239v2 (explicit, uncompressed public point)' => 'Crypt::Perl::X::ECDSA::CharacteristicTwoUnsupported',
#   'c2tnb239v2 (named_curve, compressed public point)' => 'Crypt::Perl::X::ECDSA::NoCurveForOID',
#   'c2tnb239v2 (named_curve, hybrid public point)' => 'Crypt::Perl::X::ECDSA::NoCurveForOID',
#   'c2tnb239v2 (named_curve, uncompressed public point)' => 'Crypt::Perl::X::ECDSA::NoCurveForOID',
#   'c2tnb239v3 (explicit, compressed public point)' => 'Crypt::Perl::X::ECDSA::CharacteristicTwoUnsupported',
#   'c2tnb239v3 (explicit, hybrid public point)' => 'Crypt::Perl::X::ECDSA::CharacteristicTwoUnsupported',
#   'c2tnb239v3 (explicit, uncompressed public point)' => 'Crypt::Perl::X::ECDSA::CharacteristicTwoUnsupported',
#   'c2tnb239v3 (named_curve, compressed public point)' => 'Crypt::Perl::X::ECDSA::NoCurveForOID',
#   'c2tnb239v3 (named_curve, hybrid public point)' => 'Crypt::Perl::X::ECDSA::NoCurveForOID',
#   'c2tnb239v3 (named_curve, uncompressed public point)' => 'Crypt::Perl::X::ECDSA::NoCurveForOID',
#   'c2tnb359v1 (explicit, compressed public point)' => 'Crypt::Perl::X::ECDSA::CharacteristicTwoUnsupported',
#   'c2tnb359v1 (explicit, hybrid public point)' => 'Crypt::Perl::X::ECDSA::CharacteristicTwoUnsupported',
#   'c2tnb359v1 (explicit, uncompressed public point)' => 'Crypt::Perl::X::ECDSA::CharacteristicTwoUnsupported',
#   'c2tnb359v1 (named_curve, compressed public point)' => 'Crypt::Perl::X::ECDSA::NoCurveForOID',
#   'c2tnb359v1 (named_curve, hybrid public point)' => 'Crypt::Perl::X::ECDSA::NoCurveForOID',
#   'c2tnb359v1 (named_curve, uncompressed public point)' => 'Crypt::Perl::X::ECDSA::NoCurveForOID',
#   'c2tnb431r1 (explicit, compressed public point)' => 'Crypt::Perl::X::ECDSA::CharacteristicTwoUnsupported',
#   'c2tnb431r1 (explicit, hybrid public point)' => 'Crypt::Perl::X::ECDSA::CharacteristicTwoUnsupported',
#   'c2tnb431r1 (explicit, uncompressed public point)' => 'Crypt::Perl::X::ECDSA::CharacteristicTwoUnsupported',
#   'c2tnb431r1 (named_curve, compressed public point)' => 'Crypt::Perl::X::ECDSA::NoCurveForOID',
#   'c2tnb431r1 (named_curve, hybrid public point)' => 'Crypt::Perl::X::ECDSA::NoCurveForOID',
#   'c2tnb431r1 (named_curve, uncompressed public point)' => 'Crypt::Perl::X::ECDSA::NoCurveForOID',
#   'secp112r1 (explicit, compressed public point)' => 'Crypt::Perl::X::TooLongToSign',
#   'secp112r1 (explicit, hybrid public point)' => 'Crypt::Perl::X::TooLongToSign',
#   'secp112r1 (explicit, uncompressed public point)' => 'Crypt::Perl::X::TooLongToSign',
#   'secp112r1 (named_curve, compressed public point)' => 'Crypt::Perl::X::TooLongToSign',
#   'secp112r1 (named_curve, hybrid public point)' => 'Crypt::Perl::X::TooLongToSign',
#   'secp112r1 (named_curve, uncompressed public point)' => 'Crypt::Perl::X::TooLongToSign',
#   'secp112r2 (explicit, compressed public point)' => 'Crypt::Perl::X::TooLongToSign',
#   'secp112r2 (explicit, hybrid public point)' => 'Crypt::Perl::X::TooLongToSign',
#   'secp112r2 (explicit, uncompressed public point)' => 'Crypt::Perl::X::TooLongToSign',
#   'secp112r2 (named_curve, compressed public point)' => 'Crypt::Perl::X::TooLongToSign',
#   'secp112r2 (named_curve, hybrid public point)' => 'Crypt::Perl::X::TooLongToSign',
#   'secp112r2 (named_curve, uncompressed public point)' => 'Crypt::Perl::X::TooLongToSign',
#   'secp128r1 (explicit, compressed public point)' => 'Crypt::Perl::X::TooLongToSign',
#   'secp128r1 (explicit, hybrid public point)' => 'Crypt::Perl::X::TooLongToSign',
#   'secp128r1 (explicit, uncompressed public point)' => 'Crypt::Perl::X::TooLongToSign',
#   'secp128r1 (named_curve, compressed public point)' => 'Crypt::Perl::X::TooLongToSign',
#   'secp128r1 (named_curve, hybrid public point)' => 'Crypt::Perl::X::TooLongToSign',
#   'secp128r1 (named_curve, uncompressed public point)' => 'Crypt::Perl::X::TooLongToSign',
#   'secp128r2 (explicit, compressed public point)' => 'Crypt::Perl::X::TooLongToSign',
#   'secp128r2 (explicit, hybrid public point)' => 'Crypt::Perl::X::TooLongToSign',
#   'secp128r2 (explicit, uncompressed public point)' => 'Crypt::Perl::X::TooLongToSign',
#   'secp128r2 (named_curve, compressed public point)' => 'Crypt::Perl::X::TooLongToSign',
#   'secp128r2 (named_curve, hybrid public point)' => 'Crypt::Perl::X::TooLongToSign',
#   'secp128r2 (named_curve, uncompressed public point)' => 'Crypt::Perl::X::TooLongToSign',
#   'sect113r1 (explicit, compressed public point)' => 'Crypt::Perl::X::ECDSA::CharacteristicTwoUnsupported',
#   'sect113r1 (explicit, hybrid public point)' => 'Crypt::Perl::X::ECDSA::CharacteristicTwoUnsupported',
#   'sect113r1 (explicit, uncompressed public point)' => 'Crypt::Perl::X::ECDSA::CharacteristicTwoUnsupported',
#   'sect113r1 (named_curve, compressed public point)' => 'Crypt::Perl::X::ECDSA::NoCurveForOID',
#   'sect113r1 (named_curve, hybrid public point)' => 'Crypt::Perl::X::ECDSA::NoCurveForOID',
#   'sect113r1 (named_curve, uncompressed public point)' => 'Crypt::Perl::X::ECDSA::NoCurveForOID',
#   'sect113r2 (explicit, compressed public point)' => 'Crypt::Perl::X::ECDSA::CharacteristicTwoUnsupported',
#   'sect113r2 (explicit, hybrid public point)' => 'Crypt::Perl::X::ECDSA::CharacteristicTwoUnsupported',
#   'sect113r2 (explicit, uncompressed public point)' => 'Crypt::Perl::X::ECDSA::CharacteristicTwoUnsupported',
#   'sect113r2 (named_curve, compressed public point)' => 'Crypt::Perl::X::ECDSA::NoCurveForOID',
#   'sect113r2 (named_curve, hybrid public point)' => 'Crypt::Perl::X::ECDSA::NoCurveForOID',
#   'sect113r2 (named_curve, uncompressed public point)' => 'Crypt::Perl::X::ECDSA::NoCurveForOID',
#   'sect131r1 (explicit, compressed public point)' => 'Crypt::Perl::X::ECDSA::CharacteristicTwoUnsupported',
#   'sect131r1 (explicit, hybrid public point)' => 'Crypt::Perl::X::ECDSA::CharacteristicTwoUnsupported',
#   'sect131r1 (explicit, uncompressed public point)' => 'Crypt::Perl::X::ECDSA::CharacteristicTwoUnsupported',
#   'sect131r1 (named_curve, compressed public point)' => 'Crypt::Perl::X::ECDSA::NoCurveForOID',
#   'sect131r1 (named_curve, hybrid public point)' => 'Crypt::Perl::X::ECDSA::NoCurveForOID',
#   'sect131r1 (named_curve, uncompressed public point)' => 'Crypt::Perl::X::ECDSA::NoCurveForOID',
#   'sect131r2 (explicit, compressed public point)' => 'Crypt::Perl::X::ECDSA::CharacteristicTwoUnsupported',
#   'sect131r2 (explicit, hybrid public point)' => 'Crypt::Perl::X::ECDSA::CharacteristicTwoUnsupported',
#   'sect131r2 (explicit, uncompressed public point)' => 'Crypt::Perl::X::ECDSA::CharacteristicTwoUnsupported',
#   'sect131r2 (named_curve, compressed public point)' => 'Crypt::Perl::X::ECDSA::NoCurveForOID',
#   'sect131r2 (named_curve, hybrid public point)' => 'Crypt::Perl::X::ECDSA::NoCurveForOID',
#   'sect131r2 (named_curve, uncompressed public point)' => 'Crypt::Perl::X::ECDSA::NoCurveForOID',
#   'sect163k1 (explicit, compressed public point)' => 'Crypt::Perl::X::ECDSA::CharacteristicTwoUnsupported',
#   'sect163k1 (explicit, hybrid public point)' => 'Crypt::Perl::X::ECDSA::CharacteristicTwoUnsupported',
#   'sect163k1 (explicit, uncompressed public point)' => 'Crypt::Perl::X::ECDSA::CharacteristicTwoUnsupported',
#   'sect163k1 (named_curve, compressed public point)' => 'Crypt::Perl::X::ECDSA::NoCurveForOID',
#   'sect163k1 (named_curve, hybrid public point)' => 'Crypt::Perl::X::ECDSA::NoCurveForOID',
#   'sect163k1 (named_curve, uncompressed public point)' => 'Crypt::Perl::X::ECDSA::NoCurveForOID',
#   'sect163r1 (explicit, compressed public point)' => 'Crypt::Perl::X::ECDSA::CharacteristicTwoUnsupported',
#   'sect163r1 (explicit, hybrid public point)' => 'Crypt::Perl::X::ECDSA::CharacteristicTwoUnsupported',
#   'sect163r1 (explicit, uncompressed public point)' => 'Crypt::Perl::X::ECDSA::CharacteristicTwoUnsupported',
#   'sect163r1 (named_curve, compressed public point)' => 'Crypt::Perl::X::ECDSA::NoCurveForOID',
#   'sect163r1 (named_curve, hybrid public point)' => 'Crypt::Perl::X::ECDSA::NoCurveForOID',
#   'sect163r1 (named_curve, uncompressed public point)' => 'Crypt::Perl::X::ECDSA::NoCurveForOID',
#   'sect163r2 (explicit, compressed public point)' => 'Crypt::Perl::X::ECDSA::CharacteristicTwoUnsupported',
#   'sect163r2 (explicit, hybrid public point)' => 'Crypt::Perl::X::ECDSA::CharacteristicTwoUnsupported',
#   'sect163r2 (explicit, uncompressed public point)' => 'Crypt::Perl::X::ECDSA::CharacteristicTwoUnsupported',
#   'sect163r2 (named_curve, compressed public point)' => 'Crypt::Perl::X::ECDSA::NoCurveForOID',
#   'sect163r2 (named_curve, hybrid public point)' => 'Crypt::Perl::X::ECDSA::NoCurveForOID',
#   'sect163r2 (named_curve, uncompressed public point)' => 'Crypt::Perl::X::ECDSA::NoCurveForOID',
#   'sect193r1 (explicit, compressed public point)' => 'Crypt::Perl::X::ECDSA::CharacteristicTwoUnsupported',
#   'sect193r1 (explicit, hybrid public point)' => 'Crypt::Perl::X::ECDSA::CharacteristicTwoUnsupported',
#   'sect193r1 (explicit, uncompressed public point)' => 'Crypt::Perl::X::ECDSA::CharacteristicTwoUnsupported',
#   'sect193r1 (named_curve, compressed public point)' => 'Crypt::Perl::X::ECDSA::NoCurveForOID',
#   'sect193r1 (named_curve, hybrid public point)' => 'Crypt::Perl::X::ECDSA::NoCurveForOID',
#   'sect193r1 (named_curve, uncompressed public point)' => 'Crypt::Perl::X::ECDSA::NoCurveForOID',
#   'sect193r2 (explicit, compressed public point)' => 'Crypt::Perl::X::ECDSA::CharacteristicTwoUnsupported',
#   'sect193r2 (explicit, hybrid public point)' => 'Crypt::Perl::X::ECDSA::CharacteristicTwoUnsupported',
#   'sect193r2 (explicit, uncompressed public point)' => 'Crypt::Perl::X::ECDSA::CharacteristicTwoUnsupported',
#   'sect193r2 (named_curve, compressed public point)' => 'Crypt::Perl::X::ECDSA::NoCurveForOID',
#   'sect193r2 (named_curve, hybrid public point)' => 'Crypt::Perl::X::ECDSA::NoCurveForOID',
#   'sect193r2 (named_curve, uncompressed public point)' => 'Crypt::Perl::X::ECDSA::NoCurveForOID',
#   'sect233k1 (explicit, compressed public point)' => 'Crypt::Perl::X::ECDSA::CharacteristicTwoUnsupported',
#   'sect233k1 (explicit, hybrid public point)' => 'Crypt::Perl::X::ECDSA::CharacteristicTwoUnsupported',
#   'sect233k1 (explicit, uncompressed public point)' => 'Crypt::Perl::X::ECDSA::CharacteristicTwoUnsupported',
#   'sect233k1 (named_curve, compressed public point)' => 'Crypt::Perl::X::ECDSA::NoCurveForOID',
#   'sect233k1 (named_curve, hybrid public point)' => 'Crypt::Perl::X::ECDSA::NoCurveForOID',
#   'sect233k1 (named_curve, uncompressed public point)' => 'Crypt::Perl::X::ECDSA::NoCurveForOID',
#   'sect233r1 (explicit, compressed public point)' => 'Crypt::Perl::X::ECDSA::CharacteristicTwoUnsupported',
#   'sect233r1 (explicit, hybrid public point)' => 'Crypt::Perl::X::ECDSA::CharacteristicTwoUnsupported',
#   'sect233r1 (explicit, uncompressed public point)' => 'Crypt::Perl::X::ECDSA::CharacteristicTwoUnsupported',
#   'sect233r1 (named_curve, compressed public point)' => 'Crypt::Perl::X::ECDSA::NoCurveForOID',
#   'sect233r1 (named_curve, hybrid public point)' => 'Crypt::Perl::X::ECDSA::NoCurveForOID',
#   'sect233r1 (named_curve, uncompressed public point)' => 'Crypt::Perl::X::ECDSA::NoCurveForOID',
#   'sect239k1 (explicit, compressed public point)' => 'Crypt::Perl::X::ECDSA::CharacteristicTwoUnsupported',
#   'sect239k1 (explicit, hybrid public point)' => 'Crypt::Perl::X::ECDSA::CharacteristicTwoUnsupported',
#   'sect239k1 (explicit, uncompressed public point)' => 'Crypt::Perl::X::ECDSA::CharacteristicTwoUnsupported',
#   'sect239k1 (named_curve, compressed public point)' => 'Crypt::Perl::X::ECDSA::NoCurveForOID',
#   'sect239k1 (named_curve, hybrid public point)' => 'Crypt::Perl::X::ECDSA::NoCurveForOID',
#   'sect239k1 (named_curve, uncompressed public point)' => 'Crypt::Perl::X::ECDSA::NoCurveForOID',
#   'sect283k1 (explicit, compressed public point)' => 'Crypt::Perl::X::ECDSA::CharacteristicTwoUnsupported',
#   'sect283k1 (explicit, hybrid public point)' => 'Crypt::Perl::X::ECDSA::CharacteristicTwoUnsupported',
#   'sect283k1 (explicit, uncompressed public point)' => 'Crypt::Perl::X::ECDSA::CharacteristicTwoUnsupported',
#   'sect283k1 (named_curve, compressed public point)' => 'Crypt::Perl::X::ECDSA::NoCurveForOID',
#   'sect283k1 (named_curve, hybrid public point)' => 'Crypt::Perl::X::ECDSA::NoCurveForOID',
#   'sect283k1 (named_curve, uncompressed public point)' => 'Crypt::Perl::X::ECDSA::NoCurveForOID',
#   'sect283r1 (explicit, compressed public point)' => 'Crypt::Perl::X::ECDSA::CharacteristicTwoUnsupported',
#   'sect283r1 (explicit, hybrid public point)' => 'Crypt::Perl::X::ECDSA::CharacteristicTwoUnsupported',
#   'sect283r1 (explicit, uncompressed public point)' => 'Crypt::Perl::X::ECDSA::CharacteristicTwoUnsupported',
#   'sect283r1 (named_curve, compressed public point)' => 'Crypt::Perl::X::ECDSA::NoCurveForOID',
#   'sect283r1 (named_curve, hybrid public point)' => 'Crypt::Perl::X::ECDSA::NoCurveForOID',
#   'sect283r1 (named_curve, uncompressed public point)' => 'Crypt::Perl::X::ECDSA::NoCurveForOID',
#   'sect409k1 (explicit, compressed public point)' => 'Crypt::Perl::X::ECDSA::CharacteristicTwoUnsupported',
#   'sect409k1 (explicit, hybrid public point)' => 'Crypt::Perl::X::ECDSA::CharacteristicTwoUnsupported',
#   'sect409k1 (explicit, uncompressed public point)' => 'Crypt::Perl::X::ECDSA::CharacteristicTwoUnsupported',
#   'sect409k1 (named_curve, compressed public point)' => 'Crypt::Perl::X::ECDSA::NoCurveForOID',
#   'sect409k1 (named_curve, hybrid public point)' => 'Crypt::Perl::X::ECDSA::NoCurveForOID',
#   'sect409k1 (named_curve, uncompressed public point)' => 'Crypt::Perl::X::ECDSA::NoCurveForOID',
#   'sect409r1 (explicit, compressed public point)' => 'Crypt::Perl::X::ECDSA::CharacteristicTwoUnsupported',
#   'sect409r1 (explicit, hybrid public point)' => 'Crypt::Perl::X::ECDSA::CharacteristicTwoUnsupported',
#   'sect409r1 (explicit, uncompressed public point)' => 'Crypt::Perl::X::ECDSA::CharacteristicTwoUnsupported',
#   'sect409r1 (named_curve, compressed public point)' => 'Crypt::Perl::X::ECDSA::NoCurveForOID',
#   'sect409r1 (named_curve, hybrid public point)' => 'Crypt::Perl::X::ECDSA::NoCurveForOID',
#   'sect409r1 (named_curve, uncompressed public point)' => 'Crypt::Perl::X::ECDSA::NoCurveForOID',
#   'sect571k1 (explicit, compressed public point)' => 'Crypt::Perl::X::ECDSA::CharacteristicTwoUnsupported',
#   'sect571k1 (explicit, hybrid public point)' => 'Crypt::Perl::X::ECDSA::CharacteristicTwoUnsupported',
#   'sect571k1 (explicit, uncompressed public point)' => 'Crypt::Perl::X::ECDSA::CharacteristicTwoUnsupported',
#   'sect571k1 (named_curve, compressed public point)' => 'Crypt::Perl::X::ECDSA::NoCurveForOID',
#   'sect571k1 (named_curve, hybrid public point)' => 'Crypt::Perl::X::ECDSA::NoCurveForOID',
#   'sect571k1 (named_curve, uncompressed public point)' => 'Crypt::Perl::X::ECDSA::NoCurveForOID',
#   'sect571r1 (explicit, compressed public point)' => 'Crypt::Perl::X::ECDSA::CharacteristicTwoUnsupported',
#   'sect571r1 (explicit, hybrid public point)' => 'Crypt::Perl::X::ECDSA::CharacteristicTwoUnsupported',
#   'sect571r1 (explicit, uncompressed public point)' => 'Crypt::Perl::X::ECDSA::CharacteristicTwoUnsupported',
#   'sect571r1 (named_curve, compressed public point)' => 'Crypt::Perl::X::ECDSA::NoCurveForOID',
#   'sect571r1 (named_curve, hybrid public point)' => 'Crypt::Perl::X::ECDSA::NoCurveForOID',
#   'sect571r1 (named_curve, uncompressed public point)' => 'Crypt::Perl::X::ECDSA::NoCurveForOID',
#   'wap-wsg-idm-ecid-wtls1 (explicit, compressed public point)' => 'Crypt::Perl::X::ECDSA::CharacteristicTwoUnsupported',
#   'wap-wsg-idm-ecid-wtls1 (explicit, hybrid public point)' => 'Crypt::Perl::X::ECDSA::CharacteristicTwoUnsupported',
#   'wap-wsg-idm-ecid-wtls1 (explicit, uncompressed public point)' => 'Crypt::Perl::X::ECDSA::CharacteristicTwoUnsupported',
#   'wap-wsg-idm-ecid-wtls1 (named_curve, compressed public point)' => 'Crypt::Perl::X::ECDSA::NoCurveForOID',
#   'wap-wsg-idm-ecid-wtls1 (named_curve, hybrid public point)' => 'Crypt::Perl::X::ECDSA::NoCurveForOID',
#   'wap-wsg-idm-ecid-wtls1 (named_curve, uncompressed public point)' => 'Crypt::Perl::X::ECDSA::NoCurveForOID',
#   'wap-wsg-idm-ecid-wtls10 (explicit, compressed public point)' => 'Crypt::Perl::X::ECDSA::CharacteristicTwoUnsupported',
#   'wap-wsg-idm-ecid-wtls10 (explicit, hybrid public point)' => 'Crypt::Perl::X::ECDSA::CharacteristicTwoUnsupported',
#   'wap-wsg-idm-ecid-wtls10 (explicit, uncompressed public point)' => 'Crypt::Perl::X::ECDSA::CharacteristicTwoUnsupported',
#   'wap-wsg-idm-ecid-wtls10 (named_curve, compressed public point)' => 'Crypt::Perl::X::ECDSA::NoCurveForOID',
#   'wap-wsg-idm-ecid-wtls10 (named_curve, hybrid public point)' => 'Crypt::Perl::X::ECDSA::NoCurveForOID',
#   'wap-wsg-idm-ecid-wtls10 (named_curve, uncompressed public point)' => 'Crypt::Perl::X::ECDSA::NoCurveForOID',
#   'wap-wsg-idm-ecid-wtls11 (explicit, compressed public point)' => 'Crypt::Perl::X::ECDSA::CharacteristicTwoUnsupported',
#   'wap-wsg-idm-ecid-wtls11 (explicit, hybrid public point)' => 'Crypt::Perl::X::ECDSA::CharacteristicTwoUnsupported',
#   'wap-wsg-idm-ecid-wtls11 (explicit, uncompressed public point)' => 'Crypt::Perl::X::ECDSA::CharacteristicTwoUnsupported',
#   'wap-wsg-idm-ecid-wtls11 (named_curve, compressed public point)' => 'Crypt::Perl::X::ECDSA::NoCurveForOID',
#   'wap-wsg-idm-ecid-wtls11 (named_curve, hybrid public point)' => 'Crypt::Perl::X::ECDSA::NoCurveForOID',
#   'wap-wsg-idm-ecid-wtls11 (named_curve, uncompressed public point)' => 'Crypt::Perl::X::ECDSA::NoCurveForOID',
#   'wap-wsg-idm-ecid-wtls3 (explicit, compressed public point)' => 'Crypt::Perl::X::ECDSA::CharacteristicTwoUnsupported',
#   'wap-wsg-idm-ecid-wtls3 (explicit, hybrid public point)' => 'Crypt::Perl::X::ECDSA::CharacteristicTwoUnsupported',
#   'wap-wsg-idm-ecid-wtls3 (explicit, uncompressed public point)' => 'Crypt::Perl::X::ECDSA::CharacteristicTwoUnsupported',
#   'wap-wsg-idm-ecid-wtls3 (named_curve, compressed public point)' => 'Crypt::Perl::X::ECDSA::NoCurveForOID',
#   'wap-wsg-idm-ecid-wtls3 (named_curve, hybrid public point)' => 'Crypt::Perl::X::ECDSA::NoCurveForOID',
#   'wap-wsg-idm-ecid-wtls3 (named_curve, uncompressed public point)' => 'Crypt::Perl::X::ECDSA::NoCurveForOID',
#   'wap-wsg-idm-ecid-wtls4 (explicit, compressed public point)' => 'Crypt::Perl::X::ECDSA::CharacteristicTwoUnsupported',
#   'wap-wsg-idm-ecid-wtls4 (explicit, hybrid public point)' => 'Crypt::Perl::X::ECDSA::CharacteristicTwoUnsupported',
#   'wap-wsg-idm-ecid-wtls4 (explicit, uncompressed public point)' => 'Crypt::Perl::X::ECDSA::CharacteristicTwoUnsupported',
#   'wap-wsg-idm-ecid-wtls4 (named_curve, compressed public point)' => 'Crypt::Perl::X::ECDSA::NoCurveForOID',
#   'wap-wsg-idm-ecid-wtls4 (named_curve, hybrid public point)' => 'Crypt::Perl::X::ECDSA::NoCurveForOID',
#   'wap-wsg-idm-ecid-wtls4 (named_curve, uncompressed public point)' => 'Crypt::Perl::X::ECDSA::NoCurveForOID',
#   'wap-wsg-idm-ecid-wtls5 (explicit, compressed public point)' => 'Crypt::Perl::X::ECDSA::CharacteristicTwoUnsupported',
#   'wap-wsg-idm-ecid-wtls5 (explicit, hybrid public point)' => 'Crypt::Perl::X::ECDSA::CharacteristicTwoUnsupported',
#   'wap-wsg-idm-ecid-wtls5 (explicit, uncompressed public point)' => 'Crypt::Perl::X::ECDSA::CharacteristicTwoUnsupported',
#   'wap-wsg-idm-ecid-wtls5 (named_curve, compressed public point)' => 'Crypt::Perl::X::ECDSA::NoCurveForOID',
#   'wap-wsg-idm-ecid-wtls5 (named_curve, hybrid public point)' => 'Crypt::Perl::X::ECDSA::NoCurveForOID',
#   'wap-wsg-idm-ecid-wtls5 (named_curve, uncompressed public point)' => 'Crypt::Perl::X::ECDSA::NoCurveForOID',
#   'wap-wsg-idm-ecid-wtls6 (explicit, compressed public point)' => 'Crypt::Perl::X::TooLongToSign',
#   'wap-wsg-idm-ecid-wtls6 (explicit, hybrid public point)' => 'Crypt::Perl::X::TooLongToSign',
#   'wap-wsg-idm-ecid-wtls6 (explicit, uncompressed public point)' => 'Crypt::Perl::X::TooLongToSign',
#   'wap-wsg-idm-ecid-wtls6 (named_curve, compressed public point)' => 'Crypt::Perl::X::TooLongToSign',
#   'wap-wsg-idm-ecid-wtls6 (named_curve, hybrid public point)' => 'Crypt::Perl::X::TooLongToSign',
#   'wap-wsg-idm-ecid-wtls6 (named_curve, uncompressed public point)' => 'Crypt::Perl::X::TooLongToSign',
#   'wap-wsg-idm-ecid-wtls8 (explicit, compressed public point)' => 'Crypt::Perl::X::TooLongToSign',
#   'wap-wsg-idm-ecid-wtls8 (explicit, hybrid public point)' => 'Crypt::Perl::X::TooLongToSign',
#   'wap-wsg-idm-ecid-wtls8 (explicit, uncompressed public point)' => 'Crypt::Perl::X::TooLongToSign',
#   'wap-wsg-idm-ecid-wtls8 (named_curve, compressed public point)' => 'Crypt::Perl::X::TooLongToSign',
#   'wap-wsg-idm-ecid-wtls8 (named_curve, hybrid public point)' => 'Crypt::Perl::X::TooLongToSign',
#   'wap-wsg-idm-ecid-wtls8 (named_curve, uncompressed public point)' => 'Crypt::Perl::X::TooLongToSign'
# }
t/Crypt-Perl-ECDSA-PrivateKey.t ................... ok
# Looking for OpenSSL binary …
# Found OpenSSL: /usr/bin/openssl
# LibreSSL 3.9.0
# compiler: information not available
# Math::BigInt 2.003002 (backend: Math::BigInt::LTM 0.080)
read EC key
writing EC key
t/Crypt-Perl-ECDSA-PublicKey.t .................... ok
t/Crypt-Perl-Ed25519-Math.t ....................... ok
t/Crypt-Perl-Ed25519-Parse.t ...................... ok
t/Crypt-Perl-Ed25519-PrivateKey.t ................. ok
# Math::BigInt 2.003002 (backend: Math::BigInt::LTM 0.080)
t/Crypt-Perl-Math.t ............................... ok
# Math::BigInt 2.003002 (backend: Math::BigInt::LTM 0.080)
t/Crypt-Perl-PK.t ................................. ok
# Math::BigInt 2.003002 (backend: Math::BigInt::LTM 0.080)
t/Crypt-Perl-PKCS10-Attribute-extensionRequest.t .. ok
# Looking for OpenSSL binary …
# Found OpenSSL: /usr/bin/openssl
# LibreSSL 3.9.0
# compiler: information not available
# Checking /usr/bin/openssl for ed25519 support …
Algorithm ed25519" not found
usage: genpkey [-algorithm alg] [cipher] [-genparam] [-out file]
    [-outform der | pem] [-paramfile file] [-pass arg]
    [-pkeyopt opt:value] [-text]

 -algorithm name    Public key algorithm to use (must precede -pkeyopt)
 -genparam          Generate a set of parameters instead of a private key
 -out file          Output file to write to (default stdout)
 -outform format    Output format (DER or PEM)
 -paramfile file    File to load public key algorithm parameters from
                    (must precede -pkeyopt)
 -pass arg          Output file password source
 -pkeyopt opt:value Set public key algorithm option to the given value
 -text              Print the private/public key in human readable form
# /usr/bin/openssl does not support ed25519.
# Math::BigInt 2.003002 (backend: Math::BigInt::LTM 0.080)
Generating RSA private key, 1024 bit long modulus
............................................
...
e is 65537 (0x010001)
Generating RSA private key, 2048 bit long modulus
.......................
......................................................................
e is 65537 (0x010001)
read EC key
writing EC key
read EC key
writing EC key
read EC key
writing EC key
read EC key
writing EC key
read EC key
writing EC key
read EC key
writing EC key
read EC key
writing EC key
t/Crypt-Perl-PKCS10.t ............................. ok
# Looking for OpenSSL binary …
# Found OpenSSL: /usr/bin/openssl
# LibreSSL 3.9.0
# compiler: information not available
# Math::BigInt 2.003002 (backend: Math::BigInt::LTM 0.080)
# Your Crypt::Perl::BigInt backend is “Math::BigInt::LTM”.
# Key generation 1 (exponent=65537) …
writing RSA key
# Key generation 2 (exponent=3) …
writing RSA key
# Key generation 3 (exponent=3) …
writing RSA key
# Key generation 4 (exponent=65537) …
writing RSA key
# Key generation 5 (exponent=65537) …
writing RSA key
# Key generation 6 (exponent=65537) …
writing RSA key
# Key generation 7 (exponent=3) …
writing RSA key
# Key generation 8 (exponent=65537) …
writing RSA key
# Key generation 9 (exponent=65537) …
writing RSA key
# Key generation 10 (exponent=3) …
writing RSA key
# Key generation 11 (exponent=65537) …
writing RSA key
# Key generation 12 (exponent=65537) …
writing RSA key
# Key generation 13 (exponent=65537) …
writing RSA key
# Key generation 14 (exponent=65537) …
writing RSA key
# Key generation 15 (exponent=65537) …
writing RSA key
# Key generation 16 (exponent=65537) …
writing RSA key
# Key generation 17 (exponent=3) …
writing RSA key
# Key generation 18 (exponent=65537) …
writing RSA key
# Key generation 19 (exponent=3) …
writing RSA key
# Key generation 20 (exponent=65537) …
writing RSA key
# Key generation 21 (exponent=3) …
writing RSA key
# Key generation 22 (exponent=3) …
writing RSA key
# Key generation 23 (exponent=3) …
writing RSA key
# Key generation 24 (exponent=65537) …
writing RSA key
# Key generation 25 (exponent=65537) …
writing RSA key
# Key generation 26 (exponent=65537) …
writing RSA key
# Key generation 27 (exponent=65537) …
writing RSA key
# Key generation 28 (exponent=3) …
writing RSA key
# Key generation 29 (exponent=65537) …
writing RSA key
# Key generation 30 (exponent=3) …
writing RSA key
# Key generation 31 (exponent=3) …
writing RSA key
# Key generation 32 (exponent=3) …
writing RSA key
# Key generation 33 (exponent=3) …
writing RSA key
# Key generation 34 (exponent=65537) …
writing RSA key
# Key generation 35 (exponent=65537) …
writing RSA key
# Key generation 36 (exponent=65537) …
writing RSA key
# Key generation 37 (exponent=3) …
writing RSA key
# Key generation 38 (exponent=3) …
writing RSA key
# Key generation 39 (exponent=65537) …
writing RSA key
# Key generation 40 (exponent=65537) …
writing RSA key
# Key generation 41 (exponent=65537) …
writing RSA key
# Key generation 42 (exponent=3) …
writing RSA key
# Key generation 43 (exponent=3) …
writing RSA key
# Key generation 44 (exponent=65537) …
writing RSA key
# Key generation 45 (exponent=65537) …
writing RSA key
# Key generation 46 (exponent=65537) …
writing RSA key
# Key generation 47 (exponent=3) …
writing RSA key
# Key generation 48 (exponent=65537) …
writing RSA key
# Key generation 49 (exponent=3) …
writing RSA key
# Key generation 50 (exponent=65537) …
writing RSA key
t/Crypt-Perl-RSA-Generate.t ....................... ok
# Math::BigInt 2.003002 (backend: Math::BigInt::LTM 0.080)
t/Crypt-Perl-RSA-Parse.t .......................... ok
t/Crypt-Perl-RSA-PKCS1_v1_5.t ..................... ok
# Math::BigInt 2.003002 (backend: Math::BigInt::LTM 0.080)
t/Crypt-Perl-RSA-PrivateKey.t ..................... ok
# Math::BigInt 2.003002 (backend: Math::BigInt::LTM 0.080)
t/Crypt-Perl-RSA-PublicKey.t ...................... ok
# Math::BigInt 2.003002 (backend: Math::BigInt::LTM 0.080)
t/Crypt-Perl-X509-Extension-subjectAltName.t ...... ok
t/Crypt-Perl-X509-SCT.t ........................... ok
# Looking for OpenSSL binary …
# Found OpenSSL: /usr/bin/openssl
# LibreSSL 3.9.0
# compiler: information not available
# Checking /usr/bin/openssl for ed25519 support …
Algorithm ed25519" not found
usage: genpkey [-algorithm alg] [cipher] [-genparam] [-out file]
    [-outform der | pem] [-paramfile file] [-pass arg]
    [-pkeyopt opt:value] [-text]

 -algorithm name    Public key algorithm to use (must precede -pkeyopt)
 -genparam          Generate a set of parameters instead of a private key
 -out file          Output file to write to (default stdout)
 -outform format    Output format (DER or PEM)
 -paramfile file    File to load public key algorithm parameters from
                    (must precede -pkeyopt)
 -pass arg          Output file password source
 -pkeyopt opt:value Set public key algorithm option to the given value
 -text              Print the private/public key in human readable form
# /usr/bin/openssl does not support ed25519.
# Math::BigInt 2.003002 (backend: Math::BigInt::LTM 0.080)
# self-sign - RSA
# two RSAs
# self-sign - ECC
# two ECCs
# subject RSA, signer ECC
# subject ECC, signer RSA
t/Crypt-Perl-X509v3.t ............................. ok
# Looking for OpenSSL binary …
# Found OpenSSL: /usr/bin/openssl
# LibreSSL 3.9.0
# compiler: information not available
# Checking /usr/bin/openssl for ed25519 support …
Algorithm ed25519" not found
usage: genpkey [-algorithm alg] [cipher] [-genparam] [-out file]
    [-outform der | pem] [-paramfile file] [-pass arg]
    [-pkeyopt opt:value] [-text]

 -algorithm name    Public key algorithm to use (must precede -pkeyopt)
 -genparam          Generate a set of parameters instead of a private key
 -out file          Output file to write to (default stdout)
 -outform format    Output format (DER or PEM)
 -paramfile file    File to load public key algorithm parameters from
                    (must precede -pkeyopt)
 -pass arg          Output file password source
 -pkeyopt opt:value Set public key algorithm option to the given value
 -text              Print the private/public key in human readable form
# /usr/bin/openssl does not support ed25519.
t/Crypt-Perl-X509v3_ed25519.t ..................... ok
# Parsing...
t/ecdsa_verify_small_r_and_s.t .................... ok
All tests successful.
Files=26, Tests=3921, 493 wallclock secs ( 0.66 usr  0.15 sys + 480.57 cusr  9.82 csys = 491.20 CPU)
Result: PASS

------------------------------
PREREQUISITES
------------------------------

Prerequisite modules loaded:

requires:

    Module                        Need     Have    
    ----------------------------- -------- --------
    autodie                       0        2.37    
    Bytes::Random::Secure::Tiny   1.008    1.011   
    Class::Accessor::Fast         0.34     0.51    
    Convert::ASN1                 0.27     0.34    
    Crypt::Format                 0.12     0.12    
    Digest::SHA                   0        6.04    
    Math::BigInt                  1.999818 2.003002
    Math::ProvablePrime           0.51     0.51    
    MIME::Base64                  3.11     3.16_01 
    parent                        0.225    0.241   
    perl                          5.008000 5.039011
    Symbol::Get                   0.02     0.12    
    Try::Tiny                     0        0.31    

build_requires:

    Module                        Need     Have    
    ----------------------------- -------- --------
    Call::Context                 0        0.05    
    ExtUtils::MakeMaker           0        7.70    
    File::Slurp                   0        9999.32 
    File::Which                   0        1.27    
    Test::Class                   0.4      0.52    
    Test::Deep                    0        1.204   
    Test::Exception               0.40     0.43    
    Test::FailWarnings            0        0.008   
    Test::More                    0        1.302199

configure_requires:

    Module                        Need     Have    
    ----------------------------- -------- --------
    ExtUtils::MakeMaker::CPANfile 0.09     0.09    


------------------------------
ENVIRONMENT AND OTHER CONTEXT
------------------------------

Environment variables:

    AUTOMATED_TESTING = 1
    DATE_MANIP_TEST_DM5 = 1
    LC_ALL = C
    NONINTERACTIVE_TESTING = 1
    NO_NETWORK_TESTING = 1
    PATH = /home/cpan/bin/perl/bin:/home/cpan/bin:/home/cpan/bin:/bin:/sbin:/usr/bin:/usr/sbin:/usr/X11R6/bin:/usr/local/bin:/usr/local/sbin
    PERL5LIB = 
    PERL5OPT = 
    PERL5_CPANPLUS_IS_RUNNING = 63982
    PERL5_CPAN_IS_RUNNING = 63982
    PERL_MM_USE_DEFAULT = 1
    PERL_USE_UNSAFE_INC = 1
    SHELL = /usr/local/bin/bash
    TERM = screen
    TMPDIR = /home/cpan/tmp

Perl special variables (and OS-specific diagnostics, for MSWin32):

    $^X = /home/cpan/bin/perl/bin/perl5.39.11
    $UID/$EUID = 1001 / 1001
    $GID = 1001 1001
    $EGID = 1001 1001

Perl module toolchain versions installed:

    Module              Have    
    ------------------- --------
    CPAN                2.36    
    CPAN::Meta          2.150010
    Cwd                 3.90    
    ExtUtils::CBuilder  0.280240
    ExtUtils::Command   7.70    
    ExtUtils::Install   2.22    
    ExtUtils::MakeMaker 7.70    
    ExtUtils::Manifest  1.75    
    ExtUtils::ParseXS   3.51    
    File::Spec          3.90    
    JSON                4.10    
    JSON::PP            4.16    
    Module::Build       0.4234  
    Module::Signature   n/a     
    Parse::CPAN::Meta   2.150010
    Test2               1.302199
    Test::Harness       3.48    
    Test::More          1.302199
    YAML                1.31    
    YAML::Syck          1.34    
    version             0.9932  


--

Summary of my perl5 (revision 5 version 39 subversion 11) configuration:
  Commit id: 643108fc9c03734b07078581bf534a62c1d2e597
  Platform:
    osname=openbsd
    osvers=7.5
    archname=OpenBSD.amd64-openbsd-thread-multi
    uname='openbsd cjg-openbsd7 7.5 generic#79 amd64 '
    config_args='-des -Dprefix=/home/cpan/bin/perl -Dscriptdir=/home/cpan/bin/perl/bin -Dusedevel -Duse64bitall -Duseithreads'
    hint=recommended
    useposix=true
    d_sigaction=define
    useithreads=define
    usemultiplicity=define
    use64bitint=define
    use64bitall=define
    uselongdouble=undef
    usemymalloc=n
    default_inc_excludes_dot=define
  Compiler:
    cc='cc'
    ccflags ='-pthread -DNO_LOCALE_NUMERIC -DNO_LOCALE_COLLATE -DNO_LOCALE_MONETARY -DNO_LOCALE_TIME -DNO_LOCALE_MESSAGES -DLIBC_HANDLES_MISMATCHED_CTYPE -fno-strict-aliasing -pipe -fstack-protector-strong -I/usr/local/include'
    optimize='-O2'
    cppflags='-pthread -DNO_LOCALE_NUMERIC -DNO_LOCALE_COLLATE -DNO_LOCALE_MONETARY -DNO_LOCALE_TIME -DNO_LOCALE_MESSAGES -DLIBC_HANDLES_MISMATCHED_CTYPE -fno-strict-aliasing -pipe -fstack-protector-strong -I/usr/local/include'
    ccversion=''
    gccversion='OpenBSD Clang 16.0.6'
    gccosandvers=''
    intsize=4
    longsize=8
    ptrsize=8
    doublesize=8
    byteorder=12345678
    doublekind=3
    d_longlong=define
    longlongsize=8
    d_longdbl=define
    longdblsize=16
    longdblkind=3
    ivtype='long'
    ivsize=8
    nvtype='double'
    nvsize=8
    Off_t='off_t'
    lseeksize=8
    alignbytes=8
    prototype=define
  Linker and Libraries:
    ld='cc'
    ldflags ='-pthread -Wl,-E  -fstack-protector-strong -L/usr/local/lib'
    libpth=/usr/lib/clang/16/lib /usr/lib /usr/local/lib
    libs=-lpthread -lm -lutil -lc
    perllibs=-lpthread -lm -lutil -lc
    libc=/usr/lib/libc.so.99.0
    so=so
    useshrplib=false
    libperl=libperl.a
    gnulibc_version=''
  Dynamic Linking:
    dlsrc=dl_dlopen.xs
    dlext=so
    d_dlsymun=undef
    ccdlflags=' '
    cccdlflags='-DPIC -fPIC '
    lddlflags='-shared -fPIC  -L/usr/local/lib -fstack-protector-strong'


Characteristics of this binary (from libperl): 
  Compile-time options:
    HAS_LONG_DOUBLE
    HAS_STRTOLD
    HAS_TIMES
    MULTIPLICITY
    PERLIO_LAYERS
    PERL_COPY_ON_WRITE
    PERL_DONT_CREATE_GVSV
    PERL_HASH_FUNC_SIPHASH13
    PERL_HASH_USE_SBOX32
    PERL_MALLOC_WRAP
    PERL_OP_PARENT
    PERL_PRESERVE_IVUV
    PERL_USE_DEVEL
    PERL_USE_SAFE_PUTENV
    USE_64_BIT_ALL
    USE_64_BIT_INT
    USE_ITHREADS
    USE_LARGE_FILES
    USE_LOCALE
    USE_LOCALE_CTYPE
    USE_PERLIO
    USE_PERL_ATOF
    USE_REENTRANT_API
    USE_THREAD_SAFE_LOCALE
  Built under openbsd
  Compiled at May 17 2024 21:13:04
  %ENV:
    PERL5LIB=""
    PERL5OPT=""
    PERL5_CPANPLUS_IS_RUNNING="63982"
    PERL5_CPAN_IS_RUNNING="63982"
    PERL_MM_USE_DEFAULT="1"
    PERL_USE_UNSAFE_INC="1"
  @INC:
    /home/cpan/bin/perl/lib/site_perl/5.39.11/OpenBSD.amd64-openbsd-thread-multi
    /home/cpan/bin/perl/lib/site_perl/5.39.11
    /home/cpan/bin/perl/lib/5.39.11/OpenBSD.amd64-openbsd-thread-multi
    /home/cpan/bin/perl/lib/5.39.11
    .