Search-Elasticsearch-Async v8.12 Perl 5 v5.24.2 amd64-freebsd

Status
Pass
From
Slaven Rezić
Dist
Search-Elasticsearch-Async v8.12
Platform
Perl 5 v5.24.2 amd64-freebsd
Date
2024-01-25 11:35:01
ID
c6fa5eaa-bb75-11ee-b0c8-7e4b6e8775ea
This distribution has been tested as part of the CPAN Testers
project, supporting the Perl programming language.  See
http://wiki.cpantesters.org/ for more information or email
questions to cpan-testers-discuss@perl.org


--
Dear Enrico Zimuel,

This is a computer-generated report for Search-Elasticsearch-Async-8.12
on perl 5.24.2, created by CPAN-Reporter-1.2018.

Thank you for uploading your work to CPAN.  Congratulations!
All tests were successful.

Sections of this report:

    * Tester comments
    * Program output
    * Prerequisites
    * Environment and other context

------------------------------
TESTER COMMENTS
------------------------------

Additional comments from tester:

none provided

------------------------------
PROGRAM OUTPUT
------------------------------

Output from '/usr/bin/make test':

PERL_DL_NONLAZY=1 "/usr/perl5.24.2p/bin/perl" "-MExtUtils::Command::MM" "-MTest::Harness" "-e" "undef *Test::Harness::Switches; test_harness(0, 'blib/lib', 'blib/arch')" t/*.t t/10_Basic_Async/*.t t/20_Serializer_Async/*.t t/30_Logger_Async/*.t t/40_Transport_Async/*.t t/50_Cxn_Pool_Async/*.t t/60_Cxn_Async/*.t t/Client_7_0_Async/*.t t/Client_8_0_Async/*.t
t/10_Basic_Async/10_load.t .......................... ok
t/20_Serializer_Async/10_load_cpanel.t .............. ok
t/20_Serializer_Async/11_load_xs.t .................. ok
t/20_Serializer_Async/12_load_pp.t .................. ok
t/20_Serializer_Async/13_preload_cpanel.t ........... ok
t/20_Serializer_Async/14_preload_xs.t ............... ok
t/20_Serializer_Async/20_xs_encode_decode.t ......... ok
t/20_Serializer_Async/21_xs_encode_bulk.t ........... ok
t/20_Serializer_Async/22_xs_encode_pretty.t ......... ok
t/20_Serializer_Async/30_cpanel_encode_decode.t ..... ok
t/20_Serializer_Async/31_cpanel_encode_bulk.t ....... ok
t/20_Serializer_Async/32_cpanel_encode_pretty.t ..... ok
t/20_Serializer_Async/40_pp_encode_decode.t ......... ok
t/20_Serializer_Async/41_pp_encode_bulk.t ........... ok
t/20_Serializer_Async/42_pp_encode_pretty.t ......... ok
Current cxns: ["http://localhost:9200"]
Forcing ping before next use on all live cxns
Ping [http://localhost:9200] before next request
t/30_Logger_Async/10_explicit.t ..................... ok
Current cxns: ["http://localhost:9200"]
Forcing ping before next use on all live cxns
Ping [http://localhost:9200] before next request
t/30_Logger_Async/20_implicit.t ..................... ok
t/30_Logger_Async/30_log_methods.t .................. ok
t/30_Logger_Async/40_trace_request.t ................ ok
t/30_Logger_Async/50_trace_response.t ............... ok
t/30_Logger_Async/60_trace_error.t .................. ok
t/30_Logger_Async/70_trace_comment.t ................ ok
t/30_Logger_Async/80_deprecation_methods.t .......... ok
t/40_Transport_Async/10_tidy_request.t .............. ok
t/40_Transport_Async/20_send_body_as.t .............. ok
t/40_Transport_Async/30_perform_request.t ........... ok
t/50_Cxn_Pool_Async/10_static_normal.t .............. ok
t/50_Cxn_Pool_Async/11_static_node_missing.t ........ ok
t/50_Cxn_Pool_Async/12_static_node_fails.t .......... ok
t/50_Cxn_Pool_Async/13_static_node_timesout.t ....... ok
t/50_Cxn_Pool_Async/14_static_both_nodes_timeout.t .. ok
t/50_Cxn_Pool_Async/15_static_both_nodes_fail.t ..... ok
t/50_Cxn_Pool_Async/16_static_nodes_starting.t ...... ok
t/50_Cxn_Pool_Async/17_static_runaway_nodes.t ....... ok
t/50_Cxn_Pool_Async/30_sniff_normal.t ............... ok
t/50_Cxn_Pool_Async/31_sniff_new_nodes.t ............ ok
t/50_Cxn_Pool_Async/32_sniff_node_fails.t ........... ok
t/50_Cxn_Pool_Async/33_sniff_both_nodes_fail.t ...... ok
t/50_Cxn_Pool_Async/34_sniff_node_timeout.t ......... ok
t/50_Cxn_Pool_Async/35_sniff_both_nodes_timeout.t ... ok
t/50_Cxn_Pool_Async/36_sniff_nodes_starting.t ....... ok
t/50_Cxn_Pool_Async/37_sniff_runaway_nodes.t ........ ok
t/50_Cxn_Pool_Async/38_bad_sniff.t .................. ok
t/50_Cxn_Pool_Async/39_sniff_max_content.t .......... ok
t/50_Cxn_Pool_Async/40_sniff_extract_host.t ......... ok
t/50_Cxn_Pool_Async/50_noping_normal.t .............. ok
t/50_Cxn_Pool_Async/51_noping_node_fails.t .......... ok
t/50_Cxn_Pool_Async/52_noping_node_timesout.t ....... ok
t/50_Cxn_Pool_Async/53_noping_all_nodes_fail.t ...... ok
t/50_Cxn_Pool_Async/54_noping_nodes_starting.t ...... ok
t/50_Cxn_Pool_Async/55_noping_runaway_nodes.t ....... ok
t/50_Cxn_Pool_Async/56_max_retries.t ................ ok
t/60_Cxn_Async/10_basic.t ........................... ok
t/60_Cxn_Async/20_process_response.t ................ ok
t/60_Cxn_Async/30_http.t ............................ ok
t/author-eol.t ...................................... skipped: these tests are for testing by the author
t/author-no-tabs.t .................................. skipped: these tests are for testing by the author
t/author-pod-syntax.t ............................... skipped: these tests are for testing by the author
t/Client_7_0_Async/00_print_version.t ............... skipped: No $ENV{CLIENT_VER} specified
t/Client_7_0_Async/10_live.t ........................ skipped: No $ENV{CLIENT_VER} specified
t/Client_7_0_Async/20_fork_aehttp.t ................. skipped: No $ENV{CLIENT_VER} specified
t/Client_7_0_Async/21_fork_mojo.t ................... skipped: No $ENV{CLIENT_VER} specified
t/Client_7_0_Async/30_bulk_add_action.t ............. skipped: No $ENV{CLIENT_VER} specified
t/Client_7_0_Async/31_bulk_helpers.t ................ skipped: No $ENV{CLIENT_VER} specified
t/Client_7_0_Async/32_bulk_flush.t .................. skipped: No $ENV{CLIENT_VER} specified
t/Client_7_0_Async/33_bulk_errors.t ................. skipped: No $ENV{CLIENT_VER} specified
t/Client_7_0_Async/34_bulk_cxn_errors.t ............. skipped: No $ENV{CLIENT_VER} specified
t/Client_7_0_Async/40_scroll.t ...................... skipped: No $ENV{CLIENT_VER} specified
t/Client_7_0_Async/60_auth_aehttp.t ................. skipped: AEHTTP - No https server specified in ES_SSL
t/Client_7_0_Async/61_auth_mojo.t ................... skipped: Mojo - No https server specified in ES_SSL
t/Client_8_0_Async/00_print_version.t ............... skipped: No $ENV{CLIENT_VER} specified
t/Client_8_0_Async/10_live.t ........................ skipped: No $ENV{CLIENT_VER} specified
t/Client_8_0_Async/20_fork_aehttp.t ................. skipped: No $ENV{CLIENT_VER} specified
t/Client_8_0_Async/21_fork_mojo.t ................... skipped: No $ENV{CLIENT_VER} specified
t/Client_8_0_Async/30_bulk_add_action.t ............. skipped: No $ENV{CLIENT_VER} specified
t/Client_8_0_Async/31_bulk_helpers.t ................ skipped: No $ENV{CLIENT_VER} specified
t/Client_8_0_Async/32_bulk_flush.t .................. skipped: No $ENV{CLIENT_VER} specified
t/Client_8_0_Async/33_bulk_errors.t ................. skipped: No $ENV{CLIENT_VER} specified
t/Client_8_0_Async/34_bulk_cxn_errors.t ............. skipped: No $ENV{CLIENT_VER} specified
t/Client_8_0_Async/40_scroll.t ...................... skipped: No $ENV{CLIENT_VER} specified
t/Client_8_0_Async/60_auth_aehttp.t ................. skipped: AEHTTP - No https server specified in ES_SSL
t/Client_8_0_Async/61_auth_mojo.t ................... skipped: Mojo - No https server specified in ES_SSL
All tests successful.
Files=82, Tests=501, 18 wallclock secs ( 0.15 usr  0.12 sys +  7.62 cusr 10.13 csys = 18.02 CPU)
Result: PASS

------------------------------
PREREQUISITES
------------------------------

Prerequisite modules loaded:

requires:

    Module                      Need Have      
    --------------------------- ---- ----------
    AnyEvent::HTTP              0    2.25      
    AnyEvent::TLS               0    7.14      
    Moo                         0    2.003004  
    Moo::Role                   0    2.003004  
    namespace::clean            0    0.27      
    parent                      0    0.234     
    Promises                    0.93 1.04      
    Scalar::Util                0    1.50      
    Search::Elasticsearch       8.00 8.12      
    Sub::Exporter               0    0.987     
    Time::HiRes                 0    1.9733    
    Try::Tiny                   0    0.30      

build_requires:

    Module                      Need Have      
    --------------------------- ---- ----------
    AE                          0    7.14      
    Cpanel::JSON::XS            0    4.06      
    Data::Dumper                0    2.160     
    EV                          0    4.34      
    File::Temp                  0    0.2304    
    JSON::PP                    0    2.27300_01
    JSON::XS                    0    4.03      
    lib                         0    0.63      
    Log::Any::Adapter           0    1.049     
    Log::Any::Adapter::Callback 0.09 0.102     
    POSIX                       0    1.65      
    strict                      0    1.11      
    Test::Deep                  0    1.128     
    Test::Exception             0    0.43      
    Test::More                  0.98 1.302140  
    warnings                    0    1.36      


------------------------------
ENVIRONMENT AND OTHER CONTEXT
------------------------------

Environment variables:

    LC_ALL = de_DE.ISO8859-1
    PATH = /usr/local/bin:/usr/bin:/bin:/usr/local/sbin:/usr/sbin:/sbin:/home/cpansand/bin/freebsd10.3:/home/cpansand/bin/sh:/home/cpansand/bin:/usr/games:/home/cpansand/devel:/home/eserte/src/srezic-misc/scripts
    PERL5LIB = /home/cpansand/.cpan/build/2024012512/Promises-1.04-w_0V7x/blib/arch:/home/cpansand/.cpan/build/2024012512/Promises-1.04-w_0V7x/blib/lib:/home/cpansand/.cpan/build/2024012512/Sub-Attribute-0.07-iTAlJr/blib/arch:/home/cpansand/.cpan/build/2024012512/Sub-Attribute-0.07-iTAlJr/blib/lib:/home/cpansand/.cpan/build/2024012512/JSON-XS-4.03-CSNY9X/blib/arch:/home/cpansand/.cpan/build/2024012512/JSON-XS-4.03-CSNY9X/blib/lib:/home/cpansand/.cpan/build/2024012512/Types-Serialiser-1.01-yMydt9/blib/arch:/home/cpansand/.cpan/build/2024012512/Types-Serialiser-1.01-yMydt9/blib/lib:/home/cpansand/.cpan/build/2024012512/AnyEvent-HTTP-2.25-DjhfUs/blib/arch:/home/cpansand/.cpan/build/2024012512/AnyEvent-HTTP-2.25-DjhfUs/blib/lib:/home/cpansand/.cpan/build/2024012512/EV-4.34-HElCsf/blib/arch:/home/cpansand/.cpan/build/2024012512/EV-4.34-HElCsf/blib/lib:/home/cpansand/.cpan/build/2024012512/common-sense-3.75-W5Uu8E/blib/arch:/home/cpansand/.cpan/build/2024012512/common-sense-3.75-W5Uu8E/blib/lib:/home/cpansand/.cpan/build/2024012512/Search-Elasticsearch-8.12-oVS8eP/blib/arch:/home/cpansand/.cpan/build/2024012512/Search-Elasticsearch-8.12-oVS8eP/blib/lib:/home/cpansand/.cpan/build/2024012512/Log-Any-Adapter-Callback-0.102-jsHk6A/blib/arch:/home/cpansand/.cpan/build/2024012512/Log-Any-Adapter-Callback-0.102-jsHk6A/blib/lib:/home/cpansand/.cpan/build/2024012512/Net-IP-1.26-JF19On/blib/arch:/home/cpansand/.cpan/build/2024012512/Net-IP-1.26-JF19On/blib/lib:/home/cpansand/.cpan/build/2024012512/Any-URI-Escape-0.01-X4fg6U/blib/arch:/home/cpansand/.cpan/build/2024012512/Any-URI-Escape-0.01-X4fg6U/blib/lib:/home/cpansand/.cpan/build/2024012512/HTTP-Tiny-0.088-L6G3t0/blib/arch:/home/cpansand/.cpan/build/2024012512/HTTP-Tiny-0.088-L6G3t0/blib/lib
    PERL5OPT = 
    PERL5_CPANPLUS_IS_RUNNING = 28654
    PERL5_CPAN_IS_RUNNING = 28654
    PERL5_CPAN_IS_RUNNING_IN_RECURSION = 28094,28654
    PERLDOC = -MPod::Perldoc::ToTextOverstrike
    PERL_BATCH = yes
    PERL_CANARY_STABILITY_NOPROMPT = 1
    PERL_CPAN_REPORTER_CONFIG = /var/tmp/cpansmoker-1023/2024012512/cpanreporter_000_config.ini
    PERL_EXTUTILS_AUTOINSTALL = --defaultdeps
    SHELL = /usr/local/bin/zsh
    TERM = screen
    TMPDIR = /var/tmp/cpansmoker-1023/2024012512

Perl special variables (and OS-specific diagnostics, for MSWin32):

    $^X = /usr/perl5.24.2p/bin/perl
    $UID/$EUID = 1023 / 1023
    $GID = 1023 1023
    $EGID = 1023 1023

Perl module toolchain versions installed:

    Module              Have      
    ------------------- ----------
    CPAN                2.11_01   
    CPAN::Meta          2.150010  
    Cwd                 3.75      
    ExtUtils::CBuilder  0.280225  
    ExtUtils::Command   7.58      
    ExtUtils::Install   2.06      
    ExtUtils::MakeMaker 7.58      
    ExtUtils::Manifest  1.71      
    ExtUtils::ParseXS   3.31      
    File::Spec          3.75      
    JSON                2.94      
    JSON::PP            2.27300_01
    Module::Build       0.4224    
    Module::Signature   n/a       
    Parse::CPAN::Meta   2.150010  
    Test::Harness       3.36_01   
    Test::More          1.302140  
    YAML                1.23      
    YAML::Syck          1.30      
    version             0.9924    


--

Summary of my perl5 (revision 5 version 24 subversion 2) configuration:
   
  Platform:
    osname=freebsd, osvers=10.3-release-p11, archname=amd64-freebsd
    uname='freebsd cvrsnica-freebsd-101.herceg.de 10.3-release-p11 freebsd 10.3-release-p11 #0: mon oct 24 18:49:24 utc 2016 root@amd64-builder.daemonology.net:usrobjusrsrcsysgeneric amd64 '
    config_args='-ds -e -Dprefix=/usr/perl5.24.2p -Dcf_email=srezic@cpan.org -Doptimize=-O2 -pipe'
    hint=recommended, useposix=true, d_sigaction=define
    useithreads=undef, usemultiplicity=undef
    use64bitint=define, use64bitall=define, uselongdouble=undef
    usemymalloc=n, bincompat5005=undef
  Compiler:
    cc='cc', ccflags ='-DHAS_FPSETMASK -DHAS_FLOATINGPOINT_H -fno-strict-aliasing -pipe -fstack-protector -I/usr/local/include -D_FORTIFY_SOURCE=2',
    optimize='-O2 -pipe',
    cppflags='-DHAS_FPSETMASK -DHAS_FLOATINGPOINT_H -fno-strict-aliasing -pipe -fstack-protector -I/usr/local/include'
    ccversion='', gccversion='4.2.1 Compatible FreeBSD Clang 3.4.1 (tags/RELEASE_34/dot1-final 208032)', gccosandvers=''
    intsize=4, longsize=8, ptrsize=8, doublesize=8, byteorder=12345678, doublekind=3
    d_longlong=define, longlongsize=8, d_longdbl=define, longdblsize=16, longdblkind=3
    ivtype='long', ivsize=8, nvtype='double', nvsize=8, Off_t='off_t', lseeksize=8
    alignbytes=8, prototype=define
  Linker and Libraries:
    ld='cc', ldflags ='-pthread -Wl,-E  -fstack-protector -L/usr/local/lib'
    libpth=/usr/lib /usr/local/lib /usr/include/clang/3.4.1 /usr/lib
    libs=-lpthread -lgdbm -lm -lcrypt -lutil -lc
    perllibs=-lpthread -lm -lcrypt -lutil -lc
    libc=, so=so, useshrplib=false, libperl=libperl.a
    gnulibc_version=''
  Dynamic Linking:
    dlsrc=dl_dlopen.xs, dlext=so, d_dlsymun=undef, ccdlflags=' '
    cccdlflags='-DPIC -fPIC', lddlflags='-shared  -L/usr/local/lib -fstack-protector'


Characteristics of this binary (from libperl): 
  Compile-time options: HAS_TIMES PERLIO_LAYERS PERL_COPY_ON_WRITE
                        PERL_DONT_CREATE_GVSV
                        PERL_HASH_FUNC_ONE_AT_A_TIME_HARD PERL_MALLOC_WRAP
                        PERL_PRESERVE_IVUV USE_64_BIT_ALL USE_64_BIT_INT
                        USE_LARGE_FILES USE_LOCALE USE_LOCALE_COLLATE
                        USE_LOCALE_CTYPE USE_LOCALE_NUMERIC USE_LOCALE_TIME
                        USE_PERLIO USE_PERL_ATOF
  Built under freebsd
  Compiled at Jul 29 2017 11:20:18
  %ENV:
    PERL5LIB="/home/cpansand/.cpan/build/2024012512/Promises-1.04-w_0V7x/blib/arch:/home/cpansand/.cpan/build/2024012512/Promises-1.04-w_0V7x/blib/lib:/home/cpansand/.cpan/build/2024012512/Sub-Attribute-0.07-iTAlJr/blib/arch:/home/cpansand/.cpan/build/2024012512/Sub-Attribute-0.07-iTAlJr/blib/lib:/home/cpansand/.cpan/build/2024012512/JSON-XS-4.03-CSNY9X/blib/arch:/home/cpansand/.cpan/build/2024012512/JSON-XS-4.03-CSNY9X/blib/lib:/home/cpansand/.cpan/build/2024012512/Types-Serialiser-1.01-yMydt9/blib/arch:/home/cpansand/.cpan/build/2024012512/Types-Serialiser-1.01-yMydt9/blib/lib:/home/cpansand/.cpan/build/2024012512/AnyEvent-HTTP-2.25-DjhfUs/blib/arch:/home/cpansand/.cpan/build/2024012512/AnyEvent-HTTP-2.25-DjhfUs/blib/lib:/home/cpansand/.cpan/build/2024012512/EV-4.34-HElCsf/blib/arch:/home/cpansand/.cpan/build/2024012512/EV-4.34-HElCsf/blib/lib:/home/cpansand/.cpan/build/2024012512/common-sense-3.75-W5Uu8E/blib/arch:/home/cpansand/.cpan/build/2024012512/common-sense-3.75-W5Uu8E/blib/lib:/home/cpansand/.cpan/build/2024012512/Search-Elasticsearch-8.12-oVS8eP/blib/arch:/home/cpansand/.cpan/build/2024012512/Search-Elasticsearch-8.12-oVS8eP/blib/lib:/home/cpansand/.cpan/build/2024012512/Log-Any-Adapter-Callback-0.102-jsHk6A/blib/arch:/home/cpansand/.cpan/build/2024012512/Log-Any-Adapter-Callback-0.102-jsHk6A/blib/lib:/home/cpansand/.cpan/build/2024012512/Net-IP-1.26-JF19On/blib/arch:/home/cpansand/.cpan/build/2024012512/Net-IP-1.26-JF19On/blib/lib:/home/cpansand/.cpan/build/2024012512/Any-URI-Escape-0.01-X4fg6U/blib/arch:/home/cpansand/.cpan/build/2024012512/Any-URI-Escape-0.01-X4fg6U/blib/lib:/home/cpansand/.cpan/build/2024012512/HTTP-Tiny-0.088-L6G3t0/blib/arch:/home/cpansand/.cpan/build/2024012512/HTTP-Tiny-0.088-L6G3t0/blib/lib"
    PERL5OPT=""
    PERL5_CPANPLUS_IS_RUNNING="28654"
    PERL5_CPAN_IS_RUNNING="28654"
    PERL5_CPAN_IS_RUNNING_IN_RECURSION="28094,28654"
    PERLDOC="-MPod::Perldoc::ToTextOverstrike"
    PERL_BATCH="yes"
    PERL_CANARY_STABILITY_NOPROMPT="1"
    PERL_CPAN_REPORTER_CONFIG="/var/tmp/cpansmoker-1023/2024012512/cpanreporter_000_config.ini"
    PERL_EXTUTILS_AUTOINSTALL="--defaultdeps"
  @INC:
    /home/cpansand/.cpan/build/2024012512/Promises-1.04-w_0V7x/blib/arch
    /home/cpansand/.cpan/build/2024012512/Promises-1.04-w_0V7x/blib/lib
    /home/cpansand/.cpan/build/2024012512/Sub-Attribute-0.07-iTAlJr/blib/arch
    /home/cpansand/.cpan/build/2024012512/Sub-Attribute-0.07-iTAlJr/blib/lib
    /home/cpansand/.cpan/build/2024012512/JSON-XS-4.03-CSNY9X/blib/arch
    /home/cpansand/.cpan/build/2024012512/JSON-XS-4.03-CSNY9X/blib/lib
    /home/cpansand/.cpan/build/2024012512/Types-Serialiser-1.01-yMydt9/blib/arch
    /home/cpansand/.cpan/build/2024012512/Types-Serialiser-1.01-yMydt9/blib/lib
    /home/cpansand/.cpan/build/2024012512/AnyEvent-HTTP-2.25-DjhfUs/blib/arch
    /home/cpansand/.cpan/build/2024012512/AnyEvent-HTTP-2.25-DjhfUs/blib/lib
    /home/cpansand/.cpan/build/2024012512/EV-4.34-HElCsf/blib/arch
    /home/cpansand/.cpan/build/2024012512/EV-4.34-HElCsf/blib/lib
    /home/cpansand/.cpan/build/2024012512/common-sense-3.75-W5Uu8E/blib/arch
    /home/cpansand/.cpan/build/2024012512/common-sense-3.75-W5Uu8E/blib/lib
    /home/cpansand/.cpan/build/2024012512/Search-Elasticsearch-8.12-oVS8eP/blib/arch
    /home/cpansand/.cpan/build/2024012512/Search-Elasticsearch-8.12-oVS8eP/blib/lib
    /home/cpansand/.cpan/build/2024012512/Log-Any-Adapter-Callback-0.102-jsHk6A/blib/arch
    /home/cpansand/.cpan/build/2024012512/Log-Any-Adapter-Callback-0.102-jsHk6A/blib/lib
    /home/cpansand/.cpan/build/2024012512/Net-IP-1.26-JF19On/blib/arch
    /home/cpansand/.cpan/build/2024012512/Net-IP-1.26-JF19On/blib/lib
    /home/cpansand/.cpan/build/2024012512/Any-URI-Escape-0.01-X4fg6U/blib/arch
    /home/cpansand/.cpan/build/2024012512/Any-URI-Escape-0.01-X4fg6U/blib/lib
    /home/cpansand/.cpan/build/2024012512/HTTP-Tiny-0.088-L6G3t0/blib/arch
    /home/cpansand/.cpan/build/2024012512/HTTP-Tiny-0.088-L6G3t0/blib/lib
    /usr/perl5.24.2p/lib/site_perl/5.24.2/amd64-freebsd
    /usr/perl5.24.2p/lib/site_perl/5.24.2
    /usr/perl5.24.2p/lib/5.24.2/amd64-freebsd
    /usr/perl5.24.2p/lib/5.24.2
    .