Report for POE-Component-IRC-6.86

Back
From: metabase:user:322078bc-2aae-11df-837a-5e0a49663a4f
Subject: PASS POE-Component-IRC-6.86 v5.18.1 MidnightBSD
Date: 2014-06-22T18:55:28Z

This distribution has been tested as part of the CPAN Testers
project, supporting the Perl programming language.  See
http://wiki.cpantesters.org/ for more information or email
questions to cpan-testers-discuss@perl.org


--

Dear BINGOS,

This is a computer-generated error report created automatically by
CPANPLUS, version 0.9148. Testers personal comments may appear
at the end of this report.


Thank you for uploading your work to CPAN.  Congratulations!
All tests were successful.

TEST RESULTS:

Below is the error stack from stage 'make test':

PERL_DL_NONLAZY=1 /usr/home/cpan/pit/bare/perl-5.18.1/bin/perl "-MExtUtils::Command::MM" "-MTest::Harness" "-e" "undef *Test::Harness::Switches; test_harness(0, 'blib/lib', 'blib/arch')" t/01_base/*.t t/02_behavior/*.t t/03_subclasses/*.t t/04_plugins/01_ctcp/*.t t/04_plugins/02_connector/*.t t/04_plugins/03_botaddressed/*.t t/04_plugins/04_bottraffic/*.t t/04_plugins/05_isupport/*.t t/04_plugins/06_plugman/*.t t/04_plugins/07_console/*.t t/04_plugins/08_proxy/*.t t/04_plugins/09_nickreclaim/*.t t/04_plugins/10_followtail/*.t t/04_plugins/11_cycleempty/*.t t/04_plugins/12_autojoin/*.t t/04_plugins/13_botcommand/*.t t/04_plugins/14_logger/*.t t/04_plugins/15_nickservid/*.t t/04_plugins/16_whois/*.t t/04_plugins/17_dcc/*.t t/05_regression/*.t
t/01_base/01_compile.t ............................. ok
t/01_base/02_filters.t ............................. ok
t/01_base/04_pocosi.t .............................. ok
t/02_behavior/01_public_methods.t .................. ok
t/02_behavior/02_connect.t ......................... ok
t/02_behavior/03_socketerr.t ....................... ok
t/02_behavior/04_ipv6.t ............................ ok
t/02_behavior/05_resolver.t ........................ skipped: POE::Component::Client::DNS 0.99 not installed
# irc_registered
# irc_connected
# irc_snotice:  '*** Looking up your hostname...' '*' 'hobana.freenode.net'
# irc_snotice:  '*** Checking Ident' '*' 'hobana.freenode.net'
# irc_snotice:  '*** Found your hostname' '*' 'hobana.freenode.net'
# irc_snotice:  '*** No Ident response' '*' 'hobana.freenode.net'
# irc_cap:  'ACK' 'identify-msg '
# irc_cap:  'ACK' 'multi-prefix '
# irc_cap:  'LS' 'account-notify extended-join identify-msg multi-prefix sasl'
# irc_001
# irc_002:  'hobana.freenode.net' 'Your host is hobana.freenode.net[62.231.75.133/6667], running version ircd-seven-1.1.3' [Your host is hobana.freenode.net[62.231.75.133/6667], running version ircd-seven-1.1.3]
# irc_003:  'hobana.freenode.net' 'This server was created Tue Jul 23 2013 at 10:16:18 UTC' [This server was created Tue Jul 23 2013 at 10:16:18 UTC]
# irc_004:  'hobana.freenode.net' 'hobana.freenode.net ircd-seven-1.1.3 DOQRSZaghilopswz CFILMPQSbcefgijklmnopqrstvz bkloveqjfI' [hobana.freenode.net, ircd-seven-1.1.3, DOQRSZaghilopswz, CFILMPQSbcefgijklmnopqrstvz, bkloveqjfI]
# irc_005:  'hobana.freenode.net' 'CHANTYPES=# EXCEPTS INVEX CHANMODES=eIbq,k,flj,CFLMPQScgimnprstz CHANLIMIT=#:120 PREFIX=(ov)@+ MAXLIST=bqeI:100 MODES=4 NETWORK=freenode KNOCK STATUSMSG=@+ CALLERID=g :are supported by this server' [CHANTYPES=#, EXCEPTS, INVEX, CHANMODES=eIbq,k,flj,CFLMPQScgimnprstz, CHANLIMIT=#:120, PREFIX=(ov)@+, MAXLIST=bqeI:100, MODES=4, NETWORK=freenode, KNOCK, STATUSMSG=@+, CALLERID=g, are supported by this server]
# irc_005:  'hobana.freenode.net' 'CASEMAPPING=rfc1459 CHARSET=ascii NICKLEN=16 CHANNELLEN=50 TOPICLEN=390 ETRACE CPRIVMSG CNOTICE DEAF=D MONITOR=100 FNC TARGMAX=NAMES:1,LIST:1,KICK:1,WHOIS:1,PRIVMSG:4,NOTICE:4,ACCEPT:,MONITOR: :are supported by this server' [CASEMAPPING=rfc1459, CHARSET=ascii, NICKLEN=16, CHANNELLEN=50, TOPICLEN=390, ETRACE, CPRIVMSG, CNOTICE, DEAF=D, MONITOR=100, FNC, TARGMAX=NAMES:1,LIST:1,KICK:1,WHOIS:1,PRIVMSG:4,NOTICE:4,ACCEPT:,MONITOR:, are supported by this server]
# irc_005:  'hobana.freenode.net' 'EXTBAN=$,ajrxz WHOX CLIENTVER=3.0 SAFELIST ELIST=CTU :are supported by this server' [EXTBAN=$,ajrxz, WHOX, CLIENTVER=3.0, SAFELIST, ELIST=CTU, are supported by this server]
# irc_isupport:  'POE::Component::IRC::Plugin::ISupport=HASH(0x802c4a570)'
# irc_251:  'hobana.freenode.net' 'There are 188 users and 86407 invisible on 27 servers' [There are 188 users and 86407 invisible on 27 servers]
# irc_252:  'hobana.freenode.net' '30 :IRC Operators online' [30, IRC Operators online]
# irc_253:  'hobana.freenode.net' '18 :unknown connection(s)' [18, unknown connection(s)]
# irc_254:  'hobana.freenode.net' '52429 :channels formed' [52429, channels formed]
# irc_255:  'hobana.freenode.net' 'I have 7851 clients and 1 servers' [I have 7851 clients and 1 servers]
# irc_265:  'hobana.freenode.net' '7851 8131 :Current local users 7851, max 8131' [7851, 8131, Current local users 7851, max 8131]
# irc_266:  'hobana.freenode.net' '86595 97140 :Current global users 86595, max 97140' [86595, 97140, Current global users 86595, max 97140]
# irc_250:  'hobana.freenode.net' 'Highest connection count: 8132 (8131 clients) (314346 connections received)' [Highest connection count: 8132 (8131 clients) (314346 connections received)]
# irc_375:  'hobana.freenode.net' '- hobana.freenode.net Message of the Day - ' [- hobana.freenode.net Message of the Day - ]
# irc_372:  'hobana.freenode.net' '- Welcome to hobana.freenode.net in Pitesti, Romania! Thank' [- Welcome to hobana.freenode.net in Pitesti, Romania! Thank]
# irc_372:  'hobana.freenode.net' '- you to RCS-RDS for sponsoring this server!' [- you to RCS-RDS for sponsoring this server!]
# irc_372:  'hobana.freenode.net' '-  ' [-  ]
# irc_372:  'hobana.freenode.net' '- Ion Hobana (1931-2011) was a Romanian science fiction writer,' [- Ion Hobana (1931-2011) was a Romanian science fiction writer,]
# irc_372:  'hobana.freenode.net' '- literary critic and ufologist. Ion Hobana is a literary' [- literary critic and ufologist. Ion Hobana is a literary]
# irc_372:  'hobana.freenode.net' '- pseudonym, the writer's real name being Aurelian Manta Rosie.' [- pseudonym, the writer's real name being Aurelian Manta Rosie.]
# irc_372:  'hobana.freenode.net' '-  ' [-  ]
# irc_372:  'hobana.freenode.net' '- Welcome to freenode - supporting the free and open source' [- Welcome to freenode - supporting the free and open source]
# irc_372:  'hobana.freenode.net' '- software communities since 1998.' [- software communities since 1998.]
# irc_372:  'hobana.freenode.net' '-  ' [-  ]
# irc_372:  'hobana.freenode.net' '- By connecting to freenode you indicate that you have read and' [- By connecting to freenode you indicate that you have read and]
# irc_372:  'hobana.freenode.net' '- accept our policies as set out on http://www.freenode.net' [- accept our policies as set out on http://www.freenode.net]
# irc_372:  'hobana.freenode.net' '- freenode runs an open proxy scanner. Please join #freenode for' [- freenode runs an open proxy scanner. Please join #freenode for]
# irc_372:  'hobana.freenode.net' '- any network-related questions or queries, where a number of' [- any network-related questions or queries, where a number of]
# irc_372:  'hobana.freenode.net' '- volunteer staff and helpful users will be happy to assist you.' [- volunteer staff and helpful users will be happy to assist you.]
# irc_372:  'hobana.freenode.net' '-  ' [-  ]
# irc_372:  'hobana.freenode.net' '- You can meet us at FOSSCON (http://www.fosscon.org) where we get' [- You can meet us at FOSSCON (http://www.fosscon.org) where we get]
# irc_372:  'hobana.freenode.net' '- together with like-minded FOSS enthusiasts for talks and' [- together with like-minded FOSS enthusiasts for talks and]
# irc_372:  'hobana.freenode.net' '- real-life collaboration.' [- real-life collaboration.]
# irc_372:  'hobana.freenode.net' '-  ' [-  ]
# irc_372:  'hobana.freenode.net' '- We would like to thank Private Internet Access' [- We would like to thank Private Internet Access]
# irc_372:  'hobana.freenode.net' '- (https://www.privateinternetaccess.com/) and the other' [- (https://www.privateinternetaccess.com/) and the other]
# irc_372:  'hobana.freenode.net' '- organisations that help keep freenode and our other projects' [- organisations that help keep freenode and our other projects]
# irc_372:  'hobana.freenode.net' '- running for their sustained support.' [- running for their sustained support.]
# irc_372:  'hobana.freenode.net' '-  ' [-  ]
# irc_372:  'hobana.freenode.net' '- In particular we would like to thank the sponsor' [- In particular we would like to thank the sponsor]
# irc_372:  'hobana.freenode.net' '- of this server, details of which can be found above.' [- of this server, details of which can be found above.]
# irc_372:  'hobana.freenode.net' '-  ' [-  ]
# irc_372:  'hobana.freenode.net' '- ***************************************************************' [- ***************************************************************]
# irc_372:  'hobana.freenode.net' '- Please read http://blog.freenode.net/2010/11/be-safe-out-there/' [- Please read http://blog.freenode.net/2010/11/be-safe-out-there/]
# irc_372:  'hobana.freenode.net' '- ***************************************************************' [- ***************************************************************]
# irc_376:  'hobana.freenode.net' 'End of /MOTD command.' [End of /MOTD command.]
# irc_mode:  'PoCoIRC79480' 'PoCoIRC79480' '+i'
t/02_behavior/06_online.t .......................... ok
# irc_quit:  'PoCoIRC79480!~cpan@host86-132-1-131.range86-132.btcentralplus.com' 'Client Quit'
# irc_error: [Closing Link: host86-132-1-131.range86-132.btcentralplus.com (Client Quit)]
# irc_disconnected
# irc_plugin_del:  'ISupport_1' 'POE::Component::IRC::Plugin::ISupport=HASH(0x802c4a570)'
# irc_plugin_del:  'DCC_1' 'POE::Component::IRC::Plugin::DCC=HASH(0x802003210)'
# irc_plugin_del:  'Whois_1' 'POE::Component::IRC::Plugin::Whois=HASH(0x802c4a558)'
# irc_shutdown:  '3'
t/02_behavior/07_subclass.t ........................ ok
t/02_behavior/08_parent_session.t .................. ok
t/02_behavior/09_multiple.t ........................ ok
t/02_behavior/10_signal.t .......................... ok
t/02_behavior/11_multi_signal.t .................... ok
t/02_behavior/12_delays.t .......................... ok
t/02_behavior/13_activity.t ........................ ok
t/02_behavior/14_newline.t ......................... ok
t/02_behavior/15_no_stacked_ctcp.t ................. ok
t/02_behavior/16_nonclosing_ctcp.t ................. ok
t/02_behavior/17_raw.t ............................. ok
t/02_behavior/18_shutdown.t ........................ ok
t/03_subclasses/01_state.t ......................... ok
t/03_subclasses/02_qnet.t .......................... ok
t/03_subclasses/03_qnet_state.t .................... ok
t/03_subclasses/04_netsplit.t ...................... ok
t/03_subclasses/05_state_awaypoll.t ................ ok
t/03_subclasses/06_state_nick_sync.t ............... ok
t/04_plugins/01_ctcp/01_load.t ..................... ok
t/04_plugins/01_ctcp/02_replies.t .................. ok
t/04_plugins/02_connector/01_load.t ................ ok
t/04_plugins/02_connector/02_reconnect.t ........... ok
t/04_plugins/03_botaddressed/01_load.t ............. ok
t/04_plugins/03_botaddressed/02_output.t ........... ok
t/04_plugins/04_bottraffic/01_load.t ............... ok
t/04_plugins/04_bottraffic/02_output.t ............. ok
t/04_plugins/05_isupport/01_load.t ................. ok
t/04_plugins/05_isupport/02_isupport.t ............. ok
t/04_plugins/06_plugman/01_load.t .................. ok
t/04_plugins/06_plugman/02_add.t ................... ok
t/04_plugins/06_plugman/03_irc_interface.t ......... ok
t/04_plugins/06_plugman/04_auth_sub.t .............. ok
t/04_plugins/07_console/01_load.t .................. ok
t/04_plugins/08_proxy/01_load.t .................... ok
t/04_plugins/08_proxy/02_connect.t ................. ok
t/04_plugins/09_nickreclaim/01_load.t .............. ok
t/04_plugins/09_nickreclaim/02_reclaim.t ........... ok
t/04_plugins/09_nickreclaim/03_immediate_change.t .. ok
t/04_plugins/09_nickreclaim/04_immediate_quit.t .... ok
t/04_plugins/10_followtail/01_load.t ............... ok
t/04_plugins/11_cycleempty/01_load.t ............... ok
t/04_plugins/11_cycleempty/02_cycle.t .............. ok
t/04_plugins/12_autojoin/01_load.t ................. ok
t/04_plugins/12_autojoin/02_join.t ................. ok
t/04_plugins/12_autojoin/03_banned.t ............... ok
t/04_plugins/12_autojoin/04_kicked.t ............... ok
t/04_plugins/12_autojoin/05_password.t ............. ok
t/04_plugins/12_autojoin/06_kick_ban_password.t .... ok
t/04_plugins/13_botcommand/01_load.t ............... ok
t/04_plugins/13_botcommand/02_commands.t ........... ok
t/04_plugins/13_botcommand/03_options.t ............ ok
t/04_plugins/13_botcommand/04_help.t ............... ok
t/04_plugins/13_botcommand/05_auth_sub.t ........... ok
t/04_plugins/13_botcommand/06_prefix.t ............. ok
t/04_plugins/13_botcommand/07_bare_private.t ....... ok
t/04_plugins/13_botcommand/08_nonword.t ............ ok
t/04_plugins/14_logger/01_load.t ................... ok
t/04_plugins/14_logger/02_public.t ................. ok
t/04_plugins/14_logger/03_private.t ................ ok
t/04_plugins/14_logger/04_dcc_chat.t ............... ok
t/04_plugins/14_logger/05_log_sub.t ................ ok
t/04_plugins/15_nickservid/01_load.t ............... ok
t/04_plugins/16_whois/01_load.t .................... ok
t/04_plugins/16_whois/02_whois.t ................... ok
t/04_plugins/17_dcc/01_load.t ...................... ok
t/04_plugins/17_dcc/02_timeout.t ................... ok
t/04_plugins/17_dcc/03_send.t ...................... ok
t/04_plugins/17_dcc/04_send_spaces.t ............... ok
t/04_plugins/17_dcc/05_resume.t .................... ok
t/04_plugins/17_dcc/06_chat.t ...................... ok
t/04_plugins/17_dcc/07_nat.t ....................... ok
t/05_regression/01_dcc_chat_close.t ................ ok
All tests successful.

Test Summary Report
-------------------
t/02_behavior/06_online.t                        (Wstat: 0 Tests: 5 Failed: 0)
  TODO passed:   2-5
t/03_subclasses/04_netsplit.t                    (Wstat: 0 Tests: 43 Failed: 0)
  TODO passed:   39
Files=81, Tests=1035, 139 wallclock secs ( 0.26 usr  0.37 sys + 18.33 cusr 10.38 csys = 29.33 CPU)
Result: PASS


PREREQUISITES:

Here is a list of prerequisites you specified and versions we
managed to load:

	  Module Name                        Have     Want
	  ExtUtils::MakeMaker                6.98        0
	  IRC::Utils                         0.12     0.12
	  List::MoreUtils                    0.33        0
	  POE                               1.358    1.311
	  POE::Component::Syndicator         0.06        0
	  POE::Driver::SysRW                1.358        0
	  POE::Filter::IRCD                  2.44     2.42
	  POE::Filter::Line                 1.358        0
	  POE::Filter::Stackable            1.358        0
	  POE::Filter::Stream               1.358        0
	  POE::Session                      1.358        0
	  POE::Wheel::ReadWrite             1.358        0
	  POE::Wheel::SocketFactory         1.358        0
	  Test::Differences                  0.61     0.61
	  Test::More                     1.001003     0.47

Perl module toolchain versions installed:
	Module Name                        Have
	CPANPLUS                         0.9148
	CPANPLUS::Dist::Build              0.76
	Cwd                                3.47
	ExtUtils::CBuilder             0.280216
	ExtUtils::Command                  1.17
	ExtUtils::Install                  1.68
	ExtUtils::MakeMaker                6.98
	ExtUtils::Manifest                 1.63
	ExtUtils::ParseXS                  3.24
	File::Spec                         3.47
	Module::Build                    0.4205
	Pod::Parser                        1.60
	Pod::Simple                        3.28
	Test::Harness                      3.31
	Test::More                     1.001003
	version                          0.9908

******************************** NOTE ********************************
The comments above are created mechanically, possibly without manual
checking by the sender.  As there are many people performing automatic
tests on each upload to CPAN, it is likely that you will receive
identical messages about the same problem.

If you believe that the message is mistaken, please reply to the first
one with correction and/or additional informations, and do not take
it personally.  We appreciate your patience. :)
**********************************************************************

Additional comments:


This report was machine-generated by CPANPLUS::Dist::YACSmoke 0.90.
Powered by minismokebox version 0.58

------------------------------
ENVIRONMENT AND OTHER CONTEXT
------------------------------

Environment variables:

    AUTOMATED_TESTING = 1
    NONINTERACTIVE_TESTING = 1
    PATH = /usr/home/cpan/pit/bare/conf/perl-5.18.1/.cpanplus/5.18.1/build/POE-Test-Loops-1.354/blib/script:/sbin:/bin:/usr/sbin:/usr/bin:/usr/games:/usr/local/sbin:/usr/local/bin:/home/cpan/bin
    PERL5LIB = :/usr/home/cpan/pit/bare/conf/perl-5.18.1/.cpanplus/5.18.1/build/IRC-Utils-0.12/blib/lib:/usr/home/cpan/pit/bare/conf/perl-5.18.1/.cpanplus/5.18.1/build/IRC-Utils-0.12/blib/arch:/usr/home/cpan/pit/bare/conf/perl-5.18.1/.cpanplus/5.18.1/build/List-MoreUtils-0.33/blib/lib:/usr/home/cpan/pit/bare/conf/perl-5.18.1/.cpanplus/5.18.1/build/List-MoreUtils-0.33/blib/arch:/usr/home/cpan/pit/bare/conf/perl-5.18.1/.cpanplus/5.18.1/build/IO-Pipely-0.005/blib/lib:/usr/home/cpan/pit/bare/conf/perl-5.18.1/.cpanplus/5.18.1/build/IO-Pipely-0.005/blib/arch:/usr/home/cpan/pit/bare/conf/perl-5.18.1/.cpanplus/5.18.1/build/IO-Tty-1.11/blib/lib:/usr/home/cpan/pit/bare/conf/perl-5.18.1/.cpanplus/5.18.1/build/IO-Tty-1.11/blib/arch:/usr/home/cpan/pit/bare/conf/perl-5.18.1/.cpanplus/5.18.1/build/POE-Test-Loops-1.354/blib/lib:/usr/home/cpan/pit/bare/conf/perl-5.18.1/.cpanplus/5.18.1/build/POE-Test-Loops-1.354/blib/arch:/usr/home/cpan/pit/bare/conf/perl-5.18.1/.cpanplus/5.18.1/build/POE-1.358/blib/lib:/usr/home/cpan/pit/bare/conf/perl-5.18.1/.cpanplus/5.18.1/build/POE-1.358/blib/arch:/usr/home/cpan/pit/bare/conf/perl-5.18.1/.cpanplus/5.18.1/build/Task-Weaken-1.04/blib/lib:/usr/home/cpan/pit/bare/conf/perl-5.18.1/.cpanplus/5.18.1/build/Task-Weaken-1.04/blib/arch:/usr/home/cpan/pit/bare/conf/perl-5.18.1/.cpanplus/5.18.1/build/Object-Pluggable-1.29/blib/lib:/usr/home/cpan/pit/bare/conf/perl-5.18.1/.cpanplus/5.18.1/build/Object-Pluggable-1.29/blib/arch:/usr/home/cpan/pit/bare/conf/perl-5.18.1/.cpanplus/5.18.1/build/POE-Component-Syndicator-0.06/blib/lib:/usr/home/cpan/pit/bare/conf/perl-5.18.1/.cpanplus/5.18.1/build/POE-Component-Syndicator-0.06/blib/arch:/usr/home/cpan/pit/bare/conf/perl-5.18.1/.cpanplus/5.18.1/build/POE-Filter-IRCD-2.44/blib/lib:/usr/home/cpan/pit/bare/conf/perl-5.18.1/.cpanplus/5.18.1/build/POE-Filter-IRCD-2.44/blib/arch:/usr/home/cpan/pit/bare/conf/perl-5.18.1/.cpanplus/5.18.1/build/Algorithm-Diff-1.1902/blib/lib:/usr/home/cpan/pit/bare/conf/perl-5.18.1/.cpanplus/5.18.1/build/Algorithm-Diff-1.1902/blib/arch:/usr/home/cpan/pit/bare/conf/perl-5.18.1/.cpanplus/5.18.1/build/Text-Diff-1.41/blib/lib:/usr/home/cpan/pit/bare/conf/perl-5.18.1/.cpanplus/5.18.1/build/Text-Diff-1.41/blib/arch:/usr/home/cpan/pit/bare/conf/perl-5.18.1/.cpanplus/5.18.1/build/Test-Differences-0.61/blib/lib:/usr/home/cpan/pit/bare/conf/perl-5.18.1/.cpanplus/5.18.1/build/Test-Differences-0.61/blib/arch:/usr/home/cpan/pit/bare/conf/perl-5.18.1/.cpanplus/5.18.1/build/POE-Component-IRC-6.86/blib/lib:/usr/home/cpan/pit/bare/conf/perl-5.18.1/.cpanplus/5.18.1/build/POE-Component-IRC-6.86/blib/arch
    PERL5_CPANPLUS_IS_RUNNING = 79400
    PERL5_CPANPLUS_IS_VERSION = 0.9148
    PERL5_MINISMOKEBOX = 0.58
    PERL5_YACSMOKE_BASE = /usr/home/cpan/pit/bare/conf/perl-5.18.1
    PERL_EXTUTILS_AUTOINSTALL = --defaultdeps
    PERL_MM_USE_DEFAULT = 1
    SHELL = /usr/local/bin/bash
    TERM = screen

Perl special variables (and OS-specific diagnostics, for MSWin32):

    Perl: $^X = /usr/home/cpan/pit/bare/perl-5.18.1/bin/perl
    UID:  $<  = 1002
    EUID: $>  = 1002
    GID:  $(  = 1002 1002 1002
    EGID: $)  = 1002 1002 1002


-------------------------------


--

Summary of my perl5 (revision 5 version 18 subversion 1) configuration:
   
  Platform:
    osname=midnightbsd, osvers=0.3-release, archname=amd64-midnightbsd
    uname='midnightbsd macho.bingosnet.co.uk 0.3-release midnightbsd 0.3-release #0: sun jan 30 20:56:57 utc 2011 root@ds9.midnightbsd.org.:usrobjusrsrcsysgeneric amd64 '
    config_args='-des -Dprefix=/usr/home/cpan/pit/bare/perl-5.18.1'
    hint=recommended, useposix=true, d_sigaction=define
    useithreads=undef, usemultiplicity=undef
    useperlio=define, d_sfio=undef, uselargefiles=define, usesocks=undef
    use64bitint=define, use64bitall=define, uselongdouble=undef
    usemymalloc=n, bincompat5005=undef
  Compiler:
    cc='cc', ccflags ='-DHAS_FPSETMASK -DHAS_FLOATINGPOINT_H -fno-strict-aliasing -pipe -fstack-protector -I/usr/local/include',
    optimize='-O',
    cppflags='-DHAS_FPSETMASK -DHAS_FLOATINGPOINT_H -fno-strict-aliasing -pipe -fstack-protector -I/usr/local/include'
    ccversion='', gccversion='4.2.1 20070719  [MidnightBSD]', gccosandvers=''
    intsize=4, longsize=8, ptrsize=8, doublesize=8, byteorder=12345678
    d_longlong=define, longlongsize=8, d_longdbl=define, longdblsize=16
    ivtype='long', ivsize=8, nvtype='double', nvsize=8, Off_t='off_t', lseeksize=8
    alignbytes=8, prototype=define
  Linker and Libraries:
    ld='cc', ldflags ='-Wl,-E  -fstack-protector -L/usr/local/lib'
    libpth=/usr/lib /usr/local/lib
    libs=-lgdbm -lm -lcrypt -lutil -lc
    perllibs=-lm -lcrypt -lutil -lc
    libc=, so=so, useshrplib=false, libperl=libperl.a
    gnulibc_version=''
  Dynamic Linking:
    dlsrc=dl_dlopen.xs, dlext=so, d_dlsymun=undef, ccdlflags=' '
    cccdlflags='-DPIC -fPIC', lddlflags='-shared  -L/usr/local/lib -fstack-protector'


Characteristics of this binary (from libperl): 
  Compile-time options: HAS_TIMES PERLIO_LAYERS PERL_DONT_CREATE_GVSV
                        PERL_HASH_FUNC_ONE_AT_A_TIME_HARD PERL_MALLOC_WRAP
                        PERL_PRESERVE_IVUV PERL_SAWAMPERSAND USE_64_BIT_ALL
                        USE_64_BIT_INT USE_LARGE_FILES USE_LOCALE
                        USE_LOCALE_COLLATE USE_LOCALE_CTYPE
                        USE_LOCALE_NUMERIC USE_PERLIO USE_PERL_ATOF
  Built under midnightbsd
  Compiled at Aug 17 2013 00:05:35
  %ENV:
    PERL5LIB=":/usr/home/cpan/pit/bare/conf/perl-5.18.1/.cpanplus/5.18.1/build/IRC-Utils-0.12/blib/lib:/usr/home/cpan/pit/bare/conf/perl-5.18.1/.cpanplus/5.18.1/build/IRC-Utils-0.12/blib/arch:/usr/home/cpan/pit/bare/conf/perl-5.18.1/.cpanplus/5.18.1/build/List-MoreUtils-0.33/blib/lib:/usr/home/cpan/pit/bare/conf/perl-5.18.1/.cpanplus/5.18.1/build/List-MoreUtils-0.33/blib/arch:/usr/home/cpan/pit/bare/conf/perl-5.18.1/.cpanplus/5.18.1/build/IO-Pipely-0.005/blib/lib:/usr/home/cpan/pit/bare/conf/perl-5.18.1/.cpanplus/5.18.1/build/IO-Pipely-0.005/blib/arch:/usr/home/cpan/pit/bare/conf/perl-5.18.1/.cpanplus/5.18.1/build/IO-Tty-1.11/blib/lib:/usr/home/cpan/pit/bare/conf/perl-5.18.1/.cpanplus/5.18.1/build/IO-Tty-1.11/blib/arch:/usr/home/cpan/pit/bare/conf/perl-5.18.1/.cpanplus/5.18.1/build/POE-Test-Loops-1.354/blib/lib:/usr/home/cpan/pit/bare/conf/perl-5.18.1/.cpanplus/5.18.1/build/POE-Test-Loops-1.354/blib/arch:/usr/home/cpan/pit/bare/conf/perl-5.18.1/.cpanplus/5.18.1/build/POE-1.358/blib/lib:/usr/home/cpan/pit/bare/conf/perl-5.18.1/.cpanplus/5.18.1/build/POE-1.358/blib/arch:/usr/home/cpan/pit/bare/conf/perl-5.18.1/.cpanplus/5.18.1/build/Task-Weaken-1.04/blib/lib:/usr/home/cpan/pit/bare/conf/perl-5.18.1/.cpanplus/5.18.1/build/Task-Weaken-1.04/blib/arch:/usr/home/cpan/pit/bare/conf/perl-5.18.1/.cpanplus/5.18.1/build/Object-Pluggable-1.29/blib/lib:/usr/home/cpan/pit/bare/conf/perl-5.18.1/.cpanplus/5.18.1/build/Object-Pluggable-1.29/blib/arch:/usr/home/cpan/pit/bare/conf/perl-5.18.1/.cpanplus/5.18.1/build/POE-Component-Syndicator-0.06/blib/lib:/usr/home/cpan/pit/bare/conf/perl-5.18.1/.cpanplus/5.18.1/build/POE-Component-Syndicator-0.06/blib/arch:/usr/home/cpan/pit/bare/conf/perl-5.18.1/.cpanplus/5.18.1/build/POE-Filter-IRCD-2.44/blib/lib:/usr/home/cpan/pit/bare/conf/perl-5.18.1/.cpanplus/5.18.1/build/POE-Filter-IRCD-2.44/blib/arch:/usr/home/cpan/pit/bare/conf/perl-5.18.1/.cpanplus/5.18.1/build/Algorithm-Diff-1.1902/blib/lib:/usr/home/cpan/pit/bare/conf/perl-5.18.1/.cpanplus/5.18.1/build/Algorithm-Diff-1.1902/blib/arch:/usr/home/cpan/pit/bare/conf/perl-5.18.1/.cpanplus/5.18.1/build/Text-Diff-1.41/blib/lib:/usr/home/cpan/pit/bare/conf/perl-5.18.1/.cpanplus/5.18.1/build/Text-Diff-1.41/blib/arch:/usr/home/cpan/pit/bare/conf/perl-5.18.1/.cpanplus/5.18.1/build/Test-Differences-0.61/blib/lib:/usr/home/cpan/pit/bare/conf/perl-5.18.1/.cpanplus/5.18.1/build/Test-Differences-0.61/blib/arch:/usr/home/cpan/pit/bare/conf/perl-5.18.1/.cpanplus/5.18.1/build/POE-Component-IRC-6.86/blib/lib:/usr/home/cpan/pit/bare/conf/perl-5.18.1/.cpanplus/5.18.1/build/POE-Component-IRC-6.86/blib/arch"
    PERL5_CPANPLUS_IS_RUNNING="79400"
    PERL5_CPANPLUS_IS_VERSION="0.9148"
    PERL5_MINISMOKEBOX="0.58"
    PERL5_YACSMOKE_BASE="/usr/home/cpan/pit/bare/conf/perl-5.18.1"
    PERL_EXTUTILS_AUTOINSTALL="--defaultdeps"
    PERL_MM_USE_DEFAULT="1"
  @INC:
    /usr/home/cpan/pit/bare/conf/perl-5.18.1/.cpanplus/5.18.1/build/IRC-Utils-0.12/blib/lib
    /usr/home/cpan/pit/bare/conf/perl-5.18.1/.cpanplus/5.18.1/build/IRC-Utils-0.12/blib/arch
    /usr/home/cpan/pit/bare/conf/perl-5.18.1/.cpanplus/5.18.1/build/List-MoreUtils-0.33/blib/lib
    /usr/home/cpan/pit/bare/conf/perl-5.18.1/.cpanplus/5.18.1/build/List-MoreUtils-0.33/blib/arch
    /usr/home/cpan/pit/bare/conf/perl-5.18.1/.cpanplus/5.18.1/build/IO-Pipely-0.005/blib/lib
    /usr/home/cpan/pit/bare/conf/perl-5.18.1/.cpanplus/5.18.1/build/IO-Pipely-0.005/blib/arch
    /usr/home/cpan/pit/bare/conf/perl-5.18.1/.cpanplus/5.18.1/build/IO-Tty-1.11/blib/lib
    /usr/home/cpan/pit/bare/conf/perl-5.18.1/.cpanplus/5.18.1/build/IO-Tty-1.11/blib/arch
    /usr/home/cpan/pit/bare/conf/perl-5.18.1/.cpanplus/5.18.1/build/POE-Test-Loops-1.354/blib/lib
    /usr/home/cpan/pit/bare/conf/perl-5.18.1/.cpanplus/5.18.1/build/POE-Test-Loops-1.354/blib/arch
    /usr/home/cpan/pit/bare/conf/perl-5.18.1/.cpanplus/5.18.1/build/POE-1.358/blib/lib
    /usr/home/cpan/pit/bare/conf/perl-5.18.1/.cpanplus/5.18.1/build/POE-1.358/blib/arch
    /usr/home/cpan/pit/bare/conf/perl-5.18.1/.cpanplus/5.18.1/build/Task-Weaken-1.04/blib/lib
    /usr/home/cpan/pit/bare/conf/perl-5.18.1/.cpanplus/5.18.1/build/Task-Weaken-1.04/blib/arch
    /usr/home/cpan/pit/bare/conf/perl-5.18.1/.cpanplus/5.18.1/build/Object-Pluggable-1.29/blib/lib
    /usr/home/cpan/pit/bare/conf/perl-5.18.1/.cpanplus/5.18.1/build/Object-Pluggable-1.29/blib/arch
    /usr/home/cpan/pit/bare/conf/perl-5.18.1/.cpanplus/5.18.1/build/POE-Component-Syndicator-0.06/blib/lib
    /usr/home/cpan/pit/bare/conf/perl-5.18.1/.cpanplus/5.18.1/build/POE-Component-Syndicator-0.06/blib/arch
    /usr/home/cpan/pit/bare/conf/perl-5.18.1/.cpanplus/5.18.1/build/POE-Filter-IRCD-2.44/blib/lib
    /usr/home/cpan/pit/bare/conf/perl-5.18.1/.cpanplus/5.18.1/build/POE-Filter-IRCD-2.44/blib/arch
    /usr/home/cpan/pit/bare/conf/perl-5.18.1/.cpanplus/5.18.1/build/Algorithm-Diff-1.1902/blib/lib
    /usr/home/cpan/pit/bare/conf/perl-5.18.1/.cpanplus/5.18.1/build/Algorithm-Diff-1.1902/blib/arch
    /usr/home/cpan/pit/bare/conf/perl-5.18.1/.cpanplus/5.18.1/build/Text-Diff-1.41/blib/lib
    /usr/home/cpan/pit/bare/conf/perl-5.18.1/.cpanplus/5.18.1/build/Text-Diff-1.41/blib/arch
    /usr/home/cpan/pit/bare/conf/perl-5.18.1/.cpanplus/5.18.1/build/Test-Differences-0.61/blib/lib
    /usr/home/cpan/pit/bare/conf/perl-5.18.1/.cpanplus/5.18.1/build/Test-Differences-0.61/blib/arch
    /usr/home/cpan/pit/bare/conf/perl-5.18.1/.cpanplus/5.18.1/build/POE-Component-IRC-6.86/blib/lib
    /usr/home/cpan/pit/bare/conf/perl-5.18.1/.cpanplus/5.18.1/build/POE-Component-IRC-6.86/blib/arch
    /usr/home/cpan/pit/bare/perl-5.18.1/lib/site_perl/5.18.1/amd64-midnightbsd
    /usr/home/cpan/pit/bare/perl-5.18.1/lib/site_perl/5.18.1
    /usr/home/cpan/pit/bare/perl-5.18.1/lib/5.18.1/amd64-midnightbsd
    /usr/home/cpan/pit/bare/perl-5.18.1/lib/5.18.1
    .