Message-Passing-Output-Log-Any-Adapter v0.004 Perl 5 v5.31.12 darwin-thread-multi-2level

Status
Pass
From
Carlos Guevara
Dist
Message-Passing-Output-Log-Any-Adapter v0.004
Platform
Perl 5 v5.31.12 darwin-thread-multi-2level
Date
2020-05-30 05:59:51
ID
c6d8fa1a-a23a-11ea-881c-3ff983b12266
This distribution has been tested as part of the CPAN Testers
project, supporting the Perl programming language.  See
http://wiki.cpantesters.org/ for more information or email
questions to cpan-testers-discuss@perl.org


--
Dear Alexander Hartmaier,

This is a computer-generated report for Message-Passing-Output-Log-Any-Adapter-0.004
on perl 5.31.12, created by CPAN-Reporter-1.2018.

Thank you for uploading your work to CPAN.  Congratulations!
All tests were successful.

Sections of this report:

    * Tester comments
    * Program output
    * Prerequisites
    * Environment and other context

------------------------------
TESTER COMMENTS
------------------------------

Additional comments from tester:

none provided

------------------------------
PROGRAM OUTPUT
------------------------------

Output from '/usr/bin/make test':

PERL_DL_NONLAZY=1 "/Users/cpan/bin/perl-blead/bin/perl5.31.12" "-MExtUtils::Command::MM" "-MTest::Harness" "-e" "undef *Test::Harness::Switches; test_harness(0, 'blib/lib', 'blib/arch')" t/*.t
t/00-compile.t .............. ok
t/00_compile.t .............. ok
t/01_output.t ............... ok
t/author-critic.t ........... skipped: these tests are for testing by the author
t/author-eol.t .............. skipped: these tests are for testing by the author
t/author-minimum-version.t .. skipped: these tests are for testing by the author
t/author-mojibake.t ......... skipped: these tests are for testing by the author
t/author-no-tabs.t .......... skipped: these tests are for testing by the author
t/author-pod-coverage.t ..... skipped: these tests are for testing by the author
t/author-pod-linkcheck.t .... skipped: these tests are for testing by the author
t/author-pod-syntax.t ....... skipped: these tests are for testing by the author
t/author-portability.t ...... skipped: these tests are for testing by the author
t/author-synopsis.t ......... skipped: these tests are for testing by the author
t/author-test-version.t ..... skipped: these tests are for testing by the author
t/release-cpan-changes.t .... skipped: these tests are for release candidate testing
t/release-dist-manifest.t ... skipped: these tests are for release candidate testing
t/release-distmeta.t ........ skipped: these tests are for release candidate testing
t/release-kwalitee.t ........ skipped: these tests are for release candidate testing
t/release-meta-json.t ....... skipped: these tests are for release candidate testing
t/release-unused-vars.t ..... skipped: these tests are for release candidate testing
All tests successful.
Files=20, Tests=5,  0 wallclock secs ( 0.06 usr  0.04 sys +  0.38 cusr  0.09 csys =  0.57 CPU)
Result: PASS

------------------------------
PREREQUISITES
------------------------------

Prerequisite modules loaded:

requires:

    Module                 Need     Have    
    ---------------------- -------- --------
    Log::Any               1.032    1.708   
    Message::Passing       0.104    0.117   
    Moo                    1.000003 2.004000
    MooX::Types::MooseLike 0.10     0.29    
    namespace::clean       0.23     0.27    

build_requires:

    Module                 Need     Have    
    ---------------------- -------- --------
    ExtUtils::MakeMaker    0        7.44    
    File::Spec             0        3.78    
    File::Temp             0.22     0.2309  
    IO::Handle             0        1.42    
    IPC::Open3             0        1.21    
    Test::Exception        0.31     0.43    
    Test::More             0.98     1.302175

configure_requires:

    Module                 Need     Have    
    ---------------------- -------- --------
    ExtUtils::MakeMaker    0        7.44    


------------------------------
ENVIRONMENT AND OTHER CONTEXT
------------------------------

Environment variables:

    LANG = en_US.UTF-8
    LC_ALL = C
    NONINTERACTIVE_TESTING = 1
    PATH = /Users/cpan/bin/perl-blead/bin:/Users/cpan/bin:/usr/local/bin:/usr/bin:/bin:/usr/sbin:/sbin
    PERL5LIB = 
    PERL5OPT = 
    PERL5_CPANPLUS_IS_RUNNING = 64037
    PERL5_CPAN_IS_RUNNING = 64037
    PERL_MM_USE_DEFAULT = 1
    PERL_USE_UNSAFE_INC = 1
    SHELL = /bin/bash
    TERM = xterm-256color
    TMPDIR = /Users/cpan/tmp

Perl special variables (and OS-specific diagnostics, for MSWin32):

    $^X = /Users/cpan/bin/perl-blead/bin/perl5.31.12
    $UID/$EUID = 503 / 503
    $GID = 20 20 12 61 399 701 702 703 100
    $EGID = 20 20 12 61 399 701 702 703 100

Perl module toolchain versions installed:

    Module              Have    
    ------------------- --------
    CPAN                2.27    
    CPAN::Meta          2.150010
    Cwd                 3.78    
    ExtUtils::CBuilder  0.280234
    ExtUtils::Command   7.44    
    ExtUtils::Install   2.14    
    ExtUtils::MakeMaker 7.44    
    ExtUtils::Manifest  1.72    
    ExtUtils::ParseXS   3.40    
    File::Spec          3.78    
    JSON                4.02    
    JSON::PP            4.04    
    Module::Build       0.4231  
    Module::Signature   n/a     
    Parse::CPAN::Meta   2.150010
    Test::Harness       3.42    
    Test::More          1.302175
    YAML                1.30    
    YAML::Syck          1.32    
    version             0.9924  


--

Summary of my perl5 (revision 5 version 31 subversion 12) configuration:
  Commit id: 28546032c2df8b42a1df19f7c100efc4823af9f2
  Platform:
    osname=darwin
    osvers=19.5.0
    archname=darwin-thread-multi-2level
    uname='darwin cjg-mac.local 19.5.0 darwin kernel version 19.5.0: thu apr 30 18:25:59 pdt 2020; root:xnu-6153.121.1~7release_x86_64 x86_64 '
    config_args='-des -Dprefix=~/bin/perl-blead -Dscriptdir=~/bin/perl-blead/bin -Dusedevel -Duse64bitall -Duseithreads'
    hint=recommended
    useposix=true
    d_sigaction=define
    useithreads=define
    usemultiplicity=define
    use64bitint=define
    use64bitall=define
    uselongdouble=undef
    usemymalloc=n
    default_inc_excludes_dot=define
    bincompat5005=undef
  Compiler:
    cc='cc'
    ccflags ='-fno-common -DPERL_DARWIN -mmacosx-version-min=10.15 -arch x86_64 -fno-strict-aliasing -pipe -fstack-protector-strong -I/usr/local/include -DPERL_USE_SAFE_PUTENV'
    optimize='-O3'
    cppflags='-arch x86_64 -fno-common -DPERL_DARWIN -mmacosx-version-min=10.15 -arch x86_64 -fno-strict-aliasing -pipe -fstack-protector-strong -I/usr/local/include'
    ccversion=''
    gccversion='4.2.1 Compatible Apple LLVM 11.0.3 (clang-1103.0.32.62)'
    gccosandvers=''
    intsize=4
    longsize=8
    ptrsize=8
    doublesize=8
    byteorder=12345678
    doublekind=3
    d_longlong=define
    longlongsize=8
    d_longdbl=define
    longdblsize=16
    longdblkind=3
    ivtype='long'
    ivsize=8
    nvtype='double'
    nvsize=8
    Off_t='off_t'
    lseeksize=8
    alignbytes=8
    prototype=define
  Linker and Libraries:
    ld='cc -arch x86_64'
    ldflags =' -mmacosx-version-min=10.15 -arch x86_64 -fstack-protector-strong -L/usr/local/lib'
    libpth=/usr/local/lib /Applications/Xcode.app/Contents/Developer/Toolchains/XcodeDefault.xctoolchain/usr/lib/clang/11.0.3/lib /Applications/Xcode.app/Contents/Developer/Platforms/MacOSX.platform/Developer/SDKs/MacOSX.sdk/usr/lib /Applications/Xcode.app/Contents/Developer/Toolchains/XcodeDefault.xctoolchain/usr/lib /usr/lib
    libs=-lpthread -ldbm -ldl -lm -lutil -lc
    perllibs=-lpthread -ldl -lm -lutil -lc
    libc=
    so=dylib
    useshrplib=false
    libperl=libperl.a
    gnulibc_version=''
  Dynamic Linking:
    dlsrc=dl_dlopen.xs
    dlext=bundle
    d_dlsymun=undef
    ccdlflags=' '
    cccdlflags=' '
    lddlflags=' -mmacosx-version-min=10.15 -bundle -undefined dynamic_lookup -L/usr/local/lib -fstack-protector-strong'


Characteristics of this binary (from libperl): 
  Compile-time options:
    HAS_TIMES
    MULTIPLICITY
    PERLIO_LAYERS
    PERL_COPY_ON_WRITE
    PERL_DONT_CREATE_GVSV
    PERL_IMPLICIT_CONTEXT
    PERL_MALLOC_WRAP
    PERL_OP_PARENT
    PERL_PRESERVE_IVUV
    PERL_USE_DEVEL
    PERL_USE_SAFE_PUTENV
    USE_64_BIT_ALL
    USE_64_BIT_INT
    USE_ITHREADS
    USE_LARGE_FILES
    USE_LOCALE
    USE_LOCALE_COLLATE
    USE_LOCALE_CTYPE
    USE_LOCALE_NUMERIC
    USE_LOCALE_TIME
    USE_PERLIO
    USE_PERL_ATOF
    USE_REENTRANT_API
    USE_THREAD_SAFE_LOCALE
  Built under darwin
  Compiled at May 29 2020 18:51:02
  %ENV:
    PERL5LIB=""
    PERL5OPT=""
    PERL5_CPANPLUS_IS_RUNNING="64037"
    PERL5_CPAN_IS_RUNNING="64037"
    PERL_MM_USE_DEFAULT="1"
    PERL_USE_UNSAFE_INC="1"
  @INC:
    /Users/cpan/bin/perl-blead/lib/site_perl/5.31.12/darwin-thread-multi-2level
    /Users/cpan/bin/perl-blead/lib/site_perl/5.31.12
    /Users/cpan/bin/perl-blead/lib/5.31.12/darwin-thread-multi-2level
    /Users/cpan/bin/perl-blead/lib/5.31.12
    .