Back
From: metabase:user:320bfe00-2aae-11df-837a-5e0a49663a4f
Subject: PASS Catalyst-Engine-Apache-1.16 v5.16.3 GNU/Linux
Date: 2013-06-22T14:12:30Z
This distribution has been tested as part of the CPAN Testers
project, supporting the Perl programming language. See
http://wiki.cpantesters.org/ for more information or email
questions to cpan-testers-discuss@perl.org
--
Dear Florian Ragwitz,
This is a computer-generated report for Catalyst-Engine-Apache-1.16
on perl 5.16.3, created by CPAN-Reporter-1.2010.
Thank you for uploading your work to CPAN. Congratulations!
All tests were successful.
Sections of this report:
* Tester comments
* Program output
* Prerequisites
* Environment and other context
------------------------------
TESTER COMMENTS
------------------------------
Additional comments from tester:
this report is from an automated smoke testing program
and was not reviewed by a human for accuracy
------------------------------
PROGRAM OUTPUT
------------------------------
Output from '/usr/bin/make test':
PERL_DL_NONLAZY=1 /home/sand/src/perl/repoperls/installed-perls/perl/v5.16.3/9980/bin/perl "-MExtUtils::Command::MM" "-e" "test_harness(0, 'blib/lib', 'blib/arch')" t/*.t
t/00compiles.t ........................................... ok
t/author-live_component_controller_action_action.t ....... skipped: these tests are for testing by the author
t/author-live_component_controller_action_auto.t ......... skipped: these tests are for testing by the author
t/author-live_component_controller_action_begin.t ........ skipped: these tests are for testing by the author
t/author-live_component_controller_action_chained.t ...... skipped: these tests are for testing by the author
t/author-live_component_controller_action_default.t ...... skipped: these tests are for testing by the author
t/author-live_component_controller_action_detach.t ....... skipped: these tests are for testing by the author
t/author-live_component_controller_action_end.t .......... skipped: these tests are for testing by the author
t/author-live_component_controller_action_forward.t ...... skipped: these tests are for testing by the author
t/author-live_component_controller_action_global.t ....... skipped: these tests are for testing by the author
t/author-live_component_controller_action_index.t ........ skipped: these tests are for testing by the author
t/author-live_component_controller_action_inheritance.t .. skipped: these tests are for testing by the author
t/author-live_component_controller_action_local.t ........ skipped: these tests are for testing by the author
t/author-live_component_controller_action_multipath.t .... skipped: these tests are for testing by the author
t/author-live_component_controller_action_path.t ......... skipped: these tests are for testing by the author
t/author-live_component_controller_action_private.t ...... skipped: these tests are for testing by the author
t/author-live_component_controller_action_regexp.t ....... skipped: these tests are for testing by the author
t/author-live_component_controller_action_streaming.t .... skipped: these tests are for testing by the author
t/author-live_component_controller_args.t ................ skipped: these tests are for testing by the author
t/author-live_engine_request_body.t ...................... skipped: these tests are for testing by the author
t/author-live_engine_request_body_demand.t ............... skipped: these tests are for testing by the author
t/author-live_engine_request_cookies.t ................... skipped: these tests are for testing by the author
t/author-live_engine_request_headers.t ................... skipped: these tests are for testing by the author
t/author-live_engine_request_parameters.t ................ skipped: these tests are for testing by the author
t/author-live_engine_request_uploads.t ................... skipped: these tests are for testing by the author
t/author-live_engine_request_uri.t ....................... skipped: these tests are for testing by the author
t/author-live_engine_response_cookies.t .................. skipped: these tests are for testing by the author
t/author-live_engine_response_errors.t ................... skipped: these tests are for testing by the author
t/author-live_engine_response_headers.t .................. skipped: these tests are for testing by the author
t/author-live_engine_response_large.t .................... skipped: these tests are for testing by the author
t/author-live_engine_response_redirect.t ................. skipped: these tests are for testing by the author
t/author-live_engine_response_status.t ................... skipped: these tests are for testing by the author
t/author-live_engine_setup_basics.t ...................... skipped: these tests are for testing by the author
t/author-live_engine_setup_plugins.t ..................... skipped: these tests are for testing by the author
t/author-live_fork.t ..................................... skipped: these tests are for testing by the author
t/author-live_loop.t ..................................... skipped: these tests are for testing by the author
t/author-live_plugin_loaded.t ............................ skipped: these tests are for testing by the author
t/author-live_priorities.t ............................... skipped: these tests are for testing by the author
t/author-live_recursion.t ................................ skipped: these tests are for testing by the author
t/author-notabs.t ........................................ skipped: these tests are for testing by the author
t/author-pod.t ........................................... skipped: these tests are for testing by the author
t/author-podcoverage.t ................................... skipped: these tests are for testing by the author
t/release-no-tabs.t ...................................... skipped: these tests are for release candidate testing
t/release-pod-syntax.t ................................... skipped: these tests are for release candidate testing
All tests successful.
Files=44, Tests=1, 3 wallclock secs ( 0.11 usr 0.04 sys + 1.07 cusr 0.09 csys = 1.31 CPU)
Result: PASS
------------------------------
PREREQUISITES
------------------------------
Prerequisite modules loaded:
requires:
Module Need Have
------------------- ---- -------
Catalyst::Runtime 5.80 5.90042
configure_requires:
Module Need Have
------------------- ---- -------
ExtUtils::MakeMaker 6.31 6.69_01
------------------------------
ENVIRONMENT AND OTHER CONTEXT
------------------------------
Environment variables:
AUTOMATED_TESTING = 1
LANG = en_US.UTF-8
LANGUAGE = en_US:en
PATH = /usr/lib/ccache:/home/sand/bin:/usr/local/bin:/usr/bin:/bin:/usr/bin/X11:/usr/games:/usr/local/perl/bin:/usr/X11/bin:/sbin:/usr/sbin
PERL5LIB =
PERL5OPT =
PERL5_CPANPLUS_IS_RUNNING = 14213
PERL5_CPAN_IS_RUNNING = 14213
PERL_MM_USE_DEFAULT = 1
SHELL = /usr/bin/zsh
TERM = screen
Perl special variables (and OS-specific diagnostics, for MSWin32):
$^X = /home/sand/src/perl/repoperls/installed-perls/perl/v5.16.3/9980/bin/perl
$UID/$EUID = 1005 / 1005
$GID = 1005 1005
$EGID = 1005 1005
Perl module toolchain versions installed:
Module Have
------------------- --------
CPAN 2.00
CPAN::Meta 2.131560
Cwd 3.40
ExtUtils::CBuilder 0.280206
ExtUtils::Command 1.17
ExtUtils::Install 1.58
ExtUtils::MakeMaker 6.69_01
ExtUtils::Manifest 1.61
ExtUtils::ParseXS 3.18_04
File::Spec 3.40
JSON 2.59
JSON::PP 2.27202
Module::Build 0.4005
Module::Signature 0.73
Parse::CPAN::Meta 1.4404
Test::Harness 3.28
Test::More 0.98
YAML 0.84
YAML::Syck 1.27
version 0.9902
--
Summary of my perl5 (revision 5 version 16 subversion 3) configuration:
Commit id: fd04d42d38f4751b981eb6e9213ee1ab8ef11ea6
Platform:
osname=linux, osvers=3.2.0-4-amd64, archname=x86_64-linux-thread-multi
uname='linux k83 3.2.0-4-amd64 #1 smp debian 3.2.39-2 x86_64 gnulinux '
config_args='-Dprefix=/home/src/perl/repoperls/installed-perls/perl/v5.16.3/9980 -Dmyhostname=k83 -Dinstallusrbinperl=n -Uversiononly -Dusedevel -des -Ui_db -Duseithreads -Uuselongdouble -DDEBUGGING=-g'
hint=recommended, useposix=true, d_sigaction=define
useithreads=define, usemultiplicity=define
useperlio=define, d_sfio=undef, uselargefiles=define, usesocks=undef
use64bitint=define, use64bitall=define, uselongdouble=undef
usemymalloc=n, bincompat5005=undef
Compiler:
cc='cc', ccflags ='-D_REENTRANT -D_GNU_SOURCE -fno-strict-aliasing -pipe -fstack-protector -I/usr/local/include -D_LARGEFILE_SOURCE -D_FILE_OFFSET_BITS=64',
optimize='-O2 -g',
cppflags='-D_REENTRANT -D_GNU_SOURCE -fno-strict-aliasing -pipe -fstack-protector -I/usr/local/include'
ccversion='', gccversion='4.7.2', gccosandvers=''
intsize=4, longsize=8, ptrsize=8, doublesize=8, byteorder=12345678
d_longlong=define, longlongsize=8, d_longdbl=define, longdblsize=16
ivtype='long', ivsize=8, nvtype='double', nvsize=8, Off_t='off_t', lseeksize=8
alignbytes=8, prototype=define
Linker and Libraries:
ld='cc', ldflags =' -fstack-protector -L/usr/local/lib'
libpth=/usr/local/lib /lib/x86_64-linux-gnu /lib/../lib /usr/lib/x86_64-linux-gnu /usr/lib/../lib /lib /usr/lib
libs=-lnsl -lgdbm -ldb -ldl -lm -lcrypt -lutil -lpthread -lc -lgdbm_compat
perllibs=-lnsl -ldl -lm -lcrypt -lutil -lpthread -lc
libc=, so=so, useshrplib=false, libperl=libperl.a
gnulibc_version='2.13'
Dynamic Linking:
dlsrc=dl_dlopen.xs, dlext=so, d_dlsymun=undef, ccdlflags='-Wl,-E'
cccdlflags='-fPIC', lddlflags='-shared -O2 -g -L/usr/local/lib -fstack-protector'
Characteristics of this binary (from libperl):
Compile-time options: HAS_TIMES MULTIPLICITY PERLIO_LAYERS
PERL_DONT_CREATE_GVSV PERL_IMPLICIT_CONTEXT
PERL_MALLOC_WRAP PERL_PRESERVE_IVUV PERL_USE_DEVEL
USE_64_BIT_ALL USE_64_BIT_INT USE_ITHREADS
USE_LARGE_FILES USE_LOCALE USE_LOCALE_COLLATE
USE_LOCALE_CTYPE USE_LOCALE_NUMERIC USE_PERLIO
USE_PERL_ATOF USE_REENTRANT_API
Built under linux
Compiled at Mar 13 2013 08:11:15
%ENV:
PERL5LIB=""
PERL5OPT=""
PERL5_CPANPLUS_IS_RUNNING="14213"
PERL5_CPAN_IS_RUNNING="14213"
PERL_MM_USE_DEFAULT="1"
@INC:
/home/src/perl/repoperls/installed-perls/perl/v5.16.3/9980/lib/site_perl/5.16.3/x86_64-linux-thread-multi
/home/src/perl/repoperls/installed-perls/perl/v5.16.3/9980/lib/site_perl/5.16.3
/home/src/perl/repoperls/installed-perls/perl/v5.16.3/9980/lib/5.16.3/x86_64-linux-thread-multi
/home/src/perl/repoperls/installed-perls/perl/v5.16.3/9980/lib/5.16.3
.