MooseX-ConfigFromFile v0.14 Perl 5 v5.38.2 MSWin32-x64-multi-thread

Status
Pass
From
LNATION
Dist
MooseX-ConfigFromFile v0.14
Platform
Perl 5 v5.38.2 MSWin32-x64-multi-thread
Date
2025-05-15 14:11:04
ID
c64d556e-6bfa-1014-8029-92ea3fe0fa29
This distribution has been tested as part of the CPAN Testers
project, supporting the Perl programming language.  See
http://wiki.cpantesters.org/ for more information or email
questions to cpan-testers-discuss@perl.org


--
Dear Karen Etheridge,

This is a computer-generated report for MooseX-ConfigFromFile-0.14
on perl 5.38.2, created by CPAN-Reporter-1.2020.

Thank you for uploading your work to CPAN.  Congratulations!
All tests were successful.

Sections of this report:

    * Tester comments
    * Program output
    * Prerequisites
    * Environment and other context

------------------------------
TESTER COMMENTS
------------------------------

Additional comments from tester:

this report is from an automated smoke testing program
and was not reviewed by a human for accuracy

------------------------------
PROGRAM OUTPUT
------------------------------

Output from 'C:\Strawberry\perl\bin\perl.exe ./Build test':

# 
# Versions for all modules listed in MYMETA.json (including optional ones):
# 
# === Configure Requires ===
# 
#     Module               Want  Have
#     ------------------- ----- -----
#     Module::Build::Tiny 0.007 0.047
# 
# === Test Requires ===
# 
#     Module                Want     Have
#     --------------------- ---- --------
#     ExtUtils::MakeMaker    any     7.70
#     File::Spec             any     3.88
#     Moose                  any   2.2206
#     Scalar::Util           any     1.63
#     Test::Deep             any    1.204
#     Test::Fatal            any    0.017
#     Test::More            0.88 1.302198
#     Test::Requires         any     0.11
#     Test::Without::Module  any     0.21
#     if                     any   0.0610
#     strict                 any     1.12
# 
# === Test Recommends ===
# 
#     Module             Want     Have
#     -------------- -------- --------
#     CPAN::Meta     2.120900 2.150010
#     MooseX::Getopt      any     0.78
# 
# === Runtime Requires ===
# 
#     Module                     Want   Have
#     ------------------------- ----- ------
#     Carp                        any   1.54
#     Moose::Role                 any 2.2206
#     MooseX::Types::Moose        any   0.50
#     MooseX::Types::Path::Tiny 0.005  0.012
#     namespace::autoclean        any   0.29
#     warnings                    any   1.65
# 
# === Other Modules ===
# 
#     Module        Have
#     ------------- ----
#     Pod::Coverage 0.23
# 
t/00-report-prereqs.t .... ok
t/01use.t ................ ok
t/02subclass.t ........... ok
t/03configfile_method.t .. ok
t/04a_getopt.t ........... ok
t/04b_getopt.t ........... ok
t/05_default_sub.t ....... ok
t/zzz-check-breaks.t ..... ok
All tests successful.
Files=8, Tests=63,  7 wallclock secs ( 0.03 usr +  0.06 sys =  0.09 CPU)
Result: PASS

------------------------------
PREREQUISITES
------------------------------

Prerequisite modules loaded:

requires:

    Module                    Need     Have    
    ------------------------- -------- --------
    Carp                      0        1.54    
    Moose::Role               0        2.2206  
    MooseX::Types::Moose      0        0.50    
    MooseX::Types::Path::Tiny 0.005    0.012   
    namespace::autoclean      0        0.29    
    perl                      5.006    5.038002
    warnings                  0        1.65    

build_requires:

    Module                    Need     Have    
    ------------------------- -------- --------
    ExtUtils::MakeMaker       0        7.70    
    File::Spec                0        3.88    
    if                        0        0.0610  
    Moose                     0        2.2206  
    perl                      5.006    5.038002
    Scalar::Util              0        1.63    
    strict                    0        1.12    
    Test::Deep                0        1.204   
    Test::Fatal               0        0.017   
    Test::More                0.88     1.302198
    Test::Requires            0        0.11    
    Test::Without::Module     0        0.21    

configure_requires:

    Module                    Need     Have    
    ------------------------- -------- --------
    Module::Build::Tiny       0.007    0.047   
    perl                      5.006    5.038002

opt_build_requires:

    Module                    Need     Have    
    ------------------------- -------- --------
    CPAN::Meta                2.120900 2.150010
    MooseX::Getopt            0        0.78    


------------------------------
ENVIRONMENT AND OTHER CONTEXT
------------------------------

Environment variables:

    AUTOMATED_TESTING = 1
    COMSPEC = C:\Windows\system32\cmd.exe
    NUMBER_OF_PROCESSORS = 2
    PATH = C:\Windows\system32;C:\Windows;C:\Windows\System32\Wbem;C:\Windows\System32\WindowsPowerShell\v1.0\;C:\Windows\System32\OpenSSH\;C:\Program Files\Amazon\cfn-bootstrap\;C:\Strawberry\c\bin;C:\Strawberry\perl\site\bin;C:\Strawberry\perl\bin;C:\Users\Administrator\AppData\Local\Microsoft\WindowsApps;
    PERL5LIB = C:\STRAWB~1\cpan\build\MooseX-Types-Path-Tiny-0.012-0/blib/arch;C:\STRAWB~1\cpan\build\MooseX-Types-Path-Tiny-0.012-0/blib/lib;C:\STRAWB~1\cpan\build\MooseX-Types-Stringlike-0.003-0/blib/arch;C:\STRAWB~1\cpan\build\MooseX-Types-Stringlike-0.003-0/blib/lib;C:\STRAWB~1\cpan\build\MooseX-Getopt-0.78-0/blib/arch;C:\STRAWB~1\cpan\build\MooseX-Getopt-0.78-0/blib/lib;C:\STRAWB~1\cpan\build\Test-Trap-v0.3.5-0/blib/arch;C:\STRAWB~1\cpan\build\Test-Trap-v0.3.5-0/blib/lib;C:\STRAWB~1\cpan\build\Getopt-Long-Descriptive-0.116-0/blib/arch;C:\STRAWB~1\cpan\build\Getopt-Long-Descriptive-0.116-0/blib/lib;C:\STRAWB~1\cpan\build\Params-Validate-1.31-0/blib/arch;C:\STRAWB~1\cpan\build\Params-Validate-1.31-0/blib/lib;C:\STRAWB~1\cpan\build\MooseX-Emulate-Class-Accessor-Fast-0.009032-0/blib/arch;C:\STRAWB~1\cpan\build\MooseX-Emulate-Class-Accessor-Fast-0.009032-0/blib/lib;C:\STRAWB~1\cpan\build\Hash-MultiValue-0.16-0/blib/arch;C:\STRAWB~1\cpan\build\Hash-MultiValue-0.16-0/blib/lib;C:\STRAWB~1\cpan\build\HTTP-Body-1.23-0/blib/arch;C:\STRAWB~1\cpan\build\HTTP-Body-1.23-0/blib/lib;C:\STRAWB~1\cpan\build\Class-C3-Adopt-NEXT-0.14-0/blib/arch;C:\STRAWB~1\cpan\build\Class-C3-Adopt-NEXT-0.14-0/blib/lib;C:\STRAWB~1\cpan\build\CGI-Struct-1.21-0/blib/arch;C:\STRAWB~1\cpan\build\CGI-Struct-1.21-0/blib/lib;C:\STRAWB~1\cpan\build\CGI-Simple-1.281-0/blib/arch;C:\STRAWB~1\cpan\build\CGI-Simple-1.281-0/blib/lib
    PERL5OPT = 
    PERL5_CPANPLUS_IS_RUNNING = 7480
    PERL5_CPAN_IS_RUNNING = 7480
    PERL5_CPAN_IS_RUNNING_IN_RECURSION = 7900,7480
    PERL_CR_SMOKER_CURRENT = Catalyst-Plugin-OIDC-0.02
    PERL_EXTUTILS_AUTOINSTALL = --defaultdeps
    PERL_MM_USE_DEFAULT = 1
    PERL_USE_UNSAFE_INC = 1
    PROCESSOR_IDENTIFIER = Intel64 Family 6 Model 85 Stepping 7, GenuineIntel
    TEMP = C:\Users\ADMINI~1\AppData\Local\Temp\2

Perl special variables (and OS-specific diagnostics, for MSWin32):

    $^X = C:\Strawberry\perl\bin\perl.exe
    $UID/$EUID = 0 / 0
    $GID = 0
    $EGID = 0
    Win32::GetOSName = WinServer
    Win32::GetOSVersion = , 10, 0, 26100, 2, 0, 0, 400, 3
    Win32::FsType = NTFS
    Win32::IsAdminUser = 1

Perl module toolchain versions installed:

    Module              Have    
    ------------------- --------
    CPAN                2.36    
    CPAN::Meta          2.150010
    Cwd                 3.89    
    ExtUtils::CBuilder  0.280238
    ExtUtils::Command   7.70    
    ExtUtils::Install   2.22    
    ExtUtils::MakeMaker 7.70    
    ExtUtils::Manifest  1.75    
    ExtUtils::ParseXS   3.51    
    File::Spec          3.88    
    JSON                4.10    
    JSON::PP            4.16    
    Module::Build       0.4234  
    Module::Signature   n/a     
    Parse::CPAN::Meta   2.150010
    Test2               1.302198
    Test::Harness       3.48    
    Test::More          1.302198
    YAML                1.30    
    YAML::Syck          n/a     
    version             0.9930  


--

Summary of my perl5 (revision 5 version 38 subversion 2) configuration:
   
  Platform:
    osname=MSWin32
    osvers=10.0.19045.3693
    archname=MSWin32-x64-multi-thread
    uname='Win32 strawberry-perl 5.38.2.2 # 06:03:00 Mon December 11 2023 x64'
    config_args='undef'
    hint=recommended
    useposix=true
    d_sigaction=undef
    useithreads=define
    usemultiplicity=define
    use64bitint=define
    use64bitall=undef
    uselongdouble=undef
    usemymalloc=n
    default_inc_excludes_dot=define
  Compiler:
    cc='gcc'
    ccflags =' -DWIN32 -DWIN64 -DPERL_TEXTMODE_SCRIPTS -DMULTIPLICITY -DPERL_IMPLICIT_SYS -DUSE_PERLIO -D__USE_MINGW_ANSI_STDIO -fwrapv -fno-strict-aliasing -mms-bitfields'
    optimize='-Os -falign-functions -falign-jumps -falign-labels -falign-loops -freorder-blocks -freorder-blocks-algorithm=stc -freorder-blocks-and-partition'
    cppflags='-DWIN32'
    ccversion=''
    gccversion='13.1.0'
    gccosandvers=''
    intsize=4
    longsize=4
    ptrsize=8
    doublesize=8
    byteorder=12345678
    doublekind=3
    d_longlong=define
    longlongsize=8
    d_longdbl=define
    longdblsize=16
    longdblkind=3
    ivtype='long long'
    ivsize=8
    nvtype='double'
    nvsize=8
    Off_t='long long'
    lseeksize=8
    alignbytes=8
    prototype=define
  Linker and Libraries:
    ld='g++'
    ldflags ='-s -L"C:\STRAWB~1\perl\lib\CORE" -L"C:\STRAWB~1\c\lib" -L"C:\STRAWB~1\c\x86_64-w64-mingw32\lib" -L"C:\STRAWB~1\c\lib\gcc\x86_64-w64-mingw32\13.1.0"'
    libpth=C:\STRAWB~1\c\lib C:\STRAWB~1\c\x86_64-w64-mingw32\lib C:\STRAWB~1\c\lib\gcc\x86_64-w64-mingw32\13.1.0 C:\STRAWB~1\c\x86_64-w64-mingw32\lib C:\STRAWB~1\c\lib\gcc\x86_64-w64-mingw32\13.1.0
    libs= -lmoldname -lkernel32 -luser32 -lgdi32 -lwinspool -lcomdlg32 -ladvapi32 -lshell32 -lole32 -loleaut32 -lnetapi32 -luuid -lws2_32 -lmpr -lwinmm -lversion -lodbc32 -lodbccp32 -lcomctl32
    perllibs= -lmoldname -lkernel32 -luser32 -lgdi32 -lwinspool -lcomdlg32 -ladvapi32 -lshell32 -lole32 -loleaut32 -lnetapi32 -luuid -lws2_32 -lmpr -lwinmm -lversion -lodbc32 -lodbccp32 -lcomctl32
    libc=
    so=dll
    useshrplib=true
    libperl=libperl538.a
    gnulibc_version=''
  Dynamic Linking:
    dlsrc=dl_win32.xs
    dlext=xs.dll
    d_dlsymun=undef
    ccdlflags=' '
    cccdlflags=' '
    lddlflags='-shared -s -L"C:\STRAWB~1\perl\lib\CORE" -L"C:\STRAWB~1\c\lib" -L"C:\STRAWB~1\c\x86_64-w64-mingw32\lib" -L"C:\STRAWB~1\c\lib\gcc\x86_64-w64-mingw32\13.1.0"'


Characteristics of this binary (from libperl): 
  Compile-time options:
    HAS_LONG_DOUBLE
    HAS_TIMES
    HAVE_INTERP_INTERN
    MULTIPLICITY
    PERLIO_LAYERS
    PERL_COPY_ON_WRITE
    PERL_DONT_CREATE_GVSV
    PERL_HASH_FUNC_SIPHASH13
    PERL_HASH_USE_SBOX32
    PERL_IMPLICIT_SYS
    PERL_MALLOC_WRAP
    PERL_OP_PARENT
    PERL_PRESERVE_IVUV
    PERL_USE_SAFE_PUTENV
    USE_64_BIT_INT
    USE_ITHREADS
    USE_LARGE_FILES
    USE_LOCALE
    USE_LOCALE_COLLATE
    USE_LOCALE_CTYPE
    USE_LOCALE_NUMERIC
    USE_LOCALE_TIME
    USE_PERLIO
    USE_PERL_ATOF
  Built under MSWin32
  Compiled at Dec 11 2023 17:03:26
  %ENV:
    PERL5LIB="C:\STRAWB~1\cpan\build\MooseX-Types-Path-Tiny-0.012-0/blib/arch;C:\STRAWB~1\cpan\build\MooseX-Types-Path-Tiny-0.012-0/blib/lib;C:\STRAWB~1\cpan\build\MooseX-Types-Stringlike-0.003-0/blib/arch;C:\STRAWB~1\cpan\build\MooseX-Types-Stringlike-0.003-0/blib/lib;C:\STRAWB~1\cpan\build\MooseX-Getopt-0.78-0/blib/arch;C:\STRAWB~1\cpan\build\MooseX-Getopt-0.78-0/blib/lib;C:\STRAWB~1\cpan\build\Test-Trap-v0.3.5-0/blib/arch;C:\STRAWB~1\cpan\build\Test-Trap-v0.3.5-0/blib/lib;C:\STRAWB~1\cpan\build\Getopt-Long-Descriptive-0.116-0/blib/arch;C:\STRAWB~1\cpan\build\Getopt-Long-Descriptive-0.116-0/blib/lib;C:\STRAWB~1\cpan\build\Params-Validate-1.31-0/blib/arch;C:\STRAWB~1\cpan\build\Params-Validate-1.31-0/blib/lib;C:\STRAWB~1\cpan\build\MooseX-Emulate-Class-Accessor-Fast-0.009032-0/blib/arch;C:\STRAWB~1\cpan\build\MooseX-Emulate-Class-Accessor-Fast-0.009032-0/blib/lib;C:\STRAWB~1\cpan\build\Hash-MultiValue-0.16-0/blib/arch;C:\STRAWB~1\cpan\build\Hash-MultiValue-0.16-0/blib/lib;C:\STRAWB~1\cpan\build\HTTP-Body-1.23-0/blib/arch;C:\STRAWB~1\cpan\build\HTTP-Body-1.23-0/blib/lib;C:\STRAWB~1\cpan\build\Class-C3-Adopt-NEXT-0.14-0/blib/arch;C:\STRAWB~1\cpan\build\Class-C3-Adopt-NEXT-0.14-0/blib/lib;C:\STRAWB~1\cpan\build\CGI-Struct-1.21-0/blib/arch;C:\STRAWB~1\cpan\build\CGI-Struct-1.21-0/blib/lib;C:\STRAWB~1\cpan\build\CGI-Simple-1.281-0/blib/arch;C:\STRAWB~1\cpan\build\CGI-Simple-1.281-0/blib/lib"
    PERL5_CPANPLUS_IS_RUNNING="7480"
    PERL5_CPAN_IS_RUNNING="7480"
    PERL5_CPAN_IS_RUNNING_IN_RECURSION="7900,7480"
    PERL_CR_SMOKER_CURRENT="Catalyst-Plugin-OIDC-0.02"
    PERL_EXTUTILS_AUTOINSTALL="--defaultdeps"
    PERL_MM_USE_DEFAULT="1"
    PERL_USE_UNSAFE_INC="1"
  @INC:
    C:\STRAWB~1\cpan\build\MooseX-Types-Path-Tiny-0.012-0/blib/arch
    C:\STRAWB~1\cpan\build\MooseX-Types-Path-Tiny-0.012-0/blib/lib
    C:\STRAWB~1\cpan\build\MooseX-Types-Stringlike-0.003-0/blib/arch
    C:\STRAWB~1\cpan\build\MooseX-Types-Stringlike-0.003-0/blib/lib
    C:\STRAWB~1\cpan\build\MooseX-Getopt-0.78-0/blib/arch
    C:\STRAWB~1\cpan\build\MooseX-Getopt-0.78-0/blib/lib
    C:\STRAWB~1\cpan\build\Test-Trap-v0.3.5-0/blib/arch
    C:\STRAWB~1\cpan\build\Test-Trap-v0.3.5-0/blib/lib
    C:\STRAWB~1\cpan\build\Getopt-Long-Descriptive-0.116-0/blib/arch
    C:\STRAWB~1\cpan\build\Getopt-Long-Descriptive-0.116-0/blib/lib
    C:\STRAWB~1\cpan\build\Params-Validate-1.31-0/blib/arch
    C:\STRAWB~1\cpan\build\Params-Validate-1.31-0/blib/lib
    C:\STRAWB~1\cpan\build\MooseX-Emulate-Class-Accessor-Fast-0.009032-0/blib/arch
    C:\STRAWB~1\cpan\build\MooseX-Emulate-Class-Accessor-Fast-0.009032-0/blib/lib
    C:\STRAWB~1\cpan\build\Hash-MultiValue-0.16-0/blib/arch
    C:\STRAWB~1\cpan\build\Hash-MultiValue-0.16-0/blib/lib
    C:\STRAWB~1\cpan\build\HTTP-Body-1.23-0/blib/arch
    C:\STRAWB~1\cpan\build\HTTP-Body-1.23-0/blib/lib
    C:\STRAWB~1\cpan\build\Class-C3-Adopt-NEXT-0.14-0/blib/arch
    C:\STRAWB~1\cpan\build\Class-C3-Adopt-NEXT-0.14-0/blib/lib
    C:\STRAWB~1\cpan\build\CGI-Struct-1.21-0/blib/arch
    C:\STRAWB~1\cpan\build\CGI-Struct-1.21-0/blib/lib
    C:\STRAWB~1\cpan\build\CGI-Simple-1.281-0/blib/arch
    C:\STRAWB~1\cpan\build\CGI-Simple-1.281-0/blib/lib
    C:/Strawberry/perl/site/lib
    C:/Strawberry/perl/vendor/lib
    C:/Strawberry/perl/lib
    .