Report for PerlIO-utf8_strict-0.004

Back
From: metabase:user:5bbb2efa-715f-11e3-8cc1-b2993ff2e0c7
Subject: PASS PerlIO-utf8_strict-0.004 v5.18.2 
Date: 2014-05-14T13:15:53Z

This distribution has been tested as part of the CPAN Testers
project, supporting the Perl programming language.  See
http://wiki.cpantesters.org/ for more information or email
questions to cpan-testers-discuss@perl.org


--
Dear LEONT,

This is a computer-generated report for PerlIO-utf8_strict-0.004
on perl 5.18.2, created by NX::cpanminus::reporter 0.10 (1.7001).

Thank you for uploading your work to CPAN.  Congratulations!
All tests were successful.

Sections of this report:

    * Tester comments
    * Program output
    * Prerequisites
    * Environment and other context

------------------------------
TESTER COMMENTS
------------------------------

Additional comments from tester:

none provided

------------------------------
PROGRAM OUTPUT
------------------------------

Output from '':

Building and testing PerlIO-utf8_strict-0.004
Building PerlIO-utf8_strict
gcc -c -s -O2 -DWIN32  -DPERL_TEXTMODE_SCRIPTS -DPERL_IMPLICIT_CONTEXT -DPERL_IMPLICIT_SYS -DUSE_PERLIO -fno-strict-aliasing -mms-bitfields -s -O2 "-DVERSION=\"0.004\"" "-DXS_VERSION=\"0.004\"" -I"N:\lang\perl\strawberry\x86\5.18.2\perl\lib\CORE" -I"N:\lang\perl\strawberry\x86\5.18.2\c\include" -o "lib\PerlIO\utf8_strict.o" "lib\PerlIO\utf8_strict.c"
ExtUtils::Mkbootstrap::Mkbootstrap('blib\arch\auto\PerlIO\utf8_strict\utf8_strict.bs')
Generating script 'lib\PerlIO\utf8_strict.lds'
dlltool --def "lib\PerlIO\utf8_strict.def" --output-exp "lib\PerlIO\utf8_strict.exp"
g++ -o "blib\arch\auto\PerlIO\utf8_strict\utf8_strict.dll" -Wl,--base-file,"lib\PerlIO\utf8_strict.base" -Wl,--image-base,0x2a070000 -mdll -s -L"N:\lang\perl\strawberry\x86\5.18.2\perl\lib\CORE" -L"N:\lang\perl\strawberry\x86\5.18.2\c\lib" "lib\PerlIO\utf8_strict.lds" "lib\PerlIO\utf8_strict.exp"
dlltool --def "lib\PerlIO\utf8_strict.def" --output-exp "lib\PerlIO\utf8_strict.exp" --base-file "lib\PerlIO\utf8_strict.base"
g++ -o "blib\arch\auto\PerlIO\utf8_strict\utf8_strict.dll" -Wl,--image-base,0x2a070000 -mdll -s -L"N:\lang\perl\strawberry\x86\5.18.2\perl\lib\CORE" -L"N:\lang\perl\strawberry\x86\5.18.2\c\lib" "lib\PerlIO\utf8_strict.lds" "lib\PerlIO\utf8_strict.exp"
t/00-compile.t ............ ok
t/basics.t ................ ok
t/bug.t ................... ok
t/incomplete.t ............ ok
t/non-shortest-form.t ..... ok
t/noncharacters.t ......... ok
t/release-pod-coverage.t .. skipped: these tests are for release candidate testing
t/release-pod-syntax.t .... skipped: these tests are for release candidate testing
t/super.t ................. ok
t/surrogates.t ............ ok
t/unicode.t ............... ok
All tests successful.
Files=11, Tests=5817,  6 wallclock secs ( 0.38 usr +  0.05 sys =  0.42 CPU)
Result: PASS

------------------------------
PREREQUISITES
------------------------------

Prerequisite modules loaded:

    No requirements found

------------------------------
ENVIRONMENT AND OTHER CONTEXT
------------------------------

Environment variables:

    COMSPEC = C:\Windows\system32\cmd.exe
    NUMBER_OF_PROCESSORS = 8
    PATH = N:\home\ollisg\perl5\strawberry\x86\5.18.2\lib\perl5\MSWin32-x86-multi-thread-64int;N:\home\ollisg\perl5\strawberry\x86\5.18.2\bin;N:\lang\perl\strawberry\x86\5.18.2\c\bin;N:\lang\perl\strawberry\x86\5.18.2\perl\site\bin;N:\lang\perl\strawberry\x86\5.18.2\perl\bin;n:\program32\GnuWin32\bin;C:\Program Files (x86)\NVIDIA Corporation\PhysX\Common;C:\Program Files (x86)\Intel\iCLS Client\;C:\Program Files\Intel\iCLS Client\;C:\Windows\system32;C:\Windows;C:\Windows\System32\Wbem;C:\Windows\System32\WindowsPowerShell\v1.0\;C:\Program Files\Intel\Intel(R) Management Engine Components\DAL;C:\Program Files\Intel\Intel(R) Management Engine Components\IPT;C:\Program Files (x86)\Intel\Intel(R) Management Engine Components\DAL;C:\Program Files (x86)\Intel\Intel(R) Management Engine Components\IPT;C:\Program Files\Microsoft SQL Server\110\Tools\Binn\
    PERL5LIB = N:/home/ollisg/perl5/strawberry/x86/5.18.2/lib/perl5
    PERL_CPANM_OPT = --mirror http://mirror.sydney.wdlabs.com/cpan/ --mirror-only
    PERL_LOCAL_LIB_ROOT = N:/home/ollisg/perl5/strawberry/x86/5.18.2
    PERL_MB_OPT = --install_base N:/home/ollisg/perl5/strawberry/x86/5.18.2
    PERL_MM_OPT = INSTALL_BASE=N:/home/ollisg/perl5/strawberry/x86/5.18.2
    PROCESSOR_IDENTIFIER = Intel64 Family 6 Model 60 Stepping 3, GenuineIntel
    TEMP = C:\Users\ollisg\AppData\Local\Temp

Perl special variables (and OS-specific diagnostics, for MSWin32):

    EGID = 0
    EUID = 0
    EXECUTABLE_NAME = N:\lang\perl\strawberry\x86\5.18.2\perl\bin\perl.exe
    GID = 0
    UID = 0
    Win32::FsType = NTFS
    Win32::GetOSName = Win7
    Win32::GetOSVersion = Service Pack 1, 6, 1, 7601, 2, 1, 0, 256, 1
    Win32::IsAdminUser = 0

Perl module toolchain versions installed:

    Module              Have    
    ------------------- --------
    CPAN                2.05    
    CPAN::Meta          2.141170
    Cwd                 3.40    
    ExtUtils::CBuilder  0.280216
    ExtUtils::Command   1.18    
    ExtUtils::Install   1.67    
    ExtUtils::MakeMaker 6.98    
    ExtUtils::Manifest  1.63    
    ExtUtils::ParseXS   3.24    
    File::Spec          3.40    
    JSON                2.90    
    JSON::PP            2.27203 
    Module::Build       0.4205  
    Module::Signature   n/a     
    Parse::CPAN::Meta   1.4414  
    Test::Harness       3.30    
    Test::More          1.001003
    YAML                0.90    
    YAML::Syck          n/a     
    version             0.9908  


--

Summary of my perl5 (revision 5 version 18 subversion 2) configuration:
   
  Platform:
    osname=MSWin32, osvers=6.2, archname=MSWin32-x86-multi-thread-64int
    uname='Win32 strawberry-perl 5.18.2.1 #1 Tue Jan  7 16:30:36 2014 i386'
    config_args='undef'
    hint=recommended, useposix=true, d_sigaction=undef
    useithreads=define, usemultiplicity=define
    useperlio=define, d_sfio=undef, uselargefiles=define, usesocks=undef
    use64bitint=define, use64bitall=undef, uselongdouble=undef
    usemymalloc=n, bincompat5005=undef
  Compiler:
    cc='gcc', ccflags =' -s -O2 -DWIN32  -DPERL_TEXTMODE_SCRIPTS -DPERL_IMPLICIT_CONTEXT -DPERL_IMPLICIT_SYS -DUSE_PERLIO -fno-strict-aliasing -mms-bitfields',
    optimize='-s -O2',
    cppflags='-DWIN32'
    ccversion='', gccversion='4.7.3', gccosandvers=''
    intsize=4, longsize=4, ptrsize=4, doublesize=8, byteorder=12345678
    d_longlong=define, longlongsize=8, d_longdbl=define, longdblsize=12
    ivtype='long long', ivsize=8, nvtype='double', nvsize=8, Off_t='long long', lseeksize=8
    alignbytes=8, prototype=define
  Linker and Libraries:
    ld='g++', ldflags ='-s -L"N:\lang\perl\strawberry\x86\5.18.2\perl\lib\CORE" -L"N:\lang\perl\strawberry\x86\5.18.2\c\lib"'
    libpth=N:\lang\perl\strawberry\x86\5.18.2\c\lib N:\lang\perl\strawberry\x86\5.18.2\c\i686-w64-mingw32\lib N:\lang\perl\strawberry\x86\5.18.2\c\lib\gcc\i686-w64-mingw32\4.7.3
    libs=-lmoldname -lkernel32 -luser32 -lgdi32 -lwinspool -lcomdlg32 -ladvapi32 -lshell32 -lole32 -loleaut32 -lnetapi32 -luuid -lws2_32 -lmpr -lwinmm -lversion -lodbc32 -lodbccp32 -lcomctl32
    perllibs=-lmoldname -lkernel32 -luser32 -lgdi32 -lwinspool -lcomdlg32 -ladvapi32 -lshell32 -lole32 -loleaut32 -lnetapi32 -luuid -lws2_32 -lmpr -lwinmm -lversion -lodbc32 -lodbccp32 -lcomctl32
    libc=, so=dll, useshrplib=true, libperl=libperl518.a
    gnulibc_version=''
  Dynamic Linking:
    dlsrc=dl_win32.xs, dlext=dll, d_dlsymun=undef, ccdlflags=' '
    cccdlflags=' ', lddlflags='-mdll -s -L"N:\lang\perl\strawberry\x86\5.18.2\perl\lib\CORE" -L"N:\lang\perl\strawberry\x86\5.18.2\c\lib"'


Characteristics of this binary (from libperl): 
  Compile-time options: HAS_TIMES HAVE_INTERP_INTERN MULTIPLICITY
                        PERLIO_LAYERS PERL_DONT_CREATE_GVSV
                        PERL_HASH_FUNC_ONE_AT_A_TIME_HARD
                        PERL_IMPLICIT_CONTEXT PERL_IMPLICIT_SYS
                        PERL_MALLOC_WRAP PERL_PRESERVE_IVUV PERL_SAWAMPERSAND
                        USE_64_BIT_INT USE_ITHREADS USE_LARGE_FILES
                        USE_LOCALE USE_LOCALE_COLLATE USE_LOCALE_CTYPE
                        USE_LOCALE_NUMERIC USE_PERLIO USE_PERL_ATOF
  Built under MSWin32
  Compiled at Jan  7 2014 16:39:31
  %ENV:
    PERL5LIB="N:/home/ollisg/perl5/strawberry/x86/5.18.2/lib/perl5"
    PERL_CPANM_OPT="--mirror http://mirror.sydney.wdlabs.com/cpan/ --mirror-only"
    PERL_LOCAL_LIB_ROOT="N:/home/ollisg/perl5/strawberry/x86/5.18.2"
    PERL_MB_OPT="--install_base N:/home/ollisg/perl5/strawberry/x86/5.18.2"
    PERL_MM_OPT="INSTALL_BASE=N:/home/ollisg/perl5/strawberry/x86/5.18.2"
  @INC:
    N:/home/ollisg/perl5/strawberry/x86/5.18.2/lib/perl5/MSWin32-x86-multi-thread-64int
    N:/home/ollisg/perl5/strawberry/x86/5.18.2/lib/perl5
    N:/lang/perl/strawberry/x86/5.18.2/perl/site/lib
    N:/lang/perl/strawberry/x86/5.18.2/perl/vendor/lib
    N:/lang/perl/strawberry/x86/5.18.2/perl/lib
    .