Mail-Mbox-MessageParser v1.5111 Perl 5 v5.39.3 x86_64-linux

Status
Pass
From
Andreas J. König (ANDK)
Dist
Mail-Mbox-MessageParser v1.5111
Platform
Perl 5 v5.39.3 x86_64-linux
Date
2023-10-09 16:49:12
ID
c639affe-66c3-11ee-98fd-93f5cd83527a
This distribution has been tested as part of the CPAN Testers
project, supporting the Perl programming language.  See
http://wiki.cpantesters.org/ for more information or email
questions to cpan-testers-discuss@perl.org


--
Dear David Coppit,

This is a computer-generated report for Mail-Mbox-MessageParser-1.5111
on perl 5.39.3, created by CPAN-Reporter-1.2019.

Thank you for uploading your work to CPAN.  Congratulations!
All tests were successful.

Sections of this report:

    * Tester comments
    * Program output
    * Prerequisites
    * Environment and other context

------------------------------
TESTER COMMENTS
------------------------------

Additional comments from tester:

this report is from an automated smoke testing program
and was not reviewed by a human for accuracy

------------------------------
PROGRAM OUTPUT
------------------------------

Output from '/usr/bin/make test':

PERL_DL_NONLAZY=1 "/tmp/basesmoker-reloperl-WrhG/bin/perl" "-MExtUtils::Command::MM" "-MTest::Harness" "-e" "undef *Test::Harness::Switches; test_harness(1, 'blib/lib', 'blib/arch')" t/*.t
t/000_standard__compile.t ....... 
1..6
ok 1 - blib/lib/Mail/Mbox/MessageParser.pm compiles
ok 2 - blib/lib/Mail/Mbox/MessageParser/Cache.pm compiles
ok 3 - blib/lib/Mail/Mbox/MessageParser/Config.pm compiles
ok 4 - blib/lib/Mail/Mbox/MessageParser/Grep.pm compiles
ok 5 - blib/lib/Mail/Mbox/MessageParser/MetaInfo.pm compiles
ok 6 - blib/lib/Mail/Mbox/MessageParser/Perl.pm compiles
ok
t/000_standard__perl_critic.t ... skipped: Author test. Set $ENV{TEST_AUTHOR} to a true value to run.
t/000_standard__pod.t ........... 
1..6
ok 1 - POD test for blib/lib/Mail/Mbox/MessageParser.pm
ok 2 - POD test for blib/lib/Mail/Mbox/MessageParser/Grep.pm
ok 3 - POD test for blib/lib/Mail/Mbox/MessageParser/Cache.pm
ok 4 - POD test for blib/lib/Mail/Mbox/MessageParser/Config.pm
ok 5 - POD test for blib/lib/Mail/Mbox/MessageParser/MetaInfo.pm
ok 6 - POD test for blib/lib/Mail/Mbox/MessageParser/Perl.pm
ok
t/000_standard__pod_coverage.t .. 
1..6
ok 1 - Pod coverage on Mail::Mbox::MessageParser
ok 2 - Pod coverage on Mail::Mbox::MessageParser::Grep
ok 3 - Pod coverage on Mail::Mbox::MessageParser::Cache
ok 4 - Pod coverage on Mail::Mbox::MessageParser::Config
ok 5 - Pod coverage on Mail::Mbox::MessageParser::MetaInfo
ok 6 - Pod coverage on Mail::Mbox::MessageParser::Perl
ok
t/appended_mailbox.t ............ 
1..6
Testing modified mailbox with Perl implementation
Comparing /tmp/8LUsKCeeZD to t/mailboxes/mailarc-1.txt
Output /tmp/8LUsKCeeZD looks good.
ok 1 - Computing differences
Testing modified mailbox with Cache implementation
Comparing /tmp/Xo2RzlL38k to t/mailboxes/mailarc-1.txt
Output /tmp/Xo2RzlL38k looks good.
ok 2 - Computing differences
Testing modified mailbox with Grep implementation
ok 3 # skip GNU grep not available
Testing modified mailbox with Perl implementation
Comparing /tmp/LzThNMlzpw to t/mailboxes/mailarc-1.txt
Output /tmp/LzThNMlzpw looks good.
ok 4 - Computing differences
Testing modified mailbox with Cache implementation
Comparing /tmp/T7T8f7Cxfg to t/mailboxes/mailarc-1.txt
Output /tmp/T7T8f7Cxfg looks good.
ok 5 - Computing differences
Testing modified mailbox with Grep implementation
ok 6 # skip GNU grep not available
ok
t/bzip2.t ....................... 
1..1
Running test:
  "/usr/bin/cat" "t/mailboxes/mailarc-2.txt.bz2" | "/usr/bin/bzip2" -cd
Comparing /tmp/XEn6kXEnkL to t/results/mailarc-2.txt
Output /tmp/XEn6kXEnkL looks good.
Comparing /tmp/3_YxiivORp to t/results/none
Output /tmp/3_YxiivORp looks good.
ok 1 - Computing differences
ok
t/endline.t ..................... 
1..8
Testing filename: t/mailboxes/mailarc-1-dos.txt
ok 1 - Dos endline expected
ok 2 - Dos endline expected
ok 3 - Dos endline expected
ok 4 # skip GNU grep not available
Testing filename: t/mailboxes/mailarc-1.txt
ok 5 - Unix endline expected
ok 6 - Unix endline expected
ok 7 - Unix endline expected
ok 8 # skip GNU grep not available
ok
t/filehandle_compressed.t ....... 
1..16
Testing filename: t/mailboxes/mailarc-2.txt.bz2
Comparing /tmp/DzkqcVGXe7 to t/mailboxes/mailarc-2.txt
Output /tmp/DzkqcVGXe7 looks good.
ok 1 - Computing differences
Comparing /tmp/M48aVYALj8 to t/mailboxes/mailarc-2.txt
Output /tmp/M48aVYALj8 looks good.
ok 2 - Computing differences
Comparing /tmp/X5E8h_bX42 to t/mailboxes/mailarc-2.txt
Output /tmp/X5E8h_bX42 looks good.
ok 3 - Computing differences
ok 4 # skip GNU grep not available
Testing filename: t/mailboxes/mailarc-2.txt.gz
Comparing /tmp/34y0x5Xgxy to t/mailboxes/mailarc-2.txt
Output /tmp/34y0x5Xgxy looks good.
ok 5 - Computing differences
Comparing /tmp/L5ZS_dLvnS to t/mailboxes/mailarc-2.txt
Output /tmp/L5ZS_dLvnS looks good.
ok 6 - Computing differences
Comparing /tmp/Qavb0C42L9 to t/mailboxes/mailarc-2.txt
Output /tmp/Qavb0C42L9 looks good.
ok 7 - Computing differences
ok 8 # skip GNU grep not available
Testing filename: t/mailboxes/mailarc-2.txt.lz
ok 9 # skip lzip not available
ok 10 # skip lzip not available
ok 11 # skip lzip not available
ok 12 # skip lzip not available
Testing filename: t/mailboxes/mailarc-2.txt.xz
Comparing /tmp/eRE_EJ58ST to t/mailboxes/mailarc-2.txt
Output /tmp/eRE_EJ58ST looks good.
ok 13 - Computing differences
Comparing /tmp/aK16RTIrGD to t/mailboxes/mailarc-2.txt
Output /tmp/aK16RTIrGD looks good.
ok 14 - Computing differences
Comparing /tmp/Ag9M3yknPn to t/mailboxes/mailarc-2.txt
Output /tmp/Ag9M3yknPn looks good.
ok 15 - Computing differences
ok 16 # skip GNU grep not available
ok
t/filehandle_noncompressed.t .... 
1..44
Testing filename: t/mailboxes/binary_body.txt
Comparing /tmp/CZ4ZAMJmMC to t/mailboxes/binary_body.txt
Output /tmp/CZ4ZAMJmMC looks good.
ok 1 - Computing differences
Comparing /tmp/ovs15i7wtK to t/mailboxes/binary_body.txt
Output /tmp/ovs15i7wtK looks good.
ok 2 - Computing differences
Comparing /tmp/Ii8QKpzjJJ to t/mailboxes/binary_body.txt
Output /tmp/Ii8QKpzjJJ looks good.
ok 3 - Computing differences
ok 4 # skip GNU grep not available
Testing filename: t/mailboxes/hessbug.txt
Comparing /tmp/750SVjZmAc to t/mailboxes/hessbug.txt
Output /tmp/750SVjZmAc looks good.
ok 5 - Computing differences
Comparing /tmp/YAjLGIlgan to t/mailboxes/hessbug.txt
Output /tmp/YAjLGIlgan looks good.
ok 6 - Computing differences
Comparing /tmp/9c2S60woux to t/mailboxes/hessbug.txt
Output /tmp/9c2S60woux looks good.
ok 7 - Computing differences
ok 8 # skip GNU grep not available
Testing filename: t/mailboxes/invalid-boundaries.txt
Comparing /tmp/gOb4l_cBqN to t/mailboxes/invalid-boundaries.txt
Output /tmp/gOb4l_cBqN looks good.
ok 9 - Computing differences
Comparing /tmp/D2wk9zGMq9 to t/mailboxes/invalid-boundaries.txt
Output /tmp/D2wk9zGMq9 looks good.
ok 10 - Computing differences
Comparing /tmp/upceuL5c2O to t/mailboxes/invalid-boundaries.txt
Output /tmp/upceuL5c2O looks good.
ok 11 - Computing differences
ok 12 # skip GNU grep not available
Testing filename: t/mailboxes/mailarc-1-dos.txt
Comparing /tmp/XwjFWpji5N to t/mailboxes/mailarc-1-dos.txt
Output /tmp/XwjFWpji5N looks good.
ok 13 - Computing differences
Comparing /tmp/77sfQaQpaz to t/mailboxes/mailarc-1-dos.txt
Output /tmp/77sfQaQpaz looks good.
ok 14 - Computing differences
Comparing /tmp/3cbu6qntEk to t/mailboxes/mailarc-1-dos.txt
Output /tmp/3cbu6qntEk looks good.
ok 15 - Computing differences
ok 16 # skip GNU grep not available
Testing filename: t/mailboxes/mailarc-1.txt
Comparing /tmp/0ew0tsnZSY to t/mailboxes/mailarc-1.txt
Output /tmp/0ew0tsnZSY looks good.
ok 17 - Computing differences
Comparing /tmp/1x8InJYGnl to t/mailboxes/mailarc-1.txt
Output /tmp/1x8InJYGnl looks good.
ok 18 - Computing differences
Comparing /tmp/AhFlqBxDHh to t/mailboxes/mailarc-1.txt
Output /tmp/AhFlqBxDHh looks good.
ok 19 - Computing differences
ok 20 # skip GNU grep not available
Testing filename: t/mailboxes/mailarc-2.txt
Comparing /tmp/lr5at8FlXB to t/mailboxes/mailarc-2.txt
Output /tmp/lr5at8FlXB looks good.
ok 21 - Computing differences
Comparing /tmp/75zaq8Y27q to t/mailboxes/mailarc-2.txt
Output /tmp/75zaq8Y27q looks good.
ok 22 - Computing differences
Comparing /tmp/PgwRjEAwe9 to t/mailboxes/mailarc-2.txt
Output /tmp/PgwRjEAwe9 looks good.
ok 23 - Computing differences
ok 24 # skip GNU grep not available
Testing filename: t/mailboxes/mailarc-3.txt
Comparing /tmp/nZc5OmwxQb to t/mailboxes/mailarc-3.txt
Output /tmp/nZc5OmwxQb looks good.
ok 25 - Computing differences
Comparing /tmp/pvvoKSpUqb to t/mailboxes/mailarc-3.txt
Output /tmp/pvvoKSpUqb looks good.
ok 26 - Computing differences
Comparing /tmp/3S50CK0Oq0 to t/mailboxes/mailarc-3.txt
Output /tmp/3S50CK0Oq0 looks good.
ok 27 - Computing differences
ok 28 # skip GNU grep not available
Testing filename: t/mailboxes/mailseparators.txt
Comparing /tmp/jfAaqUqfZ9 to t/mailboxes/mailseparators.txt
Output /tmp/jfAaqUqfZ9 looks good.
ok 29 - Computing differences
Comparing /tmp/QliFxmFth0 to t/mailboxes/mailseparators.txt
Output /tmp/QliFxmFth0 looks good.
ok 30 - Computing differences
Comparing /tmp/r7O7M8rR67 to t/mailboxes/mailseparators.txt
Output /tmp/r7O7M8rR67 looks good.
ok 31 - Computing differences
ok 32 # skip GNU grep not available
Testing filename: t/mailboxes/malformed.txt
Comparing /tmp/6EiVcCeS9q to t/mailboxes/malformed.txt
Output /tmp/6EiVcCeS9q looks good.
ok 33 - Computing differences
Comparing /tmp/MApwnDO3nh to t/mailboxes/malformed.txt
Output /tmp/MApwnDO3nh looks good.
ok 34 - Computing differences
Comparing /tmp/QGMvuvjWRc to t/mailboxes/malformed.txt
Output /tmp/QGMvuvjWRc looks good.
ok 35 - Computing differences
ok 36 # skip GNU grep not available
Testing filename: t/mailboxes/newlines_at_beginning.txt
Comparing /tmp/a5i2bZmIhg to t/mailboxes/newlines_at_beginning.txt
Output /tmp/a5i2bZmIhg looks good.
ok 37 - Computing differences
Comparing /tmp/P_VdVoEKOs to t/mailboxes/newlines_at_beginning.txt
Output /tmp/P_VdVoEKOs looks good.
ok 38 - Computing differences
Comparing /tmp/J14DoGRNVg to t/mailboxes/newlines_at_beginning.txt
Output /tmp/J14DoGRNVg looks good.
ok 39 - Computing differences
ok 40 # skip GNU grep not available
Testing filename: t/mailboxes/vm-emacs.txt
Comparing /tmp/x3G8FCcjJy to t/mailboxes/vm-emacs.txt
Output /tmp/x3G8FCcjJy looks good.
ok 41 - Computing differences
Comparing /tmp/yKlYibJfFs to t/mailboxes/vm-emacs.txt
Output /tmp/yKlYibJfFs looks good.
ok 42 - Computing differences
Comparing /tmp/J0q3dVZXr8 to t/mailboxes/vm-emacs.txt
Output /tmp/J0q3dVZXr8 looks good.
ok 43 - Computing differences
ok 44 # skip GNU grep not available
ok
t/filename_compressed.t ......... 
1..4
Testing filename: t/mailboxes/mailarc-2.txt.bz2
Comparing /tmp/mMSAkRaKv9 to t/mailboxes/mailarc-2.txt
Output /tmp/mMSAkRaKv9 looks good.
ok 1 - Computing differences
Testing filename: t/mailboxes/mailarc-2.txt.gz
Comparing /tmp/IFbckcnA7P to t/mailboxes/mailarc-2.txt
Output /tmp/IFbckcnA7P looks good.
ok 2 - Computing differences
Testing filename: t/mailboxes/mailarc-2.txt.lz
ok 3 # skip lzip not available
Testing filename: t/mailboxes/mailarc-2.txt.xz
Comparing /tmp/GGKdcKW5oB to t/mailboxes/mailarc-2.txt
Output /tmp/GGKdcKW5oB looks good.
ok 4 - Computing differences
ok
t/filename_noncompressed.t ...... 
1..11
Testing filename: t/mailboxes/binary_body.txt
Comparing /tmp/9hSmzVe7IO to t/mailboxes/binary_body.txt
Output /tmp/9hSmzVe7IO looks good.
ok 1 - Computing differences
Testing filename: t/mailboxes/hessbug.txt
Comparing /tmp/KhYgI__TaW to t/mailboxes/hessbug.txt
Output /tmp/KhYgI__TaW looks good.
ok 2 - Computing differences
Testing filename: t/mailboxes/invalid-boundaries.txt
Comparing /tmp/WwrAIVm5uE to t/mailboxes/invalid-boundaries.txt
Output /tmp/WwrAIVm5uE looks good.
ok 3 - Computing differences
Testing filename: t/mailboxes/mailarc-1-dos.txt
Comparing /tmp/ug5hiQKyP5 to t/mailboxes/mailarc-1-dos.txt
Output /tmp/ug5hiQKyP5 looks good.
ok 4 - Computing differences
Testing filename: t/mailboxes/mailarc-1.txt
Comparing /tmp/IrhMe47p4N to t/mailboxes/mailarc-1.txt
Output /tmp/IrhMe47p4N looks good.
ok 5 - Computing differences
Testing filename: t/mailboxes/mailarc-2.txt
Comparing /tmp/61xrFIfsJU to t/mailboxes/mailarc-2.txt
Output /tmp/61xrFIfsJU looks good.
ok 6 - Computing differences
Testing filename: t/mailboxes/mailarc-3.txt
Comparing /tmp/G4kCjCbpIm to t/mailboxes/mailarc-3.txt
Output /tmp/G4kCjCbpIm looks good.
ok 7 - Computing differences
Testing filename: t/mailboxes/mailseparators.txt
Comparing /tmp/5yWW5NKU2G to t/mailboxes/mailseparators.txt
Output /tmp/5yWW5NKU2G looks good.
ok 8 - Computing differences
Testing filename: t/mailboxes/malformed.txt
Comparing /tmp/pQ_cpMrUij to t/mailboxes/malformed.txt
Output /tmp/pQ_cpMrUij looks good.
ok 9 - Computing differences
Testing filename: t/mailboxes/newlines_at_beginning.txt
Comparing /tmp/dwUPLFBbQT to t/mailboxes/newlines_at_beginning.txt
Output /tmp/dwUPLFBbQT looks good.
ok 10 - Computing differences
Testing filename: t/mailboxes/vm-emacs.txt
Comparing /tmp/L3co9240vO to t/mailboxes/vm-emacs.txt
Output /tmp/L3co9240vO looks good.
ok 11 - Computing differences
ok
t/grep.t ........................ 
1..4
Running test:
  unset LC_ALL LC_COLLATE LANG LC_CTYPE LC_MESSAGES; grep --extended-regexp --line-number --byte-offset --binary-files=text "^From [^:]+(:[0-9][0-9]){1,2}(  *([A-Z]{2,6}|[+-]?[0-9]{4})){1,3}( remote from .*)?
?$" t/mailboxes/mailarc-1.txt
ok 1 # skip 1
Running test:
  unset LC_ALL LC_COLLATE LANG LC_CTYPE LC_MESSAGES; grep --extended-regexp --line-number --byte-offset --binary-files=text "^From [^:]+(:[0-9][0-9]){1,2}(  *([A-Z]{2,6}|[+-]?[0-9]{4})){1,3}( remote from .*)?
?$" t/mailboxes/mailarc-2.txt
ok 2 # skip 1
Running test:
  unset LC_ALL LC_COLLATE LANG LC_CTYPE LC_MESSAGES; grep --extended-regexp --line-number --byte-offset --binary-files=text "^From [^:]+(:[0-9][0-9]){1,2}(  *([A-Z]{2,6}|[+-]?[0-9]{4})){1,3}( remote from .*)?
?$" t/mailboxes/mailarc-3.txt
ok 3 # skip 1
Running test:
  unset LC_ALL LC_COLLATE LANG LC_CTYPE LC_MESSAGES; grep --extended-regexp --line-number --byte-offset --binary-files=text "^From [^:]+(:[0-9][0-9]){1,2}(  *([A-Z]{2,6}|[+-]?[0-9]{4})){1,3}( remote from .*)?
?$" t/mailboxes/mailseparators.txt
ok 4 # skip 1
ok
t/gzip.t ........................ 
1..1
Running test:
  "/usr/bin/cat" "t/mailboxes/mailarc-2.txt.gz" | "/usr/bin/gzip" -cd
Comparing /tmp/pzab5gQosV to t/results/mailarc-2.txt
Output /tmp/pzab5gQosV looks good.
Comparing /tmp/Ah9ezBLLpm to t/results/none
Output /tmp/Ah9ezBLLpm looks good.
ok 1 - Computing differences
ok
t/length.t ...................... 
1..30
Testing filename: t/mailboxes/binary_body.txt
Comparing /tmp/Ink7wr8TSP to t/results/length_binary_body.stdout
Output /tmp/Ink7wr8TSP looks good.
ok 1 - Computing differences
Comparing /tmp/ahTSuQc6kP to t/results/length_binary_body.stdout
Output /tmp/ahTSuQc6kP looks good.
ok 2 - Computing differences
ok 3 # skip GNU grep not available
Testing filename: t/mailboxes/hessbug.txt
Comparing /tmp/mGhD555eRh to t/results/length_hessbug.stdout
Output /tmp/mGhD555eRh looks good.
ok 4 - Computing differences
Comparing /tmp/GdHrNZ5HCK to t/results/length_hessbug.stdout
Output /tmp/GdHrNZ5HCK looks good.
ok 5 - Computing differences
ok 6 # skip GNU grep not available
Testing filename: t/mailboxes/invalid-boundaries.txt
Comparing /tmp/nmORpIEkx5 to t/results/length_invalid-boundaries.stdout
Output /tmp/nmORpIEkx5 looks good.
ok 7 - Computing differences
Comparing /tmp/UbGT7alWQY to t/results/length_invalid-boundaries.stdout
Output /tmp/UbGT7alWQY looks good.
ok 8 - Computing differences
ok 9 # skip GNU grep not available
Testing filename: t/mailboxes/mailarc-1-dos.txt
Comparing /tmp/0hvN8Rvfeg to t/results/length_mailarc-1-dos.stdout
Output /tmp/0hvN8Rvfeg looks good.
ok 10 - Computing differences
Comparing /tmp/_iYJP74HuB to t/results/length_mailarc-1-dos.stdout
Output /tmp/_iYJP74HuB looks good.
ok 11 - Computing differences
ok 12 # skip GNU grep not available
Testing filename: t/mailboxes/mailarc-1.txt
Comparing /tmp/5qQpq1Z_x0 to t/results/length_mailarc-1.stdout
Output /tmp/5qQpq1Z_x0 looks good.
ok 13 - Computing differences
Comparing /tmp/0Qelr8Wvl6 to t/results/length_mailarc-1.stdout
Output /tmp/0Qelr8Wvl6 looks good.
ok 14 - Computing differences
ok 15 # skip GNU grep not available
Testing filename: t/mailboxes/mailarc-2.txt
Comparing /tmp/8xxgUPwP76 to t/results/length_mailarc-2.stdout
Output /tmp/8xxgUPwP76 looks good.
ok 16 - Computing differences
Comparing /tmp/Sd5aw2zScp to t/results/length_mailarc-2.stdout
Output /tmp/Sd5aw2zScp looks good.
ok 17 - Computing differences
ok 18 # skip GNU grep not available
Testing filename: t/mailboxes/mailarc-3.txt
Comparing /tmp/f2vWoEvozl to t/results/length_mailarc-3.stdout
Output /tmp/f2vWoEvozl looks good.
ok 19 - Computing differences
Comparing /tmp/zxeaNVOCNB to t/results/length_mailarc-3.stdout
Output /tmp/zxeaNVOCNB looks good.
ok 20 - Computing differences
ok 21 # skip GNU grep not available
Testing filename: t/mailboxes/mailseparators.txt
Comparing /tmp/MGamrYhuVp to t/results/length_mailseparators.stdout
Output /tmp/MGamrYhuVp looks good.
ok 22 - Computing differences
Comparing /tmp/G9NFI_jQCn to t/results/length_mailseparators.stdout
Output /tmp/G9NFI_jQCn looks good.
ok 23 - Computing differences
ok 24 # skip GNU grep not available
Testing filename: t/mailboxes/malformed.txt
Comparing /tmp/L9oCsoNmc0 to t/results/length_malformed.stdout
Output /tmp/L9oCsoNmc0 looks good.
ok 25 - Computing differences
Comparing /tmp/MNhGaa0xKn to t/results/length_malformed.stdout
Output /tmp/MNhGaa0xKn looks good.
ok 26 - Computing differences
ok 27 # skip GNU grep not available
Testing filename: t/mailboxes/newlines_at_beginning.txt
Comparing /tmp/_vC_kmaPD7 to t/results/length_newlines_at_beginning.stdout
Output /tmp/_vC_kmaPD7 looks good.
ok 28 - Computing differences
Comparing /tmp/cTqMqf6fAe to t/results/length_newlines_at_beginning.stdout
Output /tmp/cTqMqf6fAe looks good.
ok 29 - Computing differences
ok 30 # skip GNU grep not available
ok
t/line_number.t ................. 
1..30
Testing filename: t/mailboxes/binary_body.txt
Comparing /tmp/L9VVkTjkFL to t/results/line_number_binary_body.stdout
Output /tmp/L9VVkTjkFL looks good.
ok 1 - Computing differences
Comparing /tmp/ZzkuvLxQNV to t/results/line_number_binary_body.stdout
Output /tmp/ZzkuvLxQNV looks good.
ok 2 - Computing differences
ok 3 # skip GNU grep not available
Testing filename: t/mailboxes/hessbug.txt
Comparing /tmp/z9XB8kb3qZ to t/results/line_number_hessbug.stdout
Output /tmp/z9XB8kb3qZ looks good.
ok 4 - Computing differences
Comparing /tmp/tjXE4EEz3O to t/results/line_number_hessbug.stdout
Output /tmp/tjXE4EEz3O looks good.
ok 5 - Computing differences
ok 6 # skip GNU grep not available
Testing filename: t/mailboxes/invalid-boundaries.txt
Comparing /tmp/cFViTKIJsB to t/results/line_number_invalid-boundaries.stdout
Output /tmp/cFViTKIJsB looks good.
ok 7 - Computing differences
Comparing /tmp/NjHoQ64Ejx to t/results/line_number_invalid-boundaries.stdout
Output /tmp/NjHoQ64Ejx looks good.
ok 8 - Computing differences
ok 9 # skip GNU grep not available
Testing filename: t/mailboxes/mailarc-1-dos.txt
Comparing /tmp/XchNFhx9Cz to t/results/line_number_mailarc-1-dos.stdout
Output /tmp/XchNFhx9Cz looks good.
ok 10 - Computing differences
Comparing /tmp/vZ5Tyt6hyS to t/results/line_number_mailarc-1-dos.stdout
Output /tmp/vZ5Tyt6hyS looks good.
ok 11 - Computing differences
ok 12 # skip GNU grep not available
Testing filename: t/mailboxes/mailarc-1.txt
Comparing /tmp/9SSrbSfveq to t/results/line_number_mailarc-1.stdout
Output /tmp/9SSrbSfveq looks good.
ok 13 - Computing differences
Comparing /tmp/O9xz1UfjWA to t/results/line_number_mailarc-1.stdout
Output /tmp/O9xz1UfjWA looks good.
ok 14 - Computing differences
ok 15 # skip GNU grep not available
Testing filename: t/mailboxes/mailarc-2.txt
Comparing /tmp/C9bwRfZbd7 to t/results/line_number_mailarc-2.stdout
Output /tmp/C9bwRfZbd7 looks good.
ok 16 - Computing differences
Comparing /tmp/vXH7Xqwk_k to t/results/line_number_mailarc-2.stdout
Output /tmp/vXH7Xqwk_k looks good.
ok 17 - Computing differences
ok 18 # skip GNU grep not available
Testing filename: t/mailboxes/mailarc-3.txt
Comparing /tmp/Xo5QjZ2uuU to t/results/line_number_mailarc-3.stdout
Output /tmp/Xo5QjZ2uuU looks good.
ok 19 - Computing differences
Comparing /tmp/npUpKaOSck to t/results/line_number_mailarc-3.stdout
Output /tmp/npUpKaOSck looks good.
ok 20 - Computing differences
ok 21 # skip GNU grep not available
Testing filename: t/mailboxes/mailseparators.txt
Comparing /tmp/fw6ArmhZZX to t/results/line_number_mailseparators.stdout
Output /tmp/fw6ArmhZZX looks good.
ok 22 - Computing differences
Comparing /tmp/CUs4pr19Le to t/results/line_number_mailseparators.stdout
Output /tmp/CUs4pr19Le looks good.
ok 23 - Computing differences
ok 24 # skip GNU grep not available
Testing filename: t/mailboxes/malformed.txt
Comparing /tmp/fjyoJhU76B to t/results/line_number_malformed.stdout
Output /tmp/fjyoJhU76B looks good.
ok 25 - Computing differences
Comparing /tmp/r39oL8iodY to t/results/line_number_malformed.stdout
Output /tmp/r39oL8iodY looks good.
ok 26 - Computing differences
ok 27 # skip GNU grep not available
Testing filename: t/mailboxes/newlines_at_beginning.txt
Comparing /tmp/6BuvKQ_LbG to t/results/line_number_newlines_at_beginning.stdout
Output /tmp/6BuvKQ_LbG looks good.
ok 28 - Computing differences
Comparing /tmp/NJn1jcXCPM to t/results/line_number_newlines_at_beginning.stdout
Output /tmp/NJn1jcXCPM looks good.
ok 29 - Computing differences
ok 30 # skip GNU grep not available
ok
t/lzip.t ........................ 
1..1
Running test:
  "/usr/bin/cat" "t/mailboxes/mailarc-2.txt.lz" | "lzip" -cd
ok 1 # skip lzip not available
ok
t/number.t ...................... 
1..30
Testing filename: t/mailboxes/binary_body.txt
Comparing /tmp/2WcgJSlRZT to t/results/number_binary_body.stdout
Output /tmp/2WcgJSlRZT looks good.
ok 1 - Computing differences
Comparing /tmp/yWUJnRchqA to t/results/number_binary_body.stdout
Output /tmp/yWUJnRchqA looks good.
ok 2 - Computing differences
ok 3 # skip GNU grep not available
Testing filename: t/mailboxes/hessbug.txt
Comparing /tmp/DwLfya35KX to t/results/number_hessbug.stdout
Output /tmp/DwLfya35KX looks good.
ok 4 - Computing differences
Comparing /tmp/3X4eEFoNOQ to t/results/number_hessbug.stdout
Output /tmp/3X4eEFoNOQ looks good.
ok 5 - Computing differences
ok 6 # skip GNU grep not available
Testing filename: t/mailboxes/invalid-boundaries.txt
Comparing /tmp/QSSEnEP6r2 to t/results/number_invalid-boundaries.stdout
Output /tmp/QSSEnEP6r2 looks good.
ok 7 - Computing differences
Comparing /tmp/cI5yiM3z2Q to t/results/number_invalid-boundaries.stdout
Output /tmp/cI5yiM3z2Q looks good.
ok 8 - Computing differences
ok 9 # skip GNU grep not available
Testing filename: t/mailboxes/mailarc-1-dos.txt
Comparing /tmp/XvFnXSwx8U to t/results/number_mailarc-1-dos.stdout
Output /tmp/XvFnXSwx8U looks good.
ok 10 - Computing differences
Comparing /tmp/ClvTXv_k5a to t/results/number_mailarc-1-dos.stdout
Output /tmp/ClvTXv_k5a looks good.
ok 11 - Computing differences
ok 12 # skip GNU grep not available
Testing filename: t/mailboxes/mailarc-1.txt
Comparing /tmp/REBOvyhP7M to t/results/number_mailarc-1.stdout
Output /tmp/REBOvyhP7M looks good.
ok 13 - Computing differences
Comparing /tmp/y7vyGkNoik to t/results/number_mailarc-1.stdout
Output /tmp/y7vyGkNoik looks good.
ok 14 - Computing differences
ok 15 # skip GNU grep not available
Testing filename: t/mailboxes/mailarc-2.txt
Comparing /tmp/9Ha4LudSpc to t/results/number_mailarc-2.stdout
Output /tmp/9Ha4LudSpc looks good.
ok 16 - Computing differences
Comparing /tmp/T8p9HeJacZ to t/results/number_mailarc-2.stdout
Output /tmp/T8p9HeJacZ looks good.
ok 17 - Computing differences
ok 18 # skip GNU grep not available
Testing filename: t/mailboxes/mailarc-3.txt
Comparing /tmp/jc2j9PRTmB to t/results/number_mailarc-3.stdout
Output /tmp/jc2j9PRTmB looks good.
ok 19 - Computing differences
Comparing /tmp/tw0hyofbnM to t/results/number_mailarc-3.stdout
Output /tmp/tw0hyofbnM looks good.
ok 20 - Computing differences
ok 21 # skip GNU grep not available
Testing filename: t/mailboxes/mailseparators.txt
Comparing /tmp/wjdqmJXXXf to t/results/number_mailseparators.stdout
Output /tmp/wjdqmJXXXf looks good.
ok 22 - Computing differences
Comparing /tmp/5n8Jji3aE_ to t/results/number_mailseparators.stdout
Output /tmp/5n8Jji3aE_ looks good.
ok 23 - Computing differences
ok 24 # skip GNU grep not available
Testing filename: t/mailboxes/malformed.txt
Comparing /tmp/OYm7PNUDRb to t/results/number_malformed.stdout
Output /tmp/OYm7PNUDRb looks good.
ok 25 - Computing differences
Comparing /tmp/beOYEbmRoh to t/results/number_malformed.stdout
Output /tmp/beOYEbmRoh looks good.
ok 26 - Computing differences
ok 27 # skip GNU grep not available
Testing filename: t/mailboxes/newlines_at_beginning.txt
Comparing /tmp/LN1HIiaIK2 to t/results/number_newlines_at_beginning.stdout
Output /tmp/LN1HIiaIK2 looks good.
ok 28 - Computing differences
Comparing /tmp/Rrg5IAkA2d to t/results/number_newlines_at_beginning.stdout
Output /tmp/Rrg5IAkA2d looks good.
ok 29 - Computing differences
ok 30 # skip GNU grep not available
ok
t/offset.t ...................... 
1..30
Testing filename: t/mailboxes/binary_body.txt
Comparing /tmp/0sQ5kSJYWg to t/results/offset_binary_body.stdout
Output /tmp/0sQ5kSJYWg looks good.
ok 1 - Computing differences
Comparing /tmp/QmK9Kc7ioo to t/results/offset_binary_body.stdout
Output /tmp/QmK9Kc7ioo looks good.
ok 2 - Computing differences
ok 3 # skip GNU grep not available
Testing filename: t/mailboxes/hessbug.txt
Comparing /tmp/WyK_ZZTV7D to t/results/offset_hessbug.stdout
Output /tmp/WyK_ZZTV7D looks good.
ok 4 - Computing differences
Comparing /tmp/zZiCMpNhAA to t/results/offset_hessbug.stdout
Output /tmp/zZiCMpNhAA looks good.
ok 5 - Computing differences
ok 6 # skip GNU grep not available
Testing filename: t/mailboxes/invalid-boundaries.txt
Comparing /tmp/_e1a7LQv14 to t/results/offset_invalid-boundaries.stdout
Output /tmp/_e1a7LQv14 looks good.
ok 7 - Computing differences
Comparing /tmp/TV23QtSM1i to t/results/offset_invalid-boundaries.stdout
Output /tmp/TV23QtSM1i looks good.
ok 8 - Computing differences
ok 9 # skip GNU grep not available
Testing filename: t/mailboxes/mailarc-1-dos.txt
Comparing /tmp/Qhaq9KfuNW to t/results/offset_mailarc-1-dos.stdout
Output /tmp/Qhaq9KfuNW looks good.
ok 10 - Computing differences
Comparing /tmp/rXgiGmSjOB to t/results/offset_mailarc-1-dos.stdout
Output /tmp/rXgiGmSjOB looks good.
ok 11 - Computing differences
ok 12 # skip GNU grep not available
Testing filename: t/mailboxes/mailarc-1.txt
Comparing /tmp/ppdNImMriG to t/results/offset_mailarc-1.stdout
Output /tmp/ppdNImMriG looks good.
ok 13 - Computing differences
Comparing /tmp/mmbpjuSaJa to t/results/offset_mailarc-1.stdout
Output /tmp/mmbpjuSaJa looks good.
ok 14 - Computing differences
ok 15 # skip GNU grep not available
Testing filename: t/mailboxes/mailarc-2.txt
Comparing /tmp/IZ9rpWPWWP to t/results/offset_mailarc-2.stdout
Output /tmp/IZ9rpWPWWP looks good.
ok 16 - Computing differences
Comparing /tmp/3eMgVFbfIT to t/results/offset_mailarc-2.stdout
Output /tmp/3eMgVFbfIT looks good.
ok 17 - Computing differences
ok 18 # skip GNU grep not available
Testing filename: t/mailboxes/mailarc-3.txt
Comparing /tmp/zQjG6EePoY to t/results/offset_mailarc-3.stdout
Output /tmp/zQjG6EePoY looks good.
ok 19 - Computing differences
Comparing /tmp/UcF1mtKE7B to t/results/offset_mailarc-3.stdout
Output /tmp/UcF1mtKE7B looks good.
ok 20 - Computing differences
ok 21 # skip GNU grep not available
Testing filename: t/mailboxes/mailseparators.txt
Comparing /tmp/aqy1KiPlfO to t/results/offset_mailseparators.stdout
Output /tmp/aqy1KiPlfO looks good.
ok 22 - Computing differences
Comparing /tmp/BD27mHycoH to t/results/offset_mailseparators.stdout
Output /tmp/BD27mHycoH looks good.
ok 23 - Computing differences
ok 24 # skip GNU grep not available
Testing filename: t/mailboxes/malformed.txt
Comparing /tmp/qQBH2Ip3U4 to t/results/offset_malformed.stdout
Output /tmp/qQBH2Ip3U4 looks good.
ok 25 - Computing differences
Comparing /tmp/eEV26SOQ5Q to t/results/offset_malformed.stdout
Output /tmp/eEV26SOQ5Q looks good.
ok 26 - Computing differences
ok 27 # skip GNU grep not available
Testing filename: t/mailboxes/newlines_at_beginning.txt
Comparing /tmp/a8xpKOUuM9 to t/results/offset_newlines_at_beginning.stdout
Output /tmp/a8xpKOUuM9 looks good.
ok 28 - Computing differences
Comparing /tmp/D0HMdTEEvU to t/results/offset_newlines_at_beginning.stdout
Output /tmp/D0HMdTEEvU looks good.
ok 29 - Computing differences
ok 30 # skip GNU grep not available
ok
t/prologue.t .................... 
1..33
Testing filename: t/mailboxes/binary_body.txt
Comparing /tmp/Of2lkRTfAo to t/mailboxes/binary_body.txt
Output /tmp/Of2lkRTfAo looks good.
ok 1 - Computing differences
Comparing /tmp/9fNLLeRw7H to t/mailboxes/binary_body.txt
Output /tmp/9fNLLeRw7H looks good.
ok 2 - Computing differences
ok 3 # skip GNU grep not available
Testing filename: t/mailboxes/hessbug.txt
Comparing /tmp/FSx20TbAcy to t/mailboxes/hessbug.txt
Output /tmp/FSx20TbAcy looks good.
ok 4 - Computing differences
Comparing /tmp/tmoQL1oX5b to t/mailboxes/hessbug.txt
Output /tmp/tmoQL1oX5b looks good.
ok 5 - Computing differences
ok 6 # skip GNU grep not available
Testing filename: t/mailboxes/invalid-boundaries.txt
Comparing /tmp/vD6LRQq5V2 to t/mailboxes/invalid-boundaries.txt
Output /tmp/vD6LRQq5V2 looks good.
ok 7 - Computing differences
Comparing /tmp/89KIgZwnv_ to t/mailboxes/invalid-boundaries.txt
Output /tmp/89KIgZwnv_ looks good.
ok 8 - Computing differences
ok 9 # skip GNU grep not available
Testing filename: t/mailboxes/mailarc-1-dos.txt
Comparing /tmp/RhGoYWUYmA to t/mailboxes/mailarc-1-dos.txt
Output /tmp/RhGoYWUYmA looks good.
ok 10 - Computing differences
Comparing /tmp/LxFvRMqMHT to t/mailboxes/mailarc-1-dos.txt
Output /tmp/LxFvRMqMHT looks good.
ok 11 - Computing differences
ok 12 # skip GNU grep not available
Testing filename: t/mailboxes/mailarc-1.txt
Comparing /tmp/YvaAQvFHcl to t/mailboxes/mailarc-1.txt
Output /tmp/YvaAQvFHcl looks good.
ok 13 - Computing differences
Comparing /tmp/sQexXm4KEm to t/mailboxes/mailarc-1.txt
Output /tmp/sQexXm4KEm looks good.
ok 14 - Computing differences
ok 15 # skip GNU grep not available
Testing filename: t/mailboxes/mailarc-2.txt
Comparing /tmp/unHRSXNyKJ to t/mailboxes/mailarc-2.txt
Output /tmp/unHRSXNyKJ looks good.
ok 16 - Computing differences
Comparing /tmp/4wXJaoG2En to t/mailboxes/mailarc-2.txt
Output /tmp/4wXJaoG2En looks good.
ok 17 - Computing differences
ok 18 # skip GNU grep not available
Testing filename: t/mailboxes/mailarc-3.txt
Comparing /tmp/1QHmObLkUU to t/mailboxes/mailarc-3.txt
Output /tmp/1QHmObLkUU looks good.
ok 19 - Computing differences
Comparing /tmp/p4VwGCF3rl to t/mailboxes/mailarc-3.txt
Output /tmp/p4VwGCF3rl looks good.
ok 20 - Computing differences
ok 21 # skip GNU grep not available
Testing filename: t/mailboxes/mailseparators.txt
Comparing /tmp/KcGgxzZkod to t/mailboxes/mailseparators.txt
Output /tmp/KcGgxzZkod looks good.
ok 22 - Computing differences
Comparing /tmp/iZdR8tnNDJ to t/mailboxes/mailseparators.txt
Output /tmp/iZdR8tnNDJ looks good.
ok 23 - Computing differences
ok 24 # skip GNU grep not available
Testing filename: t/mailboxes/malformed.txt
Comparing /tmp/tOtPdrGWzo to t/mailboxes/malformed.txt
Output /tmp/tOtPdrGWzo looks good.
ok 25 - Computing differences
Comparing /tmp/ZtULXqG2ME to t/mailboxes/malformed.txt
Output /tmp/ZtULXqG2ME looks good.
ok 26 - Computing differences
ok 27 # skip GNU grep not available
Testing filename: t/mailboxes/newlines_at_beginning.txt
Comparing /tmp/9e2kA_DXK2 to t/mailboxes/newlines_at_beginning.txt
Output /tmp/9e2kA_DXK2 looks good.
ok 28 - Computing differences
Comparing /tmp/sQ_Osd2NJy to t/mailboxes/newlines_at_beginning.txt
Output /tmp/sQ_Osd2NJy looks good.
ok 29 - Computing differences
ok 30 # skip GNU grep not available
Testing filename: t/mailboxes/vm-emacs.txt
Comparing /tmp/vcJCcM8Ccn to t/mailboxes/vm-emacs.txt
Output /tmp/vcJCcM8Ccn looks good.
ok 31 - Computing differences
Comparing /tmp/j3xZ_nH7jx to t/mailboxes/vm-emacs.txt
Output /tmp/j3xZ_nH7jx looks good.
ok 32 - Computing differences
ok 33 # skip GNU grep not available
ok
t/reset.t ....................... 
1..60
Testing filename: t/mailboxes/binary_body.txt
Testing partial mailbox reset with Perl implementation
Comparing /tmp/z_nnUMZMiK to t/results/reset_binary_body.stdout
Output /tmp/z_nnUMZMiK looks good.
ok 1 - Computing differences
Testing partial mailbox reset with Cache implementation
Comparing /tmp/R9yIAsXkt2 to t/results/reset_binary_body.stdout
Output /tmp/R9yIAsXkt2 looks good.
ok 2 - Computing differences
Testing partial mailbox reset with Grep implementation
ok 3 # skip GNU grep not available
Testing full mailbox reset with Perl implementation
Comparing /tmp/_kd2lKelU2 to t/results/reset_binary_body.stdout
Output /tmp/_kd2lKelU2 looks good.
ok 4 - Computing differences
Testing full mailbox reset with Cache implementation
Comparing /tmp/Lj6E5oivQT to t/results/reset_binary_body.stdout
Output /tmp/Lj6E5oivQT looks good.
ok 5 - Computing differences
Testing full mailbox reset with Grep implementation
ok 6 # skip GNU grep not available
Testing filename: t/mailboxes/hessbug.txt
Testing partial mailbox reset with Perl implementation
Comparing /tmp/mHQTqr_i5t to t/results/reset_hessbug.stdout
Output /tmp/mHQTqr_i5t looks good.
ok 7 - Computing differences
Testing partial mailbox reset with Cache implementation
Comparing /tmp/Q1mJUeLd1v to t/results/reset_hessbug.stdout
Output /tmp/Q1mJUeLd1v looks good.
ok 8 - Computing differences
Testing partial mailbox reset with Grep implementation
ok 9 # skip GNU grep not available
Testing full mailbox reset with Perl implementation
Comparing /tmp/zAJ5rJlMip to t/results/reset_hessbug.stdout
Output /tmp/zAJ5rJlMip looks good.
ok 10 - Computing differences
Testing full mailbox reset with Cache implementation
Comparing /tmp/hYs_AB6POC to t/results/reset_hessbug.stdout
Output /tmp/hYs_AB6POC looks good.
ok 11 - Computing differences
Testing full mailbox reset with Grep implementation
ok 12 # skip GNU grep not available
Testing filename: t/mailboxes/invalid-boundaries.txt
Testing partial mailbox reset with Perl implementation
Comparing /tmp/2QXJRvwjmT to t/results/reset_invalid-boundaries.stdout
Output /tmp/2QXJRvwjmT looks good.
ok 13 - Computing differences
Testing partial mailbox reset with Cache implementation
Comparing /tmp/M5ZpSYjXES to t/results/reset_invalid-boundaries.stdout
Output /tmp/M5ZpSYjXES looks good.
ok 14 - Computing differences
Testing partial mailbox reset with Grep implementation
ok 15 # skip GNU grep not available
Testing full mailbox reset with Perl implementation
Comparing /tmp/bVLo7lpO3z to t/results/reset_invalid-boundaries.stdout
Output /tmp/bVLo7lpO3z looks good.
ok 16 - Computing differences
Testing full mailbox reset with Cache implementation
Comparing /tmp/OKm1thOjZs to t/results/reset_invalid-boundaries.stdout
Output /tmp/OKm1thOjZs looks good.
ok 17 - Computing differences
Testing full mailbox reset with Grep implementation
ok 18 # skip GNU grep not available
Testing filename: t/mailboxes/mailarc-1-dos.txt
Testing partial mailbox reset with Perl implementation
Comparing /tmp/z7xXDAySLL to t/results/reset_mailarc-1-dos.stdout
Output /tmp/z7xXDAySLL looks good.
ok 19 - Computing differences
Testing partial mailbox reset with Cache implementation
Comparing /tmp/CHGoadv6AB to t/results/reset_mailarc-1-dos.stdout
Output /tmp/CHGoadv6AB looks good.
ok 20 - Computing differences
Testing partial mailbox reset with Grep implementation
ok 21 # skip GNU grep not available
Testing full mailbox reset with Perl implementation
Comparing /tmp/iU_hioAgBJ to t/results/reset_mailarc-1-dos.stdout
Output /tmp/iU_hioAgBJ looks good.
ok 22 - Computing differences
Testing full mailbox reset with Cache implementation
Comparing /tmp/YWFYPUpnyD to t/results/reset_mailarc-1-dos.stdout
Output /tmp/YWFYPUpnyD looks good.
ok 23 - Computing differences
Testing full mailbox reset with Grep implementation
ok 24 # skip GNU grep not available
Testing filename: t/mailboxes/mailarc-1.txt
Testing partial mailbox reset with Perl implementation
Comparing /tmp/1wPjSQt0gV to t/results/reset_mailarc-1.stdout
Output /tmp/1wPjSQt0gV looks good.
ok 25 - Computing differences
Testing partial mailbox reset with Cache implementation
Comparing /tmp/5PSSO3j0RP to t/results/reset_mailarc-1.stdout
Output /tmp/5PSSO3j0RP looks good.
ok 26 - Computing differences
Testing partial mailbox reset with Grep implementation
ok 27 # skip GNU grep not available
Testing full mailbox reset with Perl implementation
Comparing /tmp/fhFOFte1R_ to t/results/reset_mailarc-1.stdout
Output /tmp/fhFOFte1R_ looks good.
ok 28 - Computing differences
Testing full mailbox reset with Cache implementation
Comparing /tmp/o9HejJTGJY to t/results/reset_mailarc-1.stdout
Output /tmp/o9HejJTGJY looks good.
ok 29 - Computing differences
Testing full mailbox reset with Grep implementation
ok 30 # skip GNU grep not available
Testing filename: t/mailboxes/mailarc-2.txt
Testing partial mailbox reset with Perl implementation
Comparing /tmp/Dy3AqLUeyR to t/results/reset_mailarc-2.stdout
Output /tmp/Dy3AqLUeyR looks good.
ok 31 - Computing differences
Testing partial mailbox reset with Cache implementation
Comparing /tmp/YX19SC3RaW to t/results/reset_mailarc-2.stdout
Output /tmp/YX19SC3RaW looks good.
ok 32 - Computing differences
Testing partial mailbox reset with Grep implementation
ok 33 # skip GNU grep not available
Testing full mailbox reset with Perl implementation
Comparing /tmp/Y8NFERE5jo to t/results/reset_mailarc-2.stdout
Output /tmp/Y8NFERE5jo looks good.
ok 34 - Computing differences
Testing full mailbox reset with Cache implementation
Comparing /tmp/5PH5B405c9 to t/results/reset_mailarc-2.stdout
Output /tmp/5PH5B405c9 looks good.
ok 35 - Computing differences
Testing full mailbox reset with Grep implementation
ok 36 # skip GNU grep not available
Testing filename: t/mailboxes/mailarc-3.txt
Testing partial mailbox reset with Perl implementation
Comparing /tmp/DcUzNrKEMw to t/results/reset_mailarc-3.stdout
Output /tmp/DcUzNrKEMw looks good.
ok 37 - Computing differences
Testing partial mailbox reset with Cache implementation
Comparing /tmp/TwPHfhi0mf to t/results/reset_mailarc-3.stdout
Output /tmp/TwPHfhi0mf looks good.
ok 38 - Computing differences
Testing partial mailbox reset with Grep implementation
ok 39 # skip GNU grep not available
Testing full mailbox reset with Perl implementation
Comparing /tmp/DRU6eIifxZ to t/results/reset_mailarc-3.stdout
Output /tmp/DRU6eIifxZ looks good.
ok 40 - Computing differences
Testing full mailbox reset with Cache implementation
Comparing /tmp/DhDns6RUVp to t/results/reset_mailarc-3.stdout
Output /tmp/DhDns6RUVp looks good.
ok 41 - Computing differences
Testing full mailbox reset with Grep implementation
ok 42 # skip GNU grep not available
Testing filename: t/mailboxes/mailseparators.txt
Testing partial mailbox reset with Perl implementation
Comparing /tmp/IhPQrftd6J to t/results/reset_mailseparators.stdout
Output /tmp/IhPQrftd6J looks good.
ok 43 - Computing differences
Testing partial mailbox reset with Cache implementation
Comparing /tmp/2ZiRJPRTCw to t/results/reset_mailseparators.stdout
Output /tmp/2ZiRJPRTCw looks good.
ok 44 - Computing differences
Testing partial mailbox reset with Grep implementation
ok 45 # skip GNU grep not available
Testing full mailbox reset with Perl implementation
Comparing /tmp/xeHN0Lm_Jm to t/results/reset_mailseparators.stdout
Output /tmp/xeHN0Lm_Jm looks good.
ok 46 - Computing differences
Testing full mailbox reset with Cache implementation
Comparing /tmp/tsz_d_5foS to t/results/reset_mailseparators.stdout
Output /tmp/tsz_d_5foS looks good.
ok 47 - Computing differences
Testing full mailbox reset with Grep implementation
ok 48 # skip GNU grep not available
Testing filename: t/mailboxes/malformed.txt
Testing partial mailbox reset with Perl implementation
Comparing /tmp/Lh2U517h69 to t/results/reset_malformed.stdout
Output /tmp/Lh2U517h69 looks good.
ok 49 - Computing differences
Testing partial mailbox reset with Cache implementation
Comparing /tmp/kHSusEKRoJ to t/results/reset_malformed.stdout
Output /tmp/kHSusEKRoJ looks good.
ok 50 - Computing differences
Testing partial mailbox reset with Grep implementation
ok 51 # skip GNU grep not available
Testing full mailbox reset with Perl implementation
Comparing /tmp/oSFUcswRrv to t/results/reset_malformed.stdout
Output /tmp/oSFUcswRrv looks good.
ok 52 - Computing differences
Testing full mailbox reset with Cache implementation
Comparing /tmp/rBTKTyqHVG to t/results/reset_malformed.stdout
Output /tmp/rBTKTyqHVG looks good.
ok 53 - Computing differences
Testing full mailbox reset with Grep implementation
ok 54 # skip GNU grep not available
Testing filename: t/mailboxes/newlines_at_beginning.txt
Testing partial mailbox reset with Perl implementation
Comparing /tmp/Jw6njim3R0 to t/results/reset_newlines_at_beginning.stdout
Output /tmp/Jw6njim3R0 looks good.
ok 55 - Computing differences
Testing partial mailbox reset with Cache implementation
Comparing /tmp/K5fXHE2cYA to t/results/reset_newlines_at_beginning.stdout
Output /tmp/K5fXHE2cYA looks good.
ok 56 - Computing differences
Testing partial mailbox reset with Grep implementation
ok 57 # skip GNU grep not available
Testing full mailbox reset with Perl implementation
Comparing /tmp/CsbYYSFAsp to t/results/reset_newlines_at_beginning.stdout
Output /tmp/CsbYYSFAsp looks good.
ok 58 - Computing differences
Testing full mailbox reset with Cache implementation
Comparing /tmp/aNs9uwmb83 to t/results/reset_newlines_at_beginning.stdout
Output /tmp/aNs9uwmb83 looks good.
ok 59 - Computing differences
Testing full mailbox reset with Grep implementation
ok 60 # skip GNU grep not available
ok
t/separators.t .................. 
1..6
Testing filename: t/mailboxes/separators2.sep
ok 1 - Number of emails in t/mailboxes/separators2.sep
ok 2 - Number of emails in t/mailboxes/separators2.sep
ok 3 # skip GNU grep not available
Testing filename: t/mailboxes/separators1.sep
ok 4 - Number of emails in t/mailboxes/separators1.sep
ok 5 - Number of emails in t/mailboxes/separators1.sep
ok 6 # skip GNU grep not available
ok
t/stdin_compressed.t ............ 
1..4
Testing filename: t/mailboxes/mailarc-2.txt.bz2
Comparing /tmp/timLQlciYV to t/mailboxes/mailarc-2.txt
Output /tmp/timLQlciYV looks good.
ok 1 - Computing differences
Testing filename: t/mailboxes/mailarc-2.txt.gz
Comparing /tmp/zStVThSwKk to t/mailboxes/mailarc-2.txt
Output /tmp/zStVThSwKk looks good.
ok 2 - Computing differences
Testing filename: t/mailboxes/mailarc-2.txt.lz
ok 3 # skip lzip not available
Testing filename: t/mailboxes/mailarc-2.txt.xz
Comparing /tmp/IqjJ6_pIvB to t/mailboxes/mailarc-2.txt
Output /tmp/IqjJ6_pIvB looks good.
ok 4 - Computing differences
ok
t/stdin_uncompressed.t .......... 
1..11
Testing filename: t/mailboxes/binary_body.txt
Comparing /tmp/_hyF36V1cL to t/mailboxes/binary_body.txt
Output /tmp/_hyF36V1cL looks good.
ok 1 - Computing differences
Testing filename: t/mailboxes/hessbug.txt
Comparing /tmp/4jttUfsKhC to t/mailboxes/hessbug.txt
Output /tmp/4jttUfsKhC looks good.
ok 2 - Computing differences
Testing filename: t/mailboxes/invalid-boundaries.txt
Comparing /tmp/T1iMIUxbYT to t/mailboxes/invalid-boundaries.txt
Output /tmp/T1iMIUxbYT looks good.
ok 3 - Computing differences
Testing filename: t/mailboxes/mailarc-1-dos.txt
Comparing /tmp/5MJV6cebDj to t/mailboxes/mailarc-1-dos.txt
Output /tmp/5MJV6cebDj looks good.
ok 4 - Computing differences
Testing filename: t/mailboxes/mailarc-1.txt
Comparing /tmp/nfWjGLHLsv to t/mailboxes/mailarc-1.txt
Output /tmp/nfWjGLHLsv looks good.
ok 5 - Computing differences
Testing filename: t/mailboxes/mailarc-2.txt
Comparing /tmp/TeIVm6eBiy to t/mailboxes/mailarc-2.txt
Output /tmp/TeIVm6eBiy looks good.
ok 6 - Computing differences
Testing filename: t/mailboxes/mailarc-3.txt
Comparing /tmp/M1gMLElwO5 to t/mailboxes/mailarc-3.txt
Output /tmp/M1gMLElwO5 looks good.
ok 7 - Computing differences
Testing filename: t/mailboxes/mailseparators.txt
Comparing /tmp/Bg0POX8olQ to t/mailboxes/mailseparators.txt
Output /tmp/Bg0POX8olQ looks good.
ok 8 - Computing differences
Testing filename: t/mailboxes/malformed.txt
Comparing /tmp/ivd0mlxsb9 to t/mailboxes/malformed.txt
Output /tmp/ivd0mlxsb9 looks good.
ok 9 - Computing differences
Testing filename: t/mailboxes/newlines_at_beginning.txt
Comparing /tmp/RIrA3gGp6P to t/mailboxes/newlines_at_beginning.txt
Output /tmp/RIrA3gGp6P looks good.
ok 10 - Computing differences
Testing filename: t/mailboxes/vm-emacs.txt
Comparing /tmp/bNbrVL2E24 to t/mailboxes/vm-emacs.txt
Output /tmp/bNbrVL2E24 looks good.
ok 11 - Computing differences
ok
t/undef_return_value.t .......... 
1..33
Testing Perl 
Comparing /tmp/7l0k3cB2ZC to t/mailboxes/binary_body.txt
Output /tmp/7l0k3cB2ZC looks good.
ok 1 - Computing differences
Testing Cache implementation
Comparing /tmp/UdUTBGqW9I to t/mailboxes/binary_body.txt
Output /tmp/UdUTBGqW9I looks good.
ok 2 - Computing differences
ok 3 # skip GNU grep not available
Testing Perl 
Comparing /tmp/R7kfyh1YDu to t/mailboxes/hessbug.txt
Output /tmp/R7kfyh1YDu looks good.
ok 4 - Computing differences
Testing Cache implementation
Comparing /tmp/wCMQkbu2ch to t/mailboxes/hessbug.txt
Output /tmp/wCMQkbu2ch looks good.
ok 5 - Computing differences
ok 6 # skip GNU grep not available
Testing Perl 
Comparing /tmp/uVJvUU_y2A to t/mailboxes/invalid-boundaries.txt
Output /tmp/uVJvUU_y2A looks good.
ok 7 - Computing differences
Testing Cache implementation
Comparing /tmp/oAj5taQhXo to t/mailboxes/invalid-boundaries.txt
Output /tmp/oAj5taQhXo looks good.
ok 8 - Computing differences
ok 9 # skip GNU grep not available
Testing Perl 
Comparing /tmp/2xspn1qZ47 to t/mailboxes/mailarc-1-dos.txt
Output /tmp/2xspn1qZ47 looks good.
ok 10 - Computing differences
Testing Cache implementation
Comparing /tmp/RFSTWSZpQV to t/mailboxes/mailarc-1-dos.txt
Output /tmp/RFSTWSZpQV looks good.
ok 11 - Computing differences
ok 12 # skip GNU grep not available
Testing Perl 
Comparing /tmp/3ULVQzACJG to t/mailboxes/mailarc-1.txt
Output /tmp/3ULVQzACJG looks good.
ok 13 - Computing differences
Testing Cache implementation
Comparing /tmp/gaYIkIqdUc to t/mailboxes/mailarc-1.txt
Output /tmp/gaYIkIqdUc looks good.
ok 14 - Computing differences
ok 15 # skip GNU grep not available
Testing Perl 
Comparing /tmp/As7Sv4y4ON to t/mailboxes/mailarc-2.txt
Output /tmp/As7Sv4y4ON looks good.
ok 16 - Computing differences
Testing Cache implementation
Comparing /tmp/XVO84VZAi9 to t/mailboxes/mailarc-2.txt
Output /tmp/XVO84VZAi9 looks good.
ok 17 - Computing differences
ok 18 # skip GNU grep not available
Testing Perl 
Comparing /tmp/JP0xZRn6Lg to t/mailboxes/mailarc-3.txt
Output /tmp/JP0xZRn6Lg looks good.
ok 19 - Computing differences
Testing Cache implementation
Comparing /tmp/sJDpovgFeg to t/mailboxes/mailarc-3.txt
Output /tmp/sJDpovgFeg looks good.
ok 20 - Computing differences
ok 21 # skip GNU grep not available
Testing Perl 
Comparing /tmp/k3esM1kMco to t/mailboxes/mailseparators.txt
Output /tmp/k3esM1kMco looks good.
ok 22 - Computing differences
Testing Cache implementation
Comparing /tmp/MYhKgw2JOR to t/mailboxes/mailseparators.txt
Output /tmp/MYhKgw2JOR looks good.
ok 23 - Computing differences
ok 24 # skip GNU grep not available
Testing Perl 
Comparing /tmp/35dx9cE38k to t/mailboxes/malformed.txt
Output /tmp/35dx9cE38k looks good.
ok 25 - Computing differences
Testing Cache implementation
Comparing /tmp/vWF6JsJGTj to t/mailboxes/malformed.txt
Output /tmp/vWF6JsJGTj looks good.
ok 26 - Computing differences
ok 27 # skip GNU grep not available
Testing Perl 
Comparing /tmp/xmYmorK5bg to t/mailboxes/newlines_at_beginning.txt
Output /tmp/xmYmorK5bg looks good.
ok 28 - Computing differences
Testing Cache implementation
Comparing /tmp/PWDwmfPC67 to t/mailboxes/newlines_at_beginning.txt
Output /tmp/PWDwmfPC67 looks good.
ok 29 - Computing differences
ok 30 # skip GNU grep not available
Testing Perl 
Comparing /tmp/BVwOBvVI3_ to t/mailboxes/vm-emacs.txt
Output /tmp/BVwOBvVI3_ looks good.
ok 31 - Computing differences
Testing Cache implementation
Comparing /tmp/orVnDHw5b7 to t/mailboxes/vm-emacs.txt
Output /tmp/orVnDHw5b7 looks good.
ok 32 - Computing differences
ok 33 # skip GNU grep not available
ok
t/xz.t .......................... 
1..1
Running test:
  "/usr/bin/cat" "t/mailboxes/mailarc-2.txt.xz" | "/usr/bin/xz" -cd
Comparing /tmp/OkcHqqFRvp to t/results/mailarc-2.txt
Output /tmp/OkcHqqFRvp looks good.
Comparing /tmp/Hb2mSHEwv8 to t/results/none
Output /tmp/Hb2mSHEwv8 looks good.
ok 1 - Computing differences
ok
All tests successful.
Files=25, Tests=382,  5 wallclock secs ( 0.14 usr  0.08 sys +  3.93 cusr  0.91 csys =  5.06 CPU)
Result: PASS

------------------------------
PREREQUISITES
------------------------------

Prerequisite modules loaded:

requires:

    Module              Need  Have    
    ------------------- ----- --------
    FileHandle::Unget   0     0.1634  
    perl                5.005 5.039003
    Storable            0     3.32    

build_requires:

    Module              Need  Have    
    ------------------- ----- --------
    ExtUtils::MakeMaker 6.36  7.70    
    File::Path          2.08  2.18    
    File::Slurper       0     0.014   
    Test::Compile       0     v3.3.1  
    Test::More          0     1.302195
    Text::Diff          0     1.45    
    UNIVERSAL::require  0     0.19    
    URI::Escape         0     5.21    

configure_requires:

    Module              Need  Have    
    ------------------- ----- --------
    ExtUtils::MakeMaker 6.36  7.70    
    URI::Escape         0     5.21    


------------------------------
ENVIRONMENT AND OTHER CONTEXT
------------------------------

Environment variables:

    AUTOMATED_TESTING = 1
    LANG = en_US.UTF-8
    LC_ADDRESS = de_DE.UTF-8
    LC_IDENTIFICATION = de_DE.UTF-8
    LC_MEASUREMENT = de_DE.UTF-8
    LC_MONETARY = de_DE.UTF-8
    LC_NAME = de_DE.UTF-8
    LC_NUMERIC = de_DE.UTF-8
    LC_PAPER = de_DE.UTF-8
    LC_TELEPHONE = de_DE.UTF-8
    LC_TIME = de_DE.UTF-8
    PATH = /home/sand/bin:/usr/local/bin:/usr/local/sbin:/usr/sbin:/usr/bin:/sbin:/bin:/usr/games:/usr/local/games:/snap/bin:/usr/local/perl/bin:/usr/X11/bin
    PERL = /tmp/basesmoker-reloperl-WrhG/bin/perl
    PERL5LIB = /tmp/loop_over_bdir-2791-kvk5Qx/perl-Hardware-UPS-Perl-0.43-0/blib/arch:/tmp/loop_over_bdir-2791-kvk5Qx/perl-Hardware-UPS-Perl-0.43-0/blib/lib:/tmp/loop_over_bdir-2791-kvk5Qx/App-nrun-v1.1.2-0/blib/arch:/tmp/loop_over_bdir-2791-kvk5Qx/App-nrun-v1.1.2-0/blib/lib:/tmp/loop_over_bdir-2791-kvk5Qx/Net-Async-WebService-lxd-0.03-0/blib/arch:/tmp/loop_over_bdir-2791-kvk5Qx/Net-Async-WebService-lxd-0.03-0/blib/lib:/tmp/loop_over_bdir-2791-kvk5Qx/CORBA-Python-2.66-0/blib/arch:/tmp/loop_over_bdir-2791-kvk5Qx/CORBA-Python-2.66-0/blib/lib:/tmp/loop_over_bdir-2791-kvk5Qx/App-rmcd-0.280-0/blib/arch:/tmp/loop_over_bdir-2791-kvk5Qx/App-rmcd-0.280-0/blib/lib:/tmp/loop_over_bdir-2791-kvk5Qx/triceps-2.1.0-0/blib/arch:/tmp/loop_over_bdir-2791-kvk5Qx/triceps-2.1.0-0/blib/lib
    PERL5OPT = 
    PERL5_CPANPLUS_IS_RUNNING = 2805
    PERL5_CPAN_IS_RUNNING = 2805
    PERL_CANARY_STABILITY_NOPROMPT = 1
    PERL_MM_USE_DEFAULT = 1
    PERL_USE_UNSAFE_INC = 1
    SHELL = /usr/bin/zsh
    TERM = screen

Perl special variables (and OS-specific diagnostics, for MSWin32):

    $^X = /tmp/basesmoker-reloperl-WrhG/bin/perl
    $UID/$EUID = 1005 / 1005
    $GID = 1005 1005
    $EGID = 1005 1005

Perl module toolchain versions installed:

    Module              Have    
    ------------------- --------
    CPAN                2.36    
    CPAN::Meta          2.150010
    Cwd                 3.90    
    ExtUtils::CBuilder  0.280240
    ExtUtils::Command   7.70    
    ExtUtils::Install   2.22    
    ExtUtils::MakeMaker 7.70    
    ExtUtils::Manifest  1.75    
    ExtUtils::ParseXS   3.51    
    File::Spec          3.90    
    JSON                4.10    
    JSON::PP            4.16    
    Module::Build       0.4234  
    Module::Signature   0.88    
    Parse::CPAN::Meta   2.150010
    Test2               1.302195
    Test::Harness       3.47    
    Test::More          1.302195
    YAML                1.30    
    YAML::Syck          1.34    
    version             0.9930  


--

Summary of my perl5 (revision 5 version 39 subversion 3) configuration:
  Commit id: c8a2e4d1432cd1244a4e44d6bb71920b692076b7
  Platform:
    osname=linux
    osvers=6.2.0-32-generic
    archname=x86_64-linux
    uname='linux k93jammy 6.2.0-32-generic #32~22.04.1-ubuntu smp preempt_dynamic fri aug 18 10:40:13 utc 2 x86_64 x86_64 x86_64 gnulinux '
    config_args='-Dprefix=/home/sand/src/perl/repoperls/installed-perls/host/k93jammy/v5.39.3/6567 -Dmyhostname=k93jammy -Dinstallusrbinperl=n -Uversiononly -Dusedevel -des -Ui_db -Dlibswanted=cl pthread socket inet nsl gdbm dbm malloc dl ld sun m crypt sec util c cposix posix ucb BSD gdbm_compat -Uuseithreads -Uuselongdouble -DEBUGGING=-g'
    hint=recommended
    useposix=true
    d_sigaction=define
    useithreads=undef
    usemultiplicity=undef
    use64bitint=define
    use64bitall=define
    uselongdouble=undef
    usemymalloc=n
    default_inc_excludes_dot=define
  Compiler:
    cc='cc'
    ccflags ='-fwrapv -fno-strict-aliasing -pipe -fstack-protector-strong -I/usr/local/include -D_LARGEFILE_SOURCE -D_FILE_OFFSET_BITS=64'
    optimize='-O2 -g'
    cppflags='-fwrapv -fno-strict-aliasing -pipe -fstack-protector-strong -I/usr/local/include'
    ccversion=''
    gccversion='11.4.0'
    gccosandvers=''
    intsize=4
    longsize=8
    ptrsize=8
    doublesize=8
    byteorder=12345678
    doublekind=3
    d_longlong=define
    longlongsize=8
    d_longdbl=define
    longdblsize=16
    longdblkind=3
    ivtype='long'
    ivsize=8
    nvtype='double'
    nvsize=8
    Off_t='off_t'
    lseeksize=8
    alignbytes=8
    prototype=define
  Linker and Libraries:
    ld='cc'
    ldflags =' -fstack-protector-strong -L/usr/local/lib'
    libpth=/usr/local/lib /usr/lib/x86_64-linux-gnu /usr/lib /usr/lib64
    libs=-lpthread -lnsl -ldl -lm -lcrypt -lutil -lc
    perllibs=-lpthread -lnsl -ldl -lm -lcrypt -lutil -lc
    libc=/lib/x86_64-linux-gnu/libc.so.6
    so=so
    useshrplib=false
    libperl=libperl.a
    gnulibc_version='2.35'
  Dynamic Linking:
    dlsrc=dl_dlopen.xs
    dlext=so
    d_dlsymun=undef
    ccdlflags='-Wl,-E'
    cccdlflags='-fPIC'
    lddlflags='-shared -O2 -g -L/usr/local/lib -fstack-protector-strong'


Characteristics of this binary (from libperl): 
  Compile-time options:
    HAS_LONG_DOUBLE
    HAS_STRTOLD
    HAS_TIMES
    PERLIO_LAYERS
    PERL_COPY_ON_WRITE
    PERL_DONT_CREATE_GVSV
    PERL_HASH_FUNC_SIPHASH13
    PERL_HASH_USE_SBOX32
    PERL_MALLOC_WRAP
    PERL_OP_PARENT
    PERL_PRESERVE_IVUV
    PERL_USE_DEVEL
    PERL_USE_SAFE_PUTENV
    USE_64_BIT_ALL
    USE_64_BIT_INT
    USE_LARGE_FILES
    USE_LOCALE
    USE_LOCALE_COLLATE
    USE_LOCALE_CTYPE
    USE_LOCALE_NUMERIC
    USE_LOCALE_TIME
    USE_PERLIO
    USE_PERL_ATOF
  Built under linux
  Compiled at Sep 20 2023 22:59:57
  %ENV:
    PERL="/tmp/basesmoker-reloperl-WrhG/bin/perl"
    PERL5LIB="/tmp/loop_over_bdir-2791-kvk5Qx/perl-Hardware-UPS-Perl-0.43-0/blib/arch:/tmp/loop_over_bdir-2791-kvk5Qx/perl-Hardware-UPS-Perl-0.43-0/blib/lib:/tmp/loop_over_bdir-2791-kvk5Qx/App-nrun-v1.1.2-0/blib/arch:/tmp/loop_over_bdir-2791-kvk5Qx/App-nrun-v1.1.2-0/blib/lib:/tmp/loop_over_bdir-2791-kvk5Qx/Net-Async-WebService-lxd-0.03-0/blib/arch:/tmp/loop_over_bdir-2791-kvk5Qx/Net-Async-WebService-lxd-0.03-0/blib/lib:/tmp/loop_over_bdir-2791-kvk5Qx/CORBA-Python-2.66-0/blib/arch:/tmp/loop_over_bdir-2791-kvk5Qx/CORBA-Python-2.66-0/blib/lib:/tmp/loop_over_bdir-2791-kvk5Qx/App-rmcd-0.280-0/blib/arch:/tmp/loop_over_bdir-2791-kvk5Qx/App-rmcd-0.280-0/blib/lib:/tmp/loop_over_bdir-2791-kvk5Qx/triceps-2.1.0-0/blib/arch:/tmp/loop_over_bdir-2791-kvk5Qx/triceps-2.1.0-0/blib/lib"
    PERL5OPT=""
    PERL5_CPANPLUS_IS_RUNNING="2805"
    PERL5_CPAN_IS_RUNNING="2805"
    PERL_CANARY_STABILITY_NOPROMPT="1"
    PERL_MM_USE_DEFAULT="1"
    PERL_USE_UNSAFE_INC="1"
  @INC:
    /tmp/loop_over_bdir-2791-kvk5Qx/perl-Hardware-UPS-Perl-0.43-0/blib/arch
    /tmp/loop_over_bdir-2791-kvk5Qx/perl-Hardware-UPS-Perl-0.43-0/blib/lib
    /tmp/loop_over_bdir-2791-kvk5Qx/App-nrun-v1.1.2-0/blib/arch
    /tmp/loop_over_bdir-2791-kvk5Qx/App-nrun-v1.1.2-0/blib/lib
    /tmp/loop_over_bdir-2791-kvk5Qx/Net-Async-WebService-lxd-0.03-0/blib/arch
    /tmp/loop_over_bdir-2791-kvk5Qx/Net-Async-WebService-lxd-0.03-0/blib/lib
    /tmp/loop_over_bdir-2791-kvk5Qx/CORBA-Python-2.66-0/blib/arch
    /tmp/loop_over_bdir-2791-kvk5Qx/CORBA-Python-2.66-0/blib/lib
    /tmp/loop_over_bdir-2791-kvk5Qx/App-rmcd-0.280-0/blib/arch
    /tmp/loop_over_bdir-2791-kvk5Qx/App-rmcd-0.280-0/blib/lib
    /tmp/loop_over_bdir-2791-kvk5Qx/triceps-2.1.0-0/blib/arch
    /tmp/loop_over_bdir-2791-kvk5Qx/triceps-2.1.0-0/blib/lib
    /home/sand/src/perl/repoperls/installed-perls/host/k93jammy/v5.39.3/6567/lib/site_perl/5.39.3/x86_64-linux
    /home/sand/src/perl/repoperls/installed-perls/host/k93jammy/v5.39.3/6567/lib/site_perl/5.39.3
    /home/sand/src/perl/repoperls/installed-perls/host/k93jammy/v5.39.3/6567/lib/5.39.3/x86_64-linux
    /home/sand/src/perl/repoperls/installed-perls/host/k93jammy/v5.39.3/6567/lib/5.39.3
    .