JSON-DWIW v0.47 Perl 5 v5.33.2 x86_64-dragonfly-thread-multi

Status
Pass
From
Carlos Guevara
Dist
JSON-DWIW v0.47
Platform
Perl 5 v5.33.2 x86_64-dragonfly-thread-multi
Date
2020-09-17 11:48:59
ID
c634ab20-f8db-11ea-b1ba-0ea72d42544b
This distribution has been tested as part of the CPAN Testers
project, supporting the Perl programming language.  See
http://wiki.cpantesters.org/ for more information or email
questions to cpan-testers-discuss@perl.org


--
Dear Don Owens,

This is a computer-generated report for JSON-DWIW-0.47
on perl 5.33.2, created by CPAN-Reporter-1.2018.

Thank you for uploading your work to CPAN.  Congratulations!
All tests were successful.

Sections of this report:

    * Tester comments
    * Program output
    * Prerequisites
    * Environment and other context

------------------------------
TESTER COMMENTS
------------------------------

Additional comments from tester:

this report is from an automated smoke testing program
and was not reviewed by a human for accuracy

------------------------------
PROGRAM OUTPUT
------------------------------

Output from '/usr/bin/make test':

"/home/cpan/bin/perl-blead/bin/perl5.33.2" -MExtUtils::Command::MM -e 'cp_nonempty' -- DWIW.bs blib/arch/auto/JSON/DWIW/DWIW.bs 644
PERL_DL_NONLAZY=1 "/home/cpan/bin/perl-blead/bin/perl5.33.2" "-MExtUtils::Command::MM" "-MTest::Harness" "-e" "undef *Test::Harness::Switches; test_harness(0, 'blib/lib', 'blib/arch')" t/*.t
t/00use.t ................ ok
t/01encode.t ............. ok
t/02decode.t ............. ok
t/03parse_constants.t .... ok
t/04extras.t ............. ok
t/05exceptions.t ......... ok
t/06big_numbers.t ........ ok
t/07magic.t .............. ok
t/08pvxv.t ............... ok
t/09bool.t ............... ok
t/10unicode.t ............ ok
Argument "0e+" isn't numeric in subroutine entry at /home/cpan/.cpan/build/JSON-DWIW-0.47-0/blib/lib/JSON/DWIW.pm line 676.
t/11parse_file.t ......... ok
t/12error.t .............. ok
t/13stats.t .............. ok
t/14nonoo.t .............. ok
t/15bom.t ................ ok
t/16to_xml.t ............. ok
t/17callbacks.t .......... ok
t/compat01.t ............. ok
t/deser01.t .............. ok
t/deser02_constants.t .... ok
t/deser03_extras.t ....... ok
t/deser04_exceptions.t ... ok
t/deser05_big_numbers.t .. ok
t/deser06_bool.t ......... ok
t/deser07_error.t ........ ok
t/deser08_stats.t ........ ok
t/deser09_edge.t ......... ok
t/deser10_bom.t .......... ok
Argument "0e+" isn't numeric in subroutine entry at t/deser11_file.t line 108.
t/deser11_file.t ......... ok
t/deser12_unicode.t ...... ok
t/deser13_escapes.t ...... ok
t/deser14_depth.t ........ ok
t/encode01.t ............. ok
t/from_json01_escapes.t .. ok
t/tickets.t .............. ok
All tests successful.
Files=36, Tests=391,  6 wallclock secs ( 0.12 usr  0.16 sys +  4.63 cusr  0.83 csys =  5.73 CPU)
Result: PASS

------------------------------
PREREQUISITES
------------------------------

Prerequisite modules loaded:

requires:

    Module              Need Have    
    ------------------- ---- --------
    Test::More          0    1.302181

build_requires:

    Module              Need Have    
    ------------------- ---- --------
    ExtUtils::MakeMaker 0    7.46    

configure_requires:

    Module              Need Have    
    ------------------- ---- --------
    ExtUtils::MakeMaker 0    7.46    


------------------------------
ENVIRONMENT AND OTHER CONTEXT
------------------------------

Environment variables:

    AUTOMATED_TESTING = 1
    DATE_MANIP_TEST_DM5 = 1
    LC_ALL = C
    NONINTERACTIVE_TESTING = 1
    PATH = /home/cpan/bin/perl-blead/bin:/home/cpan/bin:/sbin:/bin:/usr/sbin:/usr/bin:/usr/games:/usr/local/sbin:/usr/local/bin:/usr/pkg/sbin:/usr/pkg/bin:/home/cpan/bin
    PERL5LIB = 
    PERL5OPT = 
    PERL5_CPANPLUS_IS_RUNNING = 299710
    PERL5_CPAN_IS_RUNNING = 299710
    PERL_MM_USE_DEFAULT = 1
    PERL_USE_UNSAFE_INC = 1
    PERL_VERSION = blead
    SHELL = /usr/local/bin/bash
    TERM = screen.xterm-256color
    TMPDIR = /home/cpan/tmp

Perl special variables (and OS-specific diagnostics, for MSWin32):

    $^X = /home/cpan/bin/perl-blead/bin/perl5.33.2
    $UID/$EUID = 1002 / 1002
    $GID = 1002 1002
    $EGID = 1002 1002

Perl module toolchain versions installed:

    Module              Have    
    ------------------- --------
    CPAN                2.28    
    CPAN::Meta          2.150010
    Cwd                 3.78    
    ExtUtils::CBuilder  0.280234
    ExtUtils::Command   7.46    
    ExtUtils::Install   2.18    
    ExtUtils::MakeMaker 7.46    
    ExtUtils::Manifest  1.72    
    ExtUtils::ParseXS   3.41    
    File::Spec          3.78    
    JSON                4.02    
    JSON::PP            4.05    
    Module::Build       0.4231  
    Module::Signature   0.87    
    Parse::CPAN::Meta   2.150010
    Test::Harness       3.42    
    Test::More          1.302181
    YAML                1.30    
    YAML::Syck          1.32    
    version             0.9924  


--

Summary of my perl5 (revision 5 version 33 subversion 2) configuration:
  Commit id: bbd21b340219e33e5603768033f78c673149bc9b
  Platform:
    osname=dragonfly
    osvers=5.8-release
    archname=x86_64-dragonfly-thread-multi
    uname='dragonfly cjg-dragonfly5 5.8-release dragonfly v5.8.0-release #7: mon mar 2 12:28:23 est 2020 root@www.shiningsilence.com:usrobjhomejustinrelease5_8sysx86_64_generic x86_64 '
    config_args='-des -Dprefix=~/bin/perl-blead -Dscriptdir=~/bin/perl-blead/bin -Dusedevel -Duse64bitall -Duseithreads'
    hint=recommended
    useposix=true
    d_sigaction=define
    useithreads=define
    usemultiplicity=define
    use64bitint=define
    use64bitall=define
    uselongdouble=undef
    usemymalloc=n
    default_inc_excludes_dot=define
  Compiler:
    cc='cc'
    ccflags ='-DHAS_FPSETMASK -DHAS_FLOATINGPOINT_H -fwrapv -fno-strict-aliasing -pipe -fstack-protector-strong -I/usr/local/include -D_FORTIFY_SOURCE=2'
    optimize='-O2'
    cppflags='-DHAS_FPSETMASK -DHAS_FLOATINGPOINT_H -fwrapv -fno-strict-aliasing -pipe -fstack-protector-strong -I/usr/local/include'
    ccversion=''
    gccversion='8.3 [DragonFly] Release/2019-02-22'
    gccosandvers=''
    intsize=4
    longsize=8
    ptrsize=8
    doublesize=8
    byteorder=12345678
    doublekind=3
    d_longlong=define
    longlongsize=8
    d_longdbl=define
    longdblsize=16
    longdblkind=3
    ivtype='long'
    ivsize=8
    nvtype='double'
    nvsize=8
    Off_t='off_t'
    lseeksize=8
    alignbytes=8
    prototype=define
  Linker and Libraries:
    ld='cc'
    ldflags ='-pthread -Wl,-E  -fstack-protector-strong -L/usr/local/lib'
    libpth=/usr/lib /usr/local/lib /usr/lib
    libs=-lpthread -lgdbm -ldl -lm -lcrypt -lutil -lc
    perllibs=-lpthread -ldl -lm -lcrypt -lutil -lc
    libc=
    so=so
    useshrplib=false
    libperl=libperl.a
    gnulibc_version=''
  Dynamic Linking:
    dlsrc=dl_dlopen.xs
    dlext=so
    d_dlsymun=undef
    ccdlflags=' '
    cccdlflags='-DPIC -fPIC'
    lddlflags='-shared  -L/usr/local/lib -fstack-protector-strong'


Characteristics of this binary (from libperl): 
  Compile-time options:
    HAS_TIMES
    MULTIPLICITY
    PERLIO_LAYERS
    PERL_COPY_ON_WRITE
    PERL_DONT_CREATE_GVSV
    PERL_IMPLICIT_CONTEXT
    PERL_MALLOC_WRAP
    PERL_OP_PARENT
    PERL_PRESERVE_IVUV
    PERL_USE_DEVEL
    USE_64_BIT_ALL
    USE_64_BIT_INT
    USE_ITHREADS
    USE_LARGE_FILES
    USE_LOCALE
    USE_LOCALE_COLLATE
    USE_LOCALE_CTYPE
    USE_LOCALE_NUMERIC
    USE_LOCALE_TIME
    USE_PERLIO
    USE_PERL_ATOF
    USE_REENTRANT_API
    USE_THREAD_SAFE_LOCALE
  Built under dragonfly
  Compiled at Sep 16 2020 21:53:02
  %ENV:
    PERL5LIB=""
    PERL5OPT=""
    PERL5_CPANPLUS_IS_RUNNING="299710"
    PERL5_CPAN_IS_RUNNING="299710"
    PERL_MM_USE_DEFAULT="1"
    PERL_USE_UNSAFE_INC="1"
    PERL_VERSION="blead"
  @INC:
    /home/cpan/bin/perl-blead/lib/site_perl/5.33.2/x86_64-dragonfly-thread-multi
    /home/cpan/bin/perl-blead/lib/site_perl/5.33.2
    /home/cpan/bin/perl-blead/lib/5.33.2/x86_64-dragonfly-thread-multi
    /home/cpan/bin/perl-blead/lib/5.33.2
    .