Catalyst-Action-REST v1.21 Perl 5 v5.43.4 amd64-midnightbsd-thread-multi
- Status
- Pass
- From
- Carlos Guevara
- Dist
-
Catalyst-Action-REST v1.21
- Platform
- Perl 5 v5.43.4 amd64-midnightbsd-thread-multi
- Date
- 2025-10-23 01:51:21
- ID
- c60ab94e-afb2-11f0-810a-bd37790a04a1
This distribution has been tested as part of the CPAN Testers
project, supporting the Perl programming language. See
http://wiki.cpantesters.org/ for more information or email
questions to cpan-testers-discuss@perl.org
--
Dear John Napiorkowski,
This is a computer-generated report for Catalyst-Action-REST-1.21
on perl 5.43.4, created by CPAN-Reporter-1.2020.
Thank you for uploading your work to CPAN. Congratulations!
All tests were successful.
Sections of this report:
* Tester comments
* Program output
* Prerequisites
* Environment and other context
------------------------------
TESTER COMMENTS
------------------------------
Additional comments from tester:
this report is from an automated smoke testing program
and was not reviewed by a human for accuracy
------------------------------
PROGRAM OUTPUT
------------------------------
Output from '/usr/bin/make test':
PERL_DL_NONLAZY=1 "/usr/home/cpan/bin/perl/bin/perl5.43.4" "-MExtUtils::Command::MM" "-MTest::Harness" "-e" "undef *Test::Harness::Switches; test_harness(0, 'blib/lib', 'blib/arch')" t/*.t
t/author-pod-syntax.t ................................... skipped: these tests are for testing by the author
Attempt to call undefined import method with arguments ("5.70") via package "Catalyst::Runtime" (Perhaps you forgot to load the package?) at /usr/home/cpan/.cpan/build/Catalyst-Action-REST-1.21-0/t/lib/Test/Serialize.pm line 10.
t/callback.t ............................................ ok
Attempt to call undefined import method with arguments ("5.70") via package "Catalyst::Runtime" (Perhaps you forgot to load the package?) at /usr/home/cpan/.cpan/build/Catalyst-Action-REST-1.21-0/t/lib/Test/Catalyst/Action/REST.pm line 6.
t/catalyst-action-deserialize-multipart.t ............... ok
Attempt to call undefined import method with arguments ("5.70") via package "Catalyst::Runtime" (Perhaps you forgot to load the package?) at /usr/home/cpan/.cpan/build/Catalyst-Action-REST-1.21-0/t/lib/Test/Catalyst/Action/REST.pm line 6.
t/catalyst-action-deserialize.t ......................... ok
Attempt to call undefined import method with arguments ("5.70") via package "Catalyst::Runtime" (Perhaps you forgot to load the package?) at /usr/home/cpan/.cpan/build/Catalyst-Action-REST-1.21-0/t/lib/Test/Catalyst/Action/REST.pm line 6.
t/catalyst-action-rest-action-dispatch-for-browsers.t ... ok
Attempt to call undefined import method with arguments ("5.70") via package "Catalyst::Runtime" (Perhaps you forgot to load the package?) at /usr/home/cpan/.cpan/build/Catalyst-Action-REST-1.21-0/t/lib/Test/Catalyst/Action/REST.pm line 6.
t/catalyst-action-rest-action-dispatch.t ................ ok
Attempt to call undefined import method with arguments ("5.70") via package "Catalyst::Runtime" (Perhaps you forgot to load the package?) at /usr/home/cpan/.cpan/build/Catalyst-Action-REST-1.21-0/t/lib/Test/Catalyst/Action/REST.pm line 6.
t/catalyst-action-rest.t ................................ ok
Attempt to call undefined import method with arguments ("5.70") via package "Catalyst::Runtime" (Perhaps you forgot to load the package?) at /usr/home/cpan/.cpan/build/Catalyst-Action-REST-1.21-0/t/lib/Test/Catalyst/Action/REST.pm line 6.
t/catalyst-action-serialize-accept.t .................... ok
Attempt to call undefined import method with arguments ("5.70") via package "Catalyst::Runtime" (Perhaps you forgot to load the package?) at /usr/home/cpan/.cpan/build/Catalyst-Action-REST-1.21-0/t/lib/Test/Catalyst/Action/REST.pm line 6.
t/catalyst-action-serialize-query.t ..................... ok
Attempt to call undefined import method with arguments ("5.70") via package "Catalyst::Runtime" (Perhaps you forgot to load the package?) at /usr/home/cpan/.cpan/build/Catalyst-Action-REST-1.21-0/t/lib/Test/Catalyst/Action/REST.pm line 6.
t/catalyst-action-serialize.t ........................... ok
Attempt to call undefined import method with arguments ("5.70") via package "Catalyst::Runtime" (Perhaps you forgot to load the package?) at /usr/home/cpan/.cpan/build/Catalyst-Action-REST-1.21-0/t/lib/Test/Catalyst/Action/REST.pm line 6.
t/catalyst-controller-rest.t ............................ ok
Attempt to call undefined import method with arguments ("5.70") via package "Catalyst::Runtime" (Perhaps you forgot to load the package?) at /usr/home/cpan/.cpan/build/Catalyst-Action-REST-1.21-0/t/lib/Test/Catalyst/Action/REST.pm line 6.
t/catalyst-request-rest-custom-nonrest-request-class.t .. ok
Attempt to call undefined import method with arguments ("5.70") via package "Catalyst::Runtime" (Perhaps you forgot to load the package?) at /usr/home/cpan/.cpan/build/Catalyst-Action-REST-1.21-0/t/lib/Test/Catalyst/Action/REST.pm line 6.
t/catalyst-request-rest-custom-rest-request-class.t ..... ok
t/catalyst-traitfor-request-rest-forbrowsers.t .......... ok
t/catalyst-traitfor-request-rest.t ...................... ok
Attempt to call undefined import method with arguments ("5.70") via package "Catalyst::Runtime" (Perhaps you forgot to load the package?) at /usr/home/cpan/.cpan/build/Catalyst-Action-REST-1.21-0/t/lib/Test/Catalyst/Action/REST.pm line 6.
t/isa.t ................................................. ok
Attempt to call undefined import method with arguments ("5.70") via package "Catalyst::Runtime" (Perhaps you forgot to load the package?) at /usr/home/cpan/.cpan/build/Catalyst-Action-REST-1.21-0/t/lib/Test/Serialize.pm line 10.
t/json.t ................................................ ok
Attempt to call undefined import method with arguments ("5.70") via package "Catalyst::Runtime" (Perhaps you forgot to load the package?) at /usr/home/cpan/.cpan/build/Catalyst-Action-REST-1.21-0/t/lib/Test/Serialize.pm line 10.
t/jsonp.t ............................................... ok
Attempt to call undefined import method with arguments ("5.70") via package "Catalyst::Runtime" (Perhaps you forgot to load the package?) at /usr/home/cpan/.cpan/build/Catalyst-Action-REST-1.21-0/t/lib/Test/Serialize.pm line 10.
t/view.t ................................................ ok
Attempt to call undefined import method with arguments ("5.70") via package "Catalyst::Runtime" (Perhaps you forgot to load the package?) at /usr/home/cpan/.cpan/build/Catalyst-Action-REST-1.21-0/t/lib/Test/Serialize.pm line 10.
t/xml-simple.t .......................................... ok
Attempt to call undefined import method with arguments ("5.70") via package "Catalyst::Runtime" (Perhaps you forgot to load the package?) at /usr/home/cpan/.cpan/build/Catalyst-Action-REST-1.21-0/t/lib/Test/Serialize.pm line 10.
t/yaml-html.t ........................................... ok
Attempt to call undefined import method with arguments ("5.70") via package "Catalyst::Runtime" (Perhaps you forgot to load the package?) at /usr/home/cpan/.cpan/build/Catalyst-Action-REST-1.21-0/t/lib/Test/Serialize.pm line 10.
t/yaml.t ................................................ ok
All tests successful.
Files=22, Tests=301, 11 wallclock secs ( 0.06 usr 0.02 sys + 9.91 cusr 1.16 csys = 11.16 CPU)
Result: PASS
------------------------------
PREREQUISITES
------------------------------
Prerequisite modules loaded:
requires:
Module Need Have
------------------------- ------- --------
Catalyst::Runtime 5.80030 5.90132
Class::Inspector 1.13 1.36
JSON::MaybeXS 0 1.004008
Module::Pluggable::Object 0 5.2
Moose 1.03 2.4000
MRO::Compat 0.10 0.15
namespace::autoclean 0 0.31
Params::Validate 0.76 1.31
URI::Find 0 20160806
build_requires:
Module Need Have
------------------------- ------- --------
ExtUtils::MakeMaker 0 7.76
LWP::UserAgent 5.00 6.81
Test::More 0.88 1.302214
Test::Requires 0 0.11
configure_requires:
Module Need Have
------------------------- ------- --------
ExtUtils::MakeMaker 0 7.76
opt_requires:
Module Need Have
------------------------- ------- --------
Config::General 0 2.67
Cpanel::JSON::XS 0 4.40
! Data::Taxi 0 n/a
! FreezeThaw 0 n/a
HTML::Parser 0 3.83
PHP::Serialization 0 0.34
XML::Simple 0 2.25
YAML::Syck 0 1.36
------------------------------
ENVIRONMENT AND OTHER CONTEXT
------------------------------
Environment variables:
AUTOMATED_TESTING = 1
CJG_PERL_COMMIT = 147d5f1b9e
DATE_MANIP_TEST_DM5 = 1
LC_ALL = C
NONINTERACTIVE_TESTING = 1
NO_NETWORK_TESTING = 1
PATH = /home/cpan/bin/perl/bin:/home/cpan/bin:/sbin:/bin:/usr/sbin:/usr/bin:/usr/games:/usr/local/sbin:/usr/local/bin:/home/cpan/bin
PERL5LIB = /home/cpan/.cpan/build/Devel-Required-0.17-0/blib/arch:/home/cpan/.cpan/build/Devel-Required-0.17-0/blib/lib
PERL5OPT =
PERL5_CPANPLUS_IS_RUNNING = 60244
PERL5_CPAN_IS_RUNNING = 60244
PERL_MM_USE_DEFAULT = 1
PERL_PERTURB_KEYS = 0
PERL_USE_UNSAFE_INC = 1
SHELL = /usr/local/bin/bash
TERM = screen
TMPDIR = /home/cpan/tmp
Perl special variables (and OS-specific diagnostics, for MSWin32):
$^X = /usr/home/cpan/bin/perl/bin/perl5.43.4
$UID/$EUID = 1002 / 1002
$GID = 1002 1002
$EGID = 1002 1002
Perl module toolchain versions installed:
Module Have
------------------- --------
CPAN 2.38
CPAN::Meta 2.150010
Cwd 3.94
ExtUtils::CBuilder 0.280242
ExtUtils::Command 7.76
ExtUtils::Install 2.22
ExtUtils::MakeMaker 7.76
ExtUtils::Manifest 1.75
ExtUtils::ParseXS 3.60
File::Spec 3.94
JSON 4.10
JSON::PP 4.16
Module::Build 0.4234
Module::Signature n/a
Parse::CPAN::Meta 2.150010
Test2 1.302214
Test::Harness 3.52
Test::More 1.302214
YAML 1.31
YAML::Syck 1.36
version 0.9933
--
Summary of my perl5 (revision 5 version 43 subversion 4) configuration:
Commit id: 147d5f1b9ef68bdd5e34adc3762ed566956aa047
Platform:
osname=midnightbsd
osvers=3.2.1
archname=amd64-midnightbsd-thread-multi
uname='midnightbsd cjg-midnightbsd3 3.2.1 midnightbsd 3.2.1 #15n13132-0869ed7092(stable3.2)-dirty: wed nov 6 12:53:25 est 2024 root@m3264:usrobjusrsrcamd64.amd64sysgeneric amd64 '
config_args='-des -Dprefix=/home/cpan/bin/perl -Dscriptdir=/home/cpan/bin/perl/bin -Dusedevel -Duse64bitall -Duseithreads'
hint=recommended
useposix=true
d_sigaction=define
useithreads=define
usemultiplicity=define
use64bitint=define
use64bitall=define
uselongdouble=undef
usemymalloc=n
default_inc_excludes_dot=define
Compiler:
cc='cc'
ccflags ='-DHAS_FPSETMASK -DHAS_FLOATINGPOINT_H -fno-strict-aliasing -pipe -fstack-protector-strong -I/usr/local/include'
optimize='-O'
cppflags='-DHAS_FPSETMASK -DHAS_FLOATINGPOINT_H -fno-strict-aliasing -pipe -fstack-protector-strong -I/usr/local/include'
ccversion=''
gccversion='MidnightBSD Clang 13.0.0 (git@github.com:llvm/llvm-project.git llvmorg-13.0.0-0-gd7b669b3a303)'
gccosandvers=''
intsize=4
longsize=8
ptrsize=8
doublesize=8
byteorder=12345678
doublekind=3
d_longlong=define
longlongsize=8
d_longdbl=define
longdblsize=16
longdblkind=3
ivtype='long'
ivsize=8
nvtype='double'
nvsize=8
Off_t='off_t'
lseeksize=8
alignbytes=8
prototype=define
Linker and Libraries:
ld='cc'
ldflags ='-pthread -Wl,-E -fstack-protector-strong -L/usr/local/lib'
libpth=/usr/lib /usr/local/lib /usr/lib/clang/13.0.0/lib
libs=-lpthread -lgdbm -ldl -lm -lcrypt
perllibs=-lpthread -ldl -lm -lcrypt
libc=
so=so
useshrplib=false
libperl=libperl.a
gnulibc_version=''
Dynamic Linking:
dlsrc=dl_dlopen.xs
dlext=so
d_dlsymun=undef
ccdlflags=' '
cccdlflags='-DPIC -fPIC'
lddlflags='-shared -L/usr/local/lib -fstack-protector-strong'
Characteristics of this binary (from libperl):
Compile-time options:
HAS_LONG_DOUBLE
HAS_STRTOLD
HAS_TIMES
MULTIPLICITY
PERLIO_LAYERS
PERL_COPY_ON_WRITE
PERL_DONT_CREATE_GVSV
PERL_HASH_FUNC_SIPHASH13
PERL_HASH_USE_SBOX32
PERL_MALLOC_WRAP
PERL_OP_PARENT
PERL_PRESERVE_IVUV
PERL_USE_DEVEL
PERL_USE_SAFE_PUTENV
USE_64_BIT_ALL
USE_64_BIT_INT
USE_ITHREADS
USE_LARGE_FILES
USE_LOCALE
USE_LOCALE_COLLATE
USE_LOCALE_CTYPE
USE_LOCALE_NUMERIC
USE_LOCALE_TIME
USE_PERLIO
USE_PERL_ATOF
USE_REENTRANT_API
USE_THREAD_SAFE_LOCALE
Built under midnightbsd
Compiled at Oct 22 2025 17:46:10
%ENV:
PERL5LIB="/home/cpan/.cpan/build/Devel-Required-0.17-0/blib/arch:/home/cpan/.cpan/build/Devel-Required-0.17-0/blib/lib"
PERL5OPT=""
PERL5_CPANPLUS_IS_RUNNING="60244"
PERL5_CPAN_IS_RUNNING="60244"
PERL_MM_USE_DEFAULT="1"
PERL_PERTURB_KEYS="0"
PERL_USE_UNSAFE_INC="1"
@INC:
/home/cpan/.cpan/build/Devel-Required-0.17-0/blib/arch
/home/cpan/.cpan/build/Devel-Required-0.17-0/blib/lib
/home/cpan/bin/perl/lib/site_perl/5.43.4/amd64-midnightbsd-thread-multi
/home/cpan/bin/perl/lib/site_perl/5.43.4
/home/cpan/bin/perl/lib/5.43.4/amd64-midnightbsd-thread-multi
/home/cpan/bin/perl/lib/5.43.4
.