Report for Devel-SizeMe-0.19

Back
From: metabase:user:30f4dfbe-2aae-11df-837a-5e0a49663a4f
Subject: PASS Devel-SizeMe-0.19 v5.10.0 GNU/Linux
Date: 2013-09-06T06:58:45Z

This distribution has been tested as part of the CPAN Testers
project, supporting the Perl programming language.  See
http://wiki.cpantesters.org/ for more information or email
questions to cpan-testers-discuss@perl.org


--
Dear Tim Bunce,

This is a computer-generated report for Devel-SizeMe-0.19
on perl 5.10.0, created by CPAN-Reporter-1.2010.

Thank you for uploading your work to CPAN.  Congratulations!
All tests were successful.

Sections of this report:

    * Tester comments
    * Program output
    * Prerequisites
    * Environment and other context

------------------------------
TESTER COMMENTS
------------------------------

Additional comments from tester:

this report is from an automated smoke testing program
and was not reviewed by a human for accuracy

------------------------------
PROGRAM OUTPUT
------------------------------

Output from '/usr/bin/make test':

PERL_DL_NONLAZY=1 /home/njh/perl5/perlbrew/perls/perl-5.10.0/bin/perl "-MExtUtils::Command::MM" "-e" "test_harness(0, 'blib/lib', 'blib/arch')" t/*.t
bin/sizeme_store.pl syntax OK
t/00-load.t ....... ok
Freed SV type: 255 encountered at PerlInterpreter/others/others/unaccounted/unseen/arena-PVAV/arena-PVAV/arena/SV(PVAV)/elem/UNKNOWN(0,(nil)):
SV = UNKNOWN(0xff) (0xaaed08) at 0xaaecf0
  REFCNT = 0
  FLAGS = ()
Freed SV type: 255 encountered at PerlInterpreter/others/others/unaccounted/unseen/arena-PVAV/arena-PVAV/arena/SV(PVAV)/elem/UNKNOWN(0,(nil)):
SV = UNKNOWN(0xff) (0xaaeed0) at 0xaaed08
  REFCNT = 0
  FLAGS = ()
Freed SV type: 255 encountered at PerlInterpreter/others/others/unaccounted/unseen/arena-PVAV/arena-PVAV/arena/SV(PVAV)/elem/UNKNOWN(0,(nil)):
SV = UNKNOWN(0xff) (0xb05730) at 0xaaeea0
  REFCNT = 0
  FLAGS = ()
Freed SV type: 255 encountered at PerlInterpreter/others/others/unaccounted/unseen/arena-PVAV/arena-PVAV/arena/SV(PVAV)/elem/UNKNOWN(0,(nil)):
SV = UNKNOWN(0xff) (0xaaeea0) at 0xaaeed0
  REFCNT = 0
  FLAGS = ()
Freed SV type: 255 encountered at PerlInterpreter/others/others/unaccounted/unseen/arena-PVAV/arena-PVAV/arena/SV(PVAV)/elem/UNKNOWN(0,(nil)):
SV = UNKNOWN(0xff) (0xb05748) at 0xb05730
  REFCNT = 0
  FLAGS = ()
Freed SV type: 255 encountered at PerlInterpreter/others/others/unaccounted/unseen/arena-PVAV/arena-PVAV/arena/SV(PVAV)/elem/UNKNOWN(0,(nil)):
SV = UNKNOWN(0xff) (0xb05760) at 0xb05748
  REFCNT = 0
  FLAGS = ()
Freed SV type: 255 encountered at PerlInterpreter/others/others/unaccounted/unseen/arena-PVAV/arena-PVAV/arena/SV(PVAV)/elem/UNKNOWN(0,(nil)):
SV = UNKNOWN(0xff) (0xb05778) at 0xb05760
  REFCNT = 0
  FLAGS = ()
Freed SV type: 255 encountered at PerlInterpreter/others/others/unaccounted/unseen/arena-PVAV/arena-PVAV/arena/SV(PVAV)/elem/UNKNOWN(0,(nil)):
SV = UNKNOWN(0xff) (0xaaed98) at 0xb05778
  REFCNT = 0
  FLAGS = ()
Free'd SV head 0xaaecf0 unexpectedly already seen at t/10-sizeme.t line 25.
Free'd SV head 0xaaed08 unexpectedly already seen at t/10-sizeme.t line 25.
Free'd SV head 0xaaeed0 unexpectedly already seen at t/10-sizeme.t line 25.
Free'd SV head 0xaaeea0 unexpectedly already seen at t/10-sizeme.t line 25.
Free'd SV head 0xb05730 unexpectedly already seen at t/10-sizeme.t line 25.
Free'd SV head 0xb05748 unexpectedly already seen at t/10-sizeme.t line 25.
Free'd SV head 0xb05760 unexpectedly already seen at t/10-sizeme.t line 25.
Free'd SV head 0xb05778 unexpectedly already seen at t/10-sizeme.t line 25.
Freed SV type: 255 encountered at heap/perl_interp/PerlInterpreter/others/others/unaccounted/unseen/arena-PVAV/arena-PVAV/arena/SV(PVAV)/elem/UNKNOWN(0,(nil)):
SV = UNKNOWN(0xff) (0xaaed20) at 0xaaed98
  REFCNT = 0
  FLAGS = ()
Freed SV type: 255 encountered at heap/perl_interp/PerlInterpreter/others/others/unaccounted/unseen/arena-PVAV/arena-PVAV/arena/SV(PVAV)/elem/UNKNOWN(0,(nil)):
SV = UNKNOWN(0xff) (0xaaed08) at 0xaaed20
  REFCNT = 0
  FLAGS = ()
Freed SV type: 255 encountered at heap/perl_interp/PerlInterpreter/others/others/unaccounted/unseen/arena-PVAV/arena-PVAV/arena/SV(PVAV)/elem/UNKNOWN(0,(nil)):
SV = UNKNOWN(0xff) (0xb05928) at 0xb05808
  REFCNT = 0
  FLAGS = ()
Freed SV type: 255 encountered at heap/perl_interp/PerlInterpreter/others/others/unaccounted/unseen/arena-PVAV/arena-PVAV/arena/SV(PVAV)/elem/UNKNOWN(0,(nil)):
SV = UNKNOWN(0xff) (0xb05808) at 0xaaed08
  REFCNT = 0
  FLAGS = ()
Freed SV type: 255 encountered at heap/perl_interp/PerlInterpreter/others/others/unaccounted/unseen/arena-PVAV/arena-PVAV/arena/SV(PVAV)/elem/UNKNOWN(0,(nil)):
SV = UNKNOWN(0xff) (0xb05940) at 0xb05928
  REFCNT = 0
  FLAGS = ()
Freed SV type: 255 encountered at heap/perl_interp/PerlInterpreter/others/others/unaccounted/unseen/arena-PVAV/arena-PVAV/arena/SV(PVAV)/elem/UNKNOWN(0,(nil)):
SV = UNKNOWN(0xff) (0xb05958) at 0xb05940
  REFCNT = 0
  FLAGS = ()
Freed SV type: 255 encountered at heap/perl_interp/PerlInterpreter/others/others/unaccounted/unseen/arena-PVAV/arena-PVAV/arena/SV(PVAV)/elem/UNKNOWN(0,(nil)):
SV = UNKNOWN(0xff) (0xb05970) at 0xb05958
  REFCNT = 0
  FLAGS = ()
Freed SV type: 255 encountered at heap/perl_interp/PerlInterpreter/others/others/unaccounted/unseen/arena-PVAV/arena-PVAV/arena/SV(PVAV)/elem/UNKNOWN(0,(nil)):
SV = UNKNOWN(0xff) (0xb058c8) at 0xb05970
  REFCNT = 0
  FLAGS = ()
Free'd SV head 0xaaed98 unexpectedly already seen at t/10-sizeme.t line 29.
Free'd SV head 0xaaed20 unexpectedly already seen at t/10-sizeme.t line 29.
Free'd SV head 0xaaed08 unexpectedly already seen at t/10-sizeme.t line 29.
Free'd SV head 0xb05808 unexpectedly already seen at t/10-sizeme.t line 29.
Free'd SV head 0xb05928 unexpectedly already seen at t/10-sizeme.t line 29.
Free'd SV head 0xb05940 unexpectedly already seen at t/10-sizeme.t line 29.
Free'd SV head 0xb05958 unexpectedly already seen at t/10-sizeme.t line 29.
Free'd SV head 0xb05970 unexpectedly already seen at t/10-sizeme.t line 29.
t/10-sizeme.t ..... ok
t/20-smt-basic.t .. ok
t/basic.t ......... ok
t/code.t .......... ok
t/globs.t ......... ok
t/magic.t ......... ok
t/pod.t ........... ok
t/pod_cov.t ....... ok
t/pvbm.t .......... ok
t/recurse.t ....... ok
t/warnings.t ...... skipped: no Test::PerlRun found
All tests successful.
Files=12, Tests=175,  1 wallclock secs ( 0.04 usr  0.00 sys +  0.45 cusr  0.02 csys =  0.51 CPU)
Result: PASS

------------------------------
PREREQUISITES
------------------------------

Prerequisite modules loaded:

requires:

    Module              Need     Have    
    ------------------- -------- --------
    autodie             2.12     2.20    
    DBD::SQLite         1.37     1.40    
    DBI                 0        1.628   
    Devel::Dwarn        0        0       
    HTML::Entities      0        3.69    
    JSON::XS            0        2.34    
    Moo                 1.000007 1.003000
    perl                5.008    5.010000
    Test::More          0.98     0.98    
    XSLoader            0        0.16    

build_requires:

    Module              Need     Have    
    ------------------- -------- --------
    ExtUtils::MakeMaker 0        6.72    

configure_requires:

    Module              Need     Have    
    ------------------- -------- --------
    ExtUtils::MakeMaker 0        6.72    


------------------------------
ENVIRONMENT AND OTHER CONTEXT
------------------------------

Environment variables:

    AUTOMATED_TESTING = 1
    LANG = en_GB.UTF-8
    LANGUAGE = en_GB:en
    LD_LIBRARY_PATH = /usr/local/lib::
    PATH = /home/njh/perl5/perlbrew/bin:/home/njh/perl5/perlbrew/perls/perl-5.10.0/bin:/home/njh/perl5/perlbrew/bin:/usr/local/bin:/usr/bin:/bin:/usr/local/games:/usr/games:/home/njh/bin:/sbin
    PERL5LIB = /home/njh/.cpan/build/Data-Dumper-Concise-2.020-c8igsm/blib/arch:/home/njh/.cpan/build/Data-Dumper-Concise-2.020-c8igsm/blib/lib
    PERL5OPT = 
    PERL5_CPANPLUS_IS_RUNNING = 10033
    PERL5_CPAN_IS_RUNNING = 10033
    PERL5_MINISMOKEBOX = 0.56
    PERLBREW_BASHRC_VERSION = 0.58
    PERLBREW_HOME = /home/njh/.perlbrew
    PERLBREW_MANPATH = /home/njh/perl5/perlbrew/perls/perl-5.10.0/man
    PERLBREW_PATH = /home/njh/perl5/perlbrew/bin:/home/njh/perl5/perlbrew/perls/perl-5.10.0/bin
    PERLBREW_PERL = perl-5.10.0
    PERLBREW_ROOT = /home/njh/perl5/perlbrew
    PERLBREW_VERSION = 0.66
    PERL_EXTUTILS_AUTOINSTALL = --defaultdeps
    PERL_MM_USE_DEFAULT = 1
    SHELL = /bin/bash
    TERM = linux

Perl special variables (and OS-specific diagnostics, for MSWin32):

    $^X = /home/njh/perl5/perlbrew/perls/perl-5.10.0/bin/perl
    $UID/$EUID = 1000 / 1000
    $GID = 1000 24 25 29 30 44 46 108 112 1000
    $EGID = 1000 24 25 29 30 44 46 108 112 1000

Perl module toolchain versions installed:

    Module              Have    
    ------------------- --------
    CPAN                2.00    
    CPAN::Meta          2.132140
    Cwd                 3.40    
    ExtUtils::CBuilder  0.280205
    ExtUtils::Command   1.17    
    ExtUtils::Install   1.54    
    ExtUtils::MakeMaker 6.72    
    ExtUtils::Manifest  1.61    
    ExtUtils::ParseXS   3.21    
    File::Spec          3.40    
    JSON                2.59    
    JSON::PP            2.27202 
    Module::Build       0.4007  
    Module::Signature   0.73    
    Parse::CPAN::Meta   1.4405  
    Test::Harness       3.28    
    Test::More          0.98    
    YAML                0.84    
    YAML::Syck          1.27    
    version             0.9902  


--

Summary of my perl5 (revision 5 version 10 subversion 0) configuration:
  Platform:
    osname=linux, osvers=3.2.0-4-amd64, archname=x86_64-linux-thread-multi
    uname='linux nigelhorne.force9.co.uk 3.2.0-4-amd64 #1 smp debian 3.2.32-1 x86_64 gnulinux '
    config_args='-de -Dprefix=/home/njh/perl5/perlbrew/perls/perl-5.10.0 -Duseithreads -Dusemultiplicity -Accflags=-O2 -W -Wformat=2 -Wswitch -Wshadow -Wwrite-strings -Wuninitialized -Wall -pipe -mtune=native -march=native -fomit-frame-pointer -mfpmath=sse -pedantic -D_FORTIFY_SOURCE=2 -Wpointer-arith -Wstrict-prototypes -fstack-protector -Wstack-protector -Wextra -Wbad-function-cast -Wcast-align -Wcast-qual -Wdisabled-optimization -Wendif-labels -Wfloat-equal -Wformat-nonliteral -Winline -Wmissing-declarations -Wmissing-prototypes -Wnested-externs -Wpointer-arith -Wundef -Wformat-security -Aeval:scriptdir=/home/njh/perl5/perlbrew/perls/perl-5.10.0/bin'
    hint=recommended, useposix=true, d_sigaction=define
    useithreads=define, usemultiplicity=define
    useperlio=define, d_sfio=undef, uselargefiles=define, usesocks=undef
    use64bitint=define, use64bitall=define, uselongdouble=undef
    usemymalloc=n, bincompat5005=undef
  Compiler:
    cc='cc', ccflags ='-D_REENTRANT -D_GNU_SOURCE -O2 -W -Wformat=2 -Wswitch -Wshadow -Wwrite-strings -Wuninitialized -Wall -pipe -mtune=native -march=native -fomit-frame-pointer -mfpmath=sse -pedantic -D_FORTIFY_SOURCE=2 -Wpointer-arith -Wstrict-prototypes -fstack-protector -Wstack-protector -Wextra -Wbad-function-cast -Wcast-align -Wcast-qual -Wdisabled-optimization -Wendif-labels -Wfloat-equal -Wformat-nonliteral -Winline -Wmissing-declarations -Wmissing-prototypes -Wnested-externs -Wpointer-arith -Wundef -Wformat-security -fno-strict-aliasing -I/usr/local/include -D_LARGEFILE_SOURCE -D_FILE_OFFSET_BITS=64',
    optimize='-O2',
    cppflags='-D_REENTRANT -D_GNU_SOURCE -O2 -W -Wformat=2 -Wswitch -Wshadow -Wwrite-strings -Wuninitialized -Wall -pipe -mtune=native -march=native -fomit-frame-pointer -mfpmath=sse -pedantic -D_FORTIFY_SOURCE=2 -Wpointer-arith -Wstrict-prototypes -fstack-protector -Wstack-protector -Wextra -Wbad-function-cast -Wcast-align -Wcast-qual -Wdisabled-optimization -Wendif-labels -Wfloat-equal -Wformat-nonliteral -Winline -Wmissing-declarations -Wmissing-prototypes -Wnested-externs -Wpointer-arith -Wundef -Wformat-security -fno-strict-aliasing -I/usr/local/include'
    ccversion='', gccversion='4.7.2', gccosandvers=''
    intsize=4, longsize=8, ptrsize=8, doublesize=8, byteorder=12345678
    d_longlong=define, longlongsize=8, d_longdbl=define, longdblsize=16
    ivtype='long', ivsize=8, nvtype='double', nvsize=8, Off_t='off_t', lseeksize=8
    alignbytes=8, prototype=define
  Linker and Libraries:
    ld='cc', ldflags =' -L/usr/local/lib'
    libpth=/usr/local/lib /lib/x86_64-linux-gnu /lib/../lib /usr/lib/x86_64-linux-gnu /usr/lib/../lib /lib /usr/lib
    libs=-lnsl -lgdbm -ldb -ldl -lm -lcrypt -lutil -lpthread -lc -lgdbm_compat
    perllibs=-lnsl -ldl -lm -lcrypt -lutil -lpthread -lc -lgdbm_compat
    libc=, so=so, useshrplib=false, libperl=libperl.a
    gnulibc_version='2.13'
  Dynamic Linking:
    dlsrc=dl_dlopen.xs, dlext=so, d_dlsymun=undef, ccdlflags='-Wl,-E'
    cccdlflags='-fPIC', lddlflags='-shared -O2 -L/usr/local/lib'


Characteristics of this binary (from libperl): 
  Compile-time options: MULTIPLICITY PERL_DONT_CREATE_GVSV
                        PERL_IMPLICIT_CONTEXT PERL_MALLOC_WRAP USE_64_BIT_ALL
                        USE_64_BIT_INT USE_ITHREADS USE_LARGE_FILES
                        USE_PERLIO USE_REENTRANT_API
  Built under linux
  Compiled at Mar  4 2013 20:42:58
  %ENV:
    PERL5LIB="/home/njh/.cpan/build/Data-Dumper-Concise-2.020-c8igsm/blib/arch:/home/njh/.cpan/build/Data-Dumper-Concise-2.020-c8igsm/blib/lib"
    PERL5OPT=""
    PERL5_CPANPLUS_IS_RUNNING="10033"
    PERL5_CPAN_IS_RUNNING="10033"
    PERL5_MINISMOKEBOX="0.56"
    PERLBREW_BASHRC_VERSION="0.58"
    PERLBREW_HOME="/home/njh/.perlbrew"
    PERLBREW_MANPATH="/home/njh/perl5/perlbrew/perls/perl-5.10.0/man"
    PERLBREW_PATH="/home/njh/perl5/perlbrew/bin:/home/njh/perl5/perlbrew/perls/perl-5.10.0/bin"
    PERLBREW_PERL="perl-5.10.0"
    PERLBREW_ROOT="/home/njh/perl5/perlbrew"
    PERLBREW_VERSION="0.66"
    PERL_EXTUTILS_AUTOINSTALL="--defaultdeps"
    PERL_MM_USE_DEFAULT="1"
  @INC:
    /home/njh/.cpan/build/Data-Dumper-Concise-2.020-c8igsm/blib/arch
    /home/njh/.cpan/build/Data-Dumper-Concise-2.020-c8igsm/blib/lib
    /home/njh/perl5/perlbrew/perls/perl-5.10.0/lib/5.10.0/x86_64-linux-thread-multi
    /home/njh/perl5/perlbrew/perls/perl-5.10.0/lib/5.10.0
    /home/njh/perl5/perlbrew/perls/perl-5.10.0/lib/site_perl/5.10.0/x86_64-linux-thread-multi
    /home/njh/perl5/perlbrew/perls/perl-5.10.0/lib/site_perl/5.10.0
    .