Back
From: metabase:user:320bfe00-2aae-11df-837a-5e0a49663a4f
Subject: PASS Gtk2-Ex-ErrorTextDialog-11 v5.14.4 GNU/Linux
Date: 2016-06-01T13:21:39Z
This distribution has been tested as part of the CPAN Testers
project, supporting the Perl programming language. See
http://wiki.cpantesters.org/ for more information or email
questions to cpan-testers-discuss@perl.org
--
Dear Kevin Ryde,
This is a computer-generated report for Gtk2-Ex-ErrorTextDialog-11
on perl 5.14.4, created by CPAN-Reporter-1.2017.
Thank you for uploading your work to CPAN. Congratulations!
All tests were successful.
Sections of this report:
* Tester comments
* Program output
* Prerequisites
* Environment and other context
------------------------------
TESTER COMMENTS
------------------------------
Additional comments from tester:
this report is from an automated smoke testing program
and was not reviewed by a human for accuracy
------------------------------
PROGRAM OUTPUT
------------------------------
Output from '/usr/bin/make test':
PERL_DL_NONLAZY=1 "/home/sand/src/perl/repoperls/installed-perls/perl/v5.14.4/79cc/bin/perl" "-MExtUtils::Command::MM" "-MTest::Harness" "-e" "undef *Test::Harness::Switches; test_harness(0, 'blib/lib', 'blib/arch')" t/*.t
# Perl-Gtk2 version 1.2498
# Perl-Glib version 1.321
# Compiled against Glib version 2.46.2.
# Running on Glib version 2.46.2.
# Compiled against Gtk version 2.24.29.
# Running on Gtk version 2.24.29.
Xlib: extension "RANDR" missing on display ":121".
# Scalar::Util::weaken
# main_iterations(): ran 2 events/iterations
# popup-save-dialog 82 Gtk2::Ex::ErrorTextDialog [ run-last action ]
t/ErrorTextDialog.t .. ok
# Perl-Gtk2 version 1.2498
# Perl-Glib version 1.321
# Compiled against Glib version 2.46.2.
# Running on Glib version 2.46.2.
# Compiled against Gtk version 2.24.29.
# Running on Gtk version 2.24.29.
Xlib: extension "RANDR" missing on display ":121".
t/FollowAppend.t ..... ok
t/Handler.t .......... ok
# Perl-Gtk2 version 1.2498
# Perl-Glib version 1.321
# Compiled against Glib version 2.46.2.
# Running on Glib version 2.46.2.
# Compiled against Gtk version 2.24.29.
# Running on Gtk version 2.24.29.
Xlib: extension "RANDR" missing on display ":121".
# temp file /tmp/yFvmjYc1Zs
# main_iterations(): ran 60 events/iterations
# main_iterations(): ran 6 events/iterations
t/SaveDialog.t ....... ok
t/test-weaken.t ...... skipped: due to Test::Weaken 3 and/or Test::Weaken::Gtk2 not available -- Can't locate Test/Weaken.pm in @INC (@INC contains: t /tmp/loop_over_bdir-19482-xIgM6W/Gtk2-Ex-ErrorTextDialog-11-0/blib/lib /tmp/loop_over_bdir-19482-xIgM6W/Gtk2-Ex-ErrorTextDialog-11-0/blib/arch /home/sand/src/perl/repoperls/installed-perls/perl/v5.14.4/79cc/lib/site_perl/5.14.4/x86_64-linux /home/sand/src/perl/repoperls/installed-perls/perl/v5.14.4/79cc/lib/site_perl/5.14.4 /home/sand/src/perl/repoperls/installed-perls/perl/v5.14.4/79cc/lib/5.14.4/x86_64-linux /home/sand/src/perl/repoperls/installed-perls/perl/v5.14.4/79cc/lib/5.14.4 .) at (eval 12) line 1.
All tests successful.
Files=5, Tests=45, 3 wallclock secs ( 0.04 usr 0.03 sys + 0.68 cusr 0.16 csys = 0.91 CPU)
Result: PASS
------------------------------
PREREQUISITES
------------------------------
Prerequisite modules loaded:
requires:
Module Need Have
------------------------ -------- --------
Devel::GlobalDestruction 0 0.13
Glib 0 1.321
Glib::Ex::ObjectBits 12 16
Glib::Ex::SignalIds 0 16
Glib::Object::Subclass 0 1.321
Gtk2 0 1.2498
Gtk2::Ex::Units 14 48
Locale::Messages 0 1.24
Locale::TextDomain 1.16 1.24
perl 5.008001 5.014004
build_requires:
Module Need Have
------------------------ -------- --------
ExtUtils::MakeMaker 0 7.18
configure_requires:
Module Need Have
------------------------ -------- --------
ExtUtils::MakeMaker 0 7.18
------------------------------
ENVIRONMENT AND OTHER CONTEXT
------------------------------
Environment variables:
AUTOMATED_TESTING = 1
LANG = en_US.UTF-8
LANGUAGE = en_US:en
PATH = /usr/lib/ccache:/home/sand/bin:/usr/local/bin:/usr/bin:/bin:/usr/games:/usr/local/perl/bin:/usr/X11/bin:/sbin:/usr/sbin
PERL5LIB =
PERL5OPT =
PERL5_CPANPLUS_IS_RUNNING = 19485
PERL5_CPAN_IS_RUNNING = 19485
PERL_CANARY_STABILITY_NOPROMPT = 1
PERL_MM_USE_DEFAULT = 1
SHELL = /usr/bin/zsh
TERM = screen
Perl special variables (and OS-specific diagnostics, for MSWin32):
$^X = /home/sand/src/perl/repoperls/installed-perls/perl/v5.14.4/79cc/bin/perl
$UID/$EUID = 1005 / 1005
$GID = 1005 1005
$EGID = 1005 1005
Perl module toolchain versions installed:
Module Have
------------------- --------
CPAN 2.13
CPAN::Meta 2.150005
Cwd 3.62
ExtUtils::CBuilder 0.280224
ExtUtils::Command 7.18
ExtUtils::Install 1.56
ExtUtils::MakeMaker 7.18
ExtUtils::Manifest 1.70
ExtUtils::ParseXS 3.30
File::Spec 3.62
JSON 2.90
JSON::PP 2.27400
Module::Build 0.4218
Module::Signature 0.79
Parse::CPAN::Meta 1.4419
Test::Harness 3.36
Test::More 1.302022
YAML 1.15
YAML::Syck 1.29
version 0.9916
--
Summary of my perl5 (revision 5 version 14 subversion 4) configuration:
Derived from: 26c5c13a4ece9084f310610bb17fb2f24c72a73e
Platform:
osname=linux, osvers=4.3.0-1-amd64, archname=x86_64-linux
uname='linux k83 4.3.0-1-amd64 #1 smp debian 4.3.3-7 (2016-01-19) x86_64 gnulinux '
config_args='-Dprefix=/home/sand/src/perl/repoperls/installed-perls/perl/v5.14.4/79cc -Dmyhostname=k83 -Dinstallusrbinperl=n -Uversiononly -Dusedevel -des -Ui_db -Dlibswanted=cl pthread socket inet nsl gdbm dbm malloc dl ld sun m crypt sec util c cposix posix ucb BSD gdbm_compat -Uuseithreads -Uuselongdouble -DDEBUGGING=-g'
hint=recommended, useposix=true, d_sigaction=define
useithreads=undef, usemultiplicity=undef
useperlio=define, d_sfio=undef, uselargefiles=define, usesocks=undef
use64bitint=define, use64bitall=define, uselongdouble=undef
usemymalloc=n, bincompat5005=undef
Compiler:
cc='cc', ccflags ='-fno-strict-aliasing -pipe -fstack-protector -I/usr/local/include -D_LARGEFILE_SOURCE -D_FILE_OFFSET_BITS=64',
optimize='-O2 -g',
cppflags='-fno-strict-aliasing -pipe -fstack-protector -I/usr/local/include'
ccversion='', gccversion='5.3.1 20160121', gccosandvers=''
intsize=4, longsize=8, ptrsize=8, doublesize=8, byteorder=12345678
d_longlong=define, longlongsize=8, d_longdbl=define, longdblsize=16
ivtype='long', ivsize=8, nvtype='double', nvsize=8, Off_t='off_t', lseeksize=8
alignbytes=8, prototype=define
Linker and Libraries:
ld='cc', ldflags =' -fstack-protector -L/usr/local/lib'
libpth=/usr/local/lib /lib/x86_64-linux-gnu /lib/../lib /usr/lib/x86_64-linux-gnu /usr/lib/../lib /lib /usr/lib
libs=-lpthread -lnsl -lgdbm -ldl -lm -lcrypt -lutil -lc -lgdbm_compat
perllibs=-lpthread -lnsl -ldl -lm -lcrypt -lutil -lc
libc=libc-2.21.so, so=so, useshrplib=false, libperl=libperl.a
gnulibc_version='2.21'
Dynamic Linking:
dlsrc=dl_dlopen.xs, dlext=so, d_dlsymun=undef, ccdlflags='-Wl,-E'
cccdlflags='-fPIC', lddlflags='-shared -O2 -g -L/usr/local/lib -fstack-protector'
Characteristics of this binary (from libperl):
Compile-time options: PERL_DONT_CREATE_GVSV PERL_MALLOC_WRAP
PERL_PRESERVE_IVUV PERL_USE_DEVEL USE_64_BIT_ALL
USE_64_BIT_INT USE_LARGE_FILES USE_PERLIO
USE_PERL_ATOF
Locally applied patches:
uncommitted-changes
Devel::PatchPerl 1.40
Built under linux
Compiled at Feb 25 2016 06:17:16
%ENV:
PERL5LIB=""
PERL5OPT=""
PERL5_CPANPLUS_IS_RUNNING="19485"
PERL5_CPAN_IS_RUNNING="19485"
PERL_CANARY_STABILITY_NOPROMPT="1"
PERL_MM_USE_DEFAULT="1"
@INC:
/home/sand/src/perl/repoperls/installed-perls/perl/v5.14.4/79cc/lib/site_perl/5.14.4/x86_64-linux
/home/sand/src/perl/repoperls/installed-perls/perl/v5.14.4/79cc/lib/site_perl/5.14.4
/home/sand/src/perl/repoperls/installed-perls/perl/v5.14.4/79cc/lib/5.14.4/x86_64-linux
/home/sand/src/perl/repoperls/installed-perls/perl/v5.14.4/79cc/lib/5.14.4
.