Report for POE-Loop-Event-1.305

Back
From: metabase:user:314402c4-2aae-11df-837a-5e0a49663a4f
Subject: PASS POE-Loop-Event-1.305 v5.22.1 RC4 GNU/Linux
Date: 2015-12-12T22:22:04Z

This distribution has been tested as part of the CPAN Testers
project, supporting the Perl programming language.  See
http://wiki.cpantesters.org/ for more information or email
questions to cpan-testers-discuss@perl.org


--
Dear Rocco Caputo,

This is a computer-generated report for POE-Loop-Event-1.305
on perl 5.22.1, created by CPAN-Reporter-1.2015.

Thank you for uploading your work to CPAN.  Congratulations!
All tests were successful.

Sections of this report:

    * Tester comments
    * Program output
    * Prerequisites
    * Environment and other context

------------------------------
TESTER COMMENTS
------------------------------

Additional comments from tester:

none provided

------------------------------
PROGRAM OUTPUT
------------------------------

Output from '/usr/bin/make test':

PERL_DL_NONLAZY=1 "/bbbike/perl-5.22.1-RC4/bin/perl" "-MExtUtils::Command::MM" "-MTest::Harness" "-e" "undef *Test::Harness::Switches; test_harness(0, 'blib/lib', 'blib/arch')" t/*.t t/poe_loop_event/*.t
# Testing POE 1.367, Perl 5.022001, /bbbike/perl-5.22.1-RC4/bin/perl on linux
t/00_info.t ...................................... ok
# Testing POE 1.367, POE::Test::Loops 1.360, Using Loop(POE::Loop::Event), Perl 5.022001, /bbbike/perl-5.22.1-RC4/bin/perl on linux
t/poe_loop_event/00_info.t ....................... ok
t/poe_loop_event/all_errors.t .................... skipped: most of these should move into other test files
t/poe_loop_event/comp_tcp.t ...................... ok
# You might see a 'disconnect' error during this test.
# It may be ignored.
t/poe_loop_event/comp_tcp_concurrent.t ........... ok
t/poe_loop_event/connect_errors.t ................ ok
t/poe_loop_event/k_alarms.t ...................... ok
t/poe_loop_event/k_aliases.t ..................... ok
t/poe_loop_event/k_detach.t ...................... ok
t/poe_loop_event/k_run_returns.t ................. ok
t/poe_loop_event/k_selects.t ..................... ok
t/poe_loop_event/k_sig_child.t ................... ok
t/poe_loop_event/k_signals.t ..................... ok
t/poe_loop_event/k_signals_rerun.t ............... ok
t/poe_loop_event/sbk_signal_init.t ............... ok
t/poe_loop_event/ses_nfa.t ....................... ok
# This test generates some STDERR during trace testing.
=== 19153 === 23 -> _start (from /opt/perl-5.22.1-RC4/lib/site_perl/5.22.1/POE/Kernel.pm at 1497)
=== 19153 === 23 -> woot (from /opt/perl-5.22.1-RC4/lib/site_perl/5.22.1/POE/Test/Loops/ses_session.pm at 691)
=== 19153 === 23 -> narf (from /opt/perl-5.22.1-RC4/lib/site_perl/5.22.1/POE/Test/Loops/ses_session.pm at 692)
=== 19153 === 23 -> _stop (from /opt/perl-5.22.1-RC4/lib/site_perl/5.22.1/POE/Resource/Sessions.pm at 571)
t/poe_loop_event/ses_session.t ................... ok
t/poe_loop_event/wheel_accept.t .................. ok
t/poe_loop_event/wheel_curses.t .................. skipped: Need help with Curses functions blocking under ptys
t/poe_loop_event/wheel_readline.t ................ ok
t/poe_loop_event/wheel_readwrite.t ............... ok
t/poe_loop_event/wheel_run.t ..................... ok
t/poe_loop_event/wheel_run_size.t ................ ok
t/poe_loop_event/wheel_sf_ipv6.t ................. skipped: Socket::GetAddrInfo is needed for IPv6 tests
t/poe_loop_event/wheel_sf_tcp.t .................. ok
t/poe_loop_event/wheel_sf_udp.t .................. ok
t/poe_loop_event/wheel_sf_unix.t ................. ok
t/poe_loop_event/wheel_tail.t .................... ok
t/poe_loop_event/z_kogman_sig_order.t ............ ok
t/poe_loop_event/z_leolo_wheel_run.t ............. ok
# Using '/bin/true' as our thing to run under system()
t/poe_loop_event/z_merijn_sigchld_system.t ....... ok
t/poe_loop_event/z_rt39872_sigchld.t ............. ok
# Parent 19301 waiting 3sec for slow systems to settle.
# sending sigusr1
# sent sigusr1
t/poe_loop_event/z_rt39872_sigchld_stop.t ........ ok
t/poe_loop_event/z_rt53302_fh_watchers.t ......... ok
t/poe_loop_event/z_rt54319_bazerka_followtail.t .. ok
t/poe_loop_event/z_steinert_signal_integrity.t ... ok
All tests successful.
Files=36, Tests=490, 28 wallclock secs ( 0.10 usr  0.16 sys + 18.28 cusr  6.42 csys = 24.96 CPU)
Result: PASS

------------------------------
PREREQUISITES
------------------------------

Prerequisite modules loaded:

requires:

    Module              Need  Have 
    ------------------- ----- -----
    Event               1.21  1.24 
    POE                 1.356 1.367

build_requires:

    Module              Need  Have 
    ------------------- ----- -----
    ExtUtils::MakeMaker 0     7.10 

configure_requires:

    Module              Need  Have 
    ------------------- ----- -----
    ExtUtils::MakeMaker 0     7.10 
    POE::Test::Loops    1.352 1.360


------------------------------
ENVIRONMENT AND OTHER CONTEXT
------------------------------

Environment variables:

    LANG = C
    PATH = /usr/local/bin:/usr/bin:/bin:/usr/local/sbin:/usr/sbin:/sbin:/home/eserte/bin/linux-gnu:/home/eserte/bin/sh:/home/eserte/bin:/usr/games:/home/eserte/devel:/home/eserte/src/srezic-misc/scripts
    PERL5LIB = /home/eserte/.cpan/build/2015121221/Business-RU-0.2-MsTvsQ/blib/arch:/home/eserte/.cpan/build/2015121221/Business-RU-0.2-MsTvsQ/blib/lib:/home/eserte/.cpan/build/2015121221/Bit-MorseSignals-0.08-Q9goF8/blib/arch:/home/eserte/.cpan/build/2015121221/Bit-MorseSignals-0.08-Q9goF8/blib/lib:/home/eserte/.cpan/build/2015121221/Bessarabv-Weight-1.0.0-cKtegv/blib/arch:/home/eserte/.cpan/build/2015121221/Bessarabv-Weight-1.0.0-cKtegv/blib/lib:/home/eserte/.cpan/build/2015121221/Math-BaseMulti-1.01-D3pRza/blib/arch:/home/eserte/.cpan/build/2015121221/Math-BaseMulti-1.01-D3pRza/blib/lib:/home/eserte/.cpan/build/2015121221/MarpaX-Database-Terminfo-0.010-322GPb/blib/arch:/home/eserte/.cpan/build/2015121221/MarpaX-Database-Terminfo-0.010-322GPb/blib/lib:/home/eserte/.cpan/build/2015121221/IPC-QWorker-0.07-qNxbwp/blib/arch:/home/eserte/.cpan/build/2015121221/IPC-QWorker-0.07-qNxbwp/blib/lib
    PERL5OPT = 
    PERL5_CPANPLUS_IS_RUNNING = 17135
    PERL5_CPAN_IS_RUNNING = 17135
    PERL5_CPAN_IS_RUNNING_IN_RECURSION = 17753,17135
    PERLDOC = -MPod::Perldoc::ToTextOverstrike
    PERL_BATCH = yes
    PERL_CANARY_STABILITY_NOPROMPT = 1
    PERL_CPAN_REPORTER_CONFIG = /var/tmp/cpansmoker-1001/2015121218/cpanreporter_000_config.ini
    PERL_EXTUTILS_AUTOINSTALL = --defaultdeps
    SHELL = /bin/zsh
    TERM = screen
    TMPDIR = /var/tmp/cpansmoker-1001/2015121218

Perl special variables (and OS-specific diagnostics, for MSWin32):

    $^X = /bbbike/perl-5.22.1-RC4/bin/perl
    $UID/$EUID = 1001 / 1001
    $GID = 1001 109 1001
    $EGID = 1001 109 1001

Perl module toolchain versions installed:

    Module              Have    
    ------------------- --------
    CPAN                2.10    
    CPAN::Meta          2.150005
    Cwd                 3.60    
    ExtUtils::CBuilder  0.280224
    ExtUtils::Command   7.10    
    ExtUtils::Install   2.04    
    ExtUtils::MakeMaker 7.10    
    ExtUtils::Manifest  1.70    
    ExtUtils::ParseXS   3.30    
    File::Spec          3.60    
    JSON                2.90    
    JSON::PP            2.27300 
    Module::Build       0.4214  
    Module::Signature   n/a     
    Parse::CPAN::Meta   1.4417  
    Test::Harness       3.35    
    Test::More          1.001014
    YAML                1.15    
    YAML::Syck          1.29    
    version             0.9912  


--

Summary of my perl5 (revision 5 version 22 subversion 1) configuration:
   
  Platform:
    osname=linux, osvers=3.2.0-4-amd64, archname=x86_64-linux
    uname='linux eserte 3.2.0-4-amd64 #1 smp debian 3.2.68-1+deb7u6 x86_64 gnulinux '
    config_args='-ds -e -Dprefix=/opt/perl-5.22.1-RC4 -Dcf_email=srezic@cpan.org'
    hint=recommended, useposix=true, d_sigaction=define
    useithreads=undef, usemultiplicity=undef
    use64bitint=define, use64bitall=define, uselongdouble=undef
    usemymalloc=n, bincompat5005=undef
  Compiler:
    cc='cc', ccflags ='-fwrapv -fno-strict-aliasing -pipe -fstack-protector -I/usr/local/include -D_LARGEFILE_SOURCE -D_FILE_OFFSET_BITS=64 -D_FORTIFY_SOURCE=2',
    optimize='-O2',
    cppflags='-fwrapv -fno-strict-aliasing -pipe -fstack-protector -I/usr/local/include'
    ccversion='', gccversion='4.7.2', gccosandvers=''
    intsize=4, longsize=8, ptrsize=8, doublesize=8, byteorder=12345678, doublekind=3
    d_longlong=define, longlongsize=8, d_longdbl=define, longdblsize=16, longdblkind=3
    ivtype='long', ivsize=8, nvtype='double', nvsize=8, Off_t='off_t', lseeksize=8
    alignbytes=8, prototype=define
  Linker and Libraries:
    ld='cc', ldflags =' -fstack-protector -L/usr/local/lib'
    libpth=/usr/local/lib /usr/lib/gcc/x86_64-linux-gnu/4.7/include-fixed /usr/include/x86_64-linux-gnu /usr/lib /lib/x86_64-linux-gnu /lib/../lib /usr/lib/x86_64-linux-gnu /usr/lib/../lib /lib
    libs=-lpthread -lnsl -ldb -ldl -lm -lcrypt -lutil -lc
    perllibs=-lpthread -lnsl -ldl -lm -lcrypt -lutil -lc
    libc=libc-2.13.so, so=so, useshrplib=false, libperl=libperl.a
    gnulibc_version='2.13'
  Dynamic Linking:
    dlsrc=dl_dlopen.xs, dlext=so, d_dlsymun=undef, ccdlflags='-Wl,-E'
    cccdlflags='-fPIC', lddlflags='-shared -O2 -L/usr/local/lib -fstack-protector'


Characteristics of this binary (from libperl): 
  Compile-time options: HAS_TIMES PERLIO_LAYERS PERL_DONT_CREATE_GVSV
                        PERL_HASH_FUNC_ONE_AT_A_TIME_HARD PERL_MALLOC_WRAP
                        PERL_NEW_COPY_ON_WRITE PERL_PRESERVE_IVUV
                        USE_64_BIT_ALL USE_64_BIT_INT USE_LARGE_FILES
                        USE_LOCALE USE_LOCALE_COLLATE USE_LOCALE_CTYPE
                        USE_LOCALE_NUMERIC USE_LOCALE_TIME USE_PERLIO
                        USE_PERL_ATOF
  Locally applied patches:
	RC4
  Built under linux
  Compiled at Dec  8 2015 21:50:38
  %ENV:
    PERL5LIB="/home/eserte/.cpan/build/2015121221/Business-RU-0.2-MsTvsQ/blib/arch:/home/eserte/.cpan/build/2015121221/Business-RU-0.2-MsTvsQ/blib/lib:/home/eserte/.cpan/build/2015121221/Bit-MorseSignals-0.08-Q9goF8/blib/arch:/home/eserte/.cpan/build/2015121221/Bit-MorseSignals-0.08-Q9goF8/blib/lib:/home/eserte/.cpan/build/2015121221/Bessarabv-Weight-1.0.0-cKtegv/blib/arch:/home/eserte/.cpan/build/2015121221/Bessarabv-Weight-1.0.0-cKtegv/blib/lib:/home/eserte/.cpan/build/2015121221/Math-BaseMulti-1.01-D3pRza/blib/arch:/home/eserte/.cpan/build/2015121221/Math-BaseMulti-1.01-D3pRza/blib/lib:/home/eserte/.cpan/build/2015121221/MarpaX-Database-Terminfo-0.010-322GPb/blib/arch:/home/eserte/.cpan/build/2015121221/MarpaX-Database-Terminfo-0.010-322GPb/blib/lib:/home/eserte/.cpan/build/2015121221/IPC-QWorker-0.07-qNxbwp/blib/arch:/home/eserte/.cpan/build/2015121221/IPC-QWorker-0.07-qNxbwp/blib/lib"
    PERL5OPT=""
    PERL5_CPANPLUS_IS_RUNNING="17135"
    PERL5_CPAN_IS_RUNNING="17135"
    PERL5_CPAN_IS_RUNNING_IN_RECURSION="17753,17135"
    PERLDOC="-MPod::Perldoc::ToTextOverstrike"
    PERL_BATCH="yes"
    PERL_CANARY_STABILITY_NOPROMPT="1"
    PERL_CPAN_REPORTER_CONFIG="/var/tmp/cpansmoker-1001/2015121218/cpanreporter_000_config.ini"
    PERL_EXTUTILS_AUTOINSTALL="--defaultdeps"
  @INC:
    /home/eserte/.cpan/build/2015121221/Business-RU-0.2-MsTvsQ/blib/arch
    /home/eserte/.cpan/build/2015121221/Business-RU-0.2-MsTvsQ/blib/lib
    /home/eserte/.cpan/build/2015121221/Bit-MorseSignals-0.08-Q9goF8/blib/arch
    /home/eserte/.cpan/build/2015121221/Bit-MorseSignals-0.08-Q9goF8/blib/lib
    /home/eserte/.cpan/build/2015121221/Bessarabv-Weight-1.0.0-cKtegv/blib/arch
    /home/eserte/.cpan/build/2015121221/Bessarabv-Weight-1.0.0-cKtegv/blib/lib
    /home/eserte/.cpan/build/2015121221/Math-BaseMulti-1.01-D3pRza/blib/arch
    /home/eserte/.cpan/build/2015121221/Math-BaseMulti-1.01-D3pRza/blib/lib
    /home/eserte/.cpan/build/2015121221/MarpaX-Database-Terminfo-0.010-322GPb/blib/arch
    /home/eserte/.cpan/build/2015121221/MarpaX-Database-Terminfo-0.010-322GPb/blib/lib
    /home/eserte/.cpan/build/2015121221/IPC-QWorker-0.07-qNxbwp/blib/arch
    /home/eserte/.cpan/build/2015121221/IPC-QWorker-0.07-qNxbwp/blib/lib
    /opt/perl-5.22.1-RC4/lib/site_perl/5.22.1/x86_64-linux
    /opt/perl-5.22.1-RC4/lib/site_perl/5.22.1
    /opt/perl-5.22.1-RC4/lib/5.22.1/x86_64-linux
    /opt/perl-5.22.1-RC4/lib/5.22.1
    .