IO-Socket-SSL v2.085 Perl 5 v5.39.10 i86pc-solaris-thread-multi-64

Status
Pass
From
Carlos Guevara
Dist
IO-Socket-SSL v2.085
Platform
Perl 5 v5.39.10 i86pc-solaris-thread-multi-64
Date
2024-04-19 22:32:58
ID
c5d19998-fe9c-11ee-bd8e-e0e63078fdd0
This distribution has been tested as part of the CPAN Testers
project, supporting the Perl programming language.  See
http://wiki.cpantesters.org/ for more information or email
questions to cpan-testers-discuss@perl.org


--
Dear Steffen Ullrich,

This is a computer-generated report for IO-Socket-SSL-2.085
on perl 5.39.10, created by CPAN-Reporter-1.2019.

Thank you for uploading your work to CPAN.  Congratulations!
All tests were successful.

Sections of this report:

    * Tester comments
    * Program output
    * Prerequisites
    * Environment and other context

------------------------------
TESTER COMMENTS
------------------------------

Additional comments from tester:

this report is from an automated smoke testing program
and was not reviewed by a human for accuracy

------------------------------
PROGRAM OUTPUT
------------------------------

Output from '/usr/bin/make test':

PERL_DL_NONLAZY=1 "/export/home/cpan/bin/perl/bin/perl5.39.10" "-MExtUtils::Command::MM" "-MTest::Harness" "-e" "undef *Test::Harness::Switches; test_harness(0, 'blib/lib', 'blib/arch')" t/*.t
# openssl version compiled=0x30100050 linked=0x30100050 -- OpenSSL 3.1.5 30 Jan 2024
# Net::SSLeay version=1.94
# parent IO::Socket::IP version=0.42
t/01loadmodule.t .................. ok
t/acceptSSL-timeout.t ............. ok
t/alpn.t .......................... ok
t/auto_verify_hostname.t .......... ok
t/cert_formats.t .................. ok
t/cert_no_file.t .................. ok
t/compatibility.t ................. ok
t/connectSSL-timeout.t ............ ok
t/core.t .......................... ok
t/dhe.t ........................... ok
t/ecdhe.t ......................... ok
t/io-socket-inet6.t ............... ok
t/io-socket-ip.t .................. ok
t/memleak_bad_handshake.t ......... skipped: no usable ps
t/mitm.t .......................... ok
t/multiple-cert-rsa-ecc.t ......... ok
t/nonblock.t ...................... ok
t/npn.t ........................... ok
# -- test: newINET start_SSL stop_SSL start_SSL
# server accepted new client
# wait for initial data from client
# got 0x666f6f from client
# server: got plain data at start of connection
# server: TLS upgrade
# server: TLS downgrade
# server: TLS upgrade#2
# -- test: newSSL stop_SSL connect_SSL
# server accepted new client
# wait for initial data from client
# got 0x160301 from client
# server: TLS upgrade
# server: TLS downgrade
# server: TLS upgrade#2
# -- test: newSSL:0 connect_SSL stop_SSL connect_SSL
# server accepted new client
# wait for initial data from client
# got 0x666f6f from client
# server: got plain data at start of connection
# server: TLS upgrade
# server: TLS downgrade
# server: TLS upgrade#2
# -- test: newSSL:0 start_SSL stop_SSL connect_SSL
# server accepted new client
# wait for initial data from client
# got 0x666f6f from client
# server: got plain data at start of connection
# server: TLS upgrade
# server: TLS downgrade
# server: TLS upgrade#2
# server accepted new client
# wait for initial data from client
# got 0x656e64 from client
# client requested end of tests
t/plain_upgrade_downgrade.t ....... ok
# looks like OpenSSL was compiled without SSLv3 support
t/protocol_version.t .............. ok
t/public_suffix_lib_encode_idn.t .. ok
t/public_suffix_lib_libidn.t ...... ok
t/public_suffix_lib_uri.t ......... ok
t/public_suffix_ssl.t ............. ok
t/readline.t ...................... ok
t/session_cache.t ................. ok
# listen at 127.0.0.1:50968
# listen at 127.0.0.1:32921
# connect to 0: success reuse=0 version=TLSv1_3
# connect to 0: success reuse=1 version=TLSv1_3
# connect to 1: success reuse=1 version=TLSv1_3
# connect to 1: success reuse=0 version=TLSv1_3
# connect to 0: success reuse=0 version=TLSv1_3
# connect to 0: success reuse=1 version=TLSv1_3
t/session_ticket.t ................ ok
t/sessions.t ...................... ok
t/set_curves.t .................... ok
t/signal-readline.t ............... ok
t/sni.t ........................... ok
t/sni_verify.t .................... ok
t/start-stopssl.t ................. ok
t/startssl-failed.t ............... ok
t/startssl.t ...................... ok
t/sysread_write.t ................. ok
t/verify_fingerprint.t ............ ok
t/verify_hostname.t ............... ok
t/verify_hostname_standalone.t .... ok
t/verify_partial_chain.t .......... ok
All tests successful.
Files=40, Tests=793, 43 wallclock secs ( 0.19 usr  0.10 sys +  4.47 cusr  1.66 csys =  6.42 CPU)
Result: PASS

------------------------------
PREREQUISITES
------------------------------

Prerequisite modules loaded:

requires:

    Module              Need Have    
    ------------------- ---- --------
    Mozilla::CA         0    20240313
    Net::SSLeay         1.46 1.94    
    Scalar::Util        0    1.63    

build_requires:

    Module              Need Have    
    ------------------- ---- --------
    ExtUtils::MakeMaker 0    7.70    

configure_requires:

    Module              Need Have    
    ------------------- ---- --------
    ExtUtils::MakeMaker 0    7.70    
    Net::SSLeay         1.46 1.94    


------------------------------
ENVIRONMENT AND OTHER CONTEXT
------------------------------

Environment variables:

    AUTOMATED_TESTING = 1
    DATE_MANIP_TEST_DM5 = 1
    LANG = en_US.UTF-8
    LC_ALL = C
    NONINTERACTIVE_TESTING = 1
    NO_NETWORK_TESTING = 1
    PATH = /export/home/cpan/bin/perl/bin:/usr/bin:/usr/sbin:/sbin:/opt/ooce/bin:/usr/gnu/bin
    PERL5LIB = /export/home/cpan/.cpan/build/bignum-0.67-3/blib/arch:/export/home/cpan/.cpan/build/bignum-0.67-3/blib/lib:/export/home/cpan/.cpan/build/ExtUtils-ParseXS-3.51-3/blib/arch:/export/home/cpan/.cpan/build/ExtUtils-ParseXS-3.51-3/blib/lib:/export/home/cpan/.cpan/build/CPAN-Meta-2.150010-1/blib/arch:/export/home/cpan/.cpan/build/CPAN-Meta-2.150010-1/blib/lib:/export/home/cpan/.cpan/build/libnet-3.15-3/blib/arch:/export/home/cpan/.cpan/build/libnet-3.15-3/blib/lib:/export/home/cpan/.cpan/build/JSON-MaybeXS-1.004005-0/blib/arch:/export/home/cpan/.cpan/build/JSON-MaybeXS-1.004005-0/blib/lib:/export/home/cpan/.cpan/build/IO-1.55-1/blib/arch:/export/home/cpan/.cpan/build/IO-1.55-1/blib/lib:/export/home/cpan/.cpan/build/Test-Simple-1.302198-5/blib/arch:/export/home/cpan/.cpan/build/Test-Simple-1.302198-5/blib/lib:/export/home/cpan/.cpan/build/ExtUtils-MakeMaker-7.70-5/blib/arch:/export/home/cpan/.cpan/build/ExtUtils-MakeMaker-7.70-5/blib/lib:/export/home/cpan/.cpan/build/Test-Harness-3.48-5/blib/arch:/export/home/cpan/.cpan/build/Test-Harness-3.48-5/blib/lib:/export/home/cpan/.cpan/build/Encode-3.21-5/blib/arch:/export/home/cpan/.cpan/build/Encode-3.21-5/blib/lib:/export/home/cpan/.cpan/build/autouse-1.11-0/blib/arch:/export/home/cpan/.cpan/build/autouse-1.11-0/blib/lib:/export/home/cpan/.cpan/build/Test2-Suite-0.000159-5/blib/arch:/export/home/cpan/.cpan/build/Test2-Suite-0.000159-5/blib/lib
    PERL5OPT = 
    PERL5_CPANPLUS_IS_RUNNING = 1859
    PERL5_CPAN_IS_RUNNING = 1859
    PERL_MM_USE_DEFAULT = 1
    PERL_USE_UNSAFE_INC = 1
    SHELL = /bin/bash
    TERM = screen

Perl special variables (and OS-specific diagnostics, for MSWin32):

    $^X = /export/home/cpan/bin/perl/bin/perl5.39.10
    $UID/$EUID = 101 / 101
    $GID = 1 1
    $EGID = 1 1

Perl module toolchain versions installed:

    Module              Have    
    ------------------- --------
    CPAN                2.36    
    CPAN::Meta          2.150010
    Cwd                 3.90    
    ExtUtils::CBuilder  0.280240
    ExtUtils::Command   7.70    
    ExtUtils::Install   2.22    
    ExtUtils::MakeMaker 7.70    
    ExtUtils::Manifest  1.75    
    ExtUtils::ParseXS   3.51    
    File::Spec          3.90    
    JSON                4.10    
    JSON::PP            4.16    
    Module::Build       0.4234  
    Module::Signature   0.88    
    Parse::CPAN::Meta   2.150010
    Test2               1.302198
    Test::Harness       3.48    
    Test::More          1.302198
    YAML                1.31    
    YAML::Syck          1.34    
    version             0.9930  


--

Summary of my perl5 (revision 5 version 39 subversion 10) configuration:
  Commit id: 67164c39687a916908b6322d361cdf3d86df59ac
  Platform:
    osname=solaris
    osvers=2.11
    archname=i86pc-solaris-thread-multi-64
    uname='sunos cjg-omniosce 5.11 omnios-r151048-78ef87aa2a4 i86pc i386 i86pc '
    config_args='-des -Dprefix=/export/home/cpan/bin/perl -Dscriptdir=/export/home/cpan/bin/perl/bin -Dusedevel -Duse64bitall -Dcc=gcc -Duseithreads'
    hint=recommended
    useposix=true
    d_sigaction=define
    useithreads=define
    usemultiplicity=define
    use64bitint=define
    use64bitall=define
    uselongdouble=undef
    usemymalloc=n
    default_inc_excludes_dot=define
  Compiler:
    cc='gcc'
    ccflags ='-D_REENTRANT -m64 -fwrapv -fno-strict-aliasing -pipe -fstack-protector-strong -D_LARGEFILE_SOURCE -D_FILE_OFFSET_BITS=64 -D_FORTIFY_SOURCE=2'
    optimize='-O'
    cppflags='-D_REENTRANT -m64 -fwrapv -fno-strict-aliasing -pipe -fstack-protector-strong'
    ccversion=''
    gccversion='13.2.0'
    gccosandvers=''
    intsize=4
    longsize=8
    ptrsize=8
    doublesize=8
    byteorder=12345678
    doublekind=3
    d_longlong=define
    longlongsize=8
    d_longdbl=define
    longdblsize=16
    longdblkind=3
    ivtype='long'
    ivsize=8
    nvtype='double'
    nvsize=8
    Off_t='off_t'
    lseeksize=8
    alignbytes=8
    prototype=define
  Linker and Libraries:
    ld='gcc'
    ldflags =' -m64 -fstack-protector-strong -L/usr/gnu/lib '
    libpth=/opt/gcc-13/lib /usr/lib /usr/gnu/lib /usr/ccs/lib
    libs=-lpthread -lsocket -lnsl -ldl -lm -lc
    perllibs=-lpthread -lsocket -lnsl -ldl -lm -lc
    libc=/lib/libc.so
    so=so
    useshrplib=true
    libperl=libperl.so
    gnulibc_version=''
  Dynamic Linking:
    dlsrc=dl_dlopen.xs
    dlext=so
    d_dlsymun=undef
    ccdlflags='  -R /export/home/cpan/bin/perl/lib/5.39.10/i86pc-solaris-thread-multi-64/CORE'
    cccdlflags='-fPIC'
    lddlflags=' -shared -m64 -L/usr/gnu/lib -fstack-protector-strong'


Characteristics of this binary (from libperl): 
  Compile-time options:
    HAS_LONG_DOUBLE
    HAS_STRTOLD
    HAS_TIMES
    MULTIPLICITY
    PERLIO_LAYERS
    PERL_COPY_ON_WRITE
    PERL_DONT_CREATE_GVSV
    PERL_HASH_FUNC_SIPHASH13
    PERL_HASH_USE_SBOX32
    PERL_MALLOC_WRAP
    PERL_OP_PARENT
    PERL_PRESERVE_IVUV
    PERL_USE_DEVEL
    PERL_USE_SAFE_PUTENV
    USE_64_BIT_ALL
    USE_64_BIT_INT
    USE_ITHREADS
    USE_LARGE_FILES
    USE_LOCALE
    USE_LOCALE_COLLATE
    USE_LOCALE_CTYPE
    USE_LOCALE_NUMERIC
    USE_LOCALE_TIME
    USE_PERLIO
    USE_PERL_ATOF
    USE_REENTRANT_API
    USE_THREAD_SAFE_LOCALE
  Built under solaris
  Compiled at Apr 19 2024 03:55:50
  %ENV:
    PERL5LIB="/export/home/cpan/.cpan/build/bignum-0.67-3/blib/arch:/export/home/cpan/.cpan/build/bignum-0.67-3/blib/lib:/export/home/cpan/.cpan/build/ExtUtils-ParseXS-3.51-3/blib/arch:/export/home/cpan/.cpan/build/ExtUtils-ParseXS-3.51-3/blib/lib:/export/home/cpan/.cpan/build/CPAN-Meta-2.150010-1/blib/arch:/export/home/cpan/.cpan/build/CPAN-Meta-2.150010-1/blib/lib:/export/home/cpan/.cpan/build/libnet-3.15-3/blib/arch:/export/home/cpan/.cpan/build/libnet-3.15-3/blib/lib:/export/home/cpan/.cpan/build/JSON-MaybeXS-1.004005-0/blib/arch:/export/home/cpan/.cpan/build/JSON-MaybeXS-1.004005-0/blib/lib:/export/home/cpan/.cpan/build/IO-1.55-1/blib/arch:/export/home/cpan/.cpan/build/IO-1.55-1/blib/lib:/export/home/cpan/.cpan/build/Test-Simple-1.302198-5/blib/arch:/export/home/cpan/.cpan/build/Test-Simple-1.302198-5/blib/lib:/export/home/cpan/.cpan/build/ExtUtils-MakeMaker-7.70-5/blib/arch:/export/home/cpan/.cpan/build/ExtUtils-MakeMaker-7.70-5/blib/lib:/export/home/cpan/.cpan/build/Test-Harness-3.48-5/blib/arch:/export/home/cpan/.cpan/build/Test-Harness-3.48-5/blib/lib:/export/home/cpan/.cpan/build/Encode-3.21-5/blib/arch:/export/home/cpan/.cpan/build/Encode-3.21-5/blib/lib:/export/home/cpan/.cpan/build/autouse-1.11-0/blib/arch:/export/home/cpan/.cpan/build/autouse-1.11-0/blib/lib:/export/home/cpan/.cpan/build/Test2-Suite-0.000159-5/blib/arch:/export/home/cpan/.cpan/build/Test2-Suite-0.000159-5/blib/lib"
    PERL5OPT=""
    PERL5_CPANPLUS_IS_RUNNING="1859"
    PERL5_CPAN_IS_RUNNING="1859"
    PERL_MM_USE_DEFAULT="1"
    PERL_USE_UNSAFE_INC="1"
  @INC:
    /export/home/cpan/.cpan/build/bignum-0.67-3/blib/arch
    /export/home/cpan/.cpan/build/bignum-0.67-3/blib/lib
    /export/home/cpan/.cpan/build/ExtUtils-ParseXS-3.51-3/blib/arch
    /export/home/cpan/.cpan/build/ExtUtils-ParseXS-3.51-3/blib/lib
    /export/home/cpan/.cpan/build/CPAN-Meta-2.150010-1/blib/arch
    /export/home/cpan/.cpan/build/CPAN-Meta-2.150010-1/blib/lib
    /export/home/cpan/.cpan/build/libnet-3.15-3/blib/arch
    /export/home/cpan/.cpan/build/libnet-3.15-3/blib/lib
    /export/home/cpan/.cpan/build/JSON-MaybeXS-1.004005-0/blib/arch
    /export/home/cpan/.cpan/build/JSON-MaybeXS-1.004005-0/blib/lib
    /export/home/cpan/.cpan/build/IO-1.55-1/blib/arch
    /export/home/cpan/.cpan/build/IO-1.55-1/blib/lib
    /export/home/cpan/.cpan/build/Test-Simple-1.302198-5/blib/arch
    /export/home/cpan/.cpan/build/Test-Simple-1.302198-5/blib/lib
    /export/home/cpan/.cpan/build/ExtUtils-MakeMaker-7.70-5/blib/arch
    /export/home/cpan/.cpan/build/ExtUtils-MakeMaker-7.70-5/blib/lib
    /export/home/cpan/.cpan/build/Test-Harness-3.48-5/blib/arch
    /export/home/cpan/.cpan/build/Test-Harness-3.48-5/blib/lib
    /export/home/cpan/.cpan/build/Encode-3.21-5/blib/arch
    /export/home/cpan/.cpan/build/Encode-3.21-5/blib/lib
    /export/home/cpan/.cpan/build/autouse-1.11-0/blib/arch
    /export/home/cpan/.cpan/build/autouse-1.11-0/blib/lib
    /export/home/cpan/.cpan/build/Test2-Suite-0.000159-5/blib/arch
    /export/home/cpan/.cpan/build/Test2-Suite-0.000159-5/blib/lib
    /export/home/cpan/bin/perl/lib/site_perl/5.39.10/i86pc-solaris-thread-multi-64
    /export/home/cpan/bin/perl/lib/site_perl/5.39.10
    /export/home/cpan/bin/perl/lib/5.39.10/i86pc-solaris-thread-multi-64
    /export/home/cpan/bin/perl/lib/5.39.10
    .