Syntax-Feature-QwComments vv1.16.0 Perl 5 v5.28.1 x86_64-linux

Status
Pass
From
Andreas J. König (ANDK)
Dist
Syntax-Feature-QwComments vv1.16.0
Platform
Perl 5 v5.28.1 x86_64-linux
Date
2025-01-15 17:33:02
ID
c5b4c1a2-d366-11ef-8158-b31dba693c3c
This distribution has been tested as part of the CPAN Testers
project, supporting the Perl programming language.  See
http://wiki.cpantesters.org/ for more information or email
questions to cpan-testers-discuss@perl.org


--
Dear ikegami,

This is a computer-generated report for Syntax-Feature-QwComments-v1.16.0
on perl 5.28.1, created by CPAN-Reporter-1.2018.

Thank you for uploading your work to CPAN.  Congratulations!
All tests were successful.

Sections of this report:

    * Tester comments
    * Program output
    * Prerequisites
    * Environment and other context

------------------------------
TESTER COMMENTS
------------------------------

Additional comments from tester:

this report is from an automated smoke testing program
and was not reviewed by a human for accuracy

------------------------------
PROGRAM OUTPUT
------------------------------

Output from '/usr/bin/make test':

"/home/sand/src/perl/repoperls/installed-perls/host/k93msid/v5.28.1/bb7f/bin/perl" -MExtUtils::Command::MM -e 'cp_nonempty' -- QwComments.bs blib/arch/auto/Syntax/Feature/QwComments/QwComments.bs 644
PERL_DL_NONLAZY=1 "/home/sand/src/perl/repoperls/installed-perls/host/k93msid/v5.28.1/bb7f/bin/perl" "-MExtUtils::Command::MM" "-MTest::Harness" "-e" "undef *Test::Harness::Switches; test_harness(0, 'blib/lib', 'blib/arch')" t/*.t
# Testing Syntax::Feature::QwComments v1.16.0
# Using Perl 5.028001
# Carp 1.50
# Config 5.028001
# DynaLoader 1.45
# Exporter 5.78
# Exporter::Heavy 5.78
# Fcntl 1.13
# List::Util 1.65
# POSIX 1.84
# PerlIO 1.10
# Scalar::Util 1.65
# Syntax::Feature::QwComments v1.16.0
# Test::Builder 1.302204
# Test::Builder::Formatter 1.302204
# Test::Builder::Module 1.302204
# Test::Builder::TodoDiag 1.302204
# Test::More 1.302204
# Test2::API 1.302204
# Test2::API::Context 1.302204
# Test2::API::Instance 1.302204
# Test2::API::Stack 1.302204
# Test2::Event 1.302204
# Test2::Event::Bail 1.302204
# Test2::Event::Diag 1.302204
# Test2::Event::Exception 1.302204
# Test2::Event::Fail 1.302204
# Test2::Event::Note 1.302204
# Test2::Event::Ok 1.302204
# Test2::Event::Pass 1.302204
# Test2::Event::Plan 1.302204
# Test2::Event::Skip 1.302204
# Test2::Event::Subtest 1.302204
# Test2::Event::V2 1.302204
# Test2::Event::Waiting 1.302204
# Test2::EventFacet 1.302204
# Test2::EventFacet::About 1.302204
# Test2::EventFacet::Amnesty 1.302204
# Test2::EventFacet::Assert 1.302204
# Test2::EventFacet::Control 1.302204
# Test2::EventFacet::Error 1.302204
# Test2::EventFacet::Hub 1.302204
# Test2::EventFacet::Info 1.302204
# Test2::EventFacet::Meta 1.302204
# Test2::EventFacet::Parent 1.302204
# Test2::EventFacet::Plan 1.302204
# Test2::EventFacet::Trace 1.302204
# Test2::Formatter 1.302204
# Test2::Formatter::TAP 1.302204
# Test2::Hub 1.302204
# Test2::Hub::Interceptor 1.302204
# Test2::Hub::Interceptor::Terminator 1.302204
# Test2::Hub::Subtest 1.302204
# Test2::Util 1.302204
# Test2::Util::ExternalMeta 1.302204
# Test2::Util::Facets2Legacy 1.302204
# Test2::Util::HashBase 1.302204
# Test2::Util::Trace 1.302204
# Tie::Hash 1.05
# Time::HiRes 1.9764
# XSLoader 0.30
# base 2.27
# mro 1.22
# overloading 0.02
# strict 1.11
# vars 1.04
# version 0.9930
# version::regex 0.9930
# version::vxs 0.9930
# warnings 1.42
# warnings::register 1.04
t/00_load.t ................. ok
t/01_devel_mark_check.t ..... skipped: Mark checks are only performed when DEVEL_TESTS=1
t/02_devel_version_check.t .. skipped: Version checks are only performed when DEVEL_TESTS=1
t/03_devel_whitespace.t ..... skipped: Whitespace checks are only performed when DEVEL_TESTS=1
t/04_devel_permissions.t .... skipped: Permission checks are only performed when DEVEL_TESTS=1
t/05_pod.t .................. ok
t/06_devel_pod_coverage.t ... skipped: Pod coverage is only tested when DEVEL_TESTS=1
t/07_basic.t ................ ok
t/08_pragma_a.t ............. ok
t/09_pragma_b.t ............. ok
t/10_line_numbers.t ......... ok
t/11_errors.t ............... ok
t/12_unicode.t .............. ok
All tests successful.
Files=13, Tests=66,  2 wallclock secs ( 0.05 usr  0.10 sys +  1.02 cusr  0.33 csys =  1.50 CPU)
Result: PASS

------------------------------
PREREQUISITES
------------------------------

Prerequisite modules loaded:

requires:

    Module              Need  Have    
    ------------------- ----- --------
    perl                5.014 5.028001
    strict              0     1.11    
    syntax              0.004 0.004   
    version             0     0.9930  
    warnings            0     1.42    
    XSLoader            0     0.30    

build_requires:

    Module              Need  Have    
    ------------------- ----- --------
    Test::More          0     1.302204

configure_requires:

    Module              Need  Have    
    ------------------- ----- --------
    ExtUtils::MakeMaker 6.74  7.71_02 

opt_requires:

    Module              Need  Have    
    ------------------- ----- --------
    perl                5.028 5.028001


------------------------------
ENVIRONMENT AND OTHER CONTEXT
------------------------------

Environment variables:

    AUTOMATED_TESTING = 1
    LANG = en_US.UTF-8
    LANGUAGE = en_US:en
    PATH = /home/sand/bin:/usr/local/bin:/usr/bin:/bin:/usr/games:/usr/local/perl/bin:/usr/X11/bin:/sbin:/usr/sbin
    PERL5LIB = 
    PERL5OPT = 
    PERL5_CPANPLUS_IS_RUNNING = 596084
    PERL5_CPAN_IS_RUNNING = 596084
    PERL_CANARY_STABILITY_NOPROMPT = 1
    PERL_MM_USE_DEFAULT = 1
    PERL_USE_UNSAFE_INC = 1
    SHELL = /usr/bin/zsh
    TERM = screen

Perl special variables (and OS-specific diagnostics, for MSWin32):

    $^X = /home/sand/src/perl/repoperls/installed-perls/host/k93msid/v5.28.1/bb7f/bin/perl
    $UID/$EUID = 1005 / 1005
    $GID = 1005 1005
    $EGID = 1005 1005

Perl module toolchain versions installed:

    Module              Have    
    ------------------- --------
    CPAN                2.33    
    CPAN::Meta          2.150010
    Cwd                 3.75    
    ExtUtils::CBuilder  0.280236
    ExtUtils::Command   7.71_02 
    ExtUtils::Install   2.22    
    ExtUtils::MakeMaker 7.71_02 
    ExtUtils::Manifest  1.75    
    ExtUtils::ParseXS   3.51    
    File::Spec          3.75    
    JSON                4.10    
    JSON::PP            4.12    
    Module::Build       0.4234  
    Module::Signature   0.89    
    Parse::CPAN::Meta   2.150010
    Test::Harness       3.45_01 
    Test::More          1.302204
    YAML                1.30    
    YAML::Syck          1.34    
    version             0.9930  


--

Summary of my perl5 (revision 5 version 28 subversion 1) configuration:
  Derived from: 63afdf6c0f65af480aa5bb9ccba9f46dae52f6fc
  Platform:
    osname=linux
    osvers=5.16.0-5-amd64
    archname=x86_64-linux
    uname='linux k93msid 5.16.0-5-amd64 #1 smp preempt debian 5.16.14-1 (2022-03-15) x86_64 gnulinux '
    config_args='-Dprefix=/home/sand/src/perl/repoperls/installed-perls/host/k93msid/v5.28.1/bb7f -Dmyhostname=k93msid -Dinstallusrbinperl=n -Uversiononly -Dusedevel -des -Ui_db -Dlibswanted=cl pthread socket inet nsl gdbm dbm malloc dl ld sun m crypt sec util c cposix posix ucb BSD gdbm_compat -Uuseithreads -Uuselongdouble -DEBUGGING=both'
    hint=recommended
    useposix=true
    d_sigaction=define
    useithreads=undef
    usemultiplicity=undef
    use64bitint=define
    use64bitall=define
    uselongdouble=undef
    usemymalloc=n
    default_inc_excludes_dot=define
    bincompat5005=undef
  Compiler:
    cc='cc'
    ccflags ='-fwrapv -DDEBUGGING -fno-strict-aliasing -pipe -fstack-protector-strong -I/usr/local/include -D_LARGEFILE_SOURCE -D_FILE_OFFSET_BITS=64 -D_FORTIFY_SOURCE=2'
    optimize='-O2 -g'
    cppflags='-fwrapv -DDEBUGGING -fno-strict-aliasing -pipe -fstack-protector-strong -I/usr/local/include'
    ccversion=''
    gccversion='11.2.0'
    gccosandvers=''
    intsize=4
    longsize=8
    ptrsize=8
    doublesize=8
    byteorder=12345678
    doublekind=3
    d_longlong=define
    longlongsize=8
    d_longdbl=define
    longdblsize=16
    longdblkind=3
    ivtype='long'
    ivsize=8
    nvtype='double'
    nvsize=8
    Off_t='off_t'
    lseeksize=8
    alignbytes=8
    prototype=define
  Linker and Libraries:
    ld='cc'
    ldflags =' -fstack-protector-strong -L/usr/local/lib'
    libpth=/usr/local/lib /usr/include/x86_64-linux-gnu /usr/lib /lib/x86_64-linux-gnu /lib/../lib /usr/lib/x86_64-linux-gnu /usr/lib/../lib /lib
    libs=-lpthread -lnsl -ldl -lm -lcrypt -lutil -lc
    perllibs=-lpthread -lnsl -ldl -lm -lcrypt -lutil -lc
    libc=libc-2.33.so
    so=so
    useshrplib=false
    libperl=libperl.a
    gnulibc_version='2.33'
  Dynamic Linking:
    dlsrc=dl_dlopen.xs
    dlext=so
    d_dlsymun=undef
    ccdlflags='-Wl,-E'
    cccdlflags='-fPIC'
    lddlflags='-shared -O2 -g -L/usr/local/lib -fstack-protector-strong'


Characteristics of this binary (from libperl): 
  Compile-time options:
    DEBUGGING
    HAS_TIMES
    PERLIO_LAYERS
    PERL_COPY_ON_WRITE
    PERL_DONT_CREATE_GVSV
    PERL_MALLOC_WRAP
    PERL_OP_PARENT
    PERL_PRESERVE_IVUV
    PERL_USE_DEVEL
    USE_64_BIT_ALL
    USE_64_BIT_INT
    USE_LARGE_FILES
    USE_LOCALE
    USE_LOCALE_COLLATE
    USE_LOCALE_CTYPE
    USE_LOCALE_NUMERIC
    USE_LOCALE_TIME
    USE_PERLIO
    USE_PERL_ATOF
  Locally applied patches:
    uncommitted-changes
  Built under linux
  Compiled at Mar 19 2022 08:28:42
  %ENV:
    PERL5LIB=""
    PERL5OPT=""
    PERL5_CPANPLUS_IS_RUNNING="596084"
    PERL5_CPAN_IS_RUNNING="596084"
    PERL_CANARY_STABILITY_NOPROMPT="1"
    PERL_MM_USE_DEFAULT="1"
    PERL_USE_UNSAFE_INC="1"
  @INC:
    /home/sand/src/perl/repoperls/installed-perls/host/k93msid/v5.28.1/bb7f/lib/site_perl/5.28.1/x86_64-linux
    /home/sand/src/perl/repoperls/installed-perls/host/k93msid/v5.28.1/bb7f/lib/site_perl/5.28.1
    /home/sand/src/perl/repoperls/installed-perls/host/k93msid/v5.28.1/bb7f/lib/5.28.1/x86_64-linux
    /home/sand/src/perl/repoperls/installed-perls/host/k93msid/v5.28.1/bb7f/lib/5.28.1
    .