Crypt-SSLeay v0.72 Perl 5 v5.20.3 x86_64-linux

Status
Pass
From
Dist
Crypt-SSLeay v0.72
Platform
Perl 5 v5.20.3 x86_64-linux
Date
2019-06-02 11:30:06
ID
c5b13cda-8529-11e9-b9a0-bce9517fc421
This distribution has been tested as part of the CPAN Testers
project, supporting the Perl programming language.  See
http://wiki.cpantesters.org/ for more information or email
questions to cpan-testers-discuss@perl.org


--
Dear NANIS,

This is a computer-generated report for Crypt-SSLeay-0.72
on perl 5.20.3, created by App::cpanminus::reporter 0.17 (1.7040).

Thank you for uploading your work to CPAN.  Congratulations!
All tests were successful.

Sections of this report:

    * Tester comments
    * Program output
    * Prerequisites
    * Environment and other context

------------------------------
TESTER COMMENTS
------------------------------

Additional comments from tester:

none provided

------------------------------
PROGRAM OUTPUT
------------------------------

Output from '':

Building and testing Crypt-SSLeay-0.72
cp lib/Crypt/SSLeay/Err.pm blib/lib/Crypt/SSLeay/Err.pm
cp lib/Net/SSL.pm blib/lib/Net/SSL.pm
cp lib/Crypt/SSLeay/MainContext.pm blib/lib/Crypt/SSLeay/MainContext.pm
cp SSLeay.pm blib/lib/Crypt/SSLeay.pm
cp lib/Crypt/SSLeay/Conn.pm blib/lib/Crypt/SSLeay/Conn.pm
cp lib/Crypt/SSLeay/CTX.pm blib/lib/Crypt/SSLeay/CTX.pm
cp lib/Crypt/SSLeay/Version.pm blib/lib/Crypt/SSLeay/Version.pm
cp lib/Crypt/SSLeay/X509.pm blib/lib/Crypt/SSLeay/X509.pm
Running Mkbootstrap for SSLeay ()
chmod 644 "SSLeay.bs"
"/usr/local/bin/perl" -MExtUtils::Command::MM -e 'cp_nonempty' -- SSLeay.bs blib/arch/auto/Crypt/SSLeay/SSLeay.bs 644
"/usr/local/bin/perl" "/usr/local/lib/perl5/site_perl/5.20.3/ExtUtils/xsubpp"  -typemap '/usr/local/lib/perl5/5.20.3/ExtUtils/typemap' -typemap '/root/.cpanm/work/1559459937.6/Crypt-SSLeay-0.72/typemap'  SSLeay.xs > SSLeay.xsc
mv SSLeay.xsc SSLeay.c
cc -c   -fwrapv -fno-strict-aliasing -pipe -fstack-protector -I/usr/local/include -D_LARGEFILE_SOURCE -D_FILE_OFFSET_BITS=64 -O2   -DVERSION=\"0.72\" -DXS_VERSION=\"0.72\" -fPIC "-I/usr/local/lib/perl5/5.20.3/x86_64-linux/CORE"   SSLeay.c
rm -f blib/arch/auto/Crypt/SSLeay/SSLeay.so
LD_RUN_PATH="/usr/lib/x86_64-linux-gnu:/lib/x86_64-linux-gnu" cc  -shared -O2 -L/usr/local/lib -fstack-protector  SSLeay.o  -o blib/arch/auto/Crypt/SSLeay/SSLeay.so  \
   -lssl -lcrypto -lz   \
  
chmod 755 blib/arch/auto/Crypt/SSLeay/SSLeay.so
"/usr/local/bin/perl" -MExtUtils::Command::MM -e 'cp_nonempty' -- SSLeay.bs blib/arch/auto/Crypt/SSLeay/SSLeay.bs 644
PERL_DL_NONLAZY=1 "/usr/local/bin/perl" "-MExtUtils::Command::MM" "-MTest::Harness" "-e" "undef *Test::Harness::Switches; test_harness(0, 'blib/lib', 'blib/arch')" t/*.t
t/00-basic.t ..... ok
t/01-connect.t ... ok
# Reading configuration from 'test.config' on linux
# network_tests : 0
t/02-live.t ...... skipped: Network tests disabled
t/03-version.t ... ok
t/boilerplate.t .. ok
t/manifest.t ..... skipped: Author tests not required for installation
All tests successful.
Files=6, Tests=43,  1 wallclock secs ( 0.04 usr  0.01 sys +  0.80 cusr  0.12 csys =  0.97 CPU)
Result: PASS

------------------------------
PREREQUISITES
------------------------------

Prerequisite modules loaded:

    No requirements found

------------------------------
ENVIRONMENT AND OTHER CONTEXT
------------------------------

Environment variables:

    PATH = /usr/local/sbin:/usr/local/bin:/usr/sbin:/usr/bin:/sbin:/bin
    PERL_CPAN_REPORTER_DIR = /etc/cpanm-reporter
    TERM = xterm

Perl special variables (and OS-specific diagnostics, for MSWin32):

    EGID = 0
    EUID = 0
    EXECUTABLE_NAME = /usr/local/bin/perl
    GID = 0
    UID = 0

Perl module toolchain versions installed:

    Module              Have    
    ------------------- --------
    CPAN                2.05    
    CPAN::Meta          2.150010
    Cwd                 3.48_01 
    ExtUtils::CBuilder  0.280217
    ExtUtils::Command   7.36    
    ExtUtils::Install   2.06    
    ExtUtils::MakeMaker 7.36    
    ExtUtils::Manifest  1.70    
    ExtUtils::ParseXS   3.35    
    File::Spec          3.48_01 
    JSON                4.02    
    JSON::PP            4.02    
    Module::Build       0.4229  
    Module::Signature   n/a     
    Parse::CPAN::Meta   2.150010
    Test::Harness       3.42    
    Test::More          1.302164
    YAML                1.29    
    YAML::Syck          1.31    
    version             0.9924  


--

Summary of my perl5 (revision 5 version 20 subversion 3) configuration:
   
  Platform:
    osname=linux, osvers=3.16.0-4-amd64, archname=x86_64-linux
    uname='linux f416997e8b71 3.16.0-4-amd64 #1 smp debian 3.16.7-ckt25-2 (2016-04-08) x86_64 gnulinux '
    config_args='-Duse64bitall -Duseshrplib -des'
    hint=recommended, useposix=true, d_sigaction=define
    useithreads=undef, usemultiplicity=undef
    use64bitint=define, use64bitall=define, uselongdouble=undef
    usemymalloc=n, bincompat5005=undef
  Compiler:
    cc='cc', ccflags ='-fwrapv -fno-strict-aliasing -pipe -fstack-protector -I/usr/local/include -D_LARGEFILE_SOURCE -D_FILE_OFFSET_BITS=64',
    optimize='-O2',
    cppflags='-fwrapv -fno-strict-aliasing -pipe -fstack-protector -I/usr/local/include'
    ccversion='', gccversion='4.9.2', gccosandvers=''
    intsize=4, longsize=8, ptrsize=8, doublesize=8, byteorder=12345678
    d_longlong=define, longlongsize=8, d_longdbl=define, longdblsize=16
    ivtype='long', ivsize=8, nvtype='double', nvsize=8, Off_t='off_t', lseeksize=8
    alignbytes=8, prototype=define
  Linker and Libraries:
    ld='cc', ldflags =' -fstack-protector -L/usr/local/lib'
    libpth=/usr/local/lib /usr/lib/gcc/x86_64-linux-gnu/4.9/include-fixed /usr/include/x86_64-linux-gnu /usr/lib /lib/x86_64-linux-gnu /lib/../lib /usr/lib/x86_64-linux-gnu /usr/lib/../lib /lib
    libs=-lpthread -lnsl -ldb -ldl -lm -lcrypt -lutil -lc
    perllibs=-lpthread -lnsl -ldl -lm -lcrypt -lutil -lc
    libc=libc-2.19.so, so=so, useshrplib=true, libperl=libperl.so
    gnulibc_version='2.19'
  Dynamic Linking:
    dlsrc=dl_dlopen.xs, dlext=so, d_dlsymun=undef, ccdlflags='-Wl,-E -Wl,-rpath,/usr/local/lib/perl5/5.20.3/x86_64-linux/CORE'
    cccdlflags='-fPIC', lddlflags='-shared -O2 -L/usr/local/lib -fstack-protector'


Characteristics of this binary (from libperl): 
  Compile-time options: HAS_TIMES PERLIO_LAYERS PERL_DONT_CREATE_GVSV
                        PERL_HASH_FUNC_ONE_AT_A_TIME_HARD PERL_MALLOC_WRAP
                        PERL_NEW_COPY_ON_WRITE PERL_PRESERVE_IVUV
                        USE_64_BIT_ALL USE_64_BIT_INT USE_LARGE_FILES
                        USE_LOCALE USE_LOCALE_COLLATE USE_LOCALE_CTYPE
                        USE_LOCALE_NUMERIC USE_PERLIO USE_PERL_ATOF
  Locally applied patches:
	Devel::PatchPerl 1.38
  Built under linux
  Compiled at May  5 2016 16:44:08
  %ENV:
    PERL_CPAN_REPORTER_DIR="/etc/cpanm-reporter"
  @INC:
    /usr/local/lib/perl5/site_perl/5.20.3/x86_64-linux
    /usr/local/lib/perl5/site_perl/5.20.3
    /usr/local/lib/perl5/5.20.3/x86_64-linux
    /usr/local/lib/perl5/5.20.3
    .