HTML-Formatter v2.16 Perl 5 v5.8.7 darwin-thread-multi-2level
- Status
- Pass
- From
- Nigel Horne
- Dist
-
HTML-Formatter v2.16
- Platform
- Perl 5 v5.8.7 darwin-thread-multi-2level
- Date
- 2017-10-19 18:10:21
- ID
- c5a59bbc-b4f8-11e7-b977-3767db1c1d4b
This distribution has been tested as part of the CPAN Testers
project, supporting the Perl programming language. See
http://wiki.cpantesters.org/ for more information or email
questions to cpan-testers-discuss@perl.org
--
Dear Nigel Metheringham,
This is a computer-generated report for HTML-Formatter-2.16
on perl 5.8.7, created by CPAN-Reporter-1.2018.
Thank you for uploading your work to CPAN. Congratulations!
All tests were successful.
Sections of this report:
* Tester comments
* Program output
* Prerequisites
* Environment and other context
------------------------------
TESTER COMMENTS
------------------------------
Additional comments from tester:
this report is from an automated smoke testing program
and was not reviewed by a human for accuracy
------------------------------
PROGRAM OUTPUT
------------------------------
Output from '/sw/bin/make test':
PERL_DL_NONLAZY=1 "/Users/hornenj/perl5/perlbrew/perls/perl-5.8.7/bin/perl" "-MExtUtils::Command::MM" "-MTest::Harness" "-e" "undef *Test::Harness::Switches; test_harness(0, 'blib/lib', 'blib/arch')" t/*.t
t/00-compile.t ............... ok
#
# Versions for all modules listed in MYMETA.json (including optional ones):
#
# === Configure Requires ===
#
# Module Want Have
# ------------------- ---- ----
# ExtUtils::MakeMaker any 7.30
#
# === Build Requires ===
#
# Module Want Have
# ------------------- ---- ----
# ExtUtils::MakeMaker any 7.30
#
# === Test Requires ===
#
# Module Want Have
# ------------------- ---- --------
# ExtUtils::MakeMaker any 7.30
# File::Slurper any 0.010
# File::Spec any 3.2701
# FindBin any 1.44
# IO::Handle any 1.28
# IPC::Open3 any 1.0106
# Test::More 0.96 1.302078
# Test::Warnings any 0.026
# blib 1.01 1.02
# bytes any 1.02
# lib any 0.63
#
# === Test Recommends ===
#
# Module Want Have
# ---------- -------- --------
# CPAN::Meta 2.120900 2.150005
#
# === Runtime Requires ===
#
# Module Want Have
# ----------------------------------- ---- -----
# Carp any 1.38
# Data::Dumper any 2.154
# Encode any 2.93
# Font::Metrics::Courier any undef
# Font::Metrics::CourierBold any undef
# Font::Metrics::CourierBoldOblique any undef
# Font::Metrics::CourierOblique any undef
# Font::Metrics::Helvetica any undef
# Font::Metrics::HelveticaBold any undef
# Font::Metrics::HelveticaBoldOblique any undef
# Font::Metrics::HelveticaOblique any undef
# Font::Metrics::TimesBold any undef
# Font::Metrics::TimesBoldItalic any undef
# Font::Metrics::TimesItalic any undef
# Font::Metrics::TimesRoman any undef
# HTML::Element 3.15 5.03
# HTML::TreeBuilder any 5.03
# IO::File any 1.14
# base any 2.23
# integer any 1.00
# parent any 0.234
# strict any 1.03
# utf8 any 1.05
# warnings any 1.03
#
t/00-report-prereqs.t ........ ok
t/01_ps.t .................... ok
t/02_rtf.t ................... ok
t/03_text.t .................. ok
t/04_md.t .................... ok
t/author-critic.t ............ skipped: these tests are for testing by the author
t/author-eol.t ............... skipped: these tests are for testing by the author
t/author-no-tabs.t ........... skipped: these tests are for testing by the author
t/author-pod-spell.t ......... skipped: these tests are for testing by the author
t/author-pod-syntax.t ........ skipped: these tests are for testing by the author
t/author-portability.t ....... skipped: these tests are for testing by the author
t/author-synopsis.t .......... skipped: these tests are for testing by the author
t/release-dist-manifest.t .... skipped: these tests are for release candidate testing
t/release-distmeta.t ......... skipped: these tests are for release candidate testing
t/release-has-version.t ...... skipped: these tests are for release candidate testing
t/release-minimum-version.t .. skipped: these tests are for release candidate testing
t/release-unused-vars.t ...... skipped: these tests are for release candidate testing
t/rt111783.t ................. ok
t/rt69426.t .................. ok
All tests successful.
Files=20, Tests=94, 2 wallclock secs ( 0.06 usr 0.07 sys + 0.73 cusr 0.38 csys = 1.24 CPU)
Result: PASS
------------------------------
PREREQUISITES
------------------------------
Prerequisite modules loaded:
requires:
Module Need Have
----------------------------------- ----- --------
base 0 2.23
Carp 0 1.38
Data::Dumper 0 2.154
Encode 0 2.93
Font::Metrics::Courier 0 0
Font::Metrics::CourierBold 0 0
Font::Metrics::CourierBoldOblique 0 0
Font::Metrics::CourierOblique 0 0
Font::Metrics::Helvetica 0 0
Font::Metrics::HelveticaBold 0 0
Font::Metrics::HelveticaBoldOblique 0 0
Font::Metrics::HelveticaOblique 0 0
Font::Metrics::TimesBold 0 0
Font::Metrics::TimesBoldItalic 0 0
Font::Metrics::TimesItalic 0 0
Font::Metrics::TimesRoman 0 0
HTML::Element 3.15 5.03
HTML::TreeBuilder 0 5.03
integer 0 1.00
IO::File 0 1.14
parent 0 0.234
perl 5.008 5.008007
strict 0 1.03
utf8 0 1.05
warnings 0 1.03
build_requires:
Module Need Have
----------------------------------- ----- --------
blib 1.01 1.02
bytes 0 1.02
ExtUtils::MakeMaker 0 7.30
File::Slurper 0 0.010
File::Spec 0 3.2701
FindBin 0 1.44
IO::Handle 0 1.28
IPC::Open3 0 1.0106
lib 0 0.63
Test::More 0.96 1.302078
Test::Warnings 0 0.026
configure_requires:
Module Need Have
----------------------------------- ----- --------
ExtUtils::MakeMaker 0 7.30
------------------------------
ENVIRONMENT AND OTHER CONTEXT
------------------------------
Environment variables:
AUTOMATED_TESTING = 1
LANG = en_US.UTF-8
LC_ALL = POSIX
PATH = /Users/hornenj/perl5/perlbrew/bin:/Users/hornenj/perl5/perlbrew/perls/perl-5.8.7/bin:/Users/hornenj/perl5/perlbrew/bin:/Users/hornenj/perl5/perlbrew/perls/perl-5.26.1-thread/bin:/Users/hornenj/bin:/sw/bin:/usr/bin:/bin:/usr/X11R6/bin
PERL5LIB = /Users/hornenj/.cpan/build/Font-AFM-1.20-2/blib/arch:/Users/hornenj/.cpan/build/Font-AFM-1.20-2/blib/lib:/Users/hornenj/.cpan/build/File-Slurper-0.010-2/blib/arch:/Users/hornenj/.cpan/build/File-Slurper-0.010-2/blib/lib:/Users/hornenj/.cpan/build/Email-MIME-1.946-6/blib/arch:/Users/hornenj/.cpan/build/Email-MIME-1.946-6/blib/lib:/Users/hornenj/.cpan/build/MIME-Types-2.13-6/blib/arch:/Users/hornenj/.cpan/build/MIME-Types-2.13-6/blib/lib:/Users/hornenj/.cpan/build/Email-Simple-2.214-6/blib/arch:/Users/hornenj/.cpan/build/Email-Simple-2.214-6/blib/lib:/Users/hornenj/.cpan/build/Email-Date-Format-1.005-6/blib/arch:/Users/hornenj/.cpan/build/Email-Date-Format-1.005-6/blib/lib:/Users/hornenj/.cpan/build/Email-MessageID-1.406-6/blib/arch:/Users/hornenj/.cpan/build/Email-MessageID-1.406-6/blib/lib:/Users/hornenj/.cpan/build/Email-MIME-Encodings-1.315-6/blib/arch:/Users/hornenj/.cpan/build/Email-MIME-Encodings-1.315-6/blib/lib:/Users/hornenj/.cpan/build/Email-MIME-ContentType-1.022-6/blib/arch:/Users/hornenj/.cpan/build/Email-MIME-ContentType-1.022-6/blib/lib:/Users/hornenj/.cpan/build/Encode-2.93-8/blib/arch:/Users/hornenj/.cpan/build/Encode-2.93-8/blib/lib:/Users/hornenj/.cpan/build/Email-Address-XS-1.00-6/blib/arch:/Users/hornenj/.cpan/build/Email-Address-XS-1.00-6/blib/lib
PERL5OPT =
PERL5_CPANPLUS_IS_RUNNING = 16283
PERL5_CPAN_IS_RUNNING = 16283
PERL5_MINISMOKEBOX = 0.68
PERLBREW_BASHRC_VERSION = 0.80
PERLBREW_HOME = /Users/hornenj/.perlbrew
PERLBREW_LIB =
PERLBREW_MANPATH = /Users/hornenj/perl5/perlbrew/perls/perl-5.8.7/man
PERLBREW_PATH = /Users/hornenj/perl5/perlbrew/bin:/Users/hornenj/perl5/perlbrew/perls/perl-5.8.7/bin
PERLBREW_PERL = perl-5.8.7
PERLBREW_ROOT = /Users/hornenj/perl5/perlbrew
PERLBREW_VERSION = 0.80
PERL_EXTUTILS_AUTOINSTALL = --defaultdeps
PERL_LOCAL_LIB_ROOT =
PERL_MM_USE_DEFAULT = 1
SHELL = /bin/bash
TERM = xterm-256color
TMPDIR = /var/folders/pz/pd7y1qjs6s3cbk170cw50fjc000c61/T/
Perl special variables (and OS-specific diagnostics, for MSWin32):
$^X = /Users/hornenj/perl5/perlbrew/perls/perl-5.8.7/bin/perl
$UID/$EUID = 12481 / 12481
$GID = 14 223 241 37223 206 399 204 62 12 527 37191 5344 14
$EGID = 14 223 241 37223 206 399 204 62 12 527 37191 5344 14
Perl module toolchain versions installed:
Module Have
------------------- --------
CPAN 2.16
CPAN::Meta 2.150005
Cwd 3.2701
ExtUtils::CBuilder 0.280224
ExtUtils::Command 7.30
ExtUtils::Install 2.06
ExtUtils::MakeMaker 7.30
ExtUtils::Manifest 1.70
ExtUtils::ParseXS 3.30
File::Spec 3.2701
JSON 2.93
JSON::PP 2.27400
Module::Build 0.4224
Module::Signature 0.79
Parse::CPAN::Meta 1.4422
Test::Harness 3.36
Test::More 1.302078
YAML n/a
YAML::Syck 1.30
version 0.9916
--
Summary of my perl5 (revision 5 version 8 subversion 7) configuration:
Platform:
osname=darwin, osvers=12.5.0, archname=darwin-thread-multi-2level
uname='darwin ncbimac2008.ncbi.nlm.nih.gov 12.5.0 darwin kernel version 12.5.0: sun sep 29 13:33:47 pdt 2013; root:xnu-2050.48.12~1release_x86_64 x86_64 '
config_args='-de -Dprefix=/Users/hornenj/perl5/perlbrew/perls/perl-5.8.7 -Duseithreads -Dusemultiplicity -Accflags=-O2 -W -Wformat=2 -Wswitch -Wshadow -Wwrite-strings -Wuninitialized -Wall -pipe -mtune=native -march=native -fomit-frame-pointer -msse2 -msse -mmmx -pedantic -D_FORTIFY_SOURCE=2 -Wpointer-arith -Wstrict-prototypes -fstack-protector -Wstack-protector -Wextra -Wbad-function-cast -Wcast-align -Wcast-qual -Wdisabled-optimization -Wendif-labels -Wfloat-equal -Wformat-nonliteral -Winline -Wmissing-declarations -Wmissing-prototypes -Wnested-externs -Wpointer-arith -Wundef -Wformat-security -fassociative-math -Acc=cc -Aeval:scriptdir=/Users/hornenj/perl5/perlbrew/perls/perl-5.8.7/bin'
hint=recommended, useposix=true, d_sigaction=define
usethreads=define use5005threads=undef useithreads=define usemultiplicity=define
useperlio=define d_sfio=undef uselargefiles=define usesocks=undef
use64bitint=define use64bitall=define uselongdouble=undef
usemymalloc=n, bincompat5005=undef
Compiler:
cc=' cc', ccflags ='-fno-common -DPERL_DARWIN -O2 -W -Wformat=2 -Wswitch -Wshadow -Wwrite-strings -Wuninitialized -Wall -pipe -mtune=native -march=native -fomit-frame-pointer -msse2 -msse -mmmx -pedantic -D_FORTIFY_SOURCE=2 -Wpointer-arith -Wstrict-prototypes -fstack-protector -Wstack-protector -Wextra -Wbad-function-cast -Wcast-align -Wcast-qual -Wdisabled-optimization -Wendif-labels -Wfloat-equal -Wformat-nonliteral -Winline -Wmissing-declarations -Wmissing-prototypes -Wnested-externs -Wpointer-arith -Wundef -Wformat-security -fassociative-math -fno-strict-aliasing -I/usr/local/include',
optimize='-O3',
cppflags='-fno-common -DPERL_DARWIN -O2 -W -Wformat=2 -Wswitch -Wshadow -Wwrite-strings -Wuninitialized -Wall -pipe -mtune=native -march=native -fomit-frame-pointer -msse2 -msse -mmmx -pedantic -D_FORTIFY_SOURCE=2 -Wpointer-arith -Wstrict-prototypes -fstack-protector -Wstack-protector -Wextra -Wbad-function-cast -Wcast-align -Wcast-qual -Wdisabled-optimization -Wendif-labels -Wfloat-equal -Wformat-nonliteral -Winline -Wmissing-declarations -Wmissing-prototypes -Wnested-externs -Wpointer-arith -Wundef -Wformat-security -fassociative-math -fno-strict-aliasing -I/usr/local/include'
ccversion='', gccversion='4.2.1 Compatible Apple LLVM 4.2 (clang-425.0.24)', gccosandvers=''
intsize=4, longsize=8, ptrsize=8, doublesize=8, byteorder=12345678
d_longlong=define, longlongsize=8, d_longdbl=define, longdblsize=16
ivtype='long', ivsize=8, nvtype='double', nvsize=8, Off_t='off_t', lseeksize=8
alignbytes=8, prototype=define
Linker and Libraries:
ld='env MACOSX_DEPLOYMENT_TARGET=10.3 cc', ldflags =' -L/usr/local/lib'
libpth=/usr/local/lib /usr/lib
libs=-ldbm -ldl -lm -lutil -lc
perllibs=-ldl -lm -lutil -lc
libc=, so=dylib, useshrplib=false, libperl=libperl.a
gnulibc_version=''
Dynamic Linking:
dlsrc=dl_dlopen.xs, dlext=bundle, d_dlsymun=undef, ccdlflags=' '
cccdlflags=' ', lddlflags=' -bundle -undefined dynamic_lookup -L/usr/local/lib'
Characteristics of this binary (from libperl):
Compile-time options: MULTIPLICITY USE_ITHREADS USE_64_BIT_INT
USE_64_BIT_ALL USE_LARGE_FILES
PERL_IMPLICIT_CONTEXT
Built under darwin
Compiled at Sep 17 2014 08:58:08
%ENV:
PERL5LIB="/Users/hornenj/.cpan/build/Font-AFM-1.20-2/blib/arch:/Users/hornenj/.cpan/build/Font-AFM-1.20-2/blib/lib:/Users/hornenj/.cpan/build/File-Slurper-0.010-2/blib/arch:/Users/hornenj/.cpan/build/File-Slurper-0.010-2/blib/lib:/Users/hornenj/.cpan/build/Email-MIME-1.946-6/blib/arch:/Users/hornenj/.cpan/build/Email-MIME-1.946-6/blib/lib:/Users/hornenj/.cpan/build/MIME-Types-2.13-6/blib/arch:/Users/hornenj/.cpan/build/MIME-Types-2.13-6/blib/lib:/Users/hornenj/.cpan/build/Email-Simple-2.214-6/blib/arch:/Users/hornenj/.cpan/build/Email-Simple-2.214-6/blib/lib:/Users/hornenj/.cpan/build/Email-Date-Format-1.005-6/blib/arch:/Users/hornenj/.cpan/build/Email-Date-Format-1.005-6/blib/lib:/Users/hornenj/.cpan/build/Email-MessageID-1.406-6/blib/arch:/Users/hornenj/.cpan/build/Email-MessageID-1.406-6/blib/lib:/Users/hornenj/.cpan/build/Email-MIME-Encodings-1.315-6/blib/arch:/Users/hornenj/.cpan/build/Email-MIME-Encodings-1.315-6/blib/lib:/Users/hornenj/.cpan/build/Email-MIME-ContentType-1.022-6/blib/arch:/Users/hornenj/.cpan/build/Email-MIME-ContentType-1.022-6/blib/lib:/Users/hornenj/.cpan/build/Encode-2.93-8/blib/arch:/Users/hornenj/.cpan/build/Encode-2.93-8/blib/lib:/Users/hornenj/.cpan/build/Email-Address-XS-1.00-6/blib/arch:/Users/hornenj/.cpan/build/Email-Address-XS-1.00-6/blib/lib"
PERL5OPT=""
PERL5_CPANPLUS_IS_RUNNING="16283"
PERL5_CPAN_IS_RUNNING="16283"
PERL5_MINISMOKEBOX="0.68"
PERLBREW_BASHRC_VERSION="0.80"
PERLBREW_HOME="/Users/hornenj/.perlbrew"
PERLBREW_LIB=""
PERLBREW_MANPATH="/Users/hornenj/perl5/perlbrew/perls/perl-5.8.7/man"
PERLBREW_PATH="/Users/hornenj/perl5/perlbrew/bin:/Users/hornenj/perl5/perlbrew/perls/perl-5.8.7/bin"
PERLBREW_PERL="perl-5.8.7"
PERLBREW_ROOT="/Users/hornenj/perl5/perlbrew"
PERLBREW_VERSION="0.80"
PERL_EXTUTILS_AUTOINSTALL="--defaultdeps"
PERL_LOCAL_LIB_ROOT=""
PERL_MM_USE_DEFAULT="1"
@INC:
/Users/hornenj/.cpan/build/Font-AFM-1.20-2/blib/arch
/Users/hornenj/.cpan/build/Font-AFM-1.20-2/blib/lib
/Users/hornenj/.cpan/build/File-Slurper-0.010-2/blib/arch
/Users/hornenj/.cpan/build/File-Slurper-0.010-2/blib/lib
/Users/hornenj/.cpan/build/Email-MIME-1.946-6/blib/arch
/Users/hornenj/.cpan/build/Email-MIME-1.946-6/blib/lib
/Users/hornenj/.cpan/build/MIME-Types-2.13-6/blib/arch
/Users/hornenj/.cpan/build/MIME-Types-2.13-6/blib/lib
/Users/hornenj/.cpan/build/Email-Simple-2.214-6/blib/arch
/Users/hornenj/.cpan/build/Email-Simple-2.214-6/blib/lib
/Users/hornenj/.cpan/build/Email-Date-Format-1.005-6/blib/arch
/Users/hornenj/.cpan/build/Email-Date-Format-1.005-6/blib/lib
/Users/hornenj/.cpan/build/Email-MessageID-1.406-6/blib/arch
/Users/hornenj/.cpan/build/Email-MessageID-1.406-6/blib/lib
/Users/hornenj/.cpan/build/Email-MIME-Encodings-1.315-6/blib/arch
/Users/hornenj/.cpan/build/Email-MIME-Encodings-1.315-6/blib/lib
/Users/hornenj/.cpan/build/Email-MIME-ContentType-1.022-6/blib/arch
/Users/hornenj/.cpan/build/Email-MIME-ContentType-1.022-6/blib/lib
/Users/hornenj/.cpan/build/Encode-2.93-8/blib/arch
/Users/hornenj/.cpan/build/Encode-2.93-8/blib/lib
/Users/hornenj/.cpan/build/Email-Address-XS-1.00-6/blib/arch
/Users/hornenj/.cpan/build/Email-Address-XS-1.00-6/blib/lib
/Users/hornenj/perl5/perlbrew/perls/perl-5.8.7/lib/5.8.7/darwin-thread-multi-2level
/Users/hornenj/perl5/perlbrew/perls/perl-5.8.7/lib/5.8.7
/Users/hornenj/perl5/perlbrew/perls/perl-5.8.7/lib/site_perl/5.8.7/darwin-thread-multi-2level
/Users/hornenj/perl5/perlbrew/perls/perl-5.8.7/lib/site_perl/5.8.7
/Users/hornenj/perl5/perlbrew/perls/perl-5.8.7/lib/site_perl
.