Report for Perl-ToPerl6-0.040

Back
From: metabase:user:320bfe00-2aae-11df-837a-5e0a49663a4f
Subject: PASS Perl-ToPerl6-0.040 v5.22.2 GNU/Linux
Date: 2017-05-17T21:21:20Z

This distribution has been tested as part of the CPAN Testers
project, supporting the Perl programming language.  See
http://wiki.cpantesters.org/ for more information or email
questions to cpan-testers-discuss@perl.org


--
Dear Jeff Goff,

This is a computer-generated report for Perl-ToPerl6-0.040
on perl 5.22.2, created by CPAN-Reporter-1.2018.

Thank you for uploading your work to CPAN.  Congratulations!
All tests were successful.

Sections of this report:

    * Tester comments
    * Program output
    * Prerequisites
    * Environment and other context

------------------------------
TESTER COMMENTS
------------------------------

Additional comments from tester:

this report is from an automated smoke testing program
and was not reviewed by a human for accuracy

------------------------------
PROGRAM OUTPUT
------------------------------

Output from './Build test':

t/00_modules.t ..................................... ok
# XXX Fix the transformer count later
The PostfixExpressions::AddWhitespace transformer doesn't take a "allow" option.

The Pragmas::RewritePragmas transformer doesn't take a "lib_sections" option.

t/01_config.t ...................................... ok
t/01_config_bad_perlmogrifyrc.t .................... ok
t/01_transformer_config.t .......................... ok
t/02_transformer.t ................................. ok
t/02_transformer_ordering.t ........................ ok
t/03_annotations.t ................................. ok
t/03_pragmas.t ..................................... ok
t/04_options_processor.t ........................... ok
t/05_utils.t ....................................... ok
t/05_utils_perl.t .................................. ok
t/05_utils_pod.t ................................... ok
t/05_utils_ppi.t ................................... ok
t/06_transformation.t .............................. ok
t/07_command.t ..................................... ok
t/07_perlmogrify.t ................................. ok
t/08_document.t .................................... ok
t/09_theme.t ....................................... ok
t/10_user_profile.t ................................ ok
t/11_transformer_factory.t ......................... ok
t/12_theme_listing.t ............................... ok
t/12_transformer_listing.t ......................... ok
t/13_bundled_transformers.t ........................ ok
t/14_transformer_parameter_behavior_boolean.t ...... ok
t/14_transformer_parameter_behavior_enumeration.t .. ok
t/14_transformer_parameter_behavior_integer.t ...... ok
t/14_transformer_parameter_behavior_list_string.t .. ok
t/14_transformer_parameter_behavior_string.t ....... ok
t/14_transformer_parameters.t ...................... ok
t/15_statistics.t .................................. ok
t/16_roundtrip_defaults.t .......................... ok
t/92_memory_leaks.t ................................ ok
All tests successful.
Files=32, Tests=1950, 24 wallclock secs ( 0.17 usr  0.28 sys +  8.49 cusr  1.23 csys = 10.17 CPU)
Result: PASS

------------------------------
PREREQUISITES
------------------------------

Prerequisite modules loaded:

requires:

    Module                     Need   Have    
    -------------------------- ------ --------
    B::Keywords                1.05   1.15    
    base                       0      2.22    
    Carp                       0      1.38    
    charnames                  0      1.43    
    Config::Tiny               2      2.23    
    English                    0      1.09    
    Exception::Class           1.23   1.42    
    Exporter                   5.63   5.72    
    File::Basename             0      2.85    
    File::Find                 0      1.29    
    File::HomeDir              0      1.002   
    File::Path                 0      2.12_007
    File::Spec                 0      3.62    
    File::Spec::Unix           0      3.62    
    File::Temp                 0      0.2304  
    File::Which                0      1.21    
    Getopt::Long               0      2.45    
    IO::String                 0      1.08    
    IPC::Open2                 1      1.04    
    List::MoreUtils            0.19   0.419   
    List::Util                 0      1.47    
    Module::Pluggable          3.1    5.2     
    overload                   0      1.26    
    Perl::Tidy                 0      20160302
    Pod::Parser                0      1.63    
    Pod::PlainText             0      2.07    
    Pod::Select                0      1.63    
    Pod::Usage                 0      1.69    
    PPI                        1.220  1.220   
    PPI::Document              1.220  1.220   
    PPI::Document::File        1.220  1.220   
    PPI::Node                  1.220  1.220   
    PPI::Token::Quote::Single  1.220  1.220   
    PPI::Token::Whitespace     1.220  1.220   
    PPIx::Regexp               0.027  0.051   
    PPIx::Utilities::Node      1.001  1.001000
    PPIx::Utilities::Statement 1.001  1.001000
    Readonly                   2      2.05    
    Scalar::Util               0      1.47    
    strict                     0      1.09    
    String::Format             1.13   1.17    
    Task::Weaken               0      1.04    
    Term::ANSIColor            2.02   4.03    
    Test::Builder              0.92   1.302085
    Text::ParseWords           3      3.30    
    version                    0.77   0.9918  
    warnings                   0      1.34    

build_requires:

    Module                     Need   Have    
    -------------------------- ------ --------
    lib                        0      0.63    
    Test::Deep                 0      1.126   
    Test::More                 0      1.302085

configure_requires:

    Module                     Need   Have    
    -------------------------- ------ --------
    Module::Build              0.4024 0.4222  


------------------------------
ENVIRONMENT AND OTHER CONTEXT
------------------------------

Environment variables:

    AUTOMATED_TESTING = 1
    LANG = en_US.UTF-8
    PATH = /home/sand/bin:/usr/local/bin:/usr/bin:/bin:/usr/games:/usr/local/perl/bin:/usr/X11/bin:/sbin:/usr/sbin
    PERL5LIB = 
    PERL5OPT = 
    PERL5_CPANPLUS_IS_RUNNING = 19474
    PERL5_CPAN_IS_RUNNING = 19474
    PERL_CANARY_STABILITY_NOPROMPT = 1
    PERL_MM_USE_DEFAULT = 1
    PERL_USE_UNSAFE_INC = 1
    SHELL = /usr/bin/zsh
    TERM = screen

Perl special variables (and OS-specific diagnostics, for MSWin32):

    $^X = /home/sand/src/perl/repoperls/installed-perls/host/k93msid/v5.22.2/d2d1/bin/perl
    $UID/$EUID = 1005 / 1005
    $GID = 1005 1005
    $EGID = 1005 1005

Perl module toolchain versions installed:

    Module              Have    
    ------------------- --------
    CPAN                2.18    
    CPAN::Meta          2.150010
    Cwd                 3.62    
    ExtUtils::CBuilder  0.280224
    ExtUtils::Command   7.24    
    ExtUtils::Install   2.10    
    ExtUtils::MakeMaker 7.24    
    ExtUtils::Manifest  1.70    
    ExtUtils::ParseXS   3.30    
    File::Spec          3.62    
    JSON                2.92    
    JSON::PP            2.27300 
    Module::Build       0.4222  
    Module::Signature   0.81    
    Parse::CPAN::Meta   2.150010
    Test::Harness       3.39    
    Test::More          1.302085
    YAML                1.23    
    YAML::Syck          1.29    
    version             0.9918  


--

Summary of my perl5 (revision 5 version 22 subversion 2) configuration:
  Derived from: 9cbffb38735712e3a34e6f537892b6ef06fb815f
  Platform:
    osname=linux, osvers=4.9.0-2-amd64, archname=x86_64-linux
    uname='linux k93msid 4.9.0-2-amd64 #1 smp debian 4.9.18-1 (2017-03-30) x86_64 gnulinux '
    config_args='-Dprefix=/home/sand/src/perl/repoperls/installed-perls/host/k93msid/v5.22.2/d2d1 -Dmyhostname=k93msid -Dinstallusrbinperl=n -Uversiononly -Dusedevel -des -Ui_db -Dlibswanted=cl pthread socket inet nsl gdbm dbm malloc dl ld sun m crypt sec util c cposix posix ucb BSD gdbm_compat -Uuseithreads -Uuselongdouble -DDEBUGGING=both'
    hint=recommended, useposix=true, d_sigaction=define
    useithreads=undef, usemultiplicity=undef
    use64bitint=define, use64bitall=define, uselongdouble=undef
    usemymalloc=n, bincompat5005=undef
  Compiler:
    cc='cc', ccflags ='-fwrapv -DDEBUGGING -fno-strict-aliasing -pipe -fstack-protector-strong -I/usr/local/include -D_LARGEFILE_SOURCE -D_FILE_OFFSET_BITS=64',
    optimize='-O2 -g',
    cppflags='-fwrapv -DDEBUGGING -fno-strict-aliasing -pipe -fstack-protector-strong -I/usr/local/include'
    ccversion='', gccversion='6.3.0 20170406', gccosandvers=''
    intsize=4, longsize=8, ptrsize=8, doublesize=8, byteorder=12345678, doublekind=3
    d_longlong=define, longlongsize=8, d_longdbl=define, longdblsize=16, longdblkind=3
    ivtype='long', ivsize=8, nvtype='double', nvsize=8, Off_t='off_t', lseeksize=8
    alignbytes=8, prototype=define
  Linker and Libraries:
    ld='cc', ldflags =' -fstack-protector-strong -L/usr/local/lib'
    libpth=/usr/local/lib /usr/lib/gcc/x86_64-linux-gnu/6/include-fixed /usr/include/x86_64-linux-gnu /usr/lib /lib/x86_64-linux-gnu /lib/../lib /usr/lib/x86_64-linux-gnu /usr/lib/../lib /lib
    libs=-lpthread -lnsl -ldl -lm -lcrypt -lutil -lc
    perllibs=-lpthread -lnsl -ldl -lm -lcrypt -lutil -lc
    libc=libc-2.24.so, so=so, useshrplib=false, libperl=libperl.a
    gnulibc_version='2.24'
  Dynamic Linking:
    dlsrc=dl_dlopen.xs, dlext=so, d_dlsymun=undef, ccdlflags='-Wl,-E'
    cccdlflags='-fPIC', lddlflags='-shared -O2 -g -L/usr/local/lib -fstack-protector-strong'


Characteristics of this binary (from libperl): 
  Compile-time options: DEBUGGING HAS_TIMES PERLIO_LAYERS
                        PERL_DONT_CREATE_GVSV
                        PERL_HASH_FUNC_ONE_AT_A_TIME_HARD PERL_MALLOC_WRAP
                        PERL_NEW_COPY_ON_WRITE PERL_PRESERVE_IVUV
                        PERL_USE_DEVEL USE_64_BIT_ALL USE_64_BIT_INT
                        USE_LARGE_FILES USE_LOCALE USE_LOCALE_COLLATE
                        USE_LOCALE_CTYPE USE_LOCALE_NUMERIC USE_LOCALE_TIME
                        USE_PERLIO USE_PERL_ATOF
  Locally applied patches:
	uncommitted-changes
  Built under linux
  Compiled at Apr 17 2017 02:38:08
  %ENV:
    PERL5LIB=""
    PERL5OPT=""
    PERL5_CPANPLUS_IS_RUNNING="19474"
    PERL5_CPAN_IS_RUNNING="19474"
    PERL_CANARY_STABILITY_NOPROMPT="1"
    PERL_MM_USE_DEFAULT="1"
    PERL_USE_UNSAFE_INC="1"
  @INC:
    /home/sand/src/perl/repoperls/installed-perls/host/k93msid/v5.22.2/d2d1/lib/site_perl/5.22.2/x86_64-linux
    /home/sand/src/perl/repoperls/installed-perls/host/k93msid/v5.22.2/d2d1/lib/site_perl/5.22.2
    /home/sand/src/perl/repoperls/installed-perls/host/k93msid/v5.22.2/d2d1/lib/5.22.2/x86_64-linux
    /home/sand/src/perl/repoperls/installed-perls/host/k93msid/v5.22.2/d2d1/lib/5.22.2
    .