PostScript-Report v0.13 Perl 5 v5.38.3 x86_64-linux-ld

Status
Pass
From
Andreas J. König (ANDK)
Dist
PostScript-Report v0.13
Platform
Perl 5 v5.38.3 x86_64-linux-ld
Date
2025-03-20 22:36:31
ID
c5769c54-05db-11f0-83c9-ac449a8207a0
This distribution has been tested as part of the CPAN Testers
project, supporting the Perl programming language.  See
http://wiki.cpantesters.org/ for more information or email
questions to cpan-testers-discuss@perl.org


--
Dear Christopher J. Madsen,

This is a computer-generated report for PostScript-Report-0.13
on perl 5.38.3, created by CPAN-Reporter-1.2020.

Thank you for uploading your work to CPAN.  Congratulations!
All tests were successful.

Sections of this report:

    * Tester comments
    * Program output
    * Prerequisites
    * Environment and other context

------------------------------
TESTER COMMENTS
------------------------------

Additional comments from tester:

this report is from an automated smoke testing program
and was not reviewed by a human for accuracy

------------------------------
PROGRAM OUTPUT
------------------------------

Output from '/usr/bin/make test':

PERL_DL_NONLAZY=1 "/tmp/basesmoker-reloperl-mogV/bin/perl" "-MExtUtils::Command::MM" "-MTest::Harness" "-e" "undef *Test::Harness::Switches; test_harness(0, 'blib/lib', 'blib/arch')" t/*.t
# Listing %INC
#                                                         B 1.88
#                                      B::Hooks::EndOfScope 0.28
#                                  B::Hooks::EndOfScope::XS 0.28
#                                                      Carp 1.54
#                                                Carp::Clan 6.08
#                                               Class::Load 0.25
#                                           Class::Load::XS 0.10
#                                                Class::MOP 2.2207
#                                     Class::MOP::Attribute 2.2207
#                                         Class::MOP::Class 2.2207
#           Class::MOP::Class::Immutable::Class::MOP::Class undef
#          Class::MOP::Class::Immutable::Moose::Meta::Class undef
#                       Class::MOP::Class::Immutable::Trait 2.2207
#                                    Class::MOP::Deprecated 2.2207
#                                      Class::MOP::Instance 2.2207
#                                        Class::MOP::Method 2.2207
#                              Class::MOP::Method::Accessor 2.2207
#                           Class::MOP::Method::Constructor 2.2207
#                             Class::MOP::Method::Generated 2.2207
#                               Class::MOP::Method::Inlined 2.2207
#                                  Class::MOP::Method::Meta 2.2207
#                               Class::MOP::Method::Wrapped 2.2207
#                                     Class::MOP::MiniTrait 2.2207
#                                         Class::MOP::Mixin 2.2207
#                          Class::MOP::Mixin::AttributeCore 2.2207
#                          Class::MOP::Mixin::HasAttributes 2.2207
#                             Class::MOP::Mixin::HasMethods 2.2207
#                           Class::MOP::Mixin::HasOverloads 2.2207
#                                        Class::MOP::Module 2.2207
#                                        Class::MOP::Object 2.2207
#                                      Class::MOP::Overload 2.2207
#                                       Class::MOP::Package 2.2207
#                                                       Cwd 3.89
#                                             Data::OptList 0.114
#                                  Devel::GlobalDestruction 0.14
#                                       Devel::OverloadInfo 0.007
#                                             Eval::Closure 0.14
#                                                  Exporter 5.78
#                                                File::Spec 3.88
#                                          File::Spec::Unix 3.88
#                                                List::Util 1.68
#                                               MRO::Compat 0.15
#                                    Module::Implementation 0.09
#                                           Module::Runtime 0.016
#                                                     Moose 2.2207
#                                         Moose::Deprecated 2.2207
#                                           Moose::Exporter 2.2207
#                                    Moose::Meta::Attribute 2.2207
#                            Moose::Meta::Attribute::Native 2.2207
#                                        Moose::Meta::Class 2.2207
#                      Moose::Meta::Class::Immutable::Trait 2.2207
#                   Moose::Meta::Class::__ANON__::SERIAL::1 undef
#                   Moose::Meta::Class::__ANON__::SERIAL::2 undef
#                   Moose::Meta::Class::__ANON__::SERIAL::3 undef
#                                     Moose::Meta::Instance 2.2207
#                                       Moose::Meta::Method 2.2207
#                             Moose::Meta::Method::Accessor 2.2207
#                            Moose::Meta::Method::Augmented 2.2207
#                          Moose::Meta::Method::Constructor 2.2207
#                           Moose::Meta::Method::Delegation 2.2207
#                           Moose::Meta::Method::Destructor 2.2207
#                                 Moose::Meta::Method::Meta 2.2207
#                           Moose::Meta::Method::Overridden 2.2207
#                         Moose::Meta::Mixin::AttributeCore 2.2207
#                                Moose::Meta::Object::Trait 2.2207
#                                         Moose::Meta::Role 2.2207
#                            Moose::Meta::Role::Application 2.2207
#             Moose::Meta::Role::Application::RoleSummation 2.2207
#                   Moose::Meta::Role::Application::ToClass 2.2207
#                Moose::Meta::Role::Application::ToInstance 2.2207
#                    Moose::Meta::Role::Application::ToRole 2.2207
#                              Moose::Meta::Role::Attribute 2.2207
#                              Moose::Meta::Role::Composite 2.2207
#                                 Moose::Meta::Role::Method 2.2207
#                    Moose::Meta::Role::Method::Conflicting 2.2207
#                       Moose::Meta::Role::Method::Required 2.2207
#                                 Moose::Meta::TypeCoercion 2.2207
#                          Moose::Meta::TypeCoercion::Union 2.2207
#                               Moose::Meta::TypeConstraint 2.2207
#                        Moose::Meta::TypeConstraint::Class 2.2207
#                     Moose::Meta::TypeConstraint::DuckType 2.2207
#                         Moose::Meta::TypeConstraint::Enum 2.2207
#              Moose::Meta::TypeConstraint::Parameterizable 2.2207
#                Moose::Meta::TypeConstraint::Parameterized 2.2207
#                     Moose::Meta::TypeConstraint::Registry 2.2207
#                         Moose::Meta::TypeConstraint::Role 2.2207
#                        Moose::Meta::TypeConstraint::Union 2.2207
#                                             Moose::Object 2.2207
#                                               Moose::Role 2.2207
#                                               Moose::Util 2.2207
#                                     Moose::Util::MetaRole 2.2207
#                              Moose::Util::TypeConstraints 2.2207
#                    Moose::Util::TypeConstraints::Builtins 2.2207
#                                     MooseX::AttributeTree 0.06
#                           MooseX::AttributeTree::Accessor 0.06
#                               MooseX::Role::Parameterized 1.11
#    MooseX::Role::Parameterized::Meta::Role::Parameterized 1.11
# MooseX::Role::Parameterized::Meta::Trait::Parameterizable 1.11
#   MooseX::Role::Parameterized::Meta::Trait::Parameterized 1.11
#                   MooseX::Role::Parameterized::Parameters 1.11
#                                             MooseX::Types 0.50
#                                       MooseX::Types::Base 0.50
#                         MooseX::Types::CheckedUtilExports 0.50
#                                      MooseX::Types::Moose 0.50
#                              MooseX::Types::TypeDecorator 0.50
#                              MooseX::Types::UndefinedType 0.50
#                                       MooseX::Types::Util 0.50
#                               Package::DeprecationManager 0.18
#                                            Package::Stash 0.40
#                                        Package::Stash::XS 0.30
#                                              Params::Util 1.102
#                                          Params::Util::PP 1.102
#                                          PostScript::File 2.23
#                                              Scalar::Util 1.68
#                                     String::RewritePrefix 0.009
#                                             Sub::Exporter 0.991
#                                 Sub::Exporter::ForMethods 0.100055
#                                Sub::Exporter::Progressive 0.001013
#                                              Sub::Install 0.929
#                                                 Sub::Name 0.28
#                                                 Sub::Util 1.68
#                                                 Try::Tiny 0.32
#                                           Variable::Magic 0.64
#                                                  XSLoader 0.32
#                                                      base 2.27
#                                                  constant 1.33
#                                                        if 0.0610
#                                                 metaclass 2.2207
#                                                       mro 1.28
#                                      namespace::autoclean 0.31
#                                          namespace::clean 0.27
#                                   namespace::clean::_Util undef
#                                                  overload 1.37
#                                               overloading 0.02
#                                                    parent 0.244
#                                                        re 0.44
#                                                    strict 1.12
#                                                  warnings 1.65
#                                        warnings::register 1.05
t/00-all_prereqs.t .. ok
# Testing PostScript::Report 0.13
t/00-load.t ......... ok
t/10-structure.t .... ok
t/20-warnings.t ..... ok
t/30-output.t ....... ok
t/40-linkparser.t ... ok
All tests successful.
Files=6, Tests=89,  3 wallclock secs ( 0.03 usr  0.04 sys +  2.81 cusr  0.38 csys =  3.26 CPU)
Result: PASS

------------------------------
PREREQUISITES
------------------------------

Prerequisite modules loaded:

requires:

    Module                Need  Have    
    --------------------- ----- --------
    Carp                  0     1.54    
    File::Spec            0     3.88    
    List::Util            0     1.68    
    Module::Runtime       0     0.016   
    Moose                 0.90  2.2207  
    Moose::Role           0     2.2207  
    MooseX::AttributeTree 0.02  0.06    
    MooseX::Types         0     0.50    
    MooseX::Types::Moose  0     0.50    
    namespace::autoclean  0     0.31    
    PostScript::File      2.20  2.23    
    Scalar::Util          0     1.68    
    String::RewritePrefix 0     0.009   

build_requires:

    Module                Need  Have    
    --------------------- ----- --------
    Encode                0     3.21    
    Test::More            0.88  1.302209

configure_requires:

    Module                Need  Have    
    --------------------- ----- --------
    ExtUtils::MakeMaker   6.30  7.70    
    Moose                 0     2.2207  
    MooseX::Types         0     0.50    
    perl                  5.008 5.038003
    version               0.77  0.9933  


------------------------------
ENVIRONMENT AND OTHER CONTEXT
------------------------------

Environment variables:

    AUTOMATED_TESTING = 1
    LANG = en_US.UTF-8
    LC_ADDRESS = de_DE.UTF-8
    LC_IDENTIFICATION = de_DE.UTF-8
    LC_MEASUREMENT = de_DE.UTF-8
    LC_MONETARY = de_DE.UTF-8
    LC_NAME = de_DE.UTF-8
    LC_NUMERIC = de_DE.UTF-8
    LC_PAPER = de_DE.UTF-8
    LC_TELEPHONE = de_DE.UTF-8
    LC_TIME = de_DE.UTF-8
    PATH = /home/sand/bin:/usr/local/bin:/usr/local/sbin:/usr/sbin:/usr/bin:/sbin:/bin:/usr/games:/usr/local/games:/snap/bin:/usr/local/perl/bin:/usr/X11/bin
    PERL = /tmp/basesmoker-reloperl-mogV/bin/perl
    PERL5LIB = /tmp/loop_over_bdir-935399-bfmh6H/App-oo_modulino_zsh_completion_helper-0.06-0/blib/arch:/tmp/loop_over_bdir-935399-bfmh6H/App-oo_modulino_zsh_completion_helper-0.06-0/blib/lib:/tmp/loop_over_bdir-935399-bfmh6H/App-rmcd-0.280-0/blib/arch:/tmp/loop_over_bdir-935399-bfmh6H/App-rmcd-0.280-0/blib/lib:/tmp/loop_over_bdir-935399-bfmh6H/CORBA-Python-2.66-0/blib/arch:/tmp/loop_over_bdir-935399-bfmh6H/CORBA-Python-2.66-0/blib/lib:/tmp/loop_over_bdir-935399-bfmh6H/OSDial-3.0.2.124-0/blib/arch:/tmp/loop_over_bdir-935399-bfmh6H/OSDial-3.0.2.124-0/blib/lib:/tmp/loop_over_bdir-935399-bfmh6H/Net-OpenVPN-DDNS-0.1-0/blib/arch:/tmp/loop_over_bdir-935399-bfmh6H/Net-OpenVPN-DDNS-0.1-0/blib/lib:/tmp/loop_over_bdir-935399-bfmh6H/dta-tokwrap-0.98-0/blib/arch:/tmp/loop_over_bdir-935399-bfmh6H/dta-tokwrap-0.98-0/blib/lib:/tmp/loop_over_bdir-935399-bfmh6H/App-nrun-v1.1.2-0/blib/arch:/tmp/loop_over_bdir-935399-bfmh6H/App-nrun-v1.1.2-0/blib/lib:/tmp/loop_over_bdir-935399-bfmh6H/Linux-InitFS-0.2-0/blib/arch:/tmp/loop_over_bdir-935399-bfmh6H/Linux-InitFS-0.2-0/blib/lib:/tmp/loop_over_bdir-935399-bfmh6H/Captive-Portal-4.10-0/blib/arch:/tmp/loop_over_bdir-935399-bfmh6H/Captive-Portal-4.10-0/blib/lib:/tmp/loop_over_bdir-935399-bfmh6H/RDF-NLP-SPARQLQuery-0.1-0/blib/arch:/tmp/loop_over_bdir-935399-bfmh6H/RDF-NLP-SPARQLQuery-0.1-0/blib/lib:/tmp/loop_over_bdir-935399-bfmh6H/Module-ScanDeps-Static-1.7.2-0/blib/arch:/tmp/loop_over_bdir-935399-bfmh6H/Module-ScanDeps-Static-1.7.2-0/blib/lib:/tmp/loop_over_bdir-935399-bfmh6H/Alien-SNMP-MIBDEV-2.020000-0/blib/arch:/tmp/loop_over_bdir-935399-bfmh6H/Alien-SNMP-MIBDEV-2.020000-0/blib/lib:/tmp/loop_over_bdir-935399-bfmh6H/Devel-Required-0.16-0/blib/arch:/tmp/loop_over_bdir-935399-bfmh6H/Devel-Required-0.16-0/blib/lib:/tmp/loop_over_bdir-935399-bfmh6H/triceps-2.1.0-0/blib/arch:/tmp/loop_over_bdir-935399-bfmh6H/triceps-2.1.0-0/blib/lib:/tmp/loop_over_bdir-935399-bfmh6H/Simulation-Automate-1.0.1-0/blib/arch:/tmp/loop_over_bdir-935399-bfmh6H/Simulation-Automate-1.0.1-0/blib/lib:/tmp/loop_over_bdir-935399-bfmh6H/NoZone-1.3-0/blib/arch:/tmp/loop_over_bdir-935399-bfmh6H/NoZone-1.3-0/blib/lib:/tmp/loop_over_bdir-935399-bfmh6H/Lingua-YaTeA-0.626-0/blib/arch:/tmp/loop_over_bdir-935399-bfmh6H/Lingua-YaTeA-0.626-0/blib/lib:/tmp/loop_over_bdir-935399-bfmh6H/XML-Bare-SAX-Parser-0.01-0/blib/arch:/tmp/loop_over_bdir-935399-bfmh6H/XML-Bare-SAX-Parser-0.01-0/blib/lib
    PERL5OPT = 
    PERL5_CPANPLUS_IS_RUNNING = 935407
    PERL5_CPAN_IS_RUNNING = 935407
    PERL_CANARY_STABILITY_NOPROMPT = 1
    PERL_MM_USE_DEFAULT = 1
    PERL_USE_UNSAFE_INC = 1
    SHELL = /usr/bin/zsh
    TERM = screen

Perl special variables (and OS-specific diagnostics, for MSWin32):

    $^X = /tmp/basesmoker-reloperl-mogV/bin/perl
    $UID/$EUID = 1005 / 1005
    $GID = 1005 1005
    $EGID = 1005 1005

Perl module toolchain versions installed:

    Module              Have    
    ------------------- --------
    CPAN                2.38    
    CPAN::Meta          2.150010
    Cwd                 3.89    
    ExtUtils::CBuilder  0.280238
    ExtUtils::Command   7.70    
    ExtUtils::Install   2.22    
    ExtUtils::MakeMaker 7.70    
    ExtUtils::Manifest  1.75    
    ExtUtils::ParseXS   3.51    
    File::Spec          3.88    
    JSON                4.10    
    JSON::PP            4.16    
    Module::Build       0.4234  
    Module::Signature   0.89    
    Parse::CPAN::Meta   2.150010
    Test2               1.302209
    Test::Harness       3.50    
    Test::More          1.302209
    YAML                1.31    
    YAML::Syck          1.34    
    version             0.9933  


--

Summary of my perl5 (revision 5 version 38 subversion 3) configuration:
  Commit id: 06697759559c52236e296a256776b1222f228163
  Platform:
    osname=linux
    osvers=6.8.0-52-generic
    archname=x86_64-linux-ld
    uname='linux k93jammy 6.8.0-52-generic #53~22.04.1-ubuntu smp preempt_dynamic wed jan 15 19:18:46 utc 2 x86_64 x86_64 x86_64 gnulinux '
    config_args='-Dprefix=/home/sand/src/perl/repoperls/installed-perls/host/k93jammy/v5.38.3/5674 -Dmyhostname=k93jammy -Dinstallusrbinperl=n -Uversiononly -Dusedevel -des -Ui_db -Dlibswanted=cl pthread socket inet nsl gdbm dbm malloc dl ld sun m crypt sec util c cposix posix ucb BSD gdbm_compat -Uuseithreads -Duselongdouble -DEBUGGING=-g'
    hint=recommended
    useposix=true
    d_sigaction=define
    useithreads=undef
    usemultiplicity=undef
    use64bitint=define
    use64bitall=define
    uselongdouble=define
    usemymalloc=n
    default_inc_excludes_dot=define
  Compiler:
    cc='cc'
    ccflags ='-fwrapv -fno-strict-aliasing -pipe -fstack-protector-strong -I/usr/local/include -D_LARGEFILE_SOURCE -D_FILE_OFFSET_BITS=64'
    optimize='-O2 -g'
    cppflags='-fwrapv -fno-strict-aliasing -pipe -fstack-protector-strong -I/usr/local/include'
    ccversion=''
    gccversion='11.4.0'
    gccosandvers=''
    intsize=4
    longsize=8
    ptrsize=8
    doublesize=8
    byteorder=12345678
    doublekind=3
    d_longlong=define
    longlongsize=8
    d_longdbl=define
    longdblsize=16
    longdblkind=3
    ivtype='long'
    ivsize=8
    nvtype='long double'
    nvsize=16
    Off_t='off_t'
    lseeksize=8
    alignbytes=16
    prototype=define
  Linker and Libraries:
    ld='cc'
    ldflags =' -fstack-protector-strong -L/usr/local/lib'
    libpth=/usr/local/lib /usr/lib/x86_64-linux-gnu /usr/lib /usr/lib64
    libs=-lpthread -lnsl -ldl -lm -lcrypt -lutil -lc
    perllibs=-lpthread -lnsl -ldl -lm -lcrypt -lutil -lc
    libc=/lib/x86_64-linux-gnu/libc.so.6
    so=so
    useshrplib=false
    libperl=libperl.a
    gnulibc_version='2.35'
  Dynamic Linking:
    dlsrc=dl_dlopen.xs
    dlext=so
    d_dlsymun=undef
    ccdlflags='-Wl,-E'
    cccdlflags='-fPIC'
    lddlflags='-shared -O2 -g -L/usr/local/lib -fstack-protector-strong'


Characteristics of this binary (from libperl): 
  Compile-time options:
    HAS_LONG_DOUBLE
    HAS_STRTOLD
    HAS_TIMES
    PERLIO_LAYERS
    PERL_COPY_ON_WRITE
    PERL_DONT_CREATE_GVSV
    PERL_HASH_FUNC_SIPHASH13
    PERL_HASH_USE_SBOX32
    PERL_MALLOC_WRAP
    PERL_OP_PARENT
    PERL_PRESERVE_IVUV
    PERL_USE_DEVEL
    PERL_USE_SAFE_PUTENV
    USE_64_BIT_ALL
    USE_64_BIT_INT
    USE_LARGE_FILES
    USE_LOCALE
    USE_LOCALE_COLLATE
    USE_LOCALE_CTYPE
    USE_LOCALE_NUMERIC
    USE_LOCALE_TIME
    USE_LONG_DOUBLE
    USE_PERLIO
    USE_PERL_ATOF
  Built under linux
  Compiled at Mar 11 2025 15:33:42
  %ENV:
    PERL="/tmp/basesmoker-reloperl-mogV/bin/perl"
    PERL5LIB="/tmp/loop_over_bdir-935399-bfmh6H/App-oo_modulino_zsh_completion_helper-0.06-0/blib/arch:/tmp/loop_over_bdir-935399-bfmh6H/App-oo_modulino_zsh_completion_helper-0.06-0/blib/lib:/tmp/loop_over_bdir-935399-bfmh6H/App-rmcd-0.280-0/blib/arch:/tmp/loop_over_bdir-935399-bfmh6H/App-rmcd-0.280-0/blib/lib:/tmp/loop_over_bdir-935399-bfmh6H/CORBA-Python-2.66-0/blib/arch:/tmp/loop_over_bdir-935399-bfmh6H/CORBA-Python-2.66-0/blib/lib:/tmp/loop_over_bdir-935399-bfmh6H/OSDial-3.0.2.124-0/blib/arch:/tmp/loop_over_bdir-935399-bfmh6H/OSDial-3.0.2.124-0/blib/lib:/tmp/loop_over_bdir-935399-bfmh6H/Net-OpenVPN-DDNS-0.1-0/blib/arch:/tmp/loop_over_bdir-935399-bfmh6H/Net-OpenVPN-DDNS-0.1-0/blib/lib:/tmp/loop_over_bdir-935399-bfmh6H/dta-tokwrap-0.98-0/blib/arch:/tmp/loop_over_bdir-935399-bfmh6H/dta-tokwrap-0.98-0/blib/lib:/tmp/loop_over_bdir-935399-bfmh6H/App-nrun-v1.1.2-0/blib/arch:/tmp/loop_over_bdir-935399-bfmh6H/App-nrun-v1.1.2-0/blib/lib:/tmp/loop_over_bdir-935399-bfmh6H/Linux-InitFS-0.2-0/blib/arch:/tmp/loop_over_bdir-935399-bfmh6H/Linux-InitFS-0.2-0/blib/lib:/tmp/loop_over_bdir-935399-bfmh6H/Captive-Portal-4.10-0/blib/arch:/tmp/loop_over_bdir-935399-bfmh6H/Captive-Portal-4.10-0/blib/lib:/tmp/loop_over_bdir-935399-bfmh6H/RDF-NLP-SPARQLQuery-0.1-0/blib/arch:/tmp/loop_over_bdir-935399-bfmh6H/RDF-NLP-SPARQLQuery-0.1-0/blib/lib:/tmp/loop_over_bdir-935399-bfmh6H/Module-ScanDeps-Static-1.7.2-0/blib/arch:/tmp/loop_over_bdir-935399-bfmh6H/Module-ScanDeps-Static-1.7.2-0/blib/lib:/tmp/loop_over_bdir-935399-bfmh6H/Alien-SNMP-MIBDEV-2.020000-0/blib/arch:/tmp/loop_over_bdir-935399-bfmh6H/Alien-SNMP-MIBDEV-2.020000-0/blib/lib:/tmp/loop_over_bdir-935399-bfmh6H/Devel-Required-0.16-0/blib/arch:/tmp/loop_over_bdir-935399-bfmh6H/Devel-Required-0.16-0/blib/lib:/tmp/loop_over_bdir-935399-bfmh6H/triceps-2.1.0-0/blib/arch:/tmp/loop_over_bdir-935399-bfmh6H/triceps-2.1.0-0/blib/lib:/tmp/loop_over_bdir-935399-bfmh6H/Simulation-Automate-1.0.1-0/blib/arch:/tmp/loop_over_bdir-935399-bfmh6H/Simulation-Automate-1.0.1-0/blib/lib:/tmp/loop_over_bdir-935399-bfmh6H/NoZone-1.3-0/blib/arch:/tmp/loop_over_bdir-935399-bfmh6H/NoZone-1.3-0/blib/lib:/tmp/loop_over_bdir-935399-bfmh6H/Lingua-YaTeA-0.626-0/blib/arch:/tmp/loop_over_bdir-935399-bfmh6H/Lingua-YaTeA-0.626-0/blib/lib:/tmp/loop_over_bdir-935399-bfmh6H/XML-Bare-SAX-Parser-0.01-0/blib/arch:/tmp/loop_over_bdir-935399-bfmh6H/XML-Bare-SAX-Parser-0.01-0/blib/lib"
    PERL5OPT=""
    PERL5_CPANPLUS_IS_RUNNING="935407"
    PERL5_CPAN_IS_RUNNING="935407"
    PERL_CANARY_STABILITY_NOPROMPT="1"
    PERL_MM_USE_DEFAULT="1"
    PERL_USE_UNSAFE_INC="1"
  @INC:
    /tmp/loop_over_bdir-935399-bfmh6H/App-oo_modulino_zsh_completion_helper-0.06-0/blib/arch
    /tmp/loop_over_bdir-935399-bfmh6H/App-oo_modulino_zsh_completion_helper-0.06-0/blib/lib
    /tmp/loop_over_bdir-935399-bfmh6H/App-rmcd-0.280-0/blib/arch
    /tmp/loop_over_bdir-935399-bfmh6H/App-rmcd-0.280-0/blib/lib
    /tmp/loop_over_bdir-935399-bfmh6H/CORBA-Python-2.66-0/blib/arch
    /tmp/loop_over_bdir-935399-bfmh6H/CORBA-Python-2.66-0/blib/lib
    /tmp/loop_over_bdir-935399-bfmh6H/OSDial-3.0.2.124-0/blib/arch
    /tmp/loop_over_bdir-935399-bfmh6H/OSDial-3.0.2.124-0/blib/lib
    /tmp/loop_over_bdir-935399-bfmh6H/Net-OpenVPN-DDNS-0.1-0/blib/arch
    /tmp/loop_over_bdir-935399-bfmh6H/Net-OpenVPN-DDNS-0.1-0/blib/lib
    /tmp/loop_over_bdir-935399-bfmh6H/dta-tokwrap-0.98-0/blib/arch
    /tmp/loop_over_bdir-935399-bfmh6H/dta-tokwrap-0.98-0/blib/lib
    /tmp/loop_over_bdir-935399-bfmh6H/App-nrun-v1.1.2-0/blib/arch
    /tmp/loop_over_bdir-935399-bfmh6H/App-nrun-v1.1.2-0/blib/lib
    /tmp/loop_over_bdir-935399-bfmh6H/Linux-InitFS-0.2-0/blib/arch
    /tmp/loop_over_bdir-935399-bfmh6H/Linux-InitFS-0.2-0/blib/lib
    /tmp/loop_over_bdir-935399-bfmh6H/Captive-Portal-4.10-0/blib/arch
    /tmp/loop_over_bdir-935399-bfmh6H/Captive-Portal-4.10-0/blib/lib
    /tmp/loop_over_bdir-935399-bfmh6H/RDF-NLP-SPARQLQuery-0.1-0/blib/arch
    /tmp/loop_over_bdir-935399-bfmh6H/RDF-NLP-SPARQLQuery-0.1-0/blib/lib
    /tmp/loop_over_bdir-935399-bfmh6H/Module-ScanDeps-Static-1.7.2-0/blib/arch
    /tmp/loop_over_bdir-935399-bfmh6H/Module-ScanDeps-Static-1.7.2-0/blib/lib
    /tmp/loop_over_bdir-935399-bfmh6H/Alien-SNMP-MIBDEV-2.020000-0/blib/arch
    /tmp/loop_over_bdir-935399-bfmh6H/Alien-SNMP-MIBDEV-2.020000-0/blib/lib
    /tmp/loop_over_bdir-935399-bfmh6H/Devel-Required-0.16-0/blib/arch
    /tmp/loop_over_bdir-935399-bfmh6H/Devel-Required-0.16-0/blib/lib
    /tmp/loop_over_bdir-935399-bfmh6H/triceps-2.1.0-0/blib/arch
    /tmp/loop_over_bdir-935399-bfmh6H/triceps-2.1.0-0/blib/lib
    /tmp/loop_over_bdir-935399-bfmh6H/Simulation-Automate-1.0.1-0/blib/arch
    /tmp/loop_over_bdir-935399-bfmh6H/Simulation-Automate-1.0.1-0/blib/lib
    /tmp/loop_over_bdir-935399-bfmh6H/NoZone-1.3-0/blib/arch
    /tmp/loop_over_bdir-935399-bfmh6H/NoZone-1.3-0/blib/lib
    /tmp/loop_over_bdir-935399-bfmh6H/Lingua-YaTeA-0.626-0/blib/arch
    /tmp/loop_over_bdir-935399-bfmh6H/Lingua-YaTeA-0.626-0/blib/lib
    /tmp/loop_over_bdir-935399-bfmh6H/XML-Bare-SAX-Parser-0.01-0/blib/arch
    /tmp/loop_over_bdir-935399-bfmh6H/XML-Bare-SAX-Parser-0.01-0/blib/lib
    /home/sand/src/perl/repoperls/installed-perls/host/k93jammy/v5.38.3/5674/lib/site_perl/5.38.3/x86_64-linux-ld
    /home/sand/src/perl/repoperls/installed-perls/host/k93jammy/v5.38.3/5674/lib/site_perl/5.38.3
    /home/sand/src/perl/repoperls/installed-perls/host/k93jammy/v5.38.3/5674/lib/5.38.3/x86_64-linux-ld
    /home/sand/src/perl/repoperls/installed-perls/host/k93jammy/v5.38.3/5674/lib/5.38.3
    .