Plack-Debugger v0.03 Perl 5 v5.24.2 x86_64-linux-ld

Status
Pass
From
Andreas J. König (ANDK)
Dist
Plack-Debugger v0.03
Platform
Perl 5 v5.24.2 x86_64-linux-ld
Date
2017-10-08 17:40:27
ID
c55c1f20-ac4f-11e7-84fb-dcba3ebaf0d4
This distribution has been tested as part of the CPAN Testers
project, supporting the Perl programming language.  See
http://wiki.cpantesters.org/ for more information or email
questions to cpan-testers-discuss@perl.org


--
Dear Stevan Little,

This is a computer-generated report for Plack-Debugger-0.03
on perl 5.24.2, created by CPAN-Reporter-1.2018.

Thank you for uploading your work to CPAN.  Congratulations!
All tests were successful.

Sections of this report:

    * Tester comments
    * Program output
    * Prerequisites
    * Environment and other context

------------------------------
TESTER COMMENTS
------------------------------

Additional comments from tester:

this report is from an automated smoke testing program
and was not reviewed by a human for accuracy

------------------------------
PROGRAM OUTPUT
------------------------------

Output from '/usr/bin/make test':

Skip blib/lib/auto/share/dist/Plack-Debugger/js/jquery.js (unchanged)
Skip blib/lib/auto/share/dist/Plack-Debugger/js/plack-debugger.js (unchanged)
Skip blib/lib/auto/share/dist/Plack-Debugger/css/plack-debugger.css (unchanged)
PERL_DL_NONLAZY=1 "/home/sand/src/perl/repoperls/installed-perls/host/k93msid/v5.24.2/2d7c/bin/perl" "-MExtUtils::Command::MM" "-MTest::Harness" "-e" "undef *Test::Harness::Switches; test_harness(0, 'blib/lib', 'blib/arch')" t/*.t
t/001.basic.t ....................... ok
# ... sleeping for a second to ensure mtime is different enough
t/020-storage.t ..................... ok
t/030-injector.t .................... ok
t/031-injector-status-codes.t ....... ok
t/040-collector.t ................... ok
t/041-collector-error-handling.t .... ok
t/042-collector-no-cleanup-phase.t .. ok
# ... sleeping for a second to ensure mtime is different enough
t/050-app-debugger.t ................ ok
t/051-app-debugger-errors.t ......... ok
t/100-lpw-2014-examples.t ........... ok
All tests successful.
Files=10, Tests=143, 11 wallclock secs ( 0.05 usr  0.05 sys +  1.56 cusr  0.35 csys =  2.01 CPU)
Result: PASS

------------------------------
PREREQUISITES
------------------------------

Prerequisite modules loaded:

requires:

    Module                  Need Have    
    ----------------------- ---- --------
    Config                  0    5.024002
    File::ShareDir          0    1.104   
    File::Spec              0    3.63_01 
    HTTP::Status            0    6.13    
    JSON::XS                0    3.04    
    Module::Versions        0    0.02    
    Plack                   0    1.0044  
    POSIX                   0    1.65    
    Scalar::Util            0    1.49    
    Time::HiRes             0    1.9733  
    Try::Tiny               0    0.28    

build_requires:

    Module                  Need Have    
    ----------------------- ---- --------
    ExtUtils::MakeMaker     0    7.30    
    HTTP::Request::Common   0    6.13    
    Path::Class             0    0.37    
    Test::Fatal             0    0.014   
    Test::More              0.88 1.302097
    Test::Warn              0    0.32    
    UUID::Tiny              0    1.04    

configure_requires:

    Module                  Need Have    
    ----------------------- ---- --------
    ExtUtils::MakeMaker     0    7.30    
    File::ShareDir::Install 0.06 0.11    


------------------------------
ENVIRONMENT AND OTHER CONTEXT
------------------------------

Environment variables:

    AUTOMATED_TESTING = 1
    LANG = en_US.UTF-8
    PATH = /home/sand/bin:/usr/local/bin:/usr/bin:/bin:/usr/games:/usr/local/perl/bin:/usr/X11/bin:/sbin:/usr/sbin
    PERL5LIB = /tmp/loop_over_bdir-25078-4E9S8U/UUID-Tiny-1.04-0/blib/arch:/tmp/loop_over_bdir-25078-4E9S8U/UUID-Tiny-1.04-0/blib/lib:/tmp/loop_over_bdir-25078-4E9S8U/Module-Versions-0.02-0/blib/arch:/tmp/loop_over_bdir-25078-4E9S8U/Module-Versions-0.02-0/blib/lib
    PERL5OPT = 
    PERL5_CPANPLUS_IS_RUNNING = 25081
    PERL5_CPAN_IS_RUNNING = 25081
    PERL5_CPAN_IS_RUNNING_IN_RECURSION = 6645,25081
    PERL_CANARY_STABILITY_NOPROMPT = 1
    PERL_MM_USE_DEFAULT = 1
    PERL_USE_UNSAFE_INC = 1
    SHELL = /usr/bin/zsh
    TERM = screen

Perl special variables (and OS-specific diagnostics, for MSWin32):

    $^X = /home/sand/src/perl/repoperls/installed-perls/host/k93msid/v5.24.2/2d7c/bin/perl
    $UID/$EUID = 1005 / 1005
    $GID = 1005 1005
    $EGID = 1005 1005

Perl module toolchain versions installed:

    Module              Have      
    ------------------- ----------
    CPAN                2.18      
    CPAN::Meta          2.150010  
    Cwd                 3.63_01   
    ExtUtils::CBuilder  0.280226  
    ExtUtils::Command   7.30      
    ExtUtils::Install   2.06      
    ExtUtils::MakeMaker 7.30      
    ExtUtils::Manifest  1.70      
    ExtUtils::ParseXS   3.31      
    File::Spec          3.63_01   
    JSON                2.94      
    JSON::PP            2.27300_01
    Module::Build       0.4224    
    Module::Signature   0.81      
    Parse::CPAN::Meta   2.150010  
    Test::Harness       3.39      
    Test::More          1.302097  
    YAML                1.23      
    YAML::Syck          1.30      
    version             0.9916    


--

Summary of my perl5 (revision 5 version 24 subversion 2) configuration:
  Derived from: eb3b805818a89c08b5564d383beddf70f69af1a3
  Platform:
    osname=linux, osvers=4.12.0-2-amd64, archname=x86_64-linux-ld
    uname='linux k93msid 4.12.0-2-amd64 #1 smp debian 4.12.13-1 (2017-09-19) x86_64 gnulinux '
    config_args='-Dprefix=/home/sand/src/perl/repoperls/installed-perls/host/k93msid/v5.24.2/2d7c -Dmyhostname=k93msid -Dinstallusrbinperl=n -Uversiononly -Dusedevel -des -Ui_db -Dlibswanted=cl pthread socket inet nsl gdbm dbm malloc dl ld sun m crypt sec util c cposix posix ucb BSD gdbm_compat -Uuseithreads -Duselongdouble -DDEBUGGING=-g'
    hint=recommended, useposix=true, d_sigaction=define
    useithreads=undef, usemultiplicity=undef
    use64bitint=define, use64bitall=define, uselongdouble=define
    usemymalloc=n, bincompat5005=undef
  Compiler:
    cc='cc', ccflags ='-fwrapv -fno-strict-aliasing -pipe -fstack-protector-strong -I/usr/local/include -D_LARGEFILE_SOURCE -D_FILE_OFFSET_BITS=64',
    optimize='-O2 -g',
    cppflags='-fwrapv -fno-strict-aliasing -pipe -fstack-protector-strong -I/usr/local/include'
    ccversion='', gccversion='7.2.0', gccosandvers=''
    intsize=4, longsize=8, ptrsize=8, doublesize=8, byteorder=12345678, doublekind=3
    d_longlong=define, longlongsize=8, d_longdbl=define, longdblsize=16, longdblkind=3
    ivtype='long', ivsize=8, nvtype='long double', nvsize=16, Off_t='off_t', lseeksize=8
    alignbytes=16, prototype=define
  Linker and Libraries:
    ld='cc', ldflags =' -fstack-protector-strong -L/usr/local/lib'
    libpth=/usr/local/lib /usr/lib/gcc/x86_64-linux-gnu/7/include-fixed /usr/include/x86_64-linux-gnu /usr/lib /lib/x86_64-linux-gnu /lib/../lib /usr/lib/x86_64-linux-gnu /usr/lib/../lib /lib
    libs=-lpthread -lnsl -ldl -lm -lcrypt -lutil -lc
    perllibs=-lpthread -lnsl -ldl -lm -lcrypt -lutil -lc
    libc=libc-2.24.so, so=so, useshrplib=false, libperl=libperl.a
    gnulibc_version='2.24'
  Dynamic Linking:
    dlsrc=dl_dlopen.xs, dlext=so, d_dlsymun=undef, ccdlflags='-Wl,-E'
    cccdlflags='-fPIC', lddlflags='-shared -O2 -g -L/usr/local/lib -fstack-protector-strong'


Characteristics of this binary (from libperl): 
  Compile-time options: HAS_TIMES PERLIO_LAYERS PERL_COPY_ON_WRITE
                        PERL_DONT_CREATE_GVSV
                        PERL_HASH_FUNC_ONE_AT_A_TIME_HARD PERL_MALLOC_WRAP
                        PERL_PRESERVE_IVUV PERL_USE_DEVEL USE_64_BIT_ALL
                        USE_64_BIT_INT USE_LARGE_FILES USE_LOCALE
                        USE_LOCALE_COLLATE USE_LOCALE_CTYPE
                        USE_LOCALE_NUMERIC USE_LOCALE_TIME USE_LONG_DOUBLE
                        USE_PERLIO USE_PERL_ATOF
  Locally applied patches:
	uncommitted-changes
  Built under linux
  Compiled at Oct  2 2017 08:02:30
  %ENV:
    PERL5LIB="/tmp/loop_over_bdir-25078-4E9S8U/UUID-Tiny-1.04-0/blib/arch:/tmp/loop_over_bdir-25078-4E9S8U/UUID-Tiny-1.04-0/blib/lib:/tmp/loop_over_bdir-25078-4E9S8U/Module-Versions-0.02-0/blib/arch:/tmp/loop_over_bdir-25078-4E9S8U/Module-Versions-0.02-0/blib/lib"
    PERL5OPT=""
    PERL5_CPANPLUS_IS_RUNNING="25081"
    PERL5_CPAN_IS_RUNNING="25081"
    PERL5_CPAN_IS_RUNNING_IN_RECURSION="6645,25081"
    PERL_CANARY_STABILITY_NOPROMPT="1"
    PERL_MM_USE_DEFAULT="1"
    PERL_USE_UNSAFE_INC="1"
  @INC:
    /tmp/loop_over_bdir-25078-4E9S8U/UUID-Tiny-1.04-0/blib/arch
    /tmp/loop_over_bdir-25078-4E9S8U/UUID-Tiny-1.04-0/blib/lib
    /tmp/loop_over_bdir-25078-4E9S8U/Module-Versions-0.02-0/blib/arch
    /tmp/loop_over_bdir-25078-4E9S8U/Module-Versions-0.02-0/blib/lib
    /home/sand/src/perl/repoperls/installed-perls/host/k93msid/v5.24.2/2d7c/lib/site_perl/5.24.2/x86_64-linux-ld
    /home/sand/src/perl/repoperls/installed-perls/host/k93msid/v5.24.2/2d7c/lib/site_perl/5.24.2
    /home/sand/src/perl/repoperls/installed-perls/host/k93msid/v5.24.2/2d7c/lib/5.24.2/x86_64-linux-ld
    /home/sand/src/perl/repoperls/installed-perls/host/k93msid/v5.24.2/2d7c/lib/5.24.2
    .