MooseX-RelClassTypes v0.03 Perl 5 v5.26.0 x86_64-linux

Status
Pass
From
Slaven Rezić (SREZIC)
Dist
MooseX-RelClassTypes v0.03
Platform
Perl 5 v5.26.0 x86_64-linux
Date
2018-05-02 16:27:56
ID
c551a0fe-4e25-11e8-9708-8fa93db43324
This distribution has been tested as part of the CPAN Testers
project, supporting the Perl programming language.  See
http://wiki.cpantesters.org/ for more information or email
questions to cpan-testers-discuss@perl.org


--
Dear Tom Gracey,

This is a computer-generated report for MooseX-RelClassTypes-0.03
on perl 5.26.0, created by CPAN-Reporter-1.2018.

Thank you for uploading your work to CPAN.  Congratulations!
All tests were successful.

Sections of this report:

    * Tester comments
    * Program output
    * Prerequisites
    * Environment and other context

------------------------------
TESTER COMMENTS
------------------------------

Additional comments from tester:

none provided

------------------------------
PROGRAM OUTPUT
------------------------------

Output from '/usr/bin/make test':

PERL_DL_NONLAZY=1 "/opt/perl-5.26.0/bin/perl" "-MExtUtils::Command::MM" "-MTest::Harness" "-e" "undef *Test::Harness::Switches; test_harness(0, 'blib/lib', 'blib/arch')" t/*.t
You are overwriting a accessor (parent_rel_pack) for the parent_rel_pack attribute (defined at t/00_set_isa.t line 23) with a new accessor method for the parent_rel_pack attribute (defined at t/00_set_isa.t line 23) at /opt/perl-5.26.0/lib/site_perl/5.26.0/x86_64-linux/Moose/Meta/Attribute.pm line 1094.
	Moose::Meta::Attribute::_process_accessors(Moose::Meta::Attribute=HASH(0x2de2e08), "accessor", "parent_rel_pack", undef) called at /opt/perl-5.26.0/lib/site_perl/5.26.0/x86_64-linux/Class/MOP/Attribute.pm line 446
	Class::MOP::Attribute::install_accessors(Moose::Meta::Attribute=HASH(0x2de2e08)) called at /opt/perl-5.26.0/lib/site_perl/5.26.0/x86_64-linux/Moose/Meta/Attribute.pm line 1014
	Moose::Meta::Attribute::install_accessors(Moose::Meta::Attribute=HASH(0x2de2e08)) called at /home/cpansand/.cpan/build/2018050215/MooseX-RelClassTypes-0.03-2/blib/lib/MooseX/RelClassTypes.pm line 76
	Class::MOP::Class:::before("Child") called at /opt/perl-5.26.0/lib/site_perl/5.26.0/x86_64-linux/Class/MOP/Method/Wrapped.pm line 43
	Child::_wrapped_BUILDARGS("Child") called at /opt/perl-5.26.0/lib/site_perl/5.26.0/x86_64-linux/Class/MOP/Method/Wrapped.pm line 95
	Child::BUILDARGS("Child") called at /opt/perl-5.26.0/lib/site_perl/5.26.0/x86_64-linux/Moose/Object.pm line 22
	Moose::Object::new("Child") called at t/00_set_isa.t line 99
You are overwriting a accessor (child_rel_pack) for the child_rel_pack attribute (defined at t/00_set_isa.t line 45) with a new accessor method for the child_rel_pack attribute (defined at t/00_set_isa.t line 45) at /opt/perl-5.26.0/lib/site_perl/5.26.0/x86_64-linux/Moose/Meta/Attribute.pm line 1094.
	Moose::Meta::Attribute::_process_accessors(Moose::Meta::Attribute=HASH(0x2df8c30), "accessor", "child_rel_pack", undef) called at /opt/perl-5.26.0/lib/site_perl/5.26.0/x86_64-linux/Class/MOP/Attribute.pm line 446
	Class::MOP::Attribute::install_accessors(Moose::Meta::Attribute=HASH(0x2df8c30)) called at /opt/perl-5.26.0/lib/site_perl/5.26.0/x86_64-linux/Moose/Meta/Attribute.pm line 1014
	Moose::Meta::Attribute::install_accessors(Moose::Meta::Attribute=HASH(0x2df8c30)) called at /home/cpansand/.cpan/build/2018050215/MooseX-RelClassTypes-0.03-2/blib/lib/MooseX/RelClassTypes.pm line 76
	Class::MOP::Class:::before("Child") called at /opt/perl-5.26.0/lib/site_perl/5.26.0/x86_64-linux/Class/MOP/Method/Wrapped.pm line 43
	Child::_wrapped_BUILDARGS("Child") called at /opt/perl-5.26.0/lib/site_perl/5.26.0/x86_64-linux/Class/MOP/Method/Wrapped.pm line 95
	Child::BUILDARGS("Child") called at /opt/perl-5.26.0/lib/site_perl/5.26.0/x86_64-linux/Moose/Object.pm line 22
	Moose::Object::new("Child") called at t/00_set_isa.t line 99
You are overwriting a accessor (parent_rel_pack) for the parent_rel_pack attribute (defined at t/00_set_isa.t line 23) with a new accessor method for the parent_rel_pack attribute (defined at t/00_set_isa.t line 23) at /opt/perl-5.26.0/lib/site_perl/5.26.0/x86_64-linux/Moose/Meta/Attribute.pm line 1094.
	Moose::Meta::Attribute::_process_accessors(Moose::Meta::Attribute=HASH(0x2de2e08), "accessor", "parent_rel_pack", undef) called at /opt/perl-5.26.0/lib/site_perl/5.26.0/x86_64-linux/Class/MOP/Attribute.pm line 446
	Class::MOP::Attribute::install_accessors(Moose::Meta::Attribute=HASH(0x2de2e08)) called at /opt/perl-5.26.0/lib/site_perl/5.26.0/x86_64-linux/Moose/Meta/Attribute.pm line 1014
	Moose::Meta::Attribute::install_accessors(Moose::Meta::Attribute=HASH(0x2de2e08)) called at /home/cpansand/.cpan/build/2018050215/MooseX-RelClassTypes-0.03-2/blib/lib/MooseX/RelClassTypes.pm line 76
	Class::MOP::Class:::before("Child") called at /opt/perl-5.26.0/lib/site_perl/5.26.0/x86_64-linux/Class/MOP/Method/Wrapped.pm line 43
	Parent::_wrapped_BUILDARGS("Child") called at /opt/perl-5.26.0/lib/site_perl/5.26.0/x86_64-linux/Class/MOP/Method/Wrapped.pm line 95
	Parent::BUILDARGS("Child") called at /opt/perl-5.26.0/lib/site_perl/5.26.0/x86_64-linux/Class/MOP/Method/Wrapped.pm line 44
	Child::_wrapped_BUILDARGS("Child") called at /opt/perl-5.26.0/lib/site_perl/5.26.0/x86_64-linux/Class/MOP/Method/Wrapped.pm line 95
	Child::BUILDARGS("Child") called at /opt/perl-5.26.0/lib/site_perl/5.26.0/x86_64-linux/Moose/Object.pm line 22
	Moose::Object::new("Child") called at t/00_set_isa.t line 99
You are overwriting a accessor (child_rel_pack) for the child_rel_pack attribute (defined at t/00_set_isa.t line 45) with a new accessor method for the child_rel_pack attribute (defined at t/00_set_isa.t line 45) at /opt/perl-5.26.0/lib/site_perl/5.26.0/x86_64-linux/Moose/Meta/Attribute.pm line 1094.
	Moose::Meta::Attribute::_process_accessors(Moose::Meta::Attribute=HASH(0x2df8c30), "accessor", "child_rel_pack", undef) called at /opt/perl-5.26.0/lib/site_perl/5.26.0/x86_64-linux/Class/MOP/Attribute.pm line 446
	Class::MOP::Attribute::install_accessors(Moose::Meta::Attribute=HASH(0x2df8c30)) called at /opt/perl-5.26.0/lib/site_perl/5.26.0/x86_64-linux/Moose/Meta/Attribute.pm line 1014
	Moose::Meta::Attribute::install_accessors(Moose::Meta::Attribute=HASH(0x2df8c30)) called at /home/cpansand/.cpan/build/2018050215/MooseX-RelClassTypes-0.03-2/blib/lib/MooseX/RelClassTypes.pm line 76
	Class::MOP::Class:::before("Child") called at /opt/perl-5.26.0/lib/site_perl/5.26.0/x86_64-linux/Class/MOP/Method/Wrapped.pm line 43
	Parent::_wrapped_BUILDARGS("Child") called at /opt/perl-5.26.0/lib/site_perl/5.26.0/x86_64-linux/Class/MOP/Method/Wrapped.pm line 95
	Parent::BUILDARGS("Child") called at /opt/perl-5.26.0/lib/site_perl/5.26.0/x86_64-linux/Class/MOP/Method/Wrapped.pm line 44
	Child::_wrapped_BUILDARGS("Child") called at /opt/perl-5.26.0/lib/site_perl/5.26.0/x86_64-linux/Class/MOP/Method/Wrapped.pm line 95
	Child::BUILDARGS("Child") called at /opt/perl-5.26.0/lib/site_perl/5.26.0/x86_64-linux/Moose/Object.pm line 22
	Moose::Object::new("Child") called at t/00_set_isa.t line 99
t/00_set_isa.t ....... ok
You are overwriting a reader (rel_pack) for the rel_pack attribute (defined at t/01_auto_default.t line 54) with a new reader method for the rel_pack attribute (defined at t/01_auto_default.t line 54) at /opt/perl-5.26.0/lib/site_perl/5.26.0/x86_64-linux/Moose/Meta/Attribute.pm line 1094.
	Moose::Meta::Attribute::_process_accessors(Moose::Meta::Attribute=HASH(0x2dcce18), "reader", "rel_pack", undef) called at /opt/perl-5.26.0/lib/site_perl/5.26.0/x86_64-linux/Class/MOP/Attribute.pm line 450
	Class::MOP::Attribute::install_accessors(Moose::Meta::Attribute=HASH(0x2dcce18)) called at /opt/perl-5.26.0/lib/site_perl/5.26.0/x86_64-linux/Moose/Meta/Attribute.pm line 1014
	Moose::Meta::Attribute::install_accessors(Moose::Meta::Attribute=HASH(0x2dcce18)) called at /home/cpansand/.cpan/build/2018050215/MooseX-RelClassTypes-0.03-2/blib/lib/MooseX/RelClassTypes.pm line 76
	Class::MOP::Class:::before("TestAD::WithAuto_NoDefault_WithBuilder") called at /opt/perl-5.26.0/lib/site_perl/5.26.0/x86_64-linux/Class/MOP/Method/Wrapped.pm line 43
	TestAD::WithAuto_NoDefault_WithBuilder::_wrapped_BUILDARGS("TestAD::WithAuto_NoDefault_WithBuilder") called at /opt/perl-5.26.0/lib/site_perl/5.26.0/x86_64-linux/Class/MOP/Method/Wrapped.pm line 95
	TestAD::WithAuto_NoDefault_WithBuilder::BUILDARGS("TestAD::WithAuto_NoDefault_WithBuilder") called at /opt/perl-5.26.0/lib/site_perl/5.26.0/x86_64-linux/Moose/Object.pm line 22
	Moose::Object::new("TestAD::WithAuto_NoDefault_WithBuilder") called at t/01_auto_default.t line 143
You are overwriting a reader (rel_pack) for the rel_pack attribute (defined at t/01_auto_default.t line 20) with a new reader method for the rel_pack attribute (defined at t/01_auto_default.t line 20) at /opt/perl-5.26.0/lib/site_perl/5.26.0/x86_64-linux/Moose/Meta/Attribute.pm line 1094.
	Moose::Meta::Attribute::_process_accessors(Moose::Meta::Attribute=HASH(0x2db6ee8), "reader", "rel_pack", undef) called at /opt/perl-5.26.0/lib/site_perl/5.26.0/x86_64-linux/Class/MOP/Attribute.pm line 450
	Class::MOP::Attribute::install_accessors(Moose::Meta::Attribute=HASH(0x2db6ee8)) called at /opt/perl-5.26.0/lib/site_perl/5.26.0/x86_64-linux/Moose/Meta/Attribute.pm line 1014
	Moose::Meta::Attribute::install_accessors(Moose::Meta::Attribute=HASH(0x2db6ee8)) called at /home/cpansand/.cpan/build/2018050215/MooseX-RelClassTypes-0.03-2/blib/lib/MooseX/RelClassTypes.pm line 76
	Class::MOP::Class:::before("TestAD::NoAuto_NoDefault_WithBuilder") called at /opt/perl-5.26.0/lib/site_perl/5.26.0/x86_64-linux/Class/MOP/Method/Wrapped.pm line 43
	TestAD::NoAuto_NoDefault_WithBuilder::_wrapped_BUILDARGS("TestAD::NoAuto_NoDefault_WithBuilder") called at /opt/perl-5.26.0/lib/site_perl/5.26.0/x86_64-linux/Class/MOP/Method/Wrapped.pm line 95
	TestAD::NoAuto_NoDefault_WithBuilder::BUILDARGS("TestAD::NoAuto_NoDefault_WithBuilder") called at /opt/perl-5.26.0/lib/site_perl/5.26.0/x86_64-linux/Moose/Object.pm line 22
	Moose::Object::new("TestAD::NoAuto_NoDefault_WithBuilder") called at t/01_auto_default.t line 143
You are overwriting a reader (rel_pack) for the rel_pack attribute (defined at t/01_auto_default.t line 45) with a new reader method for the rel_pack attribute (defined at t/01_auto_default.t line 45) at /opt/perl-5.26.0/lib/site_perl/5.26.0/x86_64-linux/Moose/Meta/Attribute.pm line 1094.
	Moose::Meta::Attribute::_process_accessors(Moose::Meta::Attribute=HASH(0x2dc7880), "reader", "rel_pack", undef) called at /opt/perl-5.26.0/lib/site_perl/5.26.0/x86_64-linux/Class/MOP/Attribute.pm line 450
	Class::MOP::Attribute::install_accessors(Moose::Meta::Attribute=HASH(0x2dc7880)) called at /opt/perl-5.26.0/lib/site_perl/5.26.0/x86_64-linux/Moose/Meta/Attribute.pm line 1014
	Moose::Meta::Attribute::install_accessors(Moose::Meta::Attribute=HASH(0x2dc7880)) called at /home/cpansand/.cpan/build/2018050215/MooseX-RelClassTypes-0.03-2/blib/lib/MooseX/RelClassTypes.pm line 76
	Class::MOP::Class:::before("TestAD::WithAuto_NoDefault_NoBuilder") called at /opt/perl-5.26.0/lib/site_perl/5.26.0/x86_64-linux/Class/MOP/Method/Wrapped.pm line 43
	TestAD::WithAuto_NoDefault_NoBuilder::_wrapped_BUILDARGS("TestAD::WithAuto_NoDefault_NoBuilder") called at /opt/perl-5.26.0/lib/site_perl/5.26.0/x86_64-linux/Class/MOP/Method/Wrapped.pm line 95
	TestAD::WithAuto_NoDefault_NoBuilder::BUILDARGS("TestAD::WithAuto_NoDefault_NoBuilder") called at /opt/perl-5.26.0/lib/site_perl/5.26.0/x86_64-linux/Moose/Object.pm line 22
	Moose::Object::new("TestAD::WithAuto_NoDefault_NoBuilder") called at t/01_auto_default.t line 143
You are overwriting a reader (rel_pack) for the rel_pack attribute (defined at t/01_auto_default.t line 37) with a new reader method for the rel_pack attribute (defined at t/01_auto_default.t line 37) at /opt/perl-5.26.0/lib/site_perl/5.26.0/x86_64-linux/Moose/Meta/Attribute.pm line 1094.
	Moose::Meta::Attribute::_process_accessors(Moose::Meta::Attribute=HASH(0x2dbf568), "reader", "rel_pack", undef) called at /opt/perl-5.26.0/lib/site_perl/5.26.0/x86_64-linux/Class/MOP/Attribute.pm line 450
	Class::MOP::Attribute::install_accessors(Moose::Meta::Attribute=HASH(0x2dbf568)) called at /opt/perl-5.26.0/lib/site_perl/5.26.0/x86_64-linux/Moose/Meta/Attribute.pm line 1014
	Moose::Meta::Attribute::install_accessors(Moose::Meta::Attribute=HASH(0x2dbf568)) called at /home/cpansand/.cpan/build/2018050215/MooseX-RelClassTypes-0.03-2/blib/lib/MooseX/RelClassTypes.pm line 76
	Class::MOP::Class:::before("TestAD::NoAuto_WithDefault_NoBuilder") called at /opt/perl-5.26.0/lib/site_perl/5.26.0/x86_64-linux/Class/MOP/Method/Wrapped.pm line 43
	TestAD::NoAuto_WithDefault_NoBuilder::_wrapped_BUILDARGS("TestAD::NoAuto_WithDefault_NoBuilder") called at /opt/perl-5.26.0/lib/site_perl/5.26.0/x86_64-linux/Class/MOP/Method/Wrapped.pm line 95
	TestAD::NoAuto_WithDefault_NoBuilder::BUILDARGS("TestAD::NoAuto_WithDefault_NoBuilder") called at /opt/perl-5.26.0/lib/site_perl/5.26.0/x86_64-linux/Moose/Object.pm line 22
	Moose::Object::new("TestAD::NoAuto_WithDefault_NoBuilder") called at t/01_auto_default.t line 143
You are overwriting a reader (rel_pack) for the rel_pack attribute (defined at t/01_auto_default.t line 11) with a new reader method for the rel_pack attribute (defined at t/01_auto_default.t line 11) at /opt/perl-5.26.0/lib/site_perl/5.26.0/x86_64-linux/Moose/Meta/Attribute.pm line 1094.
	Moose::Meta::Attribute::_process_accessors(Moose::Meta::Attribute=HASH(0x2daf190), "reader", "rel_pack", undef) called at /opt/perl-5.26.0/lib/site_perl/5.26.0/x86_64-linux/Class/MOP/Attribute.pm line 450
	Class::MOP::Attribute::install_accessors(Moose::Meta::Attribute=HASH(0x2daf190)) called at /opt/perl-5.26.0/lib/site_perl/5.26.0/x86_64-linux/Moose/Meta/Attribute.pm line 1014
	Moose::Meta::Attribute::install_accessors(Moose::Meta::Attribute=HASH(0x2daf190)) called at /home/cpansand/.cpan/build/2018050215/MooseX-RelClassTypes-0.03-2/blib/lib/MooseX/RelClassTypes.pm line 76
	Class::MOP::Class:::before("TestAD::NoAuto_NoDefault_NoBuilder") called at /opt/perl-5.26.0/lib/site_perl/5.26.0/x86_64-linux/Class/MOP/Method/Wrapped.pm line 43
	TestAD::NoAuto_NoDefault_NoBuilder::_wrapped_BUILDARGS("TestAD::NoAuto_NoDefault_NoBuilder") called at /opt/perl-5.26.0/lib/site_perl/5.26.0/x86_64-linux/Class/MOP/Method/Wrapped.pm line 95
	TestAD::NoAuto_NoDefault_NoBuilder::BUILDARGS("TestAD::NoAuto_NoDefault_NoBuilder") called at /opt/perl-5.26.0/lib/site_perl/5.26.0/x86_64-linux/Moose/Object.pm line 22
	Moose::Object::new("TestAD::NoAuto_NoDefault_NoBuilder") called at t/01_auto_default.t line 143
You are overwriting a reader (rel_pack) for the rel_pack attribute (defined at t/01_auto_default.t line 71) with a new reader method for the rel_pack attribute (defined at t/01_auto_default.t line 71) at /opt/perl-5.26.0/lib/site_perl/5.26.0/x86_64-linux/Moose/Meta/Attribute.pm line 1094.
	Moose::Meta::Attribute::_process_accessors(Moose::Meta::Attribute=HASH(0x2dd8ee8), "reader", "rel_pack", undef) called at /opt/perl-5.26.0/lib/site_perl/5.26.0/x86_64-linux/Class/MOP/Attribute.pm line 450
	Class::MOP::Attribute::install_accessors(Moose::Meta::Attribute=HASH(0x2dd8ee8)) called at /opt/perl-5.26.0/lib/site_perl/5.26.0/x86_64-linux/Moose/Meta/Attribute.pm line 1014
	Moose::Meta::Attribute::install_accessors(Moose::Meta::Attribute=HASH(0x2dd8ee8)) called at /home/cpansand/.cpan/build/2018050215/MooseX-RelClassTypes-0.03-2/blib/lib/MooseX/RelClassTypes.pm line 76
	Class::MOP::Class:::before("TestAD::WithAuto_WithDefault_NoBuilder") called at /opt/perl-5.26.0/lib/site_perl/5.26.0/x86_64-linux/Class/MOP/Method/Wrapped.pm line 43
	TestAD::WithAuto_WithDefault_NoBuilder::_wrapped_BUILDARGS("TestAD::WithAuto_WithDefault_NoBuilder") called at /opt/perl-5.26.0/lib/site_perl/5.26.0/x86_64-linux/Class/MOP/Method/Wrapped.pm line 95
	TestAD::WithAuto_WithDefault_NoBuilder::BUILDARGS("TestAD::WithAuto_WithDefault_NoBuilder") called at /opt/perl-5.26.0/lib/site_perl/5.26.0/x86_64-linux/Moose/Object.pm line 22
	Moose::Object::new("TestAD::WithAuto_WithDefault_NoBuilder") called at t/01_auto_default.t line 143
t/01_auto_default.t .. ok
You are overwriting a reader (rel_pack) for the rel_pack attribute (defined at t/02_parser.t line 19) with a new reader method for the rel_pack attribute (defined at t/02_parser.t line 19) at /opt/perl-5.26.0/lib/site_perl/5.26.0/x86_64-linux/Moose/Meta/Attribute.pm line 1094.
	Moose::Meta::Attribute::_process_accessors(Moose::Meta::Attribute=HASH(0x1e4fec8), "reader", "rel_pack", undef) called at /opt/perl-5.26.0/lib/site_perl/5.26.0/x86_64-linux/Class/MOP/Attribute.pm line 450
	Class::MOP::Attribute::install_accessors(Moose::Meta::Attribute=HASH(0x1e4fec8)) called at /opt/perl-5.26.0/lib/site_perl/5.26.0/x86_64-linux/Moose/Meta/Attribute.pm line 1014
	Moose::Meta::Attribute::install_accessors(Moose::Meta::Attribute=HASH(0x1e4fec8)) called at /home/cpansand/.cpan/build/2018050215/MooseX-RelClassTypes-0.03-2/blib/lib/MooseX/RelClassTypes.pm line 76
	Class::MOP::Class:::before("TestParser::AngleBK") called at /opt/perl-5.26.0/lib/site_perl/5.26.0/x86_64-linux/Class/MOP/Method/Wrapped.pm line 43
	TestParser::AngleBK::_wrapped_BUILDARGS("TestParser::AngleBK") called at /opt/perl-5.26.0/lib/site_perl/5.26.0/x86_64-linux/Class/MOP/Method/Wrapped.pm line 95
	TestParser::AngleBK::BUILDARGS("TestParser::AngleBK") called at /opt/perl-5.26.0/lib/site_perl/5.26.0/x86_64-linux/Moose/Object.pm line 22
	Moose::Object::new("TestParser::AngleBK") called at t/02_parser.t line 87
You are overwriting a reader (alt_pack) for the alt_pack attribute (defined at t/02_parser.t line 24) with a new reader method for the alt_pack attribute (defined at t/02_parser.t line 24) at /opt/perl-5.26.0/lib/site_perl/5.26.0/x86_64-linux/Moose/Meta/Attribute.pm line 1094.
	Moose::Meta::Attribute::_process_accessors(Moose::Meta::Attribute=HASH(0x1e4fce8), "reader", "alt_pack", undef) called at /opt/perl-5.26.0/lib/site_perl/5.26.0/x86_64-linux/Class/MOP/Attribute.pm line 450
	Class::MOP::Attribute::install_accessors(Moose::Meta::Attribute=HASH(0x1e4fce8)) called at /opt/perl-5.26.0/lib/site_perl/5.26.0/x86_64-linux/Moose/Meta/Attribute.pm line 1014
	Moose::Meta::Attribute::install_accessors(Moose::Meta::Attribute=HASH(0x1e4fce8)) called at /home/cpansand/.cpan/build/2018050215/MooseX-RelClassTypes-0.03-2/blib/lib/MooseX/RelClassTypes.pm line 76
	Class::MOP::Class:::before("TestParser::AngleBK") called at /opt/perl-5.26.0/lib/site_perl/5.26.0/x86_64-linux/Class/MOP/Method/Wrapped.pm line 43
	TestParser::AngleBK::_wrapped_BUILDARGS("TestParser::AngleBK") called at /opt/perl-5.26.0/lib/site_perl/5.26.0/x86_64-linux/Class/MOP/Method/Wrapped.pm line 95
	TestParser::AngleBK::BUILDARGS("TestParser::AngleBK") called at /opt/perl-5.26.0/lib/site_perl/5.26.0/x86_64-linux/Moose/Object.pm line 22
	Moose::Object::new("TestParser::AngleBK") called at t/02_parser.t line 87
You are overwriting a reader (rel_pack) for the rel_pack attribute (defined at t/02_parser.t line 42) with a new reader method for the rel_pack attribute (defined at t/02_parser.t line 42) at /opt/perl-5.26.0/lib/site_perl/5.26.0/x86_64-linux/Moose/Meta/Attribute.pm line 1094.
	Moose::Meta::Attribute::_process_accessors(Moose::Meta::Attribute=HASH(0x1e5f660), "reader", "rel_pack", undef) called at /opt/perl-5.26.0/lib/site_perl/5.26.0/x86_64-linux/Class/MOP/Attribute.pm line 450
	Class::MOP::Attribute::install_accessors(Moose::Meta::Attribute=HASH(0x1e5f660)) called at /opt/perl-5.26.0/lib/site_perl/5.26.0/x86_64-linux/Moose/Meta/Attribute.pm line 1014
	Moose::Meta::Attribute::install_accessors(Moose::Meta::Attribute=HASH(0x1e5f660)) called at /home/cpansand/.cpan/build/2018050215/MooseX-RelClassTypes-0.03-2/blib/lib/MooseX/RelClassTypes.pm line 76
	Class::MOP::Class:::before("TestParser::RoundBK") called at /opt/perl-5.26.0/lib/site_perl/5.26.0/x86_64-linux/Class/MOP/Method/Wrapped.pm line 43
	TestParser::RoundBK::_wrapped_BUILDARGS("TestParser::RoundBK") called at /opt/perl-5.26.0/lib/site_perl/5.26.0/x86_64-linux/Class/MOP/Method/Wrapped.pm line 95
	TestParser::RoundBK::BUILDARGS("TestParser::RoundBK") called at /opt/perl-5.26.0/lib/site_perl/5.26.0/x86_64-linux/Moose/Object.pm line 22
	Moose::Object::new("TestParser::RoundBK") called at t/02_parser.t line 87
You are overwriting a reader (alt_pack) for the alt_pack attribute (defined at t/02_parser.t line 47) with a new reader method for the alt_pack attribute (defined at t/02_parser.t line 47) at /opt/perl-5.26.0/lib/site_perl/5.26.0/x86_64-linux/Moose/Meta/Attribute.pm line 1094.
	Moose::Meta::Attribute::_process_accessors(Moose::Meta::Attribute=HASH(0x1e5ef88), "reader", "alt_pack", undef) called at /opt/perl-5.26.0/lib/site_perl/5.26.0/x86_64-linux/Class/MOP/Attribute.pm line 450
	Class::MOP::Attribute::install_accessors(Moose::Meta::Attribute=HASH(0x1e5ef88)) called at /opt/perl-5.26.0/lib/site_perl/5.26.0/x86_64-linux/Moose/Meta/Attribute.pm line 1014
	Moose::Meta::Attribute::install_accessors(Moose::Meta::Attribute=HASH(0x1e5ef88)) called at /home/cpansand/.cpan/build/2018050215/MooseX-RelClassTypes-0.03-2/blib/lib/MooseX/RelClassTypes.pm line 76
	Class::MOP::Class:::before("TestParser::RoundBK") called at /opt/perl-5.26.0/lib/site_perl/5.26.0/x86_64-linux/Class/MOP/Method/Wrapped.pm line 43
	TestParser::RoundBK::_wrapped_BUILDARGS("TestParser::RoundBK") called at /opt/perl-5.26.0/lib/site_perl/5.26.0/x86_64-linux/Class/MOP/Method/Wrapped.pm line 95
	TestParser::RoundBK::BUILDARGS("TestParser::RoundBK") called at /opt/perl-5.26.0/lib/site_perl/5.26.0/x86_64-linux/Moose/Object.pm line 22
	Moose::Object::new("TestParser::RoundBK") called at t/02_parser.t line 87
t/02_parser.t ........ ok
You are overwriting a accessor (child_rel_pack) for the child_rel_pack attribute (defined at t/03_lazy.t line 32) with a new accessor method for the child_rel_pack attribute (defined at t/03_lazy.t line 32) at /opt/perl-5.26.0/lib/site_perl/5.26.0/x86_64-linux/Moose/Meta/Attribute.pm line 1094.
	Moose::Meta::Attribute::_process_accessors(Moose::Meta::Attribute=HASH(0x2d481b8), "accessor", "child_rel_pack", undef) called at /opt/perl-5.26.0/lib/site_perl/5.26.0/x86_64-linux/Class/MOP/Attribute.pm line 446
	Class::MOP::Attribute::install_accessors(Moose::Meta::Attribute=HASH(0x2d481b8)) called at /opt/perl-5.26.0/lib/site_perl/5.26.0/x86_64-linux/Moose/Meta/Attribute.pm line 1014
	Moose::Meta::Attribute::install_accessors(Moose::Meta::Attribute=HASH(0x2d481b8)) called at /home/cpansand/.cpan/build/2018050215/MooseX-RelClassTypes-0.03-2/blib/lib/MooseX/RelClassTypes.pm line 76
	Class::MOP::Class:::before("LazyParent::Child") called at /opt/perl-5.26.0/lib/site_perl/5.26.0/x86_64-linux/Class/MOP/Method/Wrapped.pm line 43
	LazyParent::Child::_wrapped_BUILDARGS("LazyParent::Child") called at /opt/perl-5.26.0/lib/site_perl/5.26.0/x86_64-linux/Class/MOP/Method/Wrapped.pm line 95
	LazyParent::Child::BUILDARGS("LazyParent::Child") called at /opt/perl-5.26.0/lib/site_perl/5.26.0/x86_64-linux/Moose/Object.pm line 22
	Moose::Object::new("LazyParent::Child") called at t/03_lazy.t line 248
You are overwriting a accessor (parent_rel_pack) for the parent_rel_pack attribute (defined at t/03_lazy.t line 22) with a new accessor method for the parent_rel_pack attribute (defined at t/03_lazy.t line 22) at /opt/perl-5.26.0/lib/site_perl/5.26.0/x86_64-linux/Moose/Meta/Attribute.pm line 1094.
	Moose::Meta::Attribute::_process_accessors(Moose::Meta::Attribute=HASH(0x2d3e038), "accessor", "parent_rel_pack", undef) called at /opt/perl-5.26.0/lib/site_perl/5.26.0/x86_64-linux/Class/MOP/Attribute.pm line 446
	Class::MOP::Attribute::install_accessors(Moose::Meta::Attribute=HASH(0x2d3e038)) called at /opt/perl-5.26.0/lib/site_perl/5.26.0/x86_64-linux/Moose/Meta/Attribute.pm line 1014
	Moose::Meta::Attribute::install_accessors(Moose::Meta::Attribute=HASH(0x2d3e038)) called at /home/cpansand/.cpan/build/2018050215/MooseX-RelClassTypes-0.03-2/blib/lib/MooseX/RelClassTypes.pm line 76
	Class::MOP::Class:::before("LazyParent::Child") called at /opt/perl-5.26.0/lib/site_perl/5.26.0/x86_64-linux/Class/MOP/Method/Wrapped.pm line 43
	LazyParent::Child::_wrapped_BUILDARGS("LazyParent::Child") called at /opt/perl-5.26.0/lib/site_perl/5.26.0/x86_64-linux/Class/MOP/Method/Wrapped.pm line 95
	LazyParent::Child::BUILDARGS("LazyParent::Child") called at /opt/perl-5.26.0/lib/site_perl/5.26.0/x86_64-linux/Moose/Object.pm line 22
	Moose::Object::new("LazyParent::Child") called at t/03_lazy.t line 248
You are overwriting a accessor (child_rel_pack) for the child_rel_pack attribute (defined at t/03_lazy.t line 32) with a new accessor method for the child_rel_pack attribute (defined at t/03_lazy.t line 32) at /opt/perl-5.26.0/lib/site_perl/5.26.0/x86_64-linux/Moose/Meta/Attribute.pm line 1094.
	Moose::Meta::Attribute::_process_accessors(Moose::Meta::Attribute=HASH(0x2d481b8), "accessor", "child_rel_pack", undef) called at /opt/perl-5.26.0/lib/site_perl/5.26.0/x86_64-linux/Class/MOP/Attribute.pm line 446
	Class::MOP::Attribute::install_accessors(Moose::Meta::Attribute=HASH(0x2d481b8)) called at /opt/perl-5.26.0/lib/site_perl/5.26.0/x86_64-linux/Moose/Meta/Attribute.pm line 1014
	Moose::Meta::Attribute::install_accessors(Moose::Meta::Attribute=HASH(0x2d481b8)) called at /home/cpansand/.cpan/build/2018050215/MooseX-RelClassTypes-0.03-2/blib/lib/MooseX/RelClassTypes.pm line 76
	Class::MOP::Class:::before("LazyParent::Child") called at /opt/perl-5.26.0/lib/site_perl/5.26.0/x86_64-linux/Class/MOP/Method/Wrapped.pm line 43
	LazyParent::Parent::_wrapped_BUILDARGS("LazyParent::Child") called at /opt/perl-5.26.0/lib/site_perl/5.26.0/x86_64-linux/Class/MOP/Method/Wrapped.pm line 95
	LazyParent::Parent::BUILDARGS("LazyParent::Child") called at /opt/perl-5.26.0/lib/site_perl/5.26.0/x86_64-linux/Class/MOP/Method/Wrapped.pm line 44
	LazyParent::Child::_wrapped_BUILDARGS("LazyParent::Child") called at /opt/perl-5.26.0/lib/site_perl/5.26.0/x86_64-linux/Class/MOP/Method/Wrapped.pm line 95
	LazyParent::Child::BUILDARGS("LazyParent::Child") called at /opt/perl-5.26.0/lib/site_perl/5.26.0/x86_64-linux/Moose/Object.pm line 22
	Moose::Object::new("LazyParent::Child") called at t/03_lazy.t line 248
You are overwriting a accessor (parent_rel_pack) for the parent_rel_pack attribute (defined at t/03_lazy.t line 22) with a new accessor method for the parent_rel_pack attribute (defined at t/03_lazy.t line 22) at /opt/perl-5.26.0/lib/site_perl/5.26.0/x86_64-linux/Moose/Meta/Attribute.pm line 1094.
	Moose::Meta::Attribute::_process_accessors(Moose::Meta::Attribute=HASH(0x2d3e038), "accessor", "parent_rel_pack", undef) called at /opt/perl-5.26.0/lib/site_perl/5.26.0/x86_64-linux/Class/MOP/Attribute.pm line 446
	Class::MOP::Attribute::install_accessors(Moose::Meta::Attribute=HASH(0x2d3e038)) called at /opt/perl-5.26.0/lib/site_perl/5.26.0/x86_64-linux/Moose/Meta/Attribute.pm line 1014
	Moose::Meta::Attribute::install_accessors(Moose::Meta::Attribute=HASH(0x2d3e038)) called at /home/cpansand/.cpan/build/2018050215/MooseX-RelClassTypes-0.03-2/blib/lib/MooseX/RelClassTypes.pm line 76
	Class::MOP::Class:::before("LazyParent::Child") called at /opt/perl-5.26.0/lib/site_perl/5.26.0/x86_64-linux/Class/MOP/Method/Wrapped.pm line 43
	LazyParent::Parent::_wrapped_BUILDARGS("LazyParent::Child") called at /opt/perl-5.26.0/lib/site_perl/5.26.0/x86_64-linux/Class/MOP/Method/Wrapped.pm line 95
	LazyParent::Parent::BUILDARGS("LazyParent::Child") called at /opt/perl-5.26.0/lib/site_perl/5.26.0/x86_64-linux/Class/MOP/Method/Wrapped.pm line 44
	LazyParent::Child::_wrapped_BUILDARGS("LazyParent::Child") called at /opt/perl-5.26.0/lib/site_perl/5.26.0/x86_64-linux/Class/MOP/Method/Wrapped.pm line 95
	LazyParent::Child::BUILDARGS("LazyParent::Child") called at /opt/perl-5.26.0/lib/site_perl/5.26.0/x86_64-linux/Moose/Object.pm line 22
	Moose::Object::new("LazyParent::Child") called at t/03_lazy.t line 248
You are overwriting a accessor (parent_rel_pack) for the parent_rel_pack attribute (defined at t/03_lazy.t line 66) with a new accessor method for the parent_rel_pack attribute (defined at t/03_lazy.t line 66) at /opt/perl-5.26.0/lib/site_perl/5.26.0/x86_64-linux/Moose/Meta/Attribute.pm line 1094.
	Moose::Meta::Attribute::_process_accessors(Moose::Meta::Attribute=HASH(0x2d5b240), "accessor", "parent_rel_pack", undef) called at /opt/perl-5.26.0/lib/site_perl/5.26.0/x86_64-linux/Class/MOP/Attribute.pm line 446
	Class::MOP::Attribute::install_accessors(Moose::Meta::Attribute=HASH(0x2d5b240)) called at /opt/perl-5.26.0/lib/site_perl/5.26.0/x86_64-linux/Moose/Meta/Attribute.pm line 1014
	Moose::Meta::Attribute::install_accessors(Moose::Meta::Attribute=HASH(0x2d5b240)) called at /home/cpansand/.cpan/build/2018050215/MooseX-RelClassTypes-0.03-2/blib/lib/MooseX/RelClassTypes.pm line 76
	Class::MOP::Class:::before("LazyChild::Child") called at /opt/perl-5.26.0/lib/site_perl/5.26.0/x86_64-linux/Class/MOP/Method/Wrapped.pm line 43
	LazyChild::Child::_wrapped_BUILDARGS("LazyChild::Child") called at /opt/perl-5.26.0/lib/site_perl/5.26.0/x86_64-linux/Class/MOP/Method/Wrapped.pm line 95
	LazyChild::Child::BUILDARGS("LazyChild::Child") called at /opt/perl-5.26.0/lib/site_perl/5.26.0/x86_64-linux/Moose/Object.pm line 22
	Moose::Object::new("LazyChild::Child") called at t/03_lazy.t line 248
You are overwriting a accessor (child_rel_pack) for the child_rel_pack attribute (defined at t/03_lazy.t line 86) with a new accessor method for the child_rel_pack attribute (defined at t/03_lazy.t line 86) at /opt/perl-5.26.0/lib/site_perl/5.26.0/x86_64-linux/Moose/Meta/Attribute.pm line 1094.
	Moose::Meta::Attribute::_process_accessors(Moose::Meta::Attribute=HASH(0x2d65d10), "accessor", "child_rel_pack", undef) called at /opt/perl-5.26.0/lib/site_perl/5.26.0/x86_64-linux/Class/MOP/Attribute.pm line 446
	Class::MOP::Attribute::install_accessors(Moose::Meta::Attribute=HASH(0x2d65d10)) called at /opt/perl-5.26.0/lib/site_perl/5.26.0/x86_64-linux/Moose/Meta/Attribute.pm line 1014
	Moose::Meta::Attribute::install_accessors(Moose::Meta::Attribute=HASH(0x2d65d10)) called at /home/cpansand/.cpan/build/2018050215/MooseX-RelClassTypes-0.03-2/blib/lib/MooseX/RelClassTypes.pm line 76
	Class::MOP::Class:::before("LazyChild::Child") called at /opt/perl-5.26.0/lib/site_perl/5.26.0/x86_64-linux/Class/MOP/Method/Wrapped.pm line 43
	LazyChild::Child::_wrapped_BUILDARGS("LazyChild::Child") called at /opt/perl-5.26.0/lib/site_perl/5.26.0/x86_64-linux/Class/MOP/Method/Wrapped.pm line 95
	LazyChild::Child::BUILDARGS("LazyChild::Child") called at /opt/perl-5.26.0/lib/site_perl/5.26.0/x86_64-linux/Moose/Object.pm line 22
	Moose::Object::new("LazyChild::Child") called at t/03_lazy.t line 248
You are overwriting a accessor (child_rel_pack) for the child_rel_pack attribute (defined at t/03_lazy.t line 86) with a new accessor method for the child_rel_pack attribute (defined at t/03_lazy.t line 86) at /opt/perl-5.26.0/lib/site_perl/5.26.0/x86_64-linux/Moose/Meta/Attribute.pm line 1094.
	Moose::Meta::Attribute::_process_accessors(Moose::Meta::Attribute=HASH(0x2d65d10), "accessor", "child_rel_pack", undef) called at /opt/perl-5.26.0/lib/site_perl/5.26.0/x86_64-linux/Class/MOP/Attribute.pm line 446
	Class::MOP::Attribute::install_accessors(Moose::Meta::Attribute=HASH(0x2d65d10)) called at /opt/perl-5.26.0/lib/site_perl/5.26.0/x86_64-linux/Moose/Meta/Attribute.pm line 1014
	Moose::Meta::Attribute::install_accessors(Moose::Meta::Attribute=HASH(0x2d65d10)) called at /home/cpansand/.cpan/build/2018050215/MooseX-RelClassTypes-0.03-2/blib/lib/MooseX/RelClassTypes.pm line 76
	Class::MOP::Class:::before("LazyChild::Child") called at /opt/perl-5.26.0/lib/site_perl/5.26.0/x86_64-linux/Class/MOP/Method/Wrapped.pm line 43
	LazyChild::Parent::_wrapped_BUILDARGS("LazyChild::Child") called at /opt/perl-5.26.0/lib/site_perl/5.26.0/x86_64-linux/Class/MOP/Method/Wrapped.pm line 95
	LazyChild::Parent::BUILDARGS("LazyChild::Child") called at /opt/perl-5.26.0/lib/site_perl/5.26.0/x86_64-linux/Class/MOP/Method/Wrapped.pm line 44
	LazyChild::Child::_wrapped_BUILDARGS("LazyChild::Child") called at /opt/perl-5.26.0/lib/site_perl/5.26.0/x86_64-linux/Class/MOP/Method/Wrapped.pm line 95
	LazyChild::Child::BUILDARGS("LazyChild::Child") called at /opt/perl-5.26.0/lib/site_perl/5.26.0/x86_64-linux/Moose/Object.pm line 22
	Moose::Object::new("LazyChild::Child") called at t/03_lazy.t line 248
You are overwriting a accessor (parent_rel_pack) for the parent_rel_pack attribute (defined at t/03_lazy.t line 66) with a new accessor method for the parent_rel_pack attribute (defined at t/03_lazy.t line 66) at /opt/perl-5.26.0/lib/site_perl/5.26.0/x86_64-linux/Moose/Meta/Attribute.pm line 1094.
	Moose::Meta::Attribute::_process_accessors(Moose::Meta::Attribute=HASH(0x2d5b240), "accessor", "parent_rel_pack", undef) called at /opt/perl-5.26.0/lib/site_perl/5.26.0/x86_64-linux/Class/MOP/Attribute.pm line 446
	Class::MOP::Attribute::install_accessors(Moose::Meta::Attribute=HASH(0x2d5b240)) called at /opt/perl-5.26.0/lib/site_perl/5.26.0/x86_64-linux/Moose/Meta/Attribute.pm line 1014
	Moose::Meta::Attribute::install_accessors(Moose::Meta::Attribute=HASH(0x2d5b240)) called at /home/cpansand/.cpan/build/2018050215/MooseX-RelClassTypes-0.03-2/blib/lib/MooseX/RelClassTypes.pm line 76
	Class::MOP::Class:::before("LazyChild::Child") called at /opt/perl-5.26.0/lib/site_perl/5.26.0/x86_64-linux/Class/MOP/Method/Wrapped.pm line 43
	LazyChild::Parent::_wrapped_BUILDARGS("LazyChild::Child") called at /opt/perl-5.26.0/lib/site_perl/5.26.0/x86_64-linux/Class/MOP/Method/Wrapped.pm line 95
	LazyChild::Parent::BUILDARGS("LazyChild::Child") called at /opt/perl-5.26.0/lib/site_perl/5.26.0/x86_64-linux/Class/MOP/Method/Wrapped.pm line 44
	LazyChild::Child::_wrapped_BUILDARGS("LazyChild::Child") called at /opt/perl-5.26.0/lib/site_perl/5.26.0/x86_64-linux/Class/MOP/Method/Wrapped.pm line 95
	LazyChild::Child::BUILDARGS("LazyChild::Child") called at /opt/perl-5.26.0/lib/site_perl/5.26.0/x86_64-linux/Moose/Object.pm line 22
	Moose::Object::new("LazyChild::Child") called at t/03_lazy.t line 248
You are overwriting a accessor (child_rel_pack) for the child_rel_pack attribute (defined at t/03_lazy.t line 129) with a new accessor method for the child_rel_pack attribute (defined at t/03_lazy.t line 129) at /opt/perl-5.26.0/lib/site_perl/5.26.0/x86_64-linux/Moose/Meta/Attribute.pm line 1094.
	Moose::Meta::Attribute::_process_accessors(Moose::Meta::Attribute=HASH(0x2d803f8), "accessor", "child_rel_pack", undef) called at /opt/perl-5.26.0/lib/site_perl/5.26.0/x86_64-linux/Class/MOP/Attribute.pm line 446
	Class::MOP::Attribute::install_accessors(Moose::Meta::Attribute=HASH(0x2d803f8)) called at /opt/perl-5.26.0/lib/site_perl/5.26.0/x86_64-linux/Moose/Meta/Attribute.pm line 1014
	Moose::Meta::Attribute::install_accessors(Moose::Meta::Attribute=HASH(0x2d803f8)) called at /home/cpansand/.cpan/build/2018050215/MooseX-RelClassTypes-0.03-2/blib/lib/MooseX/RelClassTypes.pm line 76
	Class::MOP::Class:::before("LazyParam::Child") called at /opt/perl-5.26.0/lib/site_perl/5.26.0/x86_64-linux/Class/MOP/Method/Wrapped.pm line 43
	LazyParam::Child::_wrapped_BUILDARGS("LazyParam::Child") called at /opt/perl-5.26.0/lib/site_perl/5.26.0/x86_64-linux/Class/MOP/Method/Wrapped.pm line 95
	LazyParam::Child::BUILDARGS("LazyParam::Child") called at /opt/perl-5.26.0/lib/site_perl/5.26.0/x86_64-linux/Moose/Object.pm line 22
	Moose::Object::new("LazyParam::Child") called at t/03_lazy.t line 248
You are overwriting a accessor (parent_rel_pack) for the parent_rel_pack attribute (defined at t/03_lazy.t line 117) with a new accessor method for the parent_rel_pack attribute (defined at t/03_lazy.t line 117) at /opt/perl-5.26.0/lib/site_perl/5.26.0/x86_64-linux/Moose/Meta/Attribute.pm line 1094.
	Moose::Meta::Attribute::_process_accessors(Moose::Meta::Attribute=HASH(0x2d75b40), "accessor", "parent_rel_pack", undef) called at /opt/perl-5.26.0/lib/site_perl/5.26.0/x86_64-linux/Class/MOP/Attribute.pm line 446
	Class::MOP::Attribute::install_accessors(Moose::Meta::Attribute=HASH(0x2d75b40)) called at /opt/perl-5.26.0/lib/site_perl/5.26.0/x86_64-linux/Moose/Meta/Attribute.pm line 1014
	Moose::Meta::Attribute::install_accessors(Moose::Meta::Attribute=HASH(0x2d75b40)) called at /home/cpansand/.cpan/build/2018050215/MooseX-RelClassTypes-0.03-2/blib/lib/MooseX/RelClassTypes.pm line 76
	Class::MOP::Class:::before("LazyParam::Child") called at /opt/perl-5.26.0/lib/site_perl/5.26.0/x86_64-linux/Class/MOP/Method/Wrapped.pm line 43
	LazyParam::Child::_wrapped_BUILDARGS("LazyParam::Child") called at /opt/perl-5.26.0/lib/site_perl/5.26.0/x86_64-linux/Class/MOP/Method/Wrapped.pm line 95
	LazyParam::Child::BUILDARGS("LazyParam::Child") called at /opt/perl-5.26.0/lib/site_perl/5.26.0/x86_64-linux/Moose/Object.pm line 22
	Moose::Object::new("LazyParam::Child") called at t/03_lazy.t line 248
You are overwriting a accessor (parent_rel_pack) for the parent_rel_pack attribute (defined at t/03_lazy.t line 117) with a new accessor method for the parent_rel_pack attribute (defined at t/03_lazy.t line 117) at /opt/perl-5.26.0/lib/site_perl/5.26.0/x86_64-linux/Moose/Meta/Attribute.pm line 1094.
	Moose::Meta::Attribute::_process_accessors(Moose::Meta::Attribute=HASH(0x2d75b40), "accessor", "parent_rel_pack", undef) called at /opt/perl-5.26.0/lib/site_perl/5.26.0/x86_64-linux/Class/MOP/Attribute.pm line 446
	Class::MOP::Attribute::install_accessors(Moose::Meta::Attribute=HASH(0x2d75b40)) called at /opt/perl-5.26.0/lib/site_perl/5.26.0/x86_64-linux/Moose/Meta/Attribute.pm line 1014
	Moose::Meta::Attribute::install_accessors(Moose::Meta::Attribute=HASH(0x2d75b40)) called at /home/cpansand/.cpan/build/2018050215/MooseX-RelClassTypes-0.03-2/blib/lib/MooseX/RelClassTypes.pm line 76
	Class::MOP::Class:::before("LazyParam::Child") called at /opt/perl-5.26.0/lib/site_perl/5.26.0/x86_64-linux/Class/MOP/Method/Wrapped.pm line 43
	LazyParam::Parent::_wrapped_BUILDARGS("LazyParam::Child") called at /opt/perl-5.26.0/lib/site_perl/5.26.0/x86_64-linux/Class/MOP/Method/Wrapped.pm line 95
	LazyParam::Parent::BUILDARGS("LazyParam::Child") called at /opt/perl-5.26.0/lib/site_perl/5.26.0/x86_64-linux/Class/MOP/Method/Wrapped.pm line 44
	LazyParam::Child::_wrapped_BUILDARGS("LazyParam::Child") called at /opt/perl-5.26.0/lib/site_perl/5.26.0/x86_64-linux/Class/MOP/Method/Wrapped.pm line 95
	LazyParam::Child::BUILDARGS("LazyParam::Child") called at /opt/perl-5.26.0/lib/site_perl/5.26.0/x86_64-linux/Moose/Object.pm line 22
	Moose::Object::new("LazyParam::Child") called at t/03_lazy.t line 248
You are overwriting a accessor (child_rel_pack) for the child_rel_pack attribute (defined at t/03_lazy.t line 129) with a new accessor method for the child_rel_pack attribute (defined at t/03_lazy.t line 129) at /opt/perl-5.26.0/lib/site_perl/5.26.0/x86_64-linux/Moose/Meta/Attribute.pm line 1094.
	Moose::Meta::Attribute::_process_accessors(Moose::Meta::Attribute=HASH(0x2d803f8), "accessor", "child_rel_pack", undef) called at /opt/perl-5.26.0/lib/site_perl/5.26.0/x86_64-linux/Class/MOP/Attribute.pm line 446
	Class::MOP::Attribute::install_accessors(Moose::Meta::Attribute=HASH(0x2d803f8)) called at /opt/perl-5.26.0/lib/site_perl/5.26.0/x86_64-linux/Moose/Meta/Attribute.pm line 1014
	Moose::Meta::Attribute::install_accessors(Moose::Meta::Attribute=HASH(0x2d803f8)) called at /home/cpansand/.cpan/build/2018050215/MooseX-RelClassTypes-0.03-2/blib/lib/MooseX/RelClassTypes.pm line 76
	Class::MOP::Class:::before("LazyParam::Child") called at /opt/perl-5.26.0/lib/site_perl/5.26.0/x86_64-linux/Class/MOP/Method/Wrapped.pm line 43
	LazyParam::Parent::_wrapped_BUILDARGS("LazyParam::Child") called at /opt/perl-5.26.0/lib/site_perl/5.26.0/x86_64-linux/Class/MOP/Method/Wrapped.pm line 95
	LazyParam::Parent::BUILDARGS("LazyParam::Child") called at /opt/perl-5.26.0/lib/site_perl/5.26.0/x86_64-linux/Class/MOP/Method/Wrapped.pm line 44
	LazyParam::Child::_wrapped_BUILDARGS("LazyParam::Child") called at /opt/perl-5.26.0/lib/site_perl/5.26.0/x86_64-linux/Class/MOP/Method/Wrapped.pm line 95
	LazyParam::Child::BUILDARGS("LazyParam::Child") called at /opt/perl-5.26.0/lib/site_perl/5.26.0/x86_64-linux/Moose/Object.pm line 22
	Moose::Object::new("LazyParam::Child") called at t/03_lazy.t line 248
You are overwriting a accessor (parent_rel_pack) for the parent_rel_pack attribute (defined at t/03_lazy.t line 177) with a new accessor method for the parent_rel_pack attribute (defined at t/03_lazy.t line 177) at /opt/perl-5.26.0/lib/site_perl/5.26.0/x86_64-linux/Moose/Meta/Attribute.pm line 1094.
	Moose::Meta::Attribute::_process_accessors(Moose::Meta::Attribute=HASH(0x2d94cd8), "accessor", "parent_rel_pack", undef) called at /opt/perl-5.26.0/lib/site_perl/5.26.0/x86_64-linux/Class/MOP/Attribute.pm line 446
	Class::MOP::Attribute::install_accessors(Moose::Meta::Attribute=HASH(0x2d94cd8)) called at /opt/perl-5.26.0/lib/site_perl/5.26.0/x86_64-linux/Moose/Meta/Attribute.pm line 1014
	Moose::Meta::Attribute::install_accessors(Moose::Meta::Attribute=HASH(0x2d94cd8)) called at /home/cpansand/.cpan/build/2018050215/MooseX-RelClassTypes-0.03-2/blib/lib/MooseX/RelClassTypes.pm line 76
	Class::MOP::Class:::before("LazyAll::Child") called at /opt/perl-5.26.0/lib/site_perl/5.26.0/x86_64-linux/Class/MOP/Method/Wrapped.pm line 43
	LazyAll::Child::_wrapped_BUILDARGS("LazyAll::Child") called at /opt/perl-5.26.0/lib/site_perl/5.26.0/x86_64-linux/Class/MOP/Method/Wrapped.pm line 95
	LazyAll::Child::BUILDARGS("LazyAll::Child") called at /opt/perl-5.26.0/lib/site_perl/5.26.0/x86_64-linux/Moose/Object.pm line 22
	Moose::Object::new("LazyAll::Child") called at t/03_lazy.t line 248
You are overwriting a accessor (child_rel_pack) for the child_rel_pack attribute (defined at t/03_lazy.t line 194) with a new accessor method for the child_rel_pack attribute (defined at t/03_lazy.t line 194) at /opt/perl-5.26.0/lib/site_perl/5.26.0/x86_64-linux/Moose/Meta/Attribute.pm line 1094.
	Moose::Meta::Attribute::_process_accessors(Moose::Meta::Attribute=HASH(0x2da1788), "accessor", "child_rel_pack", undef) called at /opt/perl-5.26.0/lib/site_perl/5.26.0/x86_64-linux/Class/MOP/Attribute.pm line 446
	Class::MOP::Attribute::install_accessors(Moose::Meta::Attribute=HASH(0x2da1788)) called at /opt/perl-5.26.0/lib/site_perl/5.26.0/x86_64-linux/Moose/Meta/Attribute.pm line 1014
	Moose::Meta::Attribute::install_accessors(Moose::Meta::Attribute=HASH(0x2da1788)) called at /home/cpansand/.cpan/build/2018050215/MooseX-RelClassTypes-0.03-2/blib/lib/MooseX/RelClassTypes.pm line 76
	Class::MOP::Class:::before("LazyAll::Child") called at /opt/perl-5.26.0/lib/site_perl/5.26.0/x86_64-linux/Class/MOP/Method/Wrapped.pm line 43
	LazyAll::Child::_wrapped_BUILDARGS("LazyAll::Child") called at /opt/perl-5.26.0/lib/site_perl/5.26.0/x86_64-linux/Class/MOP/Method/Wrapped.pm line 95
	LazyAll::Child::BUILDARGS("LazyAll::Child") called at /opt/perl-5.26.0/lib/site_perl/5.26.0/x86_64-linux/Moose/Object.pm line 22
	Moose::Object::new("LazyAll::Child") called at t/03_lazy.t line 248
You are overwriting a accessor (parent_rel_pack) for the parent_rel_pack attribute (defined at t/03_lazy.t line 177) with a new accessor method for the parent_rel_pack attribute (defined at t/03_lazy.t line 177) at /opt/perl-5.26.0/lib/site_perl/5.26.0/x86_64-linux/Moose/Meta/Attribute.pm line 1094.
	Moose::Meta::Attribute::_process_accessors(Moose::Meta::Attribute=HASH(0x2d94cd8), "accessor", "parent_rel_pack", undef) called at /opt/perl-5.26.0/lib/site_perl/5.26.0/x86_64-linux/Class/MOP/Attribute.pm line 446
	Class::MOP::Attribute::install_accessors(Moose::Meta::Attribute=HASH(0x2d94cd8)) called at /opt/perl-5.26.0/lib/site_perl/5.26.0/x86_64-linux/Moose/Meta/Attribute.pm line 1014
	Moose::Meta::Attribute::install_accessors(Moose::Meta::Attribute=HASH(0x2d94cd8)) called at /home/cpansand/.cpan/build/2018050215/MooseX-RelClassTypes-0.03-2/blib/lib/MooseX/RelClassTypes.pm line 76
	Class::MOP::Class:::before("LazyAll::Child") called at /opt/perl-5.26.0/lib/site_perl/5.26.0/x86_64-linux/Class/MOP/Method/Wrapped.pm line 43
	LazyAll::Parent::_wrapped_BUILDARGS("LazyAll::Child") called at /opt/perl-5.26.0/lib/site_perl/5.26.0/x86_64-linux/Class/MOP/Method/Wrapped.pm line 95
	LazyAll::Parent::BUILDARGS("LazyAll::Child") called at /opt/perl-5.26.0/lib/site_perl/5.26.0/x86_64-linux/Class/MOP/Method/Wrapped.pm line 44
	LazyAll::Child::_wrapped_BUILDARGS("LazyAll::Child") called at /opt/perl-5.26.0/lib/site_perl/5.26.0/x86_64-linux/Class/MOP/Method/Wrapped.pm line 95
	LazyAll::Child::BUILDARGS("LazyAll::Child") called at /opt/perl-5.26.0/lib/site_perl/5.26.0/x86_64-linux/Moose/Object.pm line 22
	Moose::Object::new("LazyAll::Child") called at t/03_lazy.t line 248
You are overwriting a accessor (child_rel_pack) for the child_rel_pack attribute (defined at t/03_lazy.t line 194) with a new accessor method for the child_rel_pack attribute (defined at t/03_lazy.t line 194) at /opt/perl-5.26.0/lib/site_perl/5.26.0/x86_64-linux/Moose/Meta/Attribute.pm line 1094.
	Moose::Meta::Attribute::_process_accessors(Moose::Meta::Attribute=HASH(0x2da1788), "accessor", "child_rel_pack", undef) called at /opt/perl-5.26.0/lib/site_perl/5.26.0/x86_64-linux/Class/MOP/Attribute.pm line 446
	Class::MOP::Attribute::install_accessors(Moose::Meta::Attribute=HASH(0x2da1788)) called at /opt/perl-5.26.0/lib/site_perl/5.26.0/x86_64-linux/Moose/Meta/Attribute.pm line 1014
	Moose::Meta::Attribute::install_accessors(Moose::Meta::Attribute=HASH(0x2da1788)) called at /home/cpansand/.cpan/build/2018050215/MooseX-RelClassTypes-0.03-2/blib/lib/MooseX/RelClassTypes.pm line 76
	Class::MOP::Class:::before("LazyAll::Child") called at /opt/perl-5.26.0/lib/site_perl/5.26.0/x86_64-linux/Class/MOP/Method/Wrapped.pm line 43
	LazyAll::Parent::_wrapped_BUILDARGS("LazyAll::Child") called at /opt/perl-5.26.0/lib/site_perl/5.26.0/x86_64-linux/Class/MOP/Method/Wrapped.pm line 95
	LazyAll::Parent::BUILDARGS("LazyAll::Child") called at /opt/perl-5.26.0/lib/site_perl/5.26.0/x86_64-linux/Class/MOP/Method/Wrapped.pm line 44
	LazyAll::Child::_wrapped_BUILDARGS("LazyAll::Child") called at /opt/perl-5.26.0/lib/site_perl/5.26.0/x86_64-linux/Class/MOP/Method/Wrapped.pm line 95
	LazyAll::Child::BUILDARGS("LazyAll::Child") called at /opt/perl-5.26.0/lib/site_perl/5.26.0/x86_64-linux/Moose/Object.pm line 22
	Moose::Object::new("LazyAll::Child") called at t/03_lazy.t line 248
t/03_lazy.t .......... ok
All tests successful.
Files=4, Tests=56,  1 wallclock secs ( 0.02 usr  0.02 sys +  0.67 cusr  0.05 csys =  0.76 CPU)
Result: PASS

------------------------------
PREREQUISITES
------------------------------

Prerequisite modules loaded:

requires:

    Module                      Need Have    
    --------------------------- ---- --------
    Carp                        0    1.42    
    Clone                       0    0.39    
    Module::Runtime             0    0.015   
    Moose                       0    2.2010  
    MooseX::Role::Parameterized 0    1.10    

build_requires:

    Module                      Need Have    
    --------------------------- ---- --------
    ExtUtils::MakeMaker         0    7.34    
    Test::More                  0    1.302136

configure_requires:

    Module                      Need Have    
    --------------------------- ---- --------
    ExtUtils::MakeMaker         0    7.34    


------------------------------
ENVIRONMENT AND OTHER CONTEXT
------------------------------

Environment variables:

    LANG = en_US.UTF-8
    PATH = /usr/local/bin:/usr/bin:/bin:/usr/local/sbin:/usr/sbin:/sbin:/home/cpansand/bin/linux-gnu:/home/cpansand/bin/sh:/home/cpansand/bin:/usr/games:/home/cpansand/devel:/home/eserte/src/srezic-misc/scripts
    PERL5LIB = 
    PERL5OPT = 
    PERL5_CPANPLUS_IS_RUNNING = 19292
    PERL5_CPAN_IS_RUNNING = 19292
    PERL5_CPAN_IS_RUNNING_IN_RECURSION = 18302,19292
    PERLDOC = -MPod::Perldoc::ToTextOverstrike
    PERL_BATCH = yes
    PERL_CANARY_STABILITY_NOPROMPT = 1
    PERL_CPAN_REPORTER_CONFIG = /var/tmp/cpansmoker-1023/2018050215/cpanreporter_000_config.ini
    PERL_EXTUTILS_AUTOINSTALL = --defaultdeps
    PERL_USE_UNSAFE_INC = 1
    SHELL = /usr/bin/zsh
    TERM = screen
    TMPDIR = /var/tmp/cpansmoker-1023/2018050215

Perl special variables (and OS-specific diagnostics, for MSWin32):

    $^X = /opt/perl-5.26.0/bin/perl
    $UID/$EUID = 1023 / 1023
    $GID = 1023 1023
    $EGID = 1023 1023

Perl module toolchain versions installed:

    Module              Have    
    ------------------- --------
    CPAN                2.18    
    CPAN::Meta          2.150010
    Cwd                 3.74    
    ExtUtils::CBuilder  0.280230
    ExtUtils::Command   7.34    
    ExtUtils::Install   2.06    
    ExtUtils::MakeMaker 7.34    
    ExtUtils::Manifest  1.70    
    ExtUtils::ParseXS   3.34    
    File::Spec          3.74    
    JSON                2.97001 
    JSON::PP            2.95    
    Module::Build       0.4224  
    Module::Signature   0.81    
    Parse::CPAN::Meta   2.150010
    Test::Harness       3.42    
    Test::More          1.302136
    YAML                1.24    
    YAML::Syck          1.30    
    version             0.9923  


--

Summary of my perl5 (revision 5 version 26 subversion 0) configuration:
   
  Platform:
    osname=linux
    osvers=4.4.0-79-generic
    archname=x86_64-linux
    uname='linux ubuntu16 4.4.0-79-generic #100-ubuntu smp wed may 17 19:58:14 utc 2017 x86_64 x86_64 x86_64 gnulinux '
    config_args='-ds -e -Dprefix=/opt/perl-5.26.0 -Dcf_email=srezic@cpan.org'
    hint=recommended
    useposix=true
    d_sigaction=define
    useithreads=undef
    usemultiplicity=undef
    use64bitint=define
    use64bitall=define
    uselongdouble=undef
    usemymalloc=n
    default_inc_excludes_dot=define
    bincompat5005=undef
  Compiler:
    cc='cc'
    ccflags ='-fwrapv -fno-strict-aliasing -pipe -fstack-protector-strong -I/usr/local/include -D_LARGEFILE_SOURCE -D_FILE_OFFSET_BITS=64'
    optimize='-O2'
    cppflags='-fwrapv -fno-strict-aliasing -pipe -fstack-protector-strong -I/usr/local/include'
    ccversion=''
    gccversion='5.4.0 20160609'
    gccosandvers=''
    intsize=4
    longsize=8
    ptrsize=8
    doublesize=8
    byteorder=12345678
    doublekind=3
    d_longlong=define
    longlongsize=8
    d_longdbl=define
    longdblsize=16
    longdblkind=3
    ivtype='long'
    ivsize=8
    nvtype='double'
    nvsize=8
    Off_t='off_t'
    lseeksize=8
    alignbytes=8
    prototype=define
  Linker and Libraries:
    ld='cc'
    ldflags =' -fstack-protector-strong -L/usr/local/lib'
    libpth=/usr/local/lib /usr/lib/gcc/x86_64-linux-gnu/5/include-fixed /usr/include/x86_64-linux-gnu /usr/lib /lib/x86_64-linux-gnu /lib/../lib /usr/lib/x86_64-linux-gnu /usr/lib/../lib /lib
    libs=-lpthread -lnsl -lgdbm -ldb -ldl -lm -lcrypt -lutil -lc -lgdbm_compat
    perllibs=-lpthread -lnsl -ldl -lm -lcrypt -lutil -lc
    libc=libc-2.23.so
    so=so
    useshrplib=false
    libperl=libperl.a
    gnulibc_version='2.23'
  Dynamic Linking:
    dlsrc=dl_dlopen.xs
    dlext=so
    d_dlsymun=undef
    ccdlflags='-Wl,-E'
    cccdlflags='-fPIC'
    lddlflags='-shared -O2 -L/usr/local/lib -fstack-protector-strong'


Characteristics of this binary (from libperl): 
  Compile-time options:
    HAS_TIMES
    PERLIO_LAYERS
    PERL_COPY_ON_WRITE
    PERL_DONT_CREATE_GVSV
    PERL_MALLOC_WRAP
    PERL_OP_PARENT
    PERL_PRESERVE_IVUV
    USE_64_BIT_ALL
    USE_64_BIT_INT
    USE_LARGE_FILES
    USE_LOCALE
    USE_LOCALE_COLLATE
    USE_LOCALE_CTYPE
    USE_LOCALE_NUMERIC
    USE_LOCALE_TIME
    USE_PERLIO
    USE_PERL_ATOF
  Built under linux
  Compiled at Jun 19 2017 20:33:19
  %ENV:
    PERL5LIB=""
    PERL5OPT=""
    PERL5_CPANPLUS_IS_RUNNING="19292"
    PERL5_CPAN_IS_RUNNING="19292"
    PERL5_CPAN_IS_RUNNING_IN_RECURSION="18302,19292"
    PERLDOC="-MPod::Perldoc::ToTextOverstrike"
    PERL_BATCH="yes"
    PERL_CANARY_STABILITY_NOPROMPT="1"
    PERL_CPAN_REPORTER_CONFIG="/var/tmp/cpansmoker-1023/2018050215/cpanreporter_000_config.ini"
    PERL_EXTUTILS_AUTOINSTALL="--defaultdeps"
    PERL_USE_UNSAFE_INC="1"
  @INC:
    /opt/perl-5.26.0/lib/site_perl/5.26.0/x86_64-linux
    /opt/perl-5.26.0/lib/site_perl/5.26.0
    /opt/perl-5.26.0/lib/5.26.0/x86_64-linux
    /opt/perl-5.26.0/lib/5.26.0
    .