Back
From: metabase:user:30ae4450-2aae-11df-837a-5e0a49663a4f
Subject: PASS POSIX-RT-Semaphore-0.05_02 v5.17.11 GNU/Linux
Date: 2013-05-02T20:06:26Z
This distribution has been tested as part of the CPAN Testers
project, supporting the Perl programming language. See
http://wiki.cpantesters.org/ for more information or email
questions to cpan-testers-discuss@perl.org
--
Dear Michael J. Pomraning,
This is a computer-generated report for POSIX-RT-Semaphore-0.05_02
on perl 5.17.11, created by CPAN-Reporter-1.2010.
Thank you for uploading your work to CPAN. Congratulations!
All tests were successful.
Sections of this report:
* Tester comments
* Program output
* Prerequisites
* Environment and other context
------------------------------
TESTER COMMENTS
------------------------------
Additional comments from tester:
this report is from an automated smoke testing program
and was not reviewed by a human for accuracy
------------------------------
PROGRAM OUTPUT
------------------------------
Output from '/usr/bin/make test':
PERL_DL_NONLAZY=1 /home/c/perl5/perlbrew/perls/perl-5.17.11/bin/perl5.17.11 "-MExtUtils::Command::MM" "-e" "test_harness(0, 'blib/lib', 'blib/arch')" t/*.t
#
# Testing POSIX::RT::Semaphore 0.05_02
# linux (i686-linux)
# Perl 5.017011
# /home/c/perl5/perlbrew/perls/perl-5.17.11/bin/perl5.17.11
#
t/00-load.t ............... ok
t/01-util.t ............... ok
t/can.t ................... ok
t/ctors.t ................. ok
t/fork-inherit-named.t .... ok
t/fork-inherit-unnamed.t .. ok
t/fork-reopen.t ........... ok
t/invalid.t ............... ok
t/named.t ................. ok
t/pod.t ................... ok
t/threaded.t .............. skipped: Perl not compiled with 'useithreads'
t/unnamed.t ............... ok
t/use_basic.t ............. ok
#
# SEM_NSEMS_MAX: defined
# SEM_VALUE_MAX: defined
# _SC_SEM_NSEMS_MAX: defined
# _SC_SEM_VALUE_MAX: defined
t/use_consts.t ............ ok
All tests successful.
Files=14, Tests=179, 4 wallclock secs ( 0.02 usr 0.11 sys + 0.17 cusr 0.20 csys = 0.50 CPU)
Result: PASS
------------------------------
PREREQUISITES
------------------------------
Prerequisite modules loaded:
requires:
Module Need Have
------------------- ---- --------
Config 0 5.017011
Exporter 0 5.68
XSLoader 0 0.16
build_requires:
Module Need Have
------------------- ---- --------
Config 0 5.017011
Errno 0 1.18
Fcntl 0 1.11
Test::More 0 0.98
configure_requires:
Module Need Have
------------------- ---- --------
DynaLoader 0 1.18
ExtUtils::MakeMaker 0 6.66
------------------------------
ENVIRONMENT AND OTHER CONTEXT
------------------------------
Environment variables:
AUTOMATED_TESTING = 1
LANG = ru_RU.utf8
PATH = /home/c/perl5/perlbrew/bin:/home/c/perl5/perlbrew/perls/perl-5.17.11/bin:/usr/local/bin:/usr/bin:/bin:/usr/local/games:/usr/games
PERL5LIB =
PERL5OPT =
PERL5_CPANPLUS_IS_RUNNING = 5868
PERL5_CPAN_IS_RUNNING = 5868
PERL5_CPAN_IS_RUNNING_IN_RECURSION = 32475,5868
PERLBREW_MANPATH = /home/c/perl5/perlbrew/perls/perl-5.17.11/man
PERLBREW_PATH = /home/c/perl5/perlbrew/bin:/home/c/perl5/perlbrew/perls/perl-5.17.11/bin
PERLBREW_PERL = perl-5.17.11
PERLBREW_ROOT = /home/c/perl5/perlbrew
PERLBREW_SKIP_INIT = 1
PERLBREW_VERSION = 0.58
PERL_CR_SMOKER_CURRENT = POSIX-RT-Semaphore-0.05_02
PERL_EXTUTILS_AUTOINSTALL = --defaultdeps
PERL_MM_USE_DEFAULT = 1
SHELL = /bin/bash
TERM = xterm
Perl special variables (and OS-specific diagnostics, for MSWin32):
$^X = /home/c/perl5/perlbrew/perls/perl-5.17.11/bin/perl5.17.11
$UID/$EUID = 1000 / 1000
$GID = 1000 24 25 27 29 30 44 46 108 109 115 1000 1001
$EGID = 1000 24 25 27 29 30 44 46 108 109 115 1000 1001
Perl module toolchain versions installed:
Module Have
------------------- --------
CPAN 2.00
CPAN::Meta 2.120921
Cwd 3.40
ExtUtils::CBuilder 0.280210
ExtUtils::Command 1.17
ExtUtils::Install 1.59
ExtUtils::MakeMaker 6.66
ExtUtils::Manifest 1.63
ExtUtils::ParseXS 3.18
File::Spec 3.40
JSON 2.57
JSON::PP 2.27202
Module::Build 0.4004
Module::Signature 0.70
Parse::CPAN::Meta 1.4404
Test::Harness 3.26
Test::More 0.98
YAML 0.84
YAML::Syck 1.25
version 0.9902
--
Summary of my perl5 (revision 5 version 17 subversion 11) configuration:
Platform:
osname=linux, osvers=2.6.32-5-686, archname=i686-linux
uname='linux deb1 2.6.32-5-686 #1 smp sun sep 23 09:49:36 utc 2012 i686 gnulinux '
config_args='-de -Dprefix=/home/c/perl5/perlbrew/perls/perl-5.17.11 -Dusedevel -Aeval:scriptdir=/home/c/perl5/perlbrew/perls/perl-5.17.11/bin'
hint=recommended, useposix=true, d_sigaction=define
useithreads=undef, usemultiplicity=undef
useperlio=define, d_sfio=undef, uselargefiles=define, usesocks=undef
use64bitint=undef, use64bitall=undef, uselongdouble=undef
usemymalloc=n, bincompat5005=undef
Compiler:
cc='cc', ccflags ='-fno-strict-aliasing -pipe -fstack-protector -I/usr/local/include -D_LARGEFILE_SOURCE -D_FILE_OFFSET_BITS=64',
optimize='-O2',
cppflags='-fno-strict-aliasing -pipe -fstack-protector -I/usr/local/include'
ccversion='', gccversion='4.4.5', gccosandvers=''
intsize=4, longsize=4, ptrsize=4, doublesize=8, byteorder=1234
d_longlong=define, longlongsize=8, d_longdbl=define, longdblsize=12
ivtype='long', ivsize=4, nvtype='double', nvsize=8, Off_t='off_t', lseeksize=8
alignbytes=4, prototype=define
Linker and Libraries:
ld='cc', ldflags =' -fstack-protector -L/usr/local/lib'
libpth=/usr/local/lib /lib/../lib /usr/lib/../lib /lib /usr/lib /usr/lib/i486-linux-gnu /usr/lib64
libs=-lnsl -lgdbm -ldb -ldl -lm -lcrypt -lutil -lc -lgdbm_compat
perllibs=-lnsl -ldl -lm -lcrypt -lutil -lc
libc=/lib/libc-2.11.3.so, so=so, useshrplib=false, libperl=libperl.a
gnulibc_version='2.11.3'
Dynamic Linking:
dlsrc=dl_dlopen.xs, dlext=so, d_dlsymun=undef, ccdlflags='-Wl,-E'
cccdlflags='-fPIC', lddlflags='-shared -O2 -L/usr/local/lib -fstack-protector'
Characteristics of this binary (from libperl):
Compile-time options: HAS_TIMES PERLIO_LAYERS PERL_DONT_CREATE_GVSV
PERL_MALLOC_WRAP PERL_PRESERVE_IVUV PERL_SAWAMPERSAND
PERL_USE_DEVEL USE_LARGE_FILES USE_LOCALE
USE_LOCALE_COLLATE USE_LOCALE_CTYPE
USE_LOCALE_NUMERIC USE_PERLIO USE_PERL_ATOF
Built under linux
Compiled at Apr 22 2013 14:30:31
%ENV:
PERL5LIB=""
PERL5OPT=""
PERL5_CPANPLUS_IS_RUNNING="5868"
PERL5_CPAN_IS_RUNNING="5868"
PERL5_CPAN_IS_RUNNING_IN_RECURSION="32475,5868"
PERLBREW_MANPATH="/home/c/perl5/perlbrew/perls/perl-5.17.11/man"
PERLBREW_PATH="/home/c/perl5/perlbrew/bin:/home/c/perl5/perlbrew/perls/perl-5.17.11/bin"
PERLBREW_PERL="perl-5.17.11"
PERLBREW_ROOT="/home/c/perl5/perlbrew"
PERLBREW_SKIP_INIT="1"
PERLBREW_VERSION="0.58"
PERL_CR_SMOKER_CURRENT="POSIX-RT-Semaphore-0.05_02"
PERL_EXTUTILS_AUTOINSTALL="--defaultdeps"
PERL_MM_USE_DEFAULT="1"
@INC:
/home/c/perl5/perlbrew/perls/perl-5.17.11/lib/site_perl/5.17.11/i686-linux
/home/c/perl5/perlbrew/perls/perl-5.17.11/lib/site_perl/5.17.11
/home/c/perl5/perlbrew/perls/perl-5.17.11/lib/5.17.11/i686-linux
/home/c/perl5/perlbrew/perls/perl-5.17.11/lib/5.17.11
.