Back
From: metabase:user:320bfe00-2aae-11df-837a-5e0a49663a4f
Subject: PASS Net-HTTP-API-0.14 v5.25.12 GNU/Linux
Date: 2017-06-27T21:37:08Z
This distribution has been tested as part of the CPAN Testers
project, supporting the Perl programming language. See
http://wiki.cpantesters.org/ for more information or email
questions to cpan-testers-discuss@perl.org
--
Dear Franck Cuny,
This is a computer-generated report for Net-HTTP-API-0.14
on perl 5.25.12, created by CPAN-Reporter-1.2018.
Thank you for uploading your work to CPAN. Congratulations!
All tests were successful.
Sections of this report:
* Tester comments
* Program output
* Prerequisites
* Environment and other context
------------------------------
TESTER COMMENTS
------------------------------
Additional comments from tester:
this report is from an automated smoke testing program
and was not reviewed by a human for accuracy
------------------------------
PROGRAM OUTPUT
------------------------------
Output from '/usr/bin/make test':
PERL_DL_NONLAZY=1 "/home/sand/src/perl/repoperls/installed-perls/host/k93msid/v5.25.12/5ea4/bin/perl" "-MExtUtils::Command::MM" "-MTest::Harness" "-e" "undef *Test::Harness::Switches; test_harness(0, 'blib/lib', 'blib/arch')" t/*.t
Passing a list of values to enum is deprecated. Enum values should be wrapped in an arrayref. at /home/sand/src/perl/repoperls/installed-perls/host/k93msid/v5.25.12/5ea4/lib/site_perl/5.25.12/x86_64-linux-thread-multi-ld/Moose/Util/TypeConstraints.pm line 437.
Moose::Util::TypeConstraints::enum("Method", "HEAD", "GET", "POST", "PUT", "DELETE") called at /tmp/loop_over_bdir-31793-4ydxEm/Net-HTTP-API-0.14-0/blib/lib/Net/HTTP/API/Meta/Method.pm line 21
require Net/HTTP/API/Meta/Method.pm called at /tmp/loop_over_bdir-31793-4ydxEm/Net-HTTP-API-0.14-0/blib/lib/Net/HTTP/API/Meta/Method/APIMethod.pm line 10
Net::HTTP::API::Meta::Method::APIMethod::BEGIN() called at /tmp/loop_over_bdir-31793-4ydxEm/Net-HTTP-API-0.14-0/blib/lib/Net/HTTP/API/Meta/Method.pm line 0
eval {...} called at /tmp/loop_over_bdir-31793-4ydxEm/Net-HTTP-API-0.14-0/blib/lib/Net/HTTP/API/Meta/Method.pm line 0
require Net/HTTP/API/Meta/Method/APIMethod.pm called at /home/sand/src/perl/repoperls/installed-perls/host/k93msid/v5.25.12/5ea4/lib/site_perl/5.25.12/Module/Runtime.pm line 317
Module::Runtime::require_module("Net::HTTP::API::Meta::Method::APIMethod") called at /home/sand/src/perl/repoperls/installed-perls/host/k93msid/v5.25.12/5ea4/lib/site_perl/5.25.12/Module/Runtime.pm line 381
eval {...} called at /home/sand/src/perl/repoperls/installed-perls/host/k93msid/v5.25.12/5ea4/lib/site_perl/5.25.12/Module/Runtime.pm line 381
Module::Runtime::use_package_optimistically("Net::HTTP::API::Meta::Method::APIMethod") called at /home/sand/src/perl/repoperls/installed-perls/host/k93msid/v5.25.12/5ea4/lib/site_perl/5.25.12/x86_64-linux-thread-multi-ld/Moose/Util.pm line 352
Moose::Util::_load_user_class("Net::HTTP::API::Meta::Method::APIMethod", undef) called at /home/sand/src/perl/repoperls/installed-perls/host/k93msid/v5.25.12/5ea4/lib/site_perl/5.25.12/x86_64-linux-thread-multi-ld/Moose/Util.pm line 147
Moose::Util::_apply_all_roles(Moose::Meta::Role=HASH(0x55ecfd104290), undef, "Net::HTTP::API::Meta::Method::APIMethod", "Net::HTTP::API::Meta::Method::APIDeclare") called at /home/sand/src/perl/repoperls/installed-perls/host/k93msid/v5.25.12/5ea4/lib/site_perl/5.25.12/x86_64-linux-thread-multi-ld/Moose/Util.pm line 114
Moose::Util::apply_all_roles(Moose::Meta::Role=HASH(0x55ecfd104290), "Net::HTTP::API::Meta::Method::APIMethod", "Net::HTTP::API::Meta::Method::APIDeclare") called at /home/sand/src/perl/repoperls/installed-perls/host/k93msid/v5.25.12/5ea4/lib/site_perl/5.25.12/x86_64-linux-thread-multi-ld/Moose/Role.pm line 25
Moose::Role::with(Moose::Meta::Role=HASH(0x55ecfd104290), "Net::HTTP::API::Meta::Method::APIMethod", "Net::HTTP::API::Meta::Method::APIDeclare") called at /home/sand/src/perl/repoperls/installed-perls/host/k93msid/v5.25.12/5ea4/lib/site_perl/5.25.12/x86_64-linux-thread-multi-ld/Moose/Exporter.pm line 419
Moose::Role::with("Net::HTTP::API::Meta::Method::APIMethod", "Net::HTTP::API::Meta::Method::APIDeclare") called at /tmp/loop_over_bdir-31793-4ydxEm/Net-HTTP-API-0.14-0/blib/lib/Net/HTTP/API/Meta/Class.pm line 10
require Net/HTTP/API/Meta/Class.pm called at /home/sand/src/perl/repoperls/installed-perls/host/k93msid/v5.25.12/5ea4/lib/site_perl/5.25.12/Module/Runtime.pm line 317
Module::Runtime::require_module("Net::HTTP::API::Meta::Class") called at /home/sand/src/perl/repoperls/installed-perls/host/k93msid/v5.25.12/5ea4/lib/site_perl/5.25.12/Module/Runtime.pm line 381
eval {...} called at /home/sand/src/perl/repoperls/installed-perls/host/k93msid/v5.25.12/5ea4/lib/site_perl/5.25.12/Module/Runtime.pm line 381
Module::Runtime::use_package_optimistically("Net::HTTP::API::Meta::Class") called at /home/sand/src/perl/repoperls/installed-perls/host/k93msid/v5.25.12/5ea4/lib/site_perl/5.25.12/x86_64-linux-thread-multi-ld/Moose/Util.pm line 352
Moose::Util::_load_user_class("Net::HTTP::API::Meta::Class", undef) called at /home/sand/src/perl/repoperls/installed-perls/host/k93msid/v5.25.12/5ea4/lib/site_perl/5.25.12/x86_64-linux-thread-multi-ld/Moose/Util.pm line 147
Moose::Util::_apply_all_roles(Moose::Meta::Class=HASH(0x55ecfd0f9828), undef, "Net::HTTP::API::Meta::Class") called at /home/sand/src/perl/repoperls/installed-perls/host/k93msid/v5.25.12/5ea4/lib/site_perl/5.25.12/x86_64-linux-thread-multi-ld/Moose/Util.pm line 114
Moose::Util::apply_all_roles(Moose::Meta::Class=HASH(0x55ecfd0f9828), "Net::HTTP::API::Meta::Class") called at /home/sand/src/perl/repoperls/installed-perls/host/k93msid/v5.25.12/5ea4/lib/site_perl/5.25.12/x86_64-linux-thread-multi-ld/Moose/Meta/Class.pm line 88
Moose::Meta::Class::create("Moose::Meta::Class", "Moose::Meta::Class::__ANON__::SERIAL::1", "superclasses", ARRAY(0x55ecfd0d9720), "roles", ARRAY(0x55ecfd0e0fb0), "weaken", "") called at /home/sand/src/perl/repoperls/installed-perls/host/k93msid/v5.25.12/5ea4/lib/site_perl/5.25.12/x86_64-linux-thread-multi-ld/Class/MOP/Package.pm line 120
Class::MOP::Package::create_anon("Moose::Meta::Class", "superclasses", ARRAY(0x55ecfd0d9720), "roles", ARRAY(0x55ecfd0e0fb0), "cache", 1) called at /home/sand/src/perl/repoperls/installed-perls/host/k93msid/v5.25.12/5ea4/lib/site_perl/5.25.12/x86_64-linux-thread-multi-ld/Class/MOP/Class.pm line 472
Class::MOP::Class::create_anon_class("Moose::Meta::Class", "superclasses", ARRAY(0x55ecfd0d9720), "roles", ARRAY(0x55ecfd0e0fb0), "cache", 1) called at /home/sand/src/perl/repoperls/installed-perls/host/k93msid/v5.25.12/5ea4/lib/site_perl/5.25.12/x86_64-linux-thread-multi-ld/Moose/Util/MetaRole.pm line 108
Moose::Util::MetaRole::_make_new_class("Moose::Meta::Class", ARRAY(0x55ecfd0e0fb0)) called at /home/sand/src/perl/repoperls/installed-perls/host/k93msid/v5.25.12/5ea4/lib/site_perl/5.25.12/x86_64-linux-thread-multi-ld/Moose/Util/MetaRole.pm line 53
Moose::Util::MetaRole::_make_new_metaclass(Moose::Meta::Class=HASH(0x55ecfd095db8), HASH(0x55ecfcf3d830), "class") called at /home/sand/src/perl/repoperls/installed-perls/host/k93msid/v5.25.12/5ea4/lib/site_perl/5.25.12/x86_64-linux-thread-multi-ld/Moose/Util/MetaRole.pm line 21
Moose::Util::MetaRole::apply_metaroles("for", "main", "class_metaroles", HASH(0x55ecfcf3d830)) called at /tmp/loop_over_bdir-31793-4ydxEm/Net-HTTP-API-0.14-0/blib/lib/Net/HTTP/API.pm line 34
Net::HTTP::API::init_meta("Net::HTTP::API", "for_class", "MooseX::Types::Moose", "metaclass", undef, "meta_name", "meta") called at /home/sand/src/perl/repoperls/installed-perls/host/k93msid/v5.25.12/5ea4/lib/site_perl/5.25.12/x86_64-linux-thread-multi-ld/Moose/Exporter.pm line 484
Net::HTTP::API::import("Net::HTTP::API") called at t/00_compile.t line 4
main::BEGIN() called at /tmp/loop_over_bdir-31793-4ydxEm/Net-HTTP-API-0.14-0/blib/lib/Net/HTTP/API/Meta/Method.pm line 0
eval {...} called at /tmp/loop_over_bdir-31793-4ydxEm/Net-HTTP-API-0.14-0/blib/lib/Net/HTTP/API/Meta/Method.pm line 0
eval 'package main;
BEGIN { ${^WARNING_BITS} = $args[-1] if defined $args[-1] }
#line 4 t/00_compile.t
use Net::HTTP::API @{$args[0]};
1;
' called at /home/sand/src/perl/repoperls/installed-perls/host/k93msid/v5.25.12/5ea4/lib/site_perl/5.25.12/Test/More.pm line 1031
Test::More::_eval("package main;\x{a}BEGIN { \${^WARNING_BITS} = \$args[-1] if defined"..., ARRAY(0x55ecfc219068), "UUUUUUUUUUUUUUUUU\x{5}") called at /home/sand/src/perl/repoperls/installed-perls/host/k93msid/v5.25.12/5ea4/lib/site_perl/5.25.12/Test/More.pm line 1007
Test::More::use_ok("Net::HTTP::API") called at t/00_compile.t line 4
main::BEGIN() called at /tmp/loop_over_bdir-31793-4ydxEm/Net-HTTP-API-0.14-0/blib/lib/Net/HTTP/API/Meta/Method.pm line 0
eval {...} called at /tmp/loop_over_bdir-31793-4ydxEm/Net-HTTP-API-0.14-0/blib/lib/Net/HTTP/API/Meta/Method.pm line 0
Passing a list of values to enum is deprecated. Enum values should be wrapped in an arrayref. at /home/sand/src/perl/repoperls/installed-perls/host/k93msid/v5.25.12/5ea4/lib/site_perl/5.25.12/x86_64-linux-thread-multi-ld/Moose/Util/TypeConstraints.pm line 437.
Moose::Util::TypeConstraints::enum("FormatMode", "content-type", "append") called at /tmp/loop_over_bdir-31793-4ydxEm/Net-HTTP-API-0.14-0/blib/lib/Net/HTTP/API/Role/Format.pm line 23
require Net/HTTP/API/Role/Format.pm called at /home/sand/src/perl/repoperls/installed-perls/host/k93msid/v5.25.12/5ea4/lib/site_perl/5.25.12/Module/Runtime.pm line 317
Module::Runtime::require_module("Net::HTTP::API::Role::Format") called at /home/sand/src/perl/repoperls/installed-perls/host/k93msid/v5.25.12/5ea4/lib/site_perl/5.25.12/Module/Runtime.pm line 381
eval {...} called at /home/sand/src/perl/repoperls/installed-perls/host/k93msid/v5.25.12/5ea4/lib/site_perl/5.25.12/Module/Runtime.pm line 381
Module::Runtime::use_package_optimistically("Net::HTTP::API::Role::Format") called at /home/sand/src/perl/repoperls/installed-perls/host/k93msid/v5.25.12/5ea4/lib/site_perl/5.25.12/x86_64-linux-thread-multi-ld/Moose/Util.pm line 352
Moose::Util::_load_user_class("Net::HTTP::API::Role::Format", undef) called at /home/sand/src/perl/repoperls/installed-perls/host/k93msid/v5.25.12/5ea4/lib/site_perl/5.25.12/x86_64-linux-thread-multi-ld/Moose/Util.pm line 147
Moose::Util::_apply_all_roles(Moose::Meta::Class=HASH(0x55ecfd0f9870), undef, "Net::HTTP::API::Role::UserAgent", "Net::HTTP::API::Role::Format", "Net::HTTP::API::Role::Authentication", "Net::HTTP::API::Role::Serialization", "Net::HTTP::API::Role::Request") called at /home/sand/src/perl/repoperls/installed-perls/host/k93msid/v5.25.12/5ea4/lib/site_perl/5.25.12/x86_64-linux-thread-multi-ld/Moose/Util.pm line 114
Moose::Util::apply_all_roles(Moose::Meta::Class=HASH(0x55ecfd0f9870), "Net::HTTP::API::Role::UserAgent", "Net::HTTP::API::Role::Format", "Net::HTTP::API::Role::Authentication", "Net::HTTP::API::Role::Serialization", "Net::HTTP::API::Role::Request") called at /home/sand/src/perl/repoperls/installed-perls/host/k93msid/v5.25.12/5ea4/lib/site_perl/5.25.12/x86_64-linux-thread-multi-ld/Moose/Meta/Class.pm line 88
Moose::Meta::Class::create("Moose::Meta::Class", "Moose::Meta::Class::__ANON__::SERIAL::10", "roles", ARRAY(0x55ecfcf3d818), "weaken", "", "superclasses", ARRAY(0x55ecfd5a2098)) called at /home/sand/src/perl/repoperls/installed-perls/host/k93msid/v5.25.12/5ea4/lib/site_perl/5.25.12/x86_64-linux-thread-multi-ld/Class/MOP/Package.pm line 120
Class::MOP::Package::create_anon("Moose::Meta::Class", "superclasses", ARRAY(0x55ecfd5a2098), "roles", ARRAY(0x55ecfcf3d818), "cache", 1) called at /home/sand/src/perl/repoperls/installed-perls/host/k93msid/v5.25.12/5ea4/lib/site_perl/5.25.12/x86_64-linux-thread-multi-ld/Class/MOP/Class.pm line 472
Class::MOP::Class::create_anon_class("Moose::Meta::Class", "superclasses", ARRAY(0x55ecfd5a2098), "roles", ARRAY(0x55ecfcf3d818), "cache", 1) called at /home/sand/src/perl/repoperls/installed-perls/host/k93msid/v5.25.12/5ea4/lib/site_perl/5.25.12/x86_64-linux-thread-multi-ld/Moose/Util/MetaRole.pm line 108
Moose::Util::MetaRole::_make_new_class("main", ARRAY(0x55ecfcf3d818), ARRAY(0x55ecfd5a2098)) called at /home/sand/src/perl/repoperls/installed-perls/host/k93msid/v5.25.12/5ea4/lib/site_perl/5.25.12/x86_64-linux-thread-multi-ld/Moose/Util/MetaRole.pm line 88
Moose::Util::MetaRole::apply_base_class_roles("for", "main", "roles", ARRAY(0x55ecfcf3d818)) called at /tmp/loop_over_bdir-31793-4ydxEm/Net-HTTP-API-0.14-0/blib/lib/Net/HTTP/API.pm line 41
Net::HTTP::API::init_meta("Net::HTTP::API", "for_class", "Net::HTTP::API::Role::Format", "metaclass", undef, "meta_name", "meta") called at /home/sand/src/perl/repoperls/installed-perls/host/k93msid/v5.25.12/5ea4/lib/site_perl/5.25.12/x86_64-linux-thread-multi-ld/Moose/Exporter.pm line 484
Net::HTTP::API::import("Net::HTTP::API") called at t/00_compile.t line 4
main::BEGIN() called at /tmp/loop_over_bdir-31793-4ydxEm/Net-HTTP-API-0.14-0/blib/lib/Net/HTTP/API/Role/Format.pm line 0
eval {...} called at /tmp/loop_over_bdir-31793-4ydxEm/Net-HTTP-API-0.14-0/blib/lib/Net/HTTP/API/Role/Format.pm line 0
eval 'package main;
BEGIN { ${^WARNING_BITS} = $args[-1] if defined $args[-1] }
#line 4 t/00_compile.t
use Net::HTTP::API @{$args[0]};
1;
' called at /home/sand/src/perl/repoperls/installed-perls/host/k93msid/v5.25.12/5ea4/lib/site_perl/5.25.12/Test/More.pm line 1031
Test::More::_eval("package main;\x{a}BEGIN { \${^WARNING_BITS} = \$args[-1] if defined"..., ARRAY(0x55ecfc219068), "UUUUUUUUUUUUUUUUU\x{5}") called at /home/sand/src/perl/repoperls/installed-perls/host/k93msid/v5.25.12/5ea4/lib/site_perl/5.25.12/Test/More.pm line 1007
Test::More::use_ok("Net::HTTP::API") called at t/00_compile.t line 4
main::BEGIN() called at /tmp/loop_over_bdir-31793-4ydxEm/Net-HTTP-API-0.14-0/blib/lib/Net/HTTP/API/Role/Format.pm line 0
eval {...} called at /tmp/loop_over_bdir-31793-4ydxEm/Net-HTTP-API-0.14-0/blib/lib/Net/HTTP/API/Role/Format.pm line 0
t/00_compile.t ............ ok
Passing a list of values to enum is deprecated. Enum values should be wrapped in an arrayref. at /home/sand/src/perl/repoperls/installed-perls/host/k93msid/v5.25.12/5ea4/lib/site_perl/5.25.12/x86_64-linux-thread-multi-ld/Moose/Util/TypeConstraints.pm line 437.
Moose::Util::TypeConstraints::enum("Method", "HEAD", "GET", "POST", "PUT", "DELETE") called at /tmp/loop_over_bdir-31793-4ydxEm/Net-HTTP-API-0.14-0/blib/lib/Net/HTTP/API/Meta/Method.pm line 21
require Net/HTTP/API/Meta/Method.pm called at /tmp/loop_over_bdir-31793-4ydxEm/Net-HTTP-API-0.14-0/blib/lib/Net/HTTP/API/Meta/Method/APIMethod.pm line 10
Net::HTTP::API::Meta::Method::APIMethod::BEGIN() called at /tmp/loop_over_bdir-31793-4ydxEm/Net-HTTP-API-0.14-0/blib/lib/Net/HTTP/API/Meta/Method.pm line 0
eval {...} called at /tmp/loop_over_bdir-31793-4ydxEm/Net-HTTP-API-0.14-0/blib/lib/Net/HTTP/API/Meta/Method.pm line 0
require Net/HTTP/API/Meta/Method/APIMethod.pm called at /home/sand/src/perl/repoperls/installed-perls/host/k93msid/v5.25.12/5ea4/lib/site_perl/5.25.12/Module/Runtime.pm line 317
Module::Runtime::require_module("Net::HTTP::API::Meta::Method::APIMethod") called at /home/sand/src/perl/repoperls/installed-perls/host/k93msid/v5.25.12/5ea4/lib/site_perl/5.25.12/Module/Runtime.pm line 381
eval {...} called at /home/sand/src/perl/repoperls/installed-perls/host/k93msid/v5.25.12/5ea4/lib/site_perl/5.25.12/Module/Runtime.pm line 381
Module::Runtime::use_package_optimistically("Net::HTTP::API::Meta::Method::APIMethod") called at /home/sand/src/perl/repoperls/installed-perls/host/k93msid/v5.25.12/5ea4/lib/site_perl/5.25.12/x86_64-linux-thread-multi-ld/Moose/Util.pm line 352
Moose::Util::_load_user_class("Net::HTTP::API::Meta::Method::APIMethod", undef) called at /home/sand/src/perl/repoperls/installed-perls/host/k93msid/v5.25.12/5ea4/lib/site_perl/5.25.12/x86_64-linux-thread-multi-ld/Moose/Util.pm line 147
Moose::Util::_apply_all_roles(Moose::Meta::Role=HASH(0x559aee6a70e0), undef, "Net::HTTP::API::Meta::Method::APIMethod", "Net::HTTP::API::Meta::Method::APIDeclare") called at /home/sand/src/perl/repoperls/installed-perls/host/k93msid/v5.25.12/5ea4/lib/site_perl/5.25.12/x86_64-linux-thread-multi-ld/Moose/Util.pm line 114
Moose::Util::apply_all_roles(Moose::Meta::Role=HASH(0x559aee6a70e0), "Net::HTTP::API::Meta::Method::APIMethod", "Net::HTTP::API::Meta::Method::APIDeclare") called at /home/sand/src/perl/repoperls/installed-perls/host/k93msid/v5.25.12/5ea4/lib/site_perl/5.25.12/x86_64-linux-thread-multi-ld/Moose/Role.pm line 25
Moose::Role::with(Moose::Meta::Role=HASH(0x559aee6a70e0), "Net::HTTP::API::Meta::Method::APIMethod", "Net::HTTP::API::Meta::Method::APIDeclare") called at /home/sand/src/perl/repoperls/installed-perls/host/k93msid/v5.25.12/5ea4/lib/site_perl/5.25.12/x86_64-linux-thread-multi-ld/Moose/Exporter.pm line 419
Moose::Role::with("Net::HTTP::API::Meta::Method::APIMethod", "Net::HTTP::API::Meta::Method::APIDeclare") called at /tmp/loop_over_bdir-31793-4ydxEm/Net-HTTP-API-0.14-0/blib/lib/Net/HTTP/API/Meta/Class.pm line 10
require Net/HTTP/API/Meta/Class.pm called at /home/sand/src/perl/repoperls/installed-perls/host/k93msid/v5.25.12/5ea4/lib/site_perl/5.25.12/Module/Runtime.pm line 317
Module::Runtime::require_module("Net::HTTP::API::Meta::Class") called at /home/sand/src/perl/repoperls/installed-perls/host/k93msid/v5.25.12/5ea4/lib/site_perl/5.25.12/Module/Runtime.pm line 381
eval {...} called at /home/sand/src/perl/repoperls/installed-perls/host/k93msid/v5.25.12/5ea4/lib/site_perl/5.25.12/Module/Runtime.pm line 381
Module::Runtime::use_package_optimistically("Net::HTTP::API::Meta::Class") called at /home/sand/src/perl/repoperls/installed-perls/host/k93msid/v5.25.12/5ea4/lib/site_perl/5.25.12/x86_64-linux-thread-multi-ld/Moose/Util.pm line 352
Moose::Util::_load_user_class("Net::HTTP::API::Meta::Class", undef) called at /home/sand/src/perl/repoperls/installed-perls/host/k93msid/v5.25.12/5ea4/lib/site_perl/5.25.12/x86_64-linux-thread-multi-ld/Moose/Util.pm line 147
Moose::Util::_apply_all_roles(Moose::Meta::Class=HASH(0x559aed8400f8), undef, "Net::HTTP::API::Meta::Class") called at /home/sand/src/perl/repoperls/installed-perls/host/k93msid/v5.25.12/5ea4/lib/site_perl/5.25.12/x86_64-linux-thread-multi-ld/Moose/Util.pm line 114
Moose::Util::apply_all_roles(Moose::Meta::Class=HASH(0x559aed8400f8), "Net::HTTP::API::Meta::Class") called at /home/sand/src/perl/repoperls/installed-perls/host/k93msid/v5.25.12/5ea4/lib/site_perl/5.25.12/x86_64-linux-thread-multi-ld/Moose/Meta/Class.pm line 88
Moose::Meta::Class::create("Moose::Meta::Class", "Moose::Meta::Class::__ANON__::SERIAL::1", "superclasses", ARRAY(0x559aed83fc78), "weaken", "", "roles", ARRAY(0x559aed8254d0)) called at /home/sand/src/perl/repoperls/installed-perls/host/k93msid/v5.25.12/5ea4/lib/site_perl/5.25.12/x86_64-linux-thread-multi-ld/Class/MOP/Package.pm line 120
Class::MOP::Package::create_anon("Moose::Meta::Class", "superclasses", ARRAY(0x559aed83fc78), "roles", ARRAY(0x559aed8254d0), "cache", 1) called at /home/sand/src/perl/repoperls/installed-perls/host/k93msid/v5.25.12/5ea4/lib/site_perl/5.25.12/x86_64-linux-thread-multi-ld/Class/MOP/Class.pm line 472
Class::MOP::Class::create_anon_class("Moose::Meta::Class", "superclasses", ARRAY(0x559aed83fc78), "roles", ARRAY(0x559aed8254d0), "cache", 1) called at /home/sand/src/perl/repoperls/installed-perls/host/k93msid/v5.25.12/5ea4/lib/site_perl/5.25.12/x86_64-linux-thread-multi-ld/Moose/Util/MetaRole.pm line 108
Moose::Util::MetaRole::_make_new_class("Moose::Meta::Class", ARRAY(0x559aed8254d0)) called at /home/sand/src/perl/repoperls/installed-perls/host/k93msid/v5.25.12/5ea4/lib/site_perl/5.25.12/x86_64-linux-thread-multi-ld/Moose/Util/MetaRole.pm line 53
Moose::Util::MetaRole::_make_new_metaclass(Moose::Meta::Class=HASH(0x559aed83f720), HASH(0x559aee6891f0), "class") called at /home/sand/src/perl/repoperls/installed-perls/host/k93msid/v5.25.12/5ea4/lib/site_perl/5.25.12/x86_64-linux-thread-multi-ld/Moose/Util/MetaRole.pm line 21
Moose::Util::MetaRole::apply_metaroles("for", "TestAPI", "class_metaroles", HASH(0x559aee6891f0)) called at /tmp/loop_over_bdir-31793-4ydxEm/Net-HTTP-API-0.14-0/blib/lib/Net/HTTP/API.pm line 34
Net::HTTP::API::init_meta("Net::HTTP::API", "for_class", "MooseX::Types::Moose", "metaclass", undef, "meta_name", "meta") called at /home/sand/src/perl/repoperls/installed-perls/host/k93msid/v5.25.12/5ea4/lib/site_perl/5.25.12/x86_64-linux-thread-multi-ld/Moose/Exporter.pm line 484
Net::HTTP::API::import("Net::HTTP::API") called at t/lib/TestAPI.pm line 2
TestAPI::BEGIN() called at /tmp/loop_over_bdir-31793-4ydxEm/Net-HTTP-API-0.14-0/blib/lib/Net/HTTP/API/Meta/Method.pm line 0
eval {...} called at /tmp/loop_over_bdir-31793-4ydxEm/Net-HTTP-API-0.14-0/blib/lib/Net/HTTP/API/Meta/Method.pm line 0
require TestAPI.pm called at t/01_basic.t line 9
main::BEGIN() called at /tmp/loop_over_bdir-31793-4ydxEm/Net-HTTP-API-0.14-0/blib/lib/Net/HTTP/API/Meta/Method.pm line 0
eval {...} called at /tmp/loop_over_bdir-31793-4ydxEm/Net-HTTP-API-0.14-0/blib/lib/Net/HTTP/API/Meta/Method.pm line 0
Passing a list of values to enum is deprecated. Enum values should be wrapped in an arrayref. at /home/sand/src/perl/repoperls/installed-perls/host/k93msid/v5.25.12/5ea4/lib/site_perl/5.25.12/x86_64-linux-thread-multi-ld/Moose/Util/TypeConstraints.pm line 437.
Moose::Util::TypeConstraints::enum("FormatMode", "content-type", "append") called at /tmp/loop_over_bdir-31793-4ydxEm/Net-HTTP-API-0.14-0/blib/lib/Net/HTTP/API/Role/Format.pm line 23
require Net/HTTP/API/Role/Format.pm called at /home/sand/src/perl/repoperls/installed-perls/host/k93msid/v5.25.12/5ea4/lib/site_perl/5.25.12/Module/Runtime.pm line 317
Module::Runtime::require_module("Net::HTTP::API::Role::Format") called at /home/sand/src/perl/repoperls/installed-perls/host/k93msid/v5.25.12/5ea4/lib/site_perl/5.25.12/Module/Runtime.pm line 381
eval {...} called at /home/sand/src/perl/repoperls/installed-perls/host/k93msid/v5.25.12/5ea4/lib/site_perl/5.25.12/Module/Runtime.pm line 381
Module::Runtime::use_package_optimistically("Net::HTTP::API::Role::Format") called at /home/sand/src/perl/repoperls/installed-perls/host/k93msid/v5.25.12/5ea4/lib/site_perl/5.25.12/x86_64-linux-thread-multi-ld/Moose/Util.pm line 352
Moose::Util::_load_user_class("Net::HTTP::API::Role::Format", undef) called at /home/sand/src/perl/repoperls/installed-perls/host/k93msid/v5.25.12/5ea4/lib/site_perl/5.25.12/x86_64-linux-thread-multi-ld/Moose/Util.pm line 147
Moose::Util::_apply_all_roles(Moose::Meta::Class=HASH(0x559aed83fdf8), undef, "Net::HTTP::API::Role::UserAgent", "Net::HTTP::API::Role::Format", "Net::HTTP::API::Role::Authentication", "Net::HTTP::API::Role::Serialization", "Net::HTTP::API::Role::Request") called at /home/sand/src/perl/repoperls/installed-perls/host/k93msid/v5.25.12/5ea4/lib/site_perl/5.25.12/x86_64-linux-thread-multi-ld/Moose/Util.pm line 114
Moose::Util::apply_all_roles(Moose::Meta::Class=HASH(0x559aed83fdf8), "Net::HTTP::API::Role::UserAgent", "Net::HTTP::API::Role::Format", "Net::HTTP::API::Role::Authentication", "Net::HTTP::API::Role::Serialization", "Net::HTTP::API::Role::Request") called at /home/sand/src/perl/repoperls/installed-perls/host/k93msid/v5.25.12/5ea4/lib/site_perl/5.25.12/x86_64-linux-thread-multi-ld/Moose/Meta/Class.pm line 88
Moose::Meta::Class::create("Moose::Meta::Class", "Moose::Meta::Class::__ANON__::SERIAL::10", "superclasses", ARRAY(0x559aeeb219c8), "weaken", "", "roles", ARRAY(0x559aed8255c0)) called at /home/sand/src/perl/repoperls/installed-perls/host/k93msid/v5.25.12/5ea4/lib/site_perl/5.25.12/x86_64-linux-thread-multi-ld/Class/MOP/Package.pm line 120
Class::MOP::Package::create_anon("Moose::Meta::Class", "superclasses", ARRAY(0x559aeeb219c8), "roles", ARRAY(0x559aed8255c0), "cache", 1) called at /home/sand/src/perl/repoperls/installed-perls/host/k93msid/v5.25.12/5ea4/lib/site_perl/5.25.12/x86_64-linux-thread-multi-ld/Class/MOP/Class.pm line 472
Class::MOP::Class::create_anon_class("Moose::Meta::Class", "superclasses", ARRAY(0x559aeeb219c8), "roles", ARRAY(0x559aed8255c0), "cache", 1) called at /home/sand/src/perl/repoperls/installed-perls/host/k93msid/v5.25.12/5ea4/lib/site_perl/5.25.12/x86_64-linux-thread-multi-ld/Moose/Util/MetaRole.pm line 108
Moose::Util::MetaRole::_make_new_class("TestAPI", ARRAY(0x559aed8255c0), ARRAY(0x559aeeb219c8)) called at /home/sand/src/perl/repoperls/installed-perls/host/k93msid/v5.25.12/5ea4/lib/site_perl/5.25.12/x86_64-linux-thread-multi-ld/Moose/Util/MetaRole.pm line 88
Moose::Util::MetaRole::apply_base_class_roles("for", "TestAPI", "roles", ARRAY(0x559aed8255c0)) called at /tmp/loop_over_bdir-31793-4ydxEm/Net-HTTP-API-0.14-0/blib/lib/Net/HTTP/API.pm line 41
Net::HTTP::API::init_meta("Net::HTTP::API", "for_class", "Net::HTTP::API::Role::Format", "metaclass", undef, "meta_name", "meta") called at /home/sand/src/perl/repoperls/installed-perls/host/k93msid/v5.25.12/5ea4/lib/site_perl/5.25.12/x86_64-linux-thread-multi-ld/Moose/Exporter.pm line 484
Net::HTTP::API::import("Net::HTTP::API") called at t/lib/TestAPI.pm line 2
TestAPI::BEGIN() called at /tmp/loop_over_bdir-31793-4ydxEm/Net-HTTP-API-0.14-0/blib/lib/Net/HTTP/API/Role/Format.pm line 0
eval {...} called at /tmp/loop_over_bdir-31793-4ydxEm/Net-HTTP-API-0.14-0/blib/lib/Net/HTTP/API/Role/Format.pm line 0
require TestAPI.pm called at t/01_basic.t line 9
main::BEGIN() called at /tmp/loop_over_bdir-31793-4ydxEm/Net-HTTP-API-0.14-0/blib/lib/Net/HTTP/API/Role/Format.pm line 0
eval {...} called at /tmp/loop_over_bdir-31793-4ydxEm/Net-HTTP-API-0.14-0/blib/lib/Net/HTTP/API/Role/Format.pm line 0
Class::MOP::load_class is deprecated at /home/sand/src/perl/repoperls/installed-perls/host/k93msid/v5.25.12/5ea4/lib/site_perl/5.25.12/x86_64-linux-thread-multi-ld/Class/MOP.pm line 69.
Class::MOP::load_class("Net::HTTP::API::Parser::JSON") called at /tmp/loop_over_bdir-31793-4ydxEm/Net-HTTP-API-0.14-0/blib/lib/Net/HTTP/API/Role/Serialization.pm line 74
Net::HTTP::API::Role::Serialization::_load_serializer(TestAPI=HASH(0x559aed2080a0), "json") called at /tmp/loop_over_bdir-31793-4ydxEm/Net-HTTP-API-0.14-0/blib/lib/Net/HTTP/API/Role/Serialization.pm line 53
Net::HTTP::API::Role::Serialization::deserialize(TestAPI=HASH(0x559aed2080a0), "[{\"name\":\"eris\"}]", ARRAY(0x559aeeec20d0)) called at /tmp/loop_over_bdir-31793-4ydxEm/Net-HTTP-API-0.14-0/blib/lib/Net/HTTP/API/Role/Serialization.pm line 37
Net::HTTP::API::Role::Serialization::get_content(TestAPI=HASH(0x559aed2080a0), HTTP::Response=HASH(0x559aef60f4f0)) called at /tmp/loop_over_bdir-31793-4ydxEm/Net-HTTP-API-0.14-0/blib/lib/Net/HTTP/API/Meta/Method.pm line 134
TestAPI::users(TestAPI=HASH(0x559aed2080a0)) called at /home/sand/src/perl/repoperls/installed-perls/host/k93msid/v5.25.12/5ea4/lib/site_perl/5.25.12/x86_64-linux-thread-multi-ld/Class/MOP/Method/Wrapped.pm line 44
TestAPI::_wrapped_users(TestAPI=HASH(0x559aed2080a0)) called at /home/sand/src/perl/repoperls/installed-perls/host/k93msid/v5.25.12/5ea4/lib/site_perl/5.25.12/x86_64-linux-thread-multi-ld/Class/MOP/Method/Wrapped.pm line 95
TestAPI::users(TestAPI=HASH(0x559aed2080a0)) called at t/01_basic.t line 29
t/01_basic.t .............. ok
Passing a list of values to enum is deprecated. Enum values should be wrapped in an arrayref. at /home/sand/src/perl/repoperls/installed-perls/host/k93msid/v5.25.12/5ea4/lib/site_perl/5.25.12/x86_64-linux-thread-multi-ld/Moose/Util/TypeConstraints.pm line 437.
Moose::Util::TypeConstraints::enum("Method", "HEAD", "GET", "POST", "PUT", "DELETE") called at /tmp/loop_over_bdir-31793-4ydxEm/Net-HTTP-API-0.14-0/blib/lib/Net/HTTP/API/Meta/Method.pm line 21
require Net/HTTP/API/Meta/Method.pm called at /tmp/loop_over_bdir-31793-4ydxEm/Net-HTTP-API-0.14-0/blib/lib/Net/HTTP/API/Meta/Method/APIMethod.pm line 10
Net::HTTP::API::Meta::Method::APIMethod::BEGIN() called at /tmp/loop_over_bdir-31793-4ydxEm/Net-HTTP-API-0.14-0/blib/lib/Net/HTTP/API/Meta/Method.pm line 0
eval {...} called at /tmp/loop_over_bdir-31793-4ydxEm/Net-HTTP-API-0.14-0/blib/lib/Net/HTTP/API/Meta/Method.pm line 0
require Net/HTTP/API/Meta/Method/APIMethod.pm called at /home/sand/src/perl/repoperls/installed-perls/host/k93msid/v5.25.12/5ea4/lib/site_perl/5.25.12/Module/Runtime.pm line 317
Module::Runtime::require_module("Net::HTTP::API::Meta::Method::APIMethod") called at /home/sand/src/perl/repoperls/installed-perls/host/k93msid/v5.25.12/5ea4/lib/site_perl/5.25.12/Module/Runtime.pm line 381
eval {...} called at /home/sand/src/perl/repoperls/installed-perls/host/k93msid/v5.25.12/5ea4/lib/site_perl/5.25.12/Module/Runtime.pm line 381
Module::Runtime::use_package_optimistically("Net::HTTP::API::Meta::Method::APIMethod") called at /home/sand/src/perl/repoperls/installed-perls/host/k93msid/v5.25.12/5ea4/lib/site_perl/5.25.12/x86_64-linux-thread-multi-ld/Moose/Util.pm line 352
Moose::Util::_load_user_class("Net::HTTP::API::Meta::Method::APIMethod", undef) called at /home/sand/src/perl/repoperls/installed-perls/host/k93msid/v5.25.12/5ea4/lib/site_perl/5.25.12/x86_64-linux-thread-multi-ld/Moose/Util.pm line 147
Moose::Util::_apply_all_roles(Moose::Meta::Role=HASH(0x5647de429468), undef, "Net::HTTP::API::Meta::Method::APIMethod", "Net::HTTP::API::Meta::Method::APIDeclare") called at /home/sand/src/perl/repoperls/installed-perls/host/k93msid/v5.25.12/5ea4/lib/site_perl/5.25.12/x86_64-linux-thread-multi-ld/Moose/Util.pm line 114
Moose::Util::apply_all_roles(Moose::Meta::Role=HASH(0x5647de429468), "Net::HTTP::API::Meta::Method::APIMethod", "Net::HTTP::API::Meta::Method::APIDeclare") called at /home/sand/src/perl/repoperls/installed-perls/host/k93msid/v5.25.12/5ea4/lib/site_perl/5.25.12/x86_64-linux-thread-multi-ld/Moose/Role.pm line 25
Moose::Role::with(Moose::Meta::Role=HASH(0x5647de429468), "Net::HTTP::API::Meta::Method::APIMethod", "Net::HTTP::API::Meta::Method::APIDeclare") called at /home/sand/src/perl/repoperls/installed-perls/host/k93msid/v5.25.12/5ea4/lib/site_perl/5.25.12/x86_64-linux-thread-multi-ld/Moose/Exporter.pm line 419
Moose::Role::with("Net::HTTP::API::Meta::Method::APIMethod", "Net::HTTP::API::Meta::Method::APIDeclare") called at /tmp/loop_over_bdir-31793-4ydxEm/Net-HTTP-API-0.14-0/blib/lib/Net/HTTP/API/Meta/Class.pm line 10
require Net/HTTP/API/Meta/Class.pm called at /home/sand/src/perl/repoperls/installed-perls/host/k93msid/v5.25.12/5ea4/lib/site_perl/5.25.12/Module/Runtime.pm line 317
Module::Runtime::require_module("Net::HTTP::API::Meta::Class") called at /home/sand/src/perl/repoperls/installed-perls/host/k93msid/v5.25.12/5ea4/lib/site_perl/5.25.12/Module/Runtime.pm line 381
eval {...} called at /home/sand/src/perl/repoperls/installed-perls/host/k93msid/v5.25.12/5ea4/lib/site_perl/5.25.12/Module/Runtime.pm line 381
Module::Runtime::use_package_optimistically("Net::HTTP::API::Meta::Class") called at /home/sand/src/perl/repoperls/installed-perls/host/k93msid/v5.25.12/5ea4/lib/site_perl/5.25.12/x86_64-linux-thread-multi-ld/Moose/Util.pm line 352
Moose::Util::_load_user_class("Net::HTTP::API::Meta::Class", undef) called at /home/sand/src/perl/repoperls/installed-perls/host/k93msid/v5.25.12/5ea4/lib/site_perl/5.25.12/x86_64-linux-thread-multi-ld/Moose/Util.pm line 147
Moose::Util::_apply_all_roles(Moose::Meta::Class=HASH(0x5647de3fa518), undef, "Net::HTTP::API::Meta::Class") called at /home/sand/src/perl/repoperls/installed-perls/host/k93msid/v5.25.12/5ea4/lib/site_perl/5.25.12/x86_64-linux-thread-multi-ld/Moose/Util.pm line 114
Moose::Util::apply_all_roles(Moose::Meta::Class=HASH(0x5647de3fa518), "Net::HTTP::API::Meta::Class") called at /home/sand/src/perl/repoperls/installed-perls/host/k93msid/v5.25.12/5ea4/lib/site_perl/5.25.12/x86_64-linux-thread-multi-ld/Moose/Meta/Class.pm line 88
Moose::Meta::Class::create("Moose::Meta::Class", "Moose::Meta::Class::__ANON__::SERIAL::1", "weaken", "", "roles", ARRAY(0x5647de3f1a60), "superclasses", ARRAY(0x5647de3fa098)) called at /home/sand/src/perl/repoperls/installed-perls/host/k93msid/v5.25.12/5ea4/lib/site_perl/5.25.12/x86_64-linux-thread-multi-ld/Class/MOP/Package.pm line 120
Class::MOP::Package::create_anon("Moose::Meta::Class", "superclasses", ARRAY(0x5647de3fa098), "roles", ARRAY(0x5647de3f1a60), "cache", 1) called at /home/sand/src/perl/repoperls/installed-perls/host/k93msid/v5.25.12/5ea4/lib/site_perl/5.25.12/x86_64-linux-thread-multi-ld/Class/MOP/Class.pm line 472
Class::MOP::Class::create_anon_class("Moose::Meta::Class", "superclasses", ARRAY(0x5647de3fa098), "roles", ARRAY(0x5647de3f1a60), "cache", 1) called at /home/sand/src/perl/repoperls/installed-perls/host/k93msid/v5.25.12/5ea4/lib/site_perl/5.25.12/x86_64-linux-thread-multi-ld/Moose/Util/MetaRole.pm line 108
Moose::Util::MetaRole::_make_new_class("Moose::Meta::Class", ARRAY(0x5647de3f1a60)) called at /home/sand/src/perl/repoperls/installed-perls/host/k93msid/v5.25.12/5ea4/lib/site_perl/5.25.12/x86_64-linux-thread-multi-ld/Moose/Util/MetaRole.pm line 53
Moose::Util::MetaRole::_make_new_metaclass(Moose::Meta::Class=HASH(0x5647de3f9b28), HASH(0x5647dd591c08), "class") called at /home/sand/src/perl/repoperls/installed-perls/host/k93msid/v5.25.12/5ea4/lib/site_perl/5.25.12/x86_64-linux-thread-multi-ld/Moose/Util/MetaRole.pm line 21
Moose::Util::MetaRole::apply_metaroles("for", "test::api::missing_api_base_url", "class_metaroles", HASH(0x5647dd591c08)) called at /tmp/loop_over_bdir-31793-4ydxEm/Net-HTTP-API-0.14-0/blib/lib/Net/HTTP/API.pm line 34
Net::HTTP::API::init_meta("Net::HTTP::API", "for_class", "MooseX::Types::Moose", "metaclass", undef, "meta_name", "meta") called at /home/sand/src/perl/repoperls/installed-perls/host/k93msid/v5.25.12/5ea4/lib/site_perl/5.25.12/x86_64-linux-thread-multi-ld/Moose/Exporter.pm line 484
Net::HTTP::API::import("Net::HTTP::API") called at t/02_error.t line 7
test::api::missing_api_base_url::BEGIN() called at /tmp/loop_over_bdir-31793-4ydxEm/Net-HTTP-API-0.14-0/blib/lib/Net/HTTP/API/Meta/Method.pm line 0
eval {...} called at /tmp/loop_over_bdir-31793-4ydxEm/Net-HTTP-API-0.14-0/blib/lib/Net/HTTP/API/Meta/Method.pm line 0
Passing a list of values to enum is deprecated. Enum values should be wrapped in an arrayref. at /home/sand/src/perl/repoperls/installed-perls/host/k93msid/v5.25.12/5ea4/lib/site_perl/5.25.12/x86_64-linux-thread-multi-ld/Moose/Util/TypeConstraints.pm line 437.
Moose::Util::TypeConstraints::enum("FormatMode", "content-type", "append") called at /tmp/loop_over_bdir-31793-4ydxEm/Net-HTTP-API-0.14-0/blib/lib/Net/HTTP/API/Role/Format.pm line 23
require Net/HTTP/API/Role/Format.pm called at /home/sand/src/perl/repoperls/installed-perls/host/k93msid/v5.25.12/5ea4/lib/site_perl/5.25.12/Module/Runtime.pm line 317
Module::Runtime::require_module("Net::HTTP::API::Role::Format") called at /home/sand/src/perl/repoperls/installed-perls/host/k93msid/v5.25.12/5ea4/lib/site_perl/5.25.12/Module/Runtime.pm line 381
eval {...} called at /home/sand/src/perl/repoperls/installed-perls/host/k93msid/v5.25.12/5ea4/lib/site_perl/5.25.12/Module/Runtime.pm line 381
Module::Runtime::use_package_optimistically("Net::HTTP::API::Role::Format") called at /home/sand/src/perl/repoperls/installed-perls/host/k93msid/v5.25.12/5ea4/lib/site_perl/5.25.12/x86_64-linux-thread-multi-ld/Moose/Util.pm line 352
Moose::Util::_load_user_class("Net::HTTP::API::Role::Format", undef) called at /home/sand/src/perl/repoperls/installed-perls/host/k93msid/v5.25.12/5ea4/lib/site_perl/5.25.12/x86_64-linux-thread-multi-ld/Moose/Util.pm line 147
Moose::Util::_apply_all_roles(Moose::Meta::Class=HASH(0x5647de3fa008), undef, "Net::HTTP::API::Role::UserAgent", "Net::HTTP::API::Role::Format", "Net::HTTP::API::Role::Authentication", "Net::HTTP::API::Role::Serialization", "Net::HTTP::API::Role::Request") called at /home/sand/src/perl/repoperls/installed-perls/host/k93msid/v5.25.12/5ea4/lib/site_perl/5.25.12/x86_64-linux-thread-multi-ld/Moose/Util.pm line 114
Moose::Util::apply_all_roles(Moose::Meta::Class=HASH(0x5647de3fa008), "Net::HTTP::API::Role::UserAgent", "Net::HTTP::API::Role::Format", "Net::HTTP::API::Role::Authentication", "Net::HTTP::API::Role::Serialization", "Net::HTTP::API::Role::Request") called at /home/sand/src/perl/repoperls/installed-perls/host/k93msid/v5.25.12/5ea4/lib/site_perl/5.25.12/x86_64-linux-thread-multi-ld/Moose/Meta/Class.pm line 88
Moose::Meta::Class::create("Moose::Meta::Class", "Moose::Meta::Class::__ANON__::SERIAL::10", "weaken", "", "roles", ARRAY(0x5647de3f14c0), "superclasses", ARRAY(0x5647de87de40)) called at /home/sand/src/perl/repoperls/installed-perls/host/k93msid/v5.25.12/5ea4/lib/site_perl/5.25.12/x86_64-linux-thread-multi-ld/Class/MOP/Package.pm line 120
Class::MOP::Package::create_anon("Moose::Meta::Class", "superclasses", ARRAY(0x5647de87de40), "roles", ARRAY(0x5647de3f14c0), "cache", 1) called at /home/sand/src/perl/repoperls/installed-perls/host/k93msid/v5.25.12/5ea4/lib/site_perl/5.25.12/x86_64-linux-thread-multi-ld/Class/MOP/Class.pm line 472
Class::MOP::Class::create_anon_class("Moose::Meta::Class", "superclasses", ARRAY(0x5647de87de40), "roles", ARRAY(0x5647de3f14c0), "cache", 1) called at /home/sand/src/perl/repoperls/installed-perls/host/k93msid/v5.25.12/5ea4/lib/site_perl/5.25.12/x86_64-linux-thread-multi-ld/Moose/Util/MetaRole.pm line 108
Moose::Util::MetaRole::_make_new_class("test::api::missing_api_base_url", ARRAY(0x5647de3f14c0), ARRAY(0x5647de87de40)) called at /home/sand/src/perl/repoperls/installed-perls/host/k93msid/v5.25.12/5ea4/lib/site_perl/5.25.12/x86_64-linux-thread-multi-ld/Moose/Util/MetaRole.pm line 88
Moose::Util::MetaRole::apply_base_class_roles("for", "test::api::missing_api_base_url", "roles", ARRAY(0x5647de3f14c0)) called at /tmp/loop_over_bdir-31793-4ydxEm/Net-HTTP-API-0.14-0/blib/lib/Net/HTTP/API.pm line 41
Net::HTTP::API::init_meta("Net::HTTP::API", "for_class", "Net::HTTP::API::Role::Format", "metaclass", undef, "meta_name", "meta") called at /home/sand/src/perl/repoperls/installed-perls/host/k93msid/v5.25.12/5ea4/lib/site_perl/5.25.12/x86_64-linux-thread-multi-ld/Moose/Exporter.pm line 484
Net::HTTP::API::import("Net::HTTP::API") called at t/02_error.t line 7
test::api::missing_api_base_url::BEGIN() called at /tmp/loop_over_bdir-31793-4ydxEm/Net-HTTP-API-0.14-0/blib/lib/Net/HTTP/API/Role/Format.pm line 0
eval {...} called at /tmp/loop_over_bdir-31793-4ydxEm/Net-HTTP-API-0.14-0/blib/lib/Net/HTTP/API/Role/Format.pm line 0
t/02_error.t .............. ok
t/03_serialization.t ...... ok
Passing a list of values to enum is deprecated. Enum values should be wrapped in an arrayref. at /home/sand/src/perl/repoperls/installed-perls/host/k93msid/v5.25.12/5ea4/lib/site_perl/5.25.12/x86_64-linux-thread-multi-ld/Moose/Util/TypeConstraints.pm line 437.
Moose::Util::TypeConstraints::enum("Method", "HEAD", "GET", "POST", "PUT", "DELETE") called at /tmp/loop_over_bdir-31793-4ydxEm/Net-HTTP-API-0.14-0/blib/lib/Net/HTTP/API/Meta/Method.pm line 21
require Net/HTTP/API/Meta/Method.pm called at t/04_apimethod.t line 5
main::BEGIN() called at /tmp/loop_over_bdir-31793-4ydxEm/Net-HTTP-API-0.14-0/blib/lib/Net/HTTP/API/Meta/Method.pm line 0
eval {...} called at /tmp/loop_over_bdir-31793-4ydxEm/Net-HTTP-API-0.14-0/blib/lib/Net/HTTP/API/Meta/Method.pm line 0
t/04_apimethod.t .......... ok
Passing a list of values to enum is deprecated. Enum values should be wrapped in an arrayref. at /home/sand/src/perl/repoperls/installed-perls/host/k93msid/v5.25.12/5ea4/lib/site_perl/5.25.12/x86_64-linux-thread-multi-ld/Moose/Util/TypeConstraints.pm line 437.
Moose::Util::TypeConstraints::enum("Method", "HEAD", "GET", "POST", "PUT", "DELETE") called at /tmp/loop_over_bdir-31793-4ydxEm/Net-HTTP-API-0.14-0/blib/lib/Net/HTTP/API/Meta/Method.pm line 21
require Net/HTTP/API/Meta/Method.pm called at /tmp/loop_over_bdir-31793-4ydxEm/Net-HTTP-API-0.14-0/blib/lib/Net/HTTP/API/Meta/Method/APIMethod.pm line 10
Net::HTTP::API::Meta::Method::APIMethod::BEGIN() called at /tmp/loop_over_bdir-31793-4ydxEm/Net-HTTP-API-0.14-0/blib/lib/Net/HTTP/API/Meta/Method.pm line 0
eval {...} called at /tmp/loop_over_bdir-31793-4ydxEm/Net-HTTP-API-0.14-0/blib/lib/Net/HTTP/API/Meta/Method.pm line 0
require Net/HTTP/API/Meta/Method/APIMethod.pm called at /home/sand/src/perl/repoperls/installed-perls/host/k93msid/v5.25.12/5ea4/lib/site_perl/5.25.12/Module/Runtime.pm line 317
Module::Runtime::require_module("Net::HTTP::API::Meta::Method::APIMethod") called at /home/sand/src/perl/repoperls/installed-perls/host/k93msid/v5.25.12/5ea4/lib/site_perl/5.25.12/Module/Runtime.pm line 381
eval {...} called at /home/sand/src/perl/repoperls/installed-perls/host/k93msid/v5.25.12/5ea4/lib/site_perl/5.25.12/Module/Runtime.pm line 381
Module::Runtime::use_package_optimistically("Net::HTTP::API::Meta::Method::APIMethod") called at /home/sand/src/perl/repoperls/installed-perls/host/k93msid/v5.25.12/5ea4/lib/site_perl/5.25.12/x86_64-linux-thread-multi-ld/Moose/Util.pm line 352
Moose::Util::_load_user_class("Net::HTTP::API::Meta::Method::APIMethod", undef) called at /home/sand/src/perl/repoperls/installed-perls/host/k93msid/v5.25.12/5ea4/lib/site_perl/5.25.12/x86_64-linux-thread-multi-ld/Moose/Util.pm line 147
Moose::Util::_apply_all_roles(Moose::Meta::Role=HASH(0x55976fcd6a18), undef, "Net::HTTP::API::Meta::Method::APIMethod", "Net::HTTP::API::Meta::Method::APIDeclare") called at /home/sand/src/perl/repoperls/installed-perls/host/k93msid/v5.25.12/5ea4/lib/site_perl/5.25.12/x86_64-linux-thread-multi-ld/Moose/Util.pm line 114
Moose::Util::apply_all_roles(Moose::Meta::Role=HASH(0x55976fcd6a18), "Net::HTTP::API::Meta::Method::APIMethod", "Net::HTTP::API::Meta::Method::APIDeclare") called at /home/sand/src/perl/repoperls/installed-perls/host/k93msid/v5.25.12/5ea4/lib/site_perl/5.25.12/x86_64-linux-thread-multi-ld/Moose/Role.pm line 25
Moose::Role::with(Moose::Meta::Role=HASH(0x55976fcd6a18), "Net::HTTP::API::Meta::Method::APIMethod", "Net::HTTP::API::Meta::Method::APIDeclare") called at /home/sand/src/perl/repoperls/installed-perls/host/k93msid/v5.25.12/5ea4/lib/site_perl/5.25.12/x86_64-linux-thread-multi-ld/Moose/Exporter.pm line 419
Moose::Role::with("Net::HTTP::API::Meta::Method::APIMethod", "Net::HTTP::API::Meta::Method::APIDeclare") called at /tmp/loop_over_bdir-31793-4ydxEm/Net-HTTP-API-0.14-0/blib/lib/Net/HTTP/API/Meta/Class.pm line 10
require Net/HTTP/API/Meta/Class.pm called at /home/sand/src/perl/repoperls/installed-perls/host/k93msid/v5.25.12/5ea4/lib/site_perl/5.25.12/Module/Runtime.pm line 317
Module::Runtime::require_module("Net::HTTP::API::Meta::Class") called at /home/sand/src/perl/repoperls/installed-perls/host/k93msid/v5.25.12/5ea4/lib/site_perl/5.25.12/Module/Runtime.pm line 381
eval {...} called at /home/sand/src/perl/repoperls/installed-perls/host/k93msid/v5.25.12/5ea4/lib/site_perl/5.25.12/Module/Runtime.pm line 381
Module::Runtime::use_package_optimistically("Net::HTTP::API::Meta::Class") called at /home/sand/src/perl/repoperls/installed-perls/host/k93msid/v5.25.12/5ea4/lib/site_perl/5.25.12/x86_64-linux-thread-multi-ld/Moose/Util.pm line 352
Moose::Util::_load_user_class("Net::HTTP::API::Meta::Class", undef) called at /home/sand/src/perl/repoperls/installed-perls/host/k93msid/v5.25.12/5ea4/lib/site_perl/5.25.12/x86_64-linux-thread-multi-ld/Moose/Util.pm line 147
Moose::Util::_apply_all_roles(Moose::Meta::Class=HASH(0x55976fcc9150), undef, "Net::HTTP::API::Meta::Class") called at /home/sand/src/perl/repoperls/installed-perls/host/k93msid/v5.25.12/5ea4/lib/site_perl/5.25.12/x86_64-linux-thread-multi-ld/Moose/Util.pm line 114
Moose::Util::apply_all_roles(Moose::Meta::Class=HASH(0x55976fcc9150), "Net::HTTP::API::Meta::Class") called at /home/sand/src/perl/repoperls/installed-perls/host/k93msid/v5.25.12/5ea4/lib/site_perl/5.25.12/x86_64-linux-thread-multi-ld/Moose/Meta/Class.pm line 88
Moose::Meta::Class::create("Moose::Meta::Class", "Moose::Meta::Class::__ANON__::SERIAL::1", "roles", ARRAY(0x55976edcc9f0), "superclasses", ARRAY(0x55976fcc8cd0), "weaken", "") called at /home/sand/src/perl/repoperls/installed-perls/host/k93msid/v5.25.12/5ea4/lib/site_perl/5.25.12/x86_64-linux-thread-multi-ld/Class/MOP/Package.pm line 120
Class::MOP::Package::create_anon("Moose::Meta::Class", "superclasses", ARRAY(0x55976fcc8cd0), "roles", ARRAY(0x55976edcc9f0), "cache", 1) called at /home/sand/src/perl/repoperls/installed-perls/host/k93msid/v5.25.12/5ea4/lib/site_perl/5.25.12/x86_64-linux-thread-multi-ld/Class/MOP/Class.pm line 472
Class::MOP::Class::create_anon_class("Moose::Meta::Class", "superclasses", ARRAY(0x55976fcc8cd0), "roles", ARRAY(0x55976edcc9f0), "cache", 1) called at /home/sand/src/perl/repoperls/installed-perls/host/k93msid/v5.25.12/5ea4/lib/site_perl/5.25.12/x86_64-linux-thread-multi-ld/Moose/Util/MetaRole.pm line 108
Moose::Util::MetaRole::_make_new_class("Moose::Meta::Class", ARRAY(0x55976edcc9f0)) called at /home/sand/src/perl/repoperls/installed-perls/host/k93msid/v5.25.12/5ea4/lib/site_perl/5.25.12/x86_64-linux-thread-multi-ld/Moose/Util/MetaRole.pm line 53
Moose::Util::MetaRole::_make_new_metaclass(Moose::Meta::Class=HASH(0x55976fcc8760), HASH(0x55976ee285b0), "class") called at /home/sand/src/perl/repoperls/installed-perls/host/k93msid/v5.25.12/5ea4/lib/site_perl/5.25.12/x86_64-linux-thread-multi-ld/Moose/Util/MetaRole.pm line 21
Moose::Util::MetaRole::apply_metaroles("for", "test::auth", "class_metaroles", HASH(0x55976ee285b0)) called at /tmp/loop_over_bdir-31793-4ydxEm/Net-HTTP-API-0.14-0/blib/lib/Net/HTTP/API.pm line 34
Net::HTTP::API::init_meta("Net::HTTP::API", "for_class", "MooseX::Types::Moose", "metaclass", undef, "meta_name", "meta") called at /home/sand/src/perl/repoperls/installed-perls/host/k93msid/v5.25.12/5ea4/lib/site_perl/5.25.12/x86_64-linux-thread-multi-ld/Moose/Exporter.pm line 484
Net::HTTP::API::import("Net::HTTP::API") called at t/05_authentication.t line 6
test::auth::BEGIN() called at /tmp/loop_over_bdir-31793-4ydxEm/Net-HTTP-API-0.14-0/blib/lib/Net/HTTP/API/Meta/Method.pm line 0
eval {...} called at /tmp/loop_over_bdir-31793-4ydxEm/Net-HTTP-API-0.14-0/blib/lib/Net/HTTP/API/Meta/Method.pm line 0
Passing a list of values to enum is deprecated. Enum values should be wrapped in an arrayref. at /home/sand/src/perl/repoperls/installed-perls/host/k93msid/v5.25.12/5ea4/lib/site_perl/5.25.12/x86_64-linux-thread-multi-ld/Moose/Util/TypeConstraints.pm line 437.
Moose::Util::TypeConstraints::enum("FormatMode", "content-type", "append") called at /tmp/loop_over_bdir-31793-4ydxEm/Net-HTTP-API-0.14-0/blib/lib/Net/HTTP/API/Role/Format.pm line 23
require Net/HTTP/API/Role/Format.pm called at /home/sand/src/perl/repoperls/installed-perls/host/k93msid/v5.25.12/5ea4/lib/site_perl/5.25.12/Module/Runtime.pm line 317
Module::Runtime::require_module("Net::HTTP::API::Role::Format") called at /home/sand/src/perl/repoperls/installed-perls/host/k93msid/v5.25.12/5ea4/lib/site_perl/5.25.12/Module/Runtime.pm line 381
eval {...} called at /home/sand/src/perl/repoperls/installed-perls/host/k93msid/v5.25.12/5ea4/lib/site_perl/5.25.12/Module/Runtime.pm line 381
Module::Runtime::use_package_optimistically("Net::HTTP::API::Role::Format") called at /home/sand/src/perl/repoperls/installed-perls/host/k93msid/v5.25.12/5ea4/lib/site_perl/5.25.12/x86_64-linux-thread-multi-ld/Moose/Util.pm line 352
Moose::Util::_load_user_class("Net::HTTP::API::Role::Format", undef) called at /home/sand/src/perl/repoperls/installed-perls/host/k93msid/v5.25.12/5ea4/lib/site_perl/5.25.12/x86_64-linux-thread-multi-ld/Moose/Util.pm line 147
Moose::Util::_apply_all_roles(Moose::Meta::Class=HASH(0x55976fccba68), undef, "Net::HTTP::API::Role::UserAgent", "Net::HTTP::API::Role::Format", "Net::HTTP::API::Role::Authentication", "Net::HTTP::API::Role::Serialization", "Net::HTTP::API::Role::Request") called at /home/sand/src/perl/repoperls/installed-perls/host/k93msid/v5.25.12/5ea4/lib/site_perl/5.25.12/x86_64-linux-thread-multi-ld/Moose/Util.pm line 114
Moose::Util::apply_all_roles(Moose::Meta::Class=HASH(0x55976fccba68), "Net::HTTP::API::Role::UserAgent", "Net::HTTP::API::Role::Format", "Net::HTTP::API::Role::Authentication", "Net::HTTP::API::Role::Serialization", "Net::HTTP::API::Role::Request") called at /home/sand/src/perl/repoperls/installed-perls/host/k93msid/v5.25.12/5ea4/lib/site_perl/5.25.12/x86_64-linux-thread-multi-ld/Moose/Meta/Class.pm line 88
Moose::Meta::Class::create("Moose::Meta::Class", "Moose::Meta::Class::__ANON__::SERIAL::10", "weaken", "", "roles", ARRAY(0x55976fcbd3b0), "superclasses", ARRAY(0x559770177118)) called at /home/sand/src/perl/repoperls/installed-perls/host/k93msid/v5.25.12/5ea4/lib/site_perl/5.25.12/x86_64-linux-thread-multi-ld/Class/MOP/Package.pm line 120
Class::MOP::Package::create_anon("Moose::Meta::Class", "superclasses", ARRAY(0x559770177118), "roles", ARRAY(0x55976fcbd3b0), "cache", 1) called at /home/sand/src/perl/repoperls/installed-perls/host/k93msid/v5.25.12/5ea4/lib/site_perl/5.25.12/x86_64-linux-thread-multi-ld/Class/MOP/Class.pm line 472
Class::MOP::Class::create_anon_class("Moose::Meta::Class", "superclasses", ARRAY(0x559770177118), "roles", ARRAY(0x55976fcbd3b0), "cache", 1) called at /home/sand/src/perl/repoperls/installed-perls/host/k93msid/v5.25.12/5ea4/lib/site_perl/5.25.12/x86_64-linux-thread-multi-ld/Moose/Util/MetaRole.pm line 108
Moose::Util::MetaRole::_make_new_class("test::auth", ARRAY(0x55976fcbd3b0), ARRAY(0x559770177118)) called at /home/sand/src/perl/repoperls/installed-perls/host/k93msid/v5.25.12/5ea4/lib/site_perl/5.25.12/x86_64-linux-thread-multi-ld/Moose/Util/MetaRole.pm line 88
Moose::Util::MetaRole::apply_base_class_roles("for", "test::auth", "roles", ARRAY(0x55976fcbd3b0)) called at /tmp/loop_over_bdir-31793-4ydxEm/Net-HTTP-API-0.14-0/blib/lib/Net/HTTP/API.pm line 41
Net::HTTP::API::init_meta("Net::HTTP::API", "for_class", "Net::HTTP::API::Role::Format", "metaclass", undef, "meta_name", "meta") called at /home/sand/src/perl/repoperls/installed-perls/host/k93msid/v5.25.12/5ea4/lib/site_perl/5.25.12/x86_64-linux-thread-multi-ld/Moose/Exporter.pm line 484
Net::HTTP::API::import("Net::HTTP::API") called at t/05_authentication.t line 6
test::auth::BEGIN() called at /tmp/loop_over_bdir-31793-4ydxEm/Net-HTTP-API-0.14-0/blib/lib/Net/HTTP/API/Role/Format.pm line 0
eval {...} called at /tmp/loop_over_bdir-31793-4ydxEm/Net-HTTP-API-0.14-0/blib/lib/Net/HTTP/API/Role/Format.pm line 0
Class::MOP::load_class is deprecated at /home/sand/src/perl/repoperls/installed-perls/host/k93msid/v5.25.12/5ea4/lib/site_perl/5.25.12/x86_64-linux-thread-multi-ld/Class/MOP.pm line 69.
Class::MOP::load_class("Net::HTTP::API::Parser::JSON") called at /tmp/loop_over_bdir-31793-4ydxEm/Net-HTTP-API-0.14-0/blib/lib/Net/HTTP/API/Role/Serialization.pm line 74
Net::HTTP::API::Role::Serialization::_load_serializer(test::auth=HASH(0x559770c4d988), "json") called at /tmp/loop_over_bdir-31793-4ydxEm/Net-HTTP-API-0.14-0/blib/lib/Net/HTTP/API/Role/Serialization.pm line 53
Net::HTTP::API::Role::Serialization::deserialize(test::auth=HASH(0x559770c4d988), "[{\"name\":\"eris\"}]", ARRAY(0x559770514700)) called at /tmp/loop_over_bdir-31793-4ydxEm/Net-HTTP-API-0.14-0/blib/lib/Net/HTTP/API/Role/Serialization.pm line 37
Net::HTTP::API::Role::Serialization::get_content(test::auth=HASH(0x559770c4d988), HTTP::Response=HASH(0x559770d3ba58)) called at /tmp/loop_over_bdir-31793-4ydxEm/Net-HTTP-API-0.14-0/blib/lib/Net/HTTP/API/Meta/Method.pm line 134
test::auth::user(test::auth=HASH(0x559770c4d988)) called at /home/sand/src/perl/repoperls/installed-perls/host/k93msid/v5.25.12/5ea4/lib/site_perl/5.25.12/x86_64-linux-thread-multi-ld/Class/MOP/Method/Wrapped.pm line 44
test::auth::_wrapped_user(test::auth=HASH(0x559770c4d988)) called at /home/sand/src/perl/repoperls/installed-perls/host/k93msid/v5.25.12/5ea4/lib/site_perl/5.25.12/x86_64-linux-thread-multi-ld/Class/MOP/Method/Wrapped.pm line 95
test::auth::user(test::auth=HASH(0x559770c4d988)) called at t/05_authentication.t line 51
t/05_authentication.t ..... ok
t/release-eol.t ........... skipped: these tests are for release candidate testing
t/release-no-tabs.t ....... skipped: these tests are for release candidate testing
t/release-pod-coverage.t .. skipped: these tests are for release candidate testing
t/release-pod-syntax.t .... skipped: these tests are for release candidate testing
All tests successful.
Files=10, Tests=42, 9 wallclock secs ( 0.03 usr 0.06 sys + 2.96 cusr 0.34 csys = 3.39 CPU)
Result: PASS
------------------------------
PREREQUISITES
------------------------------
Prerequisite modules loaded:
requires:
Module Need Have
---------------------------- ---- --------
HTTP::Request 0 6.11
JSON 0 2.94
LWP::UserAgent 0 6.26
Moose 0 2.2004
Moose::Exporter 0 2.2004
Moose::Meta::Method 0 2.2004
Moose::Role 0 2.2004
Moose::Util::MetaRole 0 2.2004
Moose::Util::TypeConstraints 0 2.2004
MooseX::Types::Moose 0 0.50
MooseX::Types::URI 0 0.08
overload 0 1.28
Try::Tiny 0 0.28
XML::Simple 0 2.24
YAML::Syck 0 1.30
build_requires:
Module Need Have
---------------------------- ---- --------
HTTP::Response 0 6.11
Test::Exception 0 0.43
Test::More 0 1.302086
configure_requires:
Module Need Have
---------------------------- ---- --------
ExtUtils::MakeMaker 6.31 7.31_02
------------------------------
ENVIRONMENT AND OTHER CONTEXT
------------------------------
Environment variables:
AUTOMATED_TESTING = 1
LANG = en_US.UTF-8
PATH = /home/sand/bin:/usr/local/bin:/usr/bin:/bin:/usr/games:/usr/local/perl/bin:/usr/X11/bin:/sbin:/usr/sbin
PERL5LIB =
PERL5OPT =
PERL5_CPANPLUS_IS_RUNNING = 31796
PERL5_CPAN_IS_RUNNING = 31796
PERL_CANARY_STABILITY_NOPROMPT = 1
PERL_MM_USE_DEFAULT = 1
PERL_USE_UNSAFE_INC = 1
SHELL = /usr/bin/zsh
TERM = screen
Perl special variables (and OS-specific diagnostics, for MSWin32):
$^X = /home/sand/src/perl/repoperls/installed-perls/host/k93msid/v5.25.12/5ea4/bin/perl
$UID/$EUID = 1005 / 1005
$GID = 1005 1005
$EGID = 1005 1005
Perl module toolchain versions installed:
Module Have
------------------- --------
CPAN 2.18
CPAN::Meta 2.150010
Cwd 3.67
ExtUtils::CBuilder 0.280225
ExtUtils::Command 7.31_02
ExtUtils::Install 2.14
ExtUtils::MakeMaker 7.31_02
ExtUtils::Manifest 1.70
ExtUtils::ParseXS 3.34
File::Spec 3.67
JSON 2.94
JSON::PP 2.93
Module::Build 0.4224
Module::Signature 0.81
Parse::CPAN::Meta 2.150010
Test::Harness 3.39
Test::More 1.302086
YAML 1.23
YAML::Syck 1.30
version 0.9917
--
Summary of my perl5 (revision 5 version 25 subversion 12) configuration:
Commit id: f6a85527c5831d860897ed46b4dcc5a52480aa15
Platform:
osname=linux
osvers=4.9.0-2-amd64
archname=x86_64-linux-thread-multi-ld
uname='linux k93msid 4.9.0-2-amd64 #1 smp debian 4.9.18-1 (2017-03-30) x86_64 gnulinux '
config_args='-Dprefix=/home/sand/src/perl/repoperls/installed-perls/host/k93msid/v5.25.12/5ea4 -Dmyhostname=k93msid -Dinstallusrbinperl=n -Uversiononly -Dusedevel -des -Ui_db -Dlibswanted=cl pthread socket inet nsl gdbm dbm malloc dl ld sun m crypt sec util c cposix posix ucb BSD gdbm_compat -Duseithreads -Duselongdouble -DDEBUGGING=-g'
hint=recommended
useposix=true
d_sigaction=define
useithreads=define
usemultiplicity=define
use64bitint=define
use64bitall=define
uselongdouble=define
usemymalloc=n
default_inc_excludes_dot=define
bincompat5005=undef
Compiler:
cc='cc'
ccflags ='-D_REENTRANT -D_GNU_SOURCE -fwrapv -fno-strict-aliasing -pipe -fstack-protector-strong -I/usr/local/include -D_LARGEFILE_SOURCE -D_FILE_OFFSET_BITS=64'
optimize='-O2 -g'
cppflags='-D_REENTRANT -D_GNU_SOURCE -fwrapv -fno-strict-aliasing -pipe -fstack-protector-strong -I/usr/local/include'
ccversion=''
gccversion='6.3.0 20170406'
gccosandvers=''
intsize=4
longsize=8
ptrsize=8
doublesize=8
byteorder=12345678
doublekind=3
d_longlong=define
longlongsize=8
d_longdbl=define
longdblsize=16
longdblkind=3
ivtype='long'
ivsize=8
nvtype='long double'
nvsize=16
Off_t='off_t'
lseeksize=8
alignbytes=16
prototype=define
Linker and Libraries:
ld='cc'
ldflags =' -fstack-protector-strong -L/usr/local/lib'
libpth=/usr/local/lib /usr/lib/gcc/x86_64-linux-gnu/6/include-fixed /usr/include/x86_64-linux-gnu /usr/lib /lib/x86_64-linux-gnu /lib/../lib /usr/lib/x86_64-linux-gnu /usr/lib/../lib /lib
libs=-lpthread -lnsl -ldl -lm -lcrypt -lutil -lc
perllibs=-lpthread -lnsl -ldl -lm -lcrypt -lutil -lc
libc=libc-2.24.so
so=so
useshrplib=false
libperl=libperl.a
gnulibc_version='2.24'
Dynamic Linking:
dlsrc=dl_dlopen.xs
dlext=so
d_dlsymun=undef
ccdlflags='-Wl,-E'
cccdlflags='-fPIC'
lddlflags='-shared -O2 -g -L/usr/local/lib -fstack-protector-strong'
Characteristics of this binary (from libperl):
Compile-time options:
HAS_TIMES
MULTIPLICITY
PERLIO_LAYERS
PERL_COPY_ON_WRITE
PERL_DONT_CREATE_GVSV
PERL_IMPLICIT_CONTEXT
PERL_MALLOC_WRAP
PERL_OP_PARENT
PERL_PRESERVE_IVUV
PERL_USE_DEVEL
USE_64_BIT_ALL
USE_64_BIT_INT
USE_ITHREADS
USE_LARGE_FILES
USE_LOCALE
USE_LOCALE_COLLATE
USE_LOCALE_CTYPE
USE_LOCALE_NUMERIC
USE_LOCALE_TIME
USE_LONG_DOUBLE
USE_PERLIO
USE_PERL_ATOF
USE_REENTRANT_API
Built under linux
Compiled at Apr 20 2017 23:01:22
%ENV:
PERL5LIB=""
PERL5OPT=""
PERL5_CPANPLUS_IS_RUNNING="31796"
PERL5_CPAN_IS_RUNNING="31796"
PERL_CANARY_STABILITY_NOPROMPT="1"
PERL_MM_USE_DEFAULT="1"
PERL_USE_UNSAFE_INC="1"
@INC:
/home/sand/src/perl/repoperls/installed-perls/host/k93msid/v5.25.12/5ea4/lib/site_perl/5.25.12/x86_64-linux-thread-multi-ld
/home/sand/src/perl/repoperls/installed-perls/host/k93msid/v5.25.12/5ea4/lib/site_perl/5.25.12
/home/sand/src/perl/repoperls/installed-perls/host/k93msid/v5.25.12/5ea4/lib/5.25.12/x86_64-linux-thread-multi-ld
/home/sand/src/perl/repoperls/installed-perls/host/k93msid/v5.25.12/5ea4/lib/5.25.12
.