Module-Install-ReadmeFromPod v0.30 Perl 5 v5.26.0 amd64-netbsd

Status
Pass
From
Nigel Horne
Dist
Module-Install-ReadmeFromPod v0.30
Platform
Perl 5 v5.26.0 amd64-netbsd
Date
2020-07-16 05:54:11
ID
c5439f58-c728-11ea-aad7-a68d912e08a8
This distribution has been tested as part of the CPAN Testers
project, supporting the Perl programming language.  See
http://wiki.cpantesters.org/ for more information or email
questions to cpan-testers-discuss@perl.org


--
Dear Chris Williams,

This is a computer-generated report for Module-Install-ReadmeFromPod-0.30
on perl 5.26.0, created by CPAN-Reporter-1.2018.

Thank you for uploading your work to CPAN.  Congratulations!
All tests were successful.

Sections of this report:

    * Tester comments
    * Program output
    * Prerequisites
    * Environment and other context

------------------------------
TESTER COMMENTS
------------------------------

Additional comments from tester:

this report is from an automated smoke testing program
and was not reviewed by a human for accuracy

------------------------------
PROGRAM OUTPUT
------------------------------

Output from '/usr/bin/make test':

PERL_DL_NONLAZY=1 "/home/njh/perl5/perlbrew/perls/perl-5.26.0/bin/perl" "-MExtUtils::Command::MM" "-MTest::Harness" "-e" "undef *Test::Harness::Switches; test_harness(0, 'inc', 'blib/lib', 'blib/arch')" t/*.t
# Testing Module::Install::ReadmeFromPod 0.30, Perl 5.026000, /home/njh/perl5/perlbrew/perls/perl-5.26.0/bin/perl
t/00_compile.t ....... ok
# Subroutine Module::Install::ReadmeFromPod::io redefined at /home/njh/.cpan/build/IO-All-0.87-0/blib/lib/IO/All/Base.pm line 24.
# include /home/njh/.cpan/build/Module-Install-ReadmeFromPod-0.30-0/dist/QApjbpjoMw/inc/Module/Install.pm
# include inc/Module/Install/Metadata.pm
# include inc/Module/Install/Base.pm
# include inc/Module/Install/ReadmeFromPod.pm
# readme_from README.pm to txt
# readme_from README.pm to htm
# Subroutine Module::Install::ReadmeFromPod::io redefined at /home/njh/.cpan/build/IO-All-0.87-0/blib/lib/IO/All/Base.pm line 24.
# Subroutine Module::Install::ReadmeFromPod::io redefined at /home/njh/.cpan/build/IO-All-0.87-0/blib/lib/IO/All/Base.pm line 24.
# readme_from README.pm to man
# readme_from README.pm to md
# include inc/Module/Install/WriteAll.pm
# include inc/Module/Install/Makefile.pm
# include inc/Module/Install/Win32.pm
# include inc/Module/Install/Can.pm
# include inc/Module/Install/Fetch.pm
# Generating a Unix-style Makefile
# Writing Makefile for Foo::Bar
# Writing MYMETA.yml and MYMETA.json
# Writing META.yml
# rm -f  Bar.bso Bar.def  Bar.exp Bar.x   blib/arch/auto/Foo/Bar/extralibs.all  blib/arch/auto/Foo/Bar/extralibs.ld Makefile.aperl  *.a *.o  *perl.core MYMETA.json  MYMETA.yml blibdirs.ts  core core.*perl.*.?  core.[0-9] core.[0-9][0-9]  core.[0-9][0-9][0-9] core.[0-9][0-9][0-9][0-9]  core.[0-9][0-9][0-9][0-9][0-9] libBar.def  mon.out perl  perl perl.exe  perlmain.c pm_to_blib  pm_to_blib.ts so_locations  tmon.out
# rm -rf  blib
# mv Makefile Makefile.old > /dev/null 2>&1
# rm -f  Makefile Makefile.old
# rm -rf  Foo-Bar-0.01 MYMETA.yml
# rm -f Foo-Bar-0.01.tar.gz
# rm -f MANIFEST.bak _build
# "/home/njh/perl5/perlbrew/perls/perl-5.26.0/bin/perl" "-Iinc" "-Ilib" "-MModule::Install::Admin" -e "remove_meta()"
# rm -rf inc
# "/home/njh/perl5/perlbrew/perls/perl-5.26.0/bin/perl" "-Iinc" "-MExtUtils::Manifest=fullcheck" -e fullcheck
# Problem opening MANIFEST: No such file or directory at /home/njh/perl5/perlbrew/perls/perl-5.26.0/lib/site_perl/5.26.0/ExtUtils/Manifest.pm line 349.
# Problem opening MANIFEST: No such file or directory at /home/njh/perl5/perlbrew/perls/perl-5.26.0/lib/site_perl/5.26.0/ExtUtils/Manifest.pm line 349.
# Not in MANIFEST: Makefile.PL
# Not in MANIFEST: README
# Not in MANIFEST: README.1
# Not in MANIFEST: README.htm
# Not in MANIFEST: README.md
# Not in MANIFEST: README.pm
t/01_dist.t .......... ok
# Subroutine Module::Install::ReadmeFromPod::io redefined at /home/njh/.cpan/build/IO-All-0.87-0/blib/lib/IO/All/Base.pm line 24.
# include /home/njh/.cpan/build/Module-Install-ReadmeFromPod-0.30-0/dist/GyY3HAugIt/inc/Module/Install.pm
# include inc/Module/Install/Metadata.pm
# include inc/Module/Install/Base.pm
# include inc/Module/Install/ReadmeFromPod.pm
# readme_from README.pm to text
# include inc/Module/Install/Makefile.pm
# readme_from README.pm to html
# Subroutine Module::Install::ReadmeFromPod::io redefined at /home/njh/.cpan/build/IO-All-0.87-0/blib/lib/IO/All/Base.pm line 24.
# Subroutine Module::Install::ReadmeFromPod::io redefined at /home/njh/.cpan/build/IO-All-0.87-0/blib/lib/IO/All/Base.pm line 24.
# readme_from README.pm to md
# readme_from README.pm to man
# include inc/Module/Install/WriteAll.pm
# include inc/Module/Install/Win32.pm
# include inc/Module/Install/Can.pm
# include inc/Module/Install/Fetch.pm
# Generating a Unix-style Makefile
# Writing Makefile for Foo::Bar
# Writing MYMETA.yml and MYMETA.json
# Writing META.yml
# rm -f  Bar.bso Bar.def  Bar.exp Bar.x   blib/arch/auto/Foo/Bar/extralibs.all  blib/arch/auto/Foo/Bar/extralibs.ld Makefile.aperl  *.a *.o  *perl.core MYMETA.json  MYMETA.yml blibdirs.ts  core core.*perl.*.?  core.[0-9] core.[0-9][0-9]  core.[0-9][0-9][0-9] core.[0-9][0-9][0-9][0-9]  core.[0-9][0-9][0-9][0-9][0-9] libBar.def  mon.out perl  perl perl.exe  perlmain.c pm_to_blib  pm_to_blib.ts so_locations  tmon.out
# rm -rf  Foobar.htm Foobar.man  Foobar.md Foobar.txt  blib
# mv Makefile Makefile.old > /dev/null 2>&1
# rm -f  Makefile Makefile.old
# rm -rf  Foo-Bar-0.01 MYMETA.yml
# rm -f Foo-Bar-0.01.tar.gz
# rm -f MANIFEST.bak _build
# "/home/njh/perl5/perlbrew/perls/perl-5.26.0/bin/perl" "-Iinc" "-Ilib" "-MModule::Install::Admin" -e "remove_meta()"
# rm -rf inc
# "/home/njh/perl5/perlbrew/perls/perl-5.26.0/bin/perl" "-Iinc" "-MExtUtils::Manifest=fullcheck" -e fullcheck
# Problem opening MANIFEST: No such file or directory at /home/njh/perl5/perlbrew/perls/perl-5.26.0/lib/site_perl/5.26.0/ExtUtils/Manifest.pm line 349.
# Problem opening MANIFEST: No such file or directory at /home/njh/perl5/perlbrew/perls/perl-5.26.0/lib/site_perl/5.26.0/ExtUtils/Manifest.pm line 349.
# Not in MANIFEST: Makefile.PL
# Not in MANIFEST: README.pm
t/02_clean.t ......... ok
# include /home/njh/.cpan/build/Module-Install-ReadmeFromPod-0.30-0/dist/onr1LrFTLv/inc/Module/Install.pm
# include inc/Module/Install/Metadata.pm
# include inc/Module/Install/Base.pm
# include inc/Module/Install/Makefile.pm
# include inc/Module/Install/ReadmeFromPod.pm
# readme_from README.pm to txt
# include inc/Module/Install/WriteAll.pm
# include inc/Module/Install/Win32.pm
# include inc/Module/Install/Can.pm
# include inc/Module/Install/Fetch.pm
# Generating a Unix-style Makefile
# Writing Makefile for Foo::Bar
# Writing MYMETA.yml and MYMETA.json
# Writing META.yml
# rm -f  Bar.bso Bar.def  Bar.exp Bar.x   blib/arch/auto/Foo/Bar/extralibs.all  blib/arch/auto/Foo/Bar/extralibs.ld Makefile.aperl  *.a *.o  *perl.core MYMETA.json  MYMETA.yml blibdirs.ts  core core.*perl.*.?  core.[0-9] core.[0-9][0-9]  core.[0-9][0-9][0-9] core.[0-9][0-9][0-9][0-9]  core.[0-9][0-9][0-9][0-9][0-9] libBar.def  mon.out perl  perl perl.exe  perlmain.c pm_to_blib  pm_to_blib.ts so_locations  tmon.out
# rm -rf  blib
# mv Makefile Makefile.old > /dev/null 2>&1
# rm -f  Makefile Makefile.old
# rm -rf  Foo-Bar-0.01 MYMETA.yml
# rm -f Foo-Bar-0.01.tar.gz
# rm -f MANIFEST.bak _build
# "/home/njh/perl5/perlbrew/perls/perl-5.26.0/bin/perl" "-Iinc" "-Ilib" "-MModule::Install::Admin" -e "remove_meta()"
# rm -rf inc
# "/home/njh/perl5/perlbrew/perls/perl-5.26.0/bin/perl" "-Iinc" "-MExtUtils::Manifest=fullcheck" -e fullcheck
# Problem opening MANIFEST: No such file or directory at /home/njh/perl5/perlbrew/perls/perl-5.26.0/lib/site_perl/5.26.0/ExtUtils/Manifest.pm line 349.
# Problem opening MANIFEST: No such file or directory at /home/njh/perl5/perlbrew/perls/perl-5.26.0/lib/site_perl/5.26.0/ExtUtils/Manifest.pm line 349.
# Not in MANIFEST: Makefile.PL
# Not in MANIFEST: README
# Not in MANIFEST: README.pm
t/03_all_from.t ...... ok
t/04_distpdf.t ....... skipped: App::pod2pdf not installed
t/05_cleanpdf.t ...... skipped: App::pod2pdf not installed
t/99_pod.t ........... ok
t/99_pod_coverage.t .. ok
All tests successful.
Files=8, Tests=33,  4 wallclock secs ( 0.05 usr  0.02 sys +  2.58 cusr  0.81 csys =  3.46 CPU)
Result: PASS

------------------------------
PREREQUISITES
------------------------------

Prerequisite modules loaded:

requires:

    Module              Need  Have    
    ------------------- ----- --------
    IO::All             0     0.87    
    Module::Install     1     1.19    
    perl                5.006 5.026000
    Pod::Html           0     1.2202  
    Pod::Man            0     4.09    
    Pod::Markdown       2     3.200   
    Pod::Text           3.13  4.09    

build_requires:

    Module              Need  Have    
    ------------------- ----- --------
    Capture::Tiny       0.05  0.48    
    ExtUtils::MakeMaker 6.59  7.34    
    File::Temp          0     0.2308  
    Test::InDistDir     0     1.112071
    Test::More          0.47  1.302170

configure_requires:

    Module              Need  Have    
    ------------------- ----- --------
    ExtUtils::MakeMaker 6.59  7.34    


------------------------------
ENVIRONMENT AND OTHER CONTEXT
------------------------------

Environment variables:

    AUTOMATED_TESTING = 1
    NONINTERACTIVE_TESTING = 1
    PATH = /home/njh/perl5/perlbrew/bin:/home/njh/perl5/perlbrew/perls/perl-5.26.0/bin:/home/njh/src/njh/smoker/bin:/usr/bin:/bin:/usr/pkg/bin:/usr/local/bin
    PERL5LIB = /home/njh/.cpan/build/Test-InDistDir-1.112071-0/blib/arch:/home/njh/.cpan/build/Test-InDistDir-1.112071-0/blib/lib:/home/njh/.cpan/build/Pod-Markdown-3.200-0/blib/arch:/home/njh/.cpan/build/Pod-Markdown-3.200-0/blib/lib:/home/njh/.cpan/build/IO-All-0.87-0/blib/arch:/home/njh/.cpan/build/IO-All-0.87-0/blib/lib:/home/njh/.cpan/build/Module-Install-1.19-0/blib/arch:/home/njh/.cpan/build/Module-Install-1.19-0/blib/lib:/home/njh/.cpan/build/Module-ScanDeps-1.27-0/blib/arch:/home/njh/.cpan/build/Module-ScanDeps-1.27-0/blib/lib:/home/njh/.cpan/build/YAML-Tiny-1.73-0/blib/arch:/home/njh/.cpan/build/YAML-Tiny-1.73-0/blib/lib:/home/njh/.cpan/build/POE-Component-Client-Whois-1.38-0/blib/arch:/home/njh/.cpan/build/POE-Component-Client-Whois-1.38-0/blib/lib:/home/njh/.cpan/build/Net-Netmask-1.9104-0/blib/arch:/home/njh/.cpan/build/Net-Netmask-1.9104-0/blib/lib
    PERL5OPT = 
    PERL5_CPANPLUS_IS_RUNNING = 15641
    PERL5_CPAN_IS_RUNNING = 15641
    PERL5_CPAN_IS_RUNNING_IN_RECURSION = 19619,15641
    PERLBREW_HOME = /home/njh/.perlbrew
    PERLBREW_MANPATH = /home/njh/perl5/perlbrew/perls/perl-5.26.0/man
    PERLBREW_PATH = /home/njh/perl5/perlbrew/bin:/home/njh/perl5/perlbrew/perls/perl-5.26.0/bin
    PERLBREW_PERL = perl-5.26.0
    PERLBREW_ROOT = /home/njh/perl5/perlbrew
    PERLBREW_SHELLRC_VERSION = 0.88
    PERLBREW_VERSION = 0.88
    PERL_MM_USE_DEFAULT = 1
    PERL_USE_UNSAFE_INC = 1
    SHELL = /usr/bin/bash
    TMPDIR = /tmp/testwrapper.4648

Perl special variables (and OS-specific diagnostics, for MSWin32):

    $^X = /home/njh/perl5/perlbrew/perls/perl-5.26.0/bin/perl
    $UID/$EUID = 1000 / 1000
    $GID = 100 100 0
    $EGID = 100 100 0

Perl module toolchain versions installed:

    Module              Have    
    ------------------- --------
    CPAN                2.28    
    CPAN::Meta          2.150010
    Cwd                 3.75    
    ExtUtils::CBuilder  0.280230
    ExtUtils::Command   7.34    
    ExtUtils::Install   2.14    
    ExtUtils::MakeMaker 7.34    
    ExtUtils::Manifest  1.71    
    ExtUtils::ParseXS   3.35    
    File::Spec          3.75    
    JSON                4.02    
    JSON::PP            4.02    
    Module::Build       0.4224  
    Module::Signature   n/a     
    Parse::CPAN::Meta   2.150010
    Test::Harness       3.42    
    Test::More          1.302170
    YAML                1.30    
    YAML::Syck          1.32    
    version             0.9924  


--

Summary of my perl5 (revision 5 version 26 subversion 0) configuration:
   
  Platform:
    osname=netbsd
    osvers=7.1.2
    archname=amd64-netbsd
    uname='netbsd njh2.vultr.com 7.1.2 netbsd 7.1.2 (generic.201803151611z) amd64 '
    config_args='-de -Dprefix=/home/njh/perl5/perlbrew/perls/perl-5.26.0 -Aeval:scriptdir=/home/njh/perl5/perlbrew/perls/perl-5.26.0/bin'
    hint=recommended
    useposix=true
    d_sigaction=define
    useithreads=undef
    usemultiplicity=undef
    use64bitint=define
    use64bitall=define
    uselongdouble=undef
    usemymalloc=n
    default_inc_excludes_dot=define
    bincompat5005=undef
  Compiler:
    cc='cc'
    ccflags ='-fwrapv -fno-strict-aliasing -pipe -fstack-protector -I/usr/pkg/include -D_FORTIFY_SOURCE=2'
    optimize='-O'
    cppflags='-fwrapv -fno-strict-aliasing -pipe -fstack-protector -I/usr/pkg/include'
    ccversion=''
    gccversion='4.8.5'
    gccosandvers=''
    intsize=4
    longsize=8
    ptrsize=8
    doublesize=8
    byteorder=12345678
    doublekind=3
    d_longlong=define
    longlongsize=8
    d_longdbl=define
    longdblsize=16
    longdblkind=3
    ivtype='long'
    ivsize=8
    nvtype='double'
    nvsize=8
    Off_t='off_t'
    lseeksize=8
    alignbytes=8
    prototype=define
  Linker and Libraries:
    ld='cc'
    ldflags =' -Wl,-rpath,/usr/pkg/lib -Wl,-rpath,/usr/local/lib -fstack-protector -L/usr/pkg/lib'
    libpth=/usr/include/gcc-4.8 /usr/lib /usr/pkg/lib /lib
    libs=-lpthread -lm -lcrypt -lutil -lc -lposix
    perllibs=-lpthread -lm -lcrypt -lutil -lc -lposix
    libc=/lib/libc.so
    so=so
    useshrplib=false
    libperl=libperl.a
    gnulibc_version=''
  Dynamic Linking:
    dlsrc=dl_dlopen.xs
    dlext=so
    d_dlsymun=undef
    ccdlflags='-Wl,-E '
    cccdlflags='-DPIC -fPIC '
    lddlflags='-shared  -L/usr/pkg/lib -fstack-protector'


Characteristics of this binary (from libperl): 
  Compile-time options:
    HAS_TIMES
    PERLIO_LAYERS
    PERL_COPY_ON_WRITE
    PERL_DONT_CREATE_GVSV
    PERL_MALLOC_WRAP
    PERL_OP_PARENT
    PERL_PRESERVE_IVUV
    USE_64_BIT_ALL
    USE_64_BIT_INT
    USE_LARGE_FILES
    USE_LOCALE
    USE_LOCALE_COLLATE
    USE_LOCALE_CTYPE
    USE_LOCALE_NUMERIC
    USE_LOCALE_TIME
    USE_PERLIO
    USE_PERL_ATOF
  Locally applied patches:
    Devel::PatchPerl 1.48
  Built under netbsd
  Compiled at May 27 2018 10:22:49
  %ENV:
    PERL5LIB="/home/njh/.cpan/build/Test-InDistDir-1.112071-0/blib/arch:/home/njh/.cpan/build/Test-InDistDir-1.112071-0/blib/lib:/home/njh/.cpan/build/Pod-Markdown-3.200-0/blib/arch:/home/njh/.cpan/build/Pod-Markdown-3.200-0/blib/lib:/home/njh/.cpan/build/IO-All-0.87-0/blib/arch:/home/njh/.cpan/build/IO-All-0.87-0/blib/lib:/home/njh/.cpan/build/Module-Install-1.19-0/blib/arch:/home/njh/.cpan/build/Module-Install-1.19-0/blib/lib:/home/njh/.cpan/build/Module-ScanDeps-1.27-0/blib/arch:/home/njh/.cpan/build/Module-ScanDeps-1.27-0/blib/lib:/home/njh/.cpan/build/YAML-Tiny-1.73-0/blib/arch:/home/njh/.cpan/build/YAML-Tiny-1.73-0/blib/lib:/home/njh/.cpan/build/POE-Component-Client-Whois-1.38-0/blib/arch:/home/njh/.cpan/build/POE-Component-Client-Whois-1.38-0/blib/lib:/home/njh/.cpan/build/Net-Netmask-1.9104-0/blib/arch:/home/njh/.cpan/build/Net-Netmask-1.9104-0/blib/lib"
    PERL5OPT=""
    PERL5_CPANPLUS_IS_RUNNING="15641"
    PERL5_CPAN_IS_RUNNING="15641"
    PERL5_CPAN_IS_RUNNING_IN_RECURSION="19619,15641"
    PERLBREW_HOME="/home/njh/.perlbrew"
    PERLBREW_MANPATH="/home/njh/perl5/perlbrew/perls/perl-5.26.0/man"
    PERLBREW_PATH="/home/njh/perl5/perlbrew/bin:/home/njh/perl5/perlbrew/perls/perl-5.26.0/bin"
    PERLBREW_PERL="perl-5.26.0"
    PERLBREW_ROOT="/home/njh/perl5/perlbrew"
    PERLBREW_SHELLRC_VERSION="0.88"
    PERLBREW_VERSION="0.88"
    PERL_MM_USE_DEFAULT="1"
    PERL_USE_UNSAFE_INC="1"
  @INC:
    /home/njh/.cpan/build/Test-InDistDir-1.112071-0/blib/arch
    /home/njh/.cpan/build/Test-InDistDir-1.112071-0/blib/lib
    /home/njh/.cpan/build/Pod-Markdown-3.200-0/blib/arch
    /home/njh/.cpan/build/Pod-Markdown-3.200-0/blib/lib
    /home/njh/.cpan/build/IO-All-0.87-0/blib/arch
    /home/njh/.cpan/build/IO-All-0.87-0/blib/lib
    /home/njh/.cpan/build/Module-Install-1.19-0/blib/arch
    /home/njh/.cpan/build/Module-Install-1.19-0/blib/lib
    /home/njh/.cpan/build/Module-ScanDeps-1.27-0/blib/arch
    /home/njh/.cpan/build/Module-ScanDeps-1.27-0/blib/lib
    /home/njh/.cpan/build/YAML-Tiny-1.73-0/blib/arch
    /home/njh/.cpan/build/YAML-Tiny-1.73-0/blib/lib
    /home/njh/.cpan/build/POE-Component-Client-Whois-1.38-0/blib/arch
    /home/njh/.cpan/build/POE-Component-Client-Whois-1.38-0/blib/lib
    /home/njh/.cpan/build/Net-Netmask-1.9104-0/blib/arch
    /home/njh/.cpan/build/Net-Netmask-1.9104-0/blib/lib
    /home/njh/perl5/perlbrew/perls/perl-5.26.0/lib/site_perl/5.26.0/amd64-netbsd
    /home/njh/perl5/perlbrew/perls/perl-5.26.0/lib/site_perl/5.26.0
    /home/njh/perl5/perlbrew/perls/perl-5.26.0/lib/5.26.0/amd64-netbsd
    /home/njh/perl5/perlbrew/perls/perl-5.26.0/lib/5.26.0
    .