Back
From: metabase:user:320bfe00-2aae-11df-837a-5e0a49663a4f
Subject: PASS Parallel-ForkManager-1.19 v5.27.3 GNU/Linux
Date: 2017-07-22T14:05:08Z
This distribution has been tested as part of the CPAN Testers
project, supporting the Perl programming language. See
http://wiki.cpantesters.org/ for more information or email
questions to cpan-testers-discuss@perl.org
--
Dear Yanick Champoux,
This is a computer-generated report for Parallel-ForkManager-1.19
on perl 5.27.3, created by CPAN-Reporter-1.2018.
Thank you for uploading your work to CPAN. Congratulations!
All tests were successful.
Sections of this report:
* Tester comments
* Program output
* Prerequisites
* Environment and other context
------------------------------
TESTER COMMENTS
------------------------------
Additional comments from tester:
this report is from an automated smoke testing program
and was not reviewed by a human for accuracy
------------------------------
PROGRAM OUTPUT
------------------------------
Output from '/usr/bin/make test':
PERL_DL_NONLAZY=1 "/tmp/basesmoker-reloperl-XRij/bin/perl" "-MExtUtils::Command::MM" "-MTest::Harness" "-e" "undef *Test::Harness::Switches; test_harness(0, 'blib/lib', 'blib/arch')" t/*.t
t/00-compile.t ............ ok
# time: 0 seconds
# time: 20 seconds
# time: 0 seconds
# time: 5 seconds
t/00-load.t ............... ok
#
# Versions for all modules listed in MYMETA.json (including optional ones):
#
# === Configure Requires ===
#
# Module Want Have
# ------------------- ---- ----
# ExtUtils::MakeMaker any 7.30
#
# === Build Requires ===
#
# Module Want Have
# ------------------- ---- ----
# ExtUtils::MakeMaker any 7.30
#
# === Test Requires ===
#
# Module Want Have
# ------------------- ---- --------
# ExtUtils::MakeMaker any 7.30
# File::Spec any 3.68
# IO::Handle any 1.36
# IPC::Open3 any 1.20
# Test::More 0.94 1.302086
# Test::Warn any 0.32
# warnings any 1.37
#
# === Test Recommends ===
#
# Module Want Have
# ---------- -------- --------
# CPAN::Meta 2.120900 2.150010
#
# === Runtime Requires ===
#
# Module Want Have
# ---------- ---- ------
# Carp any 1.43
# File::Path any 2.14
# File::Spec any 3.68
# File::Temp any 0.2304
# POSIX any 1.77
# Storable any 2.64
# strict any 1.11
#
t/00-report-prereqs.t ..... ok
t/01-utf8-all.t ........... skipped: Need utf8::all for this test crashing on Windows
# This test can take 10-20 seconds, please wait. Started at Sat Jul 22 13:49:14 2017
t/02-callback.t ........... ok
# This test can take 2-6 seconds, please wait. Started at Sat Jul 22 13:52:51 2017
t/03-callback-data.t ...... ok
t/basic-methods.t ......... ok
t/changing-pids.t ......... ok
t/start_child.t ........... ok
# code outside of P::FM stole 30182
child process '30182' disappeared. A call to `waitpid` outside of Parallel::ForkManager might have reaped it.
t/waitpid-conflict.t ...... ok
# code outside of P::FM stole 30236
t/waitpid-waitonechild.t .. ok
t/waitpid_blocking.t ...... ok
All tests successful.
Test Summary Report
-------------------
t/waitpid-conflict.t (Wstat: 0 Tests: 2 Failed: 0)
TODO passed: 1-2
t/waitpid-waitonechild.t (Wstat: 0 Tests: 3 Failed: 0)
TODO passed: 1-3
Files=12, Tests=27, 928 wallclock secs ( 0.04 usr 0.07 sys + 1.59 cusr 1.45 csys = 3.15 CPU)
Result: PASS
------------------------------
PREREQUISITES
------------------------------
Prerequisite modules loaded:
requires:
Module Need Have
------------------- ----- --------
Carp 0 1.43
File::Path 0 2.14
File::Spec 0 3.68
File::Temp 0 0.2304
perl 5.006 5.027003
POSIX 0 1.77
Storable 0 2.64
strict 0 1.11
build_requires:
Module Need Have
------------------- ----- --------
ExtUtils::MakeMaker 0 7.30
File::Spec 0 3.68
IO::Handle 0 1.36
IPC::Open3 0 1.20
Test::More 0.94 1.302086
Test::Warn 0 0.32
warnings 0 1.37
configure_requires:
Module Need Have
------------------- ----- --------
ExtUtils::MakeMaker 0 7.30
------------------------------
ENVIRONMENT AND OTHER CONTEXT
------------------------------
Environment variables:
AUTOMATED_TESTING = 1
LANG = en_US.UTF-8
PATH = /home/sand/bin:/usr/local/bin:/usr/bin:/bin:/usr/games:/usr/local/perl/bin:/usr/X11/bin:/sbin:/usr/sbin
PERL5LIB =
PERL5OPT =
PERL5_CPANPLUS_IS_RUNNING = 15750
PERL5_CPAN_IS_RUNNING = 15750
PERL_CANARY_STABILITY_NOPROMPT = 1
PERL_MM_USE_DEFAULT = 1
PERL_USE_UNSAFE_INC = 1
SHELL = /usr/bin/zsh
TERM = screen
Perl special variables (and OS-specific diagnostics, for MSWin32):
$^X = /tmp/basesmoker-reloperl-XRij/bin/perl
$UID/$EUID = 1005 / 1005
$GID = 1005 1005
$EGID = 1005 1005
Perl module toolchain versions installed:
Module Have
------------------- --------
CPAN 2.18
CPAN::Meta 2.150010
Cwd 3.68
ExtUtils::CBuilder 0.280228
ExtUtils::Command 7.30
ExtUtils::Install 2.14
ExtUtils::MakeMaker 7.30
ExtUtils::Manifest 1.70
ExtUtils::ParseXS 3.34
File::Spec 3.68
JSON 2.94
JSON::PP 2.94
Module::Build 0.4224
Module::Signature 0.81
Parse::CPAN::Meta 2.150010
Test::Harness 3.39
Test::More 1.302086
YAML 1.23
YAML::Syck 1.30
version 0.9918
--
Summary of my perl5 (revision 5 version 27 subversion 3) configuration:
Commit id: 50621bf1d40510490a77db174fbc16c1fbfb8aea
Platform:
osname=linux
osvers=4.9.0-2-amd64
archname=x86_64-linux-thread-multi-ld
uname='linux k93msid 4.9.0-2-amd64 #1 smp debian 4.9.18-1 (2017-03-30) x86_64 gnulinux '
config_args='-Dprefix=/home/sand/src/perl/repoperls/installed-perls/host/k93msid/v5.27.2-10-g50621bf1d4/8854 -Dmyhostname=k93msid -Dinstallusrbinperl=n -Uversiononly -Dusedevel -des -Ui_db -Dlibswanted=cl pthread socket inet nsl gdbm dbm malloc dl ld sun m crypt sec util c cposix posix ucb BSD gdbm_compat -Duseithreads -Duselongdouble -DEBUGGING=-g'
hint=recommended
useposix=true
d_sigaction=define
useithreads=define
usemultiplicity=define
use64bitint=define
use64bitall=define
uselongdouble=define
usemymalloc=n
default_inc_excludes_dot=define
bincompat5005=undef
Compiler:
cc='cc'
ccflags ='-D_REENTRANT -D_GNU_SOURCE -fwrapv -fno-strict-aliasing -pipe -fstack-protector-strong -I/usr/local/include -D_LARGEFILE_SOURCE -D_FILE_OFFSET_BITS=64'
optimize='-O2 -g'
cppflags='-D_REENTRANT -D_GNU_SOURCE -fwrapv -fno-strict-aliasing -pipe -fstack-protector-strong -I/usr/local/include'
ccversion=''
gccversion='6.3.0 20170406'
gccosandvers=''
intsize=4
longsize=8
ptrsize=8
doublesize=8
byteorder=12345678
doublekind=3
d_longlong=define
longlongsize=8
d_longdbl=define
longdblsize=16
longdblkind=3
ivtype='long'
ivsize=8
nvtype='long double'
nvsize=16
Off_t='off_t'
lseeksize=8
alignbytes=16
prototype=define
Linker and Libraries:
ld='cc'
ldflags =' -fstack-protector-strong -L/usr/local/lib'
libpth=/usr/local/lib /usr/lib/gcc/x86_64-linux-gnu/6/include-fixed /usr/include/x86_64-linux-gnu /usr/lib /lib/x86_64-linux-gnu /lib/../lib /usr/lib/x86_64-linux-gnu /usr/lib/../lib /lib
libs=-lpthread -lnsl -ldl -lm -lcrypt -lutil -lc
perllibs=-lpthread -lnsl -ldl -lm -lcrypt -lutil -lc
libc=libc-2.24.so
so=so
useshrplib=false
libperl=libperl.a
gnulibc_version='2.24'
Dynamic Linking:
dlsrc=dl_dlopen.xs
dlext=so
d_dlsymun=undef
ccdlflags='-Wl,-E'
cccdlflags='-fPIC'
lddlflags='-shared -O2 -g -L/usr/local/lib -fstack-protector-strong'
Characteristics of this binary (from libperl):
Compile-time options:
HAS_TIMES
MULTIPLICITY
PERLIO_LAYERS
PERL_COPY_ON_WRITE
PERL_DONT_CREATE_GVSV
PERL_IMPLICIT_CONTEXT
PERL_MALLOC_WRAP
PERL_OP_PARENT
PERL_PRESERVE_IVUV
PERL_USE_DEVEL
USE_64_BIT_ALL
USE_64_BIT_INT
USE_ITHREADS
USE_LARGE_FILES
USE_LOCALE
USE_LOCALE_COLLATE
USE_LOCALE_CTYPE
USE_LOCALE_NUMERIC
USE_LOCALE_TIME
USE_LONG_DOUBLE
USE_PERLIO
USE_PERL_ATOF
USE_REENTRANT_API
Built under linux
Compiled at Jul 21 2017 09:23:10
%ENV:
PERL5LIB=""
PERL5OPT=""
PERL5_CPANPLUS_IS_RUNNING="15750"
PERL5_CPAN_IS_RUNNING="15750"
PERL_CANARY_STABILITY_NOPROMPT="1"
PERL_MM_USE_DEFAULT="1"
PERL_USE_UNSAFE_INC="1"
@INC:
/home/sand/src/perl/repoperls/installed-perls/host/k93msid/v5.27.2-10-g50621bf1d4/8854/lib/site_perl/5.27.3/x86_64-linux-thread-multi-ld
/home/sand/src/perl/repoperls/installed-perls/host/k93msid/v5.27.2-10-g50621bf1d4/8854/lib/site_perl/5.27.3
/home/sand/src/perl/repoperls/installed-perls/host/k93msid/v5.27.2-10-g50621bf1d4/8854/lib/5.27.3/x86_64-linux-thread-multi-ld
/home/sand/src/perl/repoperls/installed-perls/host/k93msid/v5.27.2-10-g50621bf1d4/8854/lib/5.27.3
.