SVG v2.80 Perl 5 v5.18.2 darwin-thread-multi-2level

Status
Pass
From
Gintautas Grigelionis
Dist
SVG v2.80
Platform
Perl 5 v5.18.2 darwin-thread-multi-2level
Date
2017-12-07 07:53:53
ID
c53eeccc-db23-11e7-9d83-b3924d5d5cd7
This distribution has been tested as part of the CPAN Testers
project, supporting the Perl programming language.  See
http://wiki.cpantesters.org/ for more information or email
questions to cpan-testers-discuss@perl.org


--
Dear Mohammad S Anwar,

This is a computer-generated report for SVG-2.80
on perl 5.18.2, created by CPAN-Reporter-1.2018.

Thank you for uploading your work to CPAN.  Congratulations!
All tests were successful.

Sections of this report:

    * Tester comments
    * Program output
    * Prerequisites
    * Environment and other context

------------------------------
TESTER COMMENTS
------------------------------

Additional comments from tester:

none provided

------------------------------
PROGRAM OUTPUT
------------------------------

Output from '/usr/bin/make test':

PERL_DL_NONLAZY=1 "/usr/bin/perl" "-MExtUtils::Command::MM" "-MTest::Harness" "-e" "undef *Test::Harness::Switches; test_harness(0, 'blib/lib', 'blib/arch')" t/*.t
# Testing SVG 2.80, Perl 5.018002, /usr/bin/perl
t/00-load.t ................... ok
t/01-loadsvg.t ................ ok
# add circle
t/03-render.t ................. ok
t/04-inline.t ................. ok
t/05-processinginstruction.t .. ok
t/06-doctype.t ................ ok
t/07-extension.t .............. ok
t/08-looknfeel.t .............. ok
t/09-script.t ................. ok
t/10-autoload.t ............... ok
t/11-customtags.t ............. ok
t/12-elementid.t .............. ok
t/13-duplicateids.t ........... ok
t/14-attributes.t ............. ok
t/15-parentage.t .............. ok
t/16-siblings.t ............... ok
t/17-tagtypes.t ............... ok
t/18-filter.t ................. ok
t/19-style.t .................. ok
t/20-anchor.t ................. ok
# a five-sided polygon
t/21-polygon.t ................ ok
t/22-xlink.t .................. ok
t/23-xmlescape.t .............. ok
t/30-shapes.t ................. ok
t/96-perl-critic.t ............ skipped: Set $ENV{TEST_AUTHOR} to enable this test.
t/98-tidyall.t ................ skipped: Set $ENV{TEST_AUTHOR} to enable this test.
t/99_test_pod_coverage.t ...... skipped: Set $ENV{TEST_AUTHOR} to enable this test.
t/duplicate_credits.t ......... ok
t/meta-json.t ................. skipped: Set $ENV{TEST_AUTHOR} to enable this test.
t/meta-yml.t .................. skipped: Set $ENV{TEST_AUTHOR} to enable this test.
All tests successful.
Files=30, Tests=124,  3 wallclock secs ( 0.09 usr  0.06 sys +  2.16 cusr  0.32 csys =  2.63 CPU)
Result: PASS

------------------------------
PREREQUISITES
------------------------------

Prerequisite modules loaded:

requires:

    Module              Need  Have    
    ------------------- ----- --------
    parent              0     0.236   
    perl                5.006 5.018002
    Scalar::Util        0     1.49    

build_requires:

    Module              Need  Have    
    ------------------- ----- --------
    Test::More          0.94  1.302120

configure_requires:

    Module              Need  Have    
    ------------------- ----- --------
    ExtUtils::MakeMaker 0     7.30    


------------------------------
ENVIRONMENT AND OTHER CONTEXT
------------------------------

Environment variables:

    LANG = sv_SE.UTF-8
    PATH = /usr/local/bin:/usr/bin:/bin:/usr/sbin:/sbin:/opt/X11/bin:/usr/local/MacGPG2/bin:/Library/TeX/texbin
    PERL5LIB = /Users/gintas/.cpan/build/B-Debug-1.26-nMnNtd/blib/arch:/Users/gintas/.cpan/build/B-Debug-1.26-nMnNtd/blib/lib
    PERL5OPT = 
    PERL5_CPANPLUS_IS_RUNNING = 99377
    PERL5_CPAN_IS_RUNNING = 99377
    SHELL = /bin/bash
    TERM = xterm-256color
    TMPDIR = /var/folders/y9/7vddvyqs64j1pfp28_p_6dfm0000gn/T/
    VERSIONER_PERL_PREFER_32_BIT = no
    VERSIONER_PERL_VERSION = 5.18

Perl special variables (and OS-specific diagnostics, for MSWin32):

    $^X = /usr/bin/perl
    $UID/$EUID = 501 / 501
    $GID = 20 20 12 61 79 80 81 98 33 100 204 250 395 398 399
    $EGID = 20 20 12 61 79 80 81 98 33 100 204 250 395 398 399

Perl module toolchain versions installed:

    Module              Have    
    ------------------- --------
    CPAN                2.10    
    CPAN::Meta          2.150010
    Cwd                 3.62    
    ExtUtils::CBuilder  0.280230
    ExtUtils::Command   7.30    
    ExtUtils::Install   2.14    
    ExtUtils::MakeMaker 7.30    
    ExtUtils::Manifest  1.70    
    ExtUtils::ParseXS   3.35    
    File::Spec          3.62    
    JSON                2.97000 
    JSON::PP            2.97000 
    Module::Build       0.4224  
    Module::Signature   0.81    
    Parse::CPAN::Meta   2.150010
    Test::Harness       3.39    
    Test::More          1.302120
    YAML                1.24    
    YAML::Syck          1.30    
    version             0.9918  


--

Summary of my perl5 (revision 5 version 18 subversion 2) configuration:
   
  Platform:
    osname=darwin, osvers=17.0, archname=darwin-thread-multi-2level
    uname='darwin osx347.sd.apple.com 17.0 darwin kernel version 16.1.0: wed may 17 11:07:20 pdt 2017; root:xnu-3789.21.4.1.5~1development_x86_64 x86_64 '
    config_args='-ds -e -Dprefix=/usr -Dccflags=-g  -pipe  -Dldflags= -Dman3ext=3pm -Duseithreads -Duseshrplib -Dinc_version_list=none -Dcc=cc'
    hint=recommended, useposix=true, d_sigaction=define
    useithreads=define, usemultiplicity=define
    useperlio=define, d_sfio=undef, uselargefiles=define, usesocks=undef
    use64bitint=define, use64bitall=define, uselongdouble=undef
    usemymalloc=n, bincompat5005=undef
  Compiler:
    cc='cc', ccflags ='-arch x86_64 -arch i386 -g -pipe -fno-common -DPERL_DARWIN -fno-strict-aliasing -fstack-protector',
    optimize='-Os',
    cppflags='-g -pipe -fno-common -DPERL_DARWIN -fno-strict-aliasing -fstack-protector'
    ccversion='', gccversion='4.2.1 Compatible Apple LLVM 9.0.0 (clang-900.0.31)', gccosandvers=''
    intsize=4, longsize=8, ptrsize=8, doublesize=8, byteorder=12345678
    d_longlong=define, longlongsize=8, d_longdbl=define, longdblsize=16
    ivtype='long', ivsize=8, nvtype='double', nvsize=8, Off_t='off_t', lseeksize=8
    alignbytes=8, prototype=define
  Linker and Libraries:
    ld='cc -mmacosx-version-min=10.12.1', ldflags ='-arch x86_64 -arch i386 -fstack-protector'
    libpth=/usr/lib /usr/local/lib
    libs= 
    perllibs=
    libc=, so=dylib, useshrplib=true, libperl=libperl.dylib
    gnulibc_version=''
  Dynamic Linking:
    dlsrc=dl_dlopen.xs, dlext=bundle, d_dlsymun=undef, ccdlflags=' '
    cccdlflags=' ', lddlflags='-arch x86_64 -arch i386 -bundle -undefined dynamic_lookup -fstack-protector'


Characteristics of this binary (from libperl): 
  Compile-time options: HAS_TIMES MULTIPLICITY PERLIO_LAYERS
                        PERL_DONT_CREATE_GVSV
                        PERL_HASH_FUNC_ONE_AT_A_TIME_HARD
                        PERL_IMPLICIT_CONTEXT PERL_MALLOC_WRAP
                        PERL_PRESERVE_IVUV PERL_SAWAMPERSAND USE_64_BIT_ALL
                        USE_64_BIT_INT USE_ITHREADS USE_LARGE_FILES
                        USE_LOCALE USE_LOCALE_COLLATE USE_LOCALE_CTYPE
                        USE_LOCALE_NUMERIC USE_PERLIO USE_PERL_ATOF
                        USE_REENTRANT_API
  Locally applied patches:
	/Library/Perl/Updates/<version> comes before system perl directories
	installprivlib and installarchlib points to the Updates directory
  Built under darwin
  Compiled at Jul 15 2017 14:28:04
  %ENV:
    PERL5LIB="/Users/gintas/.cpan/build/B-Debug-1.26-nMnNtd/blib/arch:/Users/gintas/.cpan/build/B-Debug-1.26-nMnNtd/blib/lib"
    PERL5OPT=""
    PERL5_CPANPLUS_IS_RUNNING="99377"
    PERL5_CPAN_IS_RUNNING="99377"
  @INC:
    /Users/gintas/.cpan/build/B-Debug-1.26-nMnNtd/blib/arch
    /Users/gintas/.cpan/build/B-Debug-1.26-nMnNtd/blib/lib
    /Library/Perl/5.18/darwin-thread-multi-2level
    /Library/Perl/5.18
    /Network/Library/Perl/5.18/darwin-thread-multi-2level
    /Network/Library/Perl/5.18
    /Library/Perl/Updates/5.18.2/darwin-thread-multi-2level
    /Library/Perl/Updates/5.18.2
    /System/Library/Perl/5.18/darwin-thread-multi-2level
    /System/Library/Perl/5.18
    /System/Library/Perl/Extras/5.18/darwin-thread-multi-2level
    /System/Library/Perl/Extras/5.18
    .