Back
From: metabase:user:ea87d472-eaa6-11e5-bf02-ac50a308a42d
Subject: PASS MozRepl-0.06 v5.20.1 GNU/Linux
Date: 2017-05-18T11:18:51Z
This distribution has been tested as part of the CPAN Testers
project, supporting the Perl programming language. See
http://wiki.cpantesters.org/ for more information or email
questions to cpan-testers-discuss@perl.org
--
Dear ZIGOROU,
This is a computer-generated report for MozRepl-0.06
on perl 5.20.1, created by App::cpanminus::reporter 0.17 (1.7030).
Thank you for uploading your work to CPAN. Congratulations!
All tests were successful.
Sections of this report:
* Tester comments
* Program output
* Prerequisites
* Environment and other context
------------------------------
TESTER COMMENTS
------------------------------
Additional comments from tester:
none provided
------------------------------
PROGRAM OUTPUT
------------------------------
Output from '':
Building and testing MozRepl-0.06
"/home/julien/perl5/perlbrew/perls/perl-5.20.1/bin/perl" "-Iinc" Makefile.PL --config= --installdeps=Data::JavaScript::Anon,0,Module::Pluggable::Fast,0,Template::Provider::FromDATA,0
cp lib/MozRepl/Plugin/JSON.pm blib/lib/MozRepl/Plugin/JSON.pm
cp lib/MozRepl/Client.pm blib/lib/MozRepl/Client.pm
cp lib/MozRepl/Plugin/Repl/Util/HelpUrlFor.pm blib/lib/MozRepl/Plugin/Repl/Util/HelpUrlFor.pm
cp lib/MozRepl.pm blib/lib/MozRepl.pm
cp lib/MozRepl/Plugin/Repl/Search.pm blib/lib/MozRepl/Plugin/Repl/Search.pm
cp lib/MozRepl/Plugin/Repl/Enter.pm blib/lib/MozRepl/Plugin/Repl/Enter.pm
cp lib/MozRepl/Plugin/Repl/Load.pm blib/lib/MozRepl/Plugin/Repl/Load.pm
cp lib/MozRepl/Plugin/Repl/Back.pm blib/lib/MozRepl/Plugin/Repl/Back.pm
cp lib/MozRepl/Plugin/Repl/Rename.pm blib/lib/MozRepl/Plugin/Repl/Rename.pm
cp lib/MozRepl/Plugin/Repl/Util/DocFor.pm blib/lib/MozRepl/Plugin/Repl/Util/DocFor.pm
cp lib/MozRepl/Plugin/Repl/Print.pm blib/lib/MozRepl/Plugin/Repl/Print.pm
cp lib/MozRepl/Log.pm blib/lib/MozRepl/Log.pm
cp lib/MozRepl/Plugin/Repl/Home.pm blib/lib/MozRepl/Plugin/Repl/Home.pm
cp lib/MozRepl/Plugin/Repl/Inspect.pm blib/lib/MozRepl/Plugin/Repl/Inspect.pm
cp lib/MozRepl/Util.pm blib/lib/MozRepl/Util.pm
cp lib/MozRepl/Plugin/Base.pm blib/lib/MozRepl/Plugin/Base.pm
Manifying 16 pod documents
"/home/julien/perl5/perlbrew/perls/perl-5.20.1/bin/perl" "-Iinc" Makefile.PL --config= --installdeps=Data::JavaScript::Anon,0,Module::Pluggable::Fast,0,Template::Provider::FromDATA,0
PERL_DL_NONLAZY=1 "/home/julien/perl5/perlbrew/perls/perl-5.20.1/bin/perl" "-MExtUtils::Command::MM" "-MTest::Harness" "-e" "undef *Test::Harness::Switches; test_harness(0, 'inc', 'blib/lib', 'blib/arch')" t/00-load.t t/10-plugin-repl-enter.t t/11-plugin-repl-search.t t/12-plugin-repl-inspect.t t/13-plugin-repl-load.t t/14-plugin-repl-rename.t t/15-plugin-repl-print.t t/16-plugin-repl-home.t t/17-plugin-repl-back.t t/18-plugin-repl-util-help_url_for.t t/19-plugin-repl-util-doc_for.t t/20-plugin-json.t t/pod-coverage.t t/pod.t
# Testing MozRepl 0.06
t/00-load.t ........................... ok
[DEBUG] MozRepl logging enabled
[DEBUG]
---- Client arguments ----
.----------------------+------------------------------------------.
| client_arg_name | client_arg_value |
+----------------------+------------------------------------------+
| host | localhost |
| port | 4242 |
| timeout | 10 |
| extra_client_args | {} |
'----------------------+------------------------------------------'
t/10-plugin-repl-enter.t .............. ok
[DEBUG] MozRepl logging enabled
[DEBUG]
---- Client arguments ----
.----------------------+------------------------------------------.
| client_arg_name | client_arg_value |
+----------------------+------------------------------------------+
| host | localhost |
| port | 4242 |
| timeout | 10 |
| extra_client_args | {} |
'----------------------+------------------------------------------'
t/11-plugin-repl-search.t ............. ok
[DEBUG] MozRepl logging enabled
[DEBUG]
---- Client arguments ----
.----------------------+------------------------------------------.
| client_arg_name | client_arg_value |
+----------------------+------------------------------------------+
| host | localhost |
| port | 4242 |
| timeout | 10 |
| extra_client_args | {} |
'----------------------+------------------------------------------'
t/12-plugin-repl-inspect.t ............ ok
[DEBUG] MozRepl logging enabled
[DEBUG]
---- Client arguments ----
.----------------------+------------------------------------------.
| client_arg_name | client_arg_value |
+----------------------+------------------------------------------+
| host | localhost |
| port | 4242 |
| timeout | 10 |
| extra_client_args | {} |
'----------------------+------------------------------------------'
t/13-plugin-repl-load.t ............... ok
[DEBUG] MozRepl logging enabled
[DEBUG]
---- Client arguments ----
.----------------------+------------------------------------------.
| client_arg_name | client_arg_value |
+----------------------+------------------------------------------+
| host | localhost |
| port | 4242 |
| timeout | 10 |
| extra_client_args | {} |
'----------------------+------------------------------------------'
t/14-plugin-repl-rename.t ............. ok
[DEBUG] MozRepl logging enabled
[DEBUG]
---- Client arguments ----
.----------------------+------------------------------------------.
| client_arg_name | client_arg_value |
+----------------------+------------------------------------------+
| host | localhost |
| port | 4242 |
| timeout | 10 |
| extra_client_args | {} |
'----------------------+------------------------------------------'
t/15-plugin-repl-print.t .............. ok
[DEBUG] MozRepl logging enabled
[DEBUG]
---- Client arguments ----
.----------------------+------------------------------------------.
| client_arg_name | client_arg_value |
+----------------------+------------------------------------------+
| host | localhost |
| port | 4242 |
| timeout | 10 |
| extra_client_args | {} |
'----------------------+------------------------------------------'
t/16-plugin-repl-home.t ............... ok
[DEBUG] MozRepl logging enabled
[DEBUG]
---- Client arguments ----
.----------------------+------------------------------------------.
| client_arg_name | client_arg_value |
+----------------------+------------------------------------------+
| host | localhost |
| port | 4242 |
| timeout | 10 |
| extra_client_args | {} |
'----------------------+------------------------------------------'
t/17-plugin-repl-back.t ............... ok
[DEBUG] MozRepl logging enabled
[DEBUG]
---- Client arguments ----
.----------------------+------------------------------------------.
| client_arg_name | client_arg_value |
+----------------------+------------------------------------------+
| host | localhost |
| port | 4242 |
| timeout | 10 |
| extra_client_args | {} |
'----------------------+------------------------------------------'
t/18-plugin-repl-util-help_url_for.t .. ok
[DEBUG] MozRepl logging enabled
[DEBUG]
---- Client arguments ----
.----------------------+------------------------------------------.
| client_arg_name | client_arg_value |
+----------------------+------------------------------------------+
| host | localhost |
| port | 4242 |
| timeout | 10 |
| extra_client_args | {} |
'----------------------+------------------------------------------'
t/19-plugin-repl-util-doc_for.t ....... ok
[DEBUG] MozRepl logging enabled
[DEBUG]
---- Client arguments ----
.----------------------+------------------------------------------.
| client_arg_name | client_arg_value |
+----------------------+------------------------------------------+
| host | localhost |
| port | 4242 |
| timeout | 10 |
| extra_client_args | {} |
'----------------------+------------------------------------------'
t/20-plugin-json.t .................... ok
t/pod-coverage.t ...................... ok
t/pod.t ............................... ok
All tests successful.
Files=14, Tests=74, 1 wallclock secs ( 0.05 usr 0.00 sys + 0.68 cusr 0.04 csys = 0.77 CPU)
Result: PASS
------------------------------
PREREQUISITES
------------------------------
Prerequisite modules loaded:
No requirements found
------------------------------
ENVIRONMENT AND OTHER CONTEXT
------------------------------
Environment variables:
LANG = en_US.UTF-8
LANGUAGE = en_US
LC_ADDRESS = en_US.UTF-8
LC_IDENTIFICATION = en_US.UTF-8
LC_MEASUREMENT = en_US.UTF-8
LC_MONETARY = en_US.UTF-8
LC_NAME = en_US.UTF-8
LC_NUMERIC = en_US.UTF-8
LC_PAPER = en_US.UTF-8
LC_TELEPHONE = en_US.UTF-8
LC_TIME = en_US.UTF-8
PATH = /home/julien/perl5/perlbrew/bin:/home/julien/perl5/perlbrew/perls/perl-5.20.1/bin:/usr/local/sbin:/usr/local/bin:/usr/sbin:/usr/bin:/sbin:/bin:/usr/games:/usr/local/games:/snap/bin
PERL5LIB = /home/julien/code/StratoPro/lib:/home/julien/code/ProductDB/lib:/home/julien/code/StoreFront/lib:/home/julien/code/StoreFrontDatabases/lib:/home/julien/code/ProductDB/API/lib:/home/julien/code/RZBankdataDE/lib:/home/julien/code/Ordering-WFC/lib
PERLBREW_BASHRC_VERSION = 0.76
PERLBREW_HOME = /home/julien/.perlbrew
PERLBREW_MANPATH = /home/julien/perl5/perlbrew/perls/perl-5.20.1/man
PERLBREW_PATH = /home/julien/perl5/perlbrew/bin:/home/julien/perl5/perlbrew/perls/perl-5.20.1/bin
PERLBREW_PERL = perl-5.20.1
PERLBREW_ROOT = /home/julien/perl5/perlbrew
PERLBREW_VERSION = 0.76
SHELL = /bin/bash
TERM = xterm
Perl special variables (and OS-specific diagnostics, for MSWin32):
EGID = 1000 4 24 27 30 46 109 125 1000
EUID = 1000
EXECUTABLE_NAME = /home/julien/perl5/perlbrew/perls/perl-5.20.1/bin/perl
GID = 1000 4 24 27 30 46 109 125 1000
UID = 1000
Perl module toolchain versions installed:
Module Have
------------------- --------
CPAN 2.16
CPAN::Meta 2.150010
Cwd 3.62
ExtUtils::CBuilder 0.280224
ExtUtils::Command 7.24
ExtUtils::Install 2.04
ExtUtils::MakeMaker 7.24
ExtUtils::Manifest 1.70
ExtUtils::ParseXS 3.30
File::Spec 3.62
JSON 2.90
JSON::PP 2.27400
Module::Build 0.4220
Module::Signature n/a
Parse::CPAN::Meta 2.150010
Test::Harness 3.36
Test::More 1.302075
YAML 1.22
YAML::Syck n/a
version 0.9917
--
Summary of my perl5 (revision 5 version 20 subversion 1) configuration:
Platform:
osname=linux, osvers=3.16.0-34-generic, archname=x86_64-linux
uname='linux horst 3.16.0-34-generic #47-ubuntu smp fri apr 10 18:02:58 utc 2015 x86_64 x86_64 x86_64 gnulinux '
config_args='-de -Dprefix=/home/julien/perl5/perlbrew/perls/perl-5.20.1 -Aeval:scriptdir=/home/julien/perl5/perlbrew/perls/perl-5.20.1/bin'
hint=recommended, useposix=true, d_sigaction=define
useithreads=undef, usemultiplicity=undef
use64bitint=define, use64bitall=define, uselongdouble=undef
usemymalloc=n, bincompat5005=undef
Compiler:
cc='cc', ccflags ='-fwrapv -fno-strict-aliasing -pipe -fstack-protector -I/usr/local/include -D_LARGEFILE_SOURCE -D_FILE_OFFSET_BITS=64',
optimize='-O2',
cppflags='-fwrapv -fno-strict-aliasing -pipe -fstack-protector -I/usr/local/include'
ccversion='', gccversion='4.9.1', gccosandvers=''
intsize=4, longsize=8, ptrsize=8, doublesize=8, byteorder=12345678
d_longlong=define, longlongsize=8, d_longdbl=define, longdblsize=16
ivtype='long', ivsize=8, nvtype='double', nvsize=8, Off_t='off_t', lseeksize=8
alignbytes=8, prototype=define
Linker and Libraries:
ld='cc', ldflags =' -fstack-protector -L/usr/local/lib'
libpth=/usr/local/lib /usr/lib/gcc/x86_64-linux-gnu/4.9/include-fixed /usr/include/x86_64-linux-gnu /usr/lib /lib/x86_64-linux-gnu /lib/../lib /usr/lib/x86_64-linux-gnu /usr/lib/../lib /lib
libs=-lnsl -ldl -lm -lcrypt -lutil -lc
perllibs=-lnsl -ldl -lm -lcrypt -lutil -lc
libc=libc-2.19.so, so=so, useshrplib=false, libperl=libperl.a
gnulibc_version='2.19'
Dynamic Linking:
dlsrc=dl_dlopen.xs, dlext=so, d_dlsymun=undef, ccdlflags='-Wl,-E'
cccdlflags='-fPIC', lddlflags='-shared -O2 -L/usr/local/lib -fstack-protector'
Characteristics of this binary (from libperl):
Compile-time options: HAS_TIMES PERLIO_LAYERS PERL_DONT_CREATE_GVSV
PERL_HASH_FUNC_ONE_AT_A_TIME_HARD PERL_MALLOC_WRAP
PERL_NEW_COPY_ON_WRITE PERL_PRESERVE_IVUV
USE_64_BIT_ALL USE_64_BIT_INT USE_LARGE_FILES
USE_LOCALE USE_LOCALE_COLLATE USE_LOCALE_CTYPE
USE_LOCALE_NUMERIC USE_PERLIO USE_PERL_ATOF
Locally applied patches:
Devel::PatchPerl 1.32
Built under linux
Compiled at Apr 20 2015 09:45:55
%ENV:
PERL5LIB="/home/julien/code/StratoPro/lib:/home/julien/code/ProductDB/lib:/home/julien/code/StoreFront/lib:/home/julien/code/StoreFrontDatabases/lib:/home/julien/code/ProductDB/API/lib:/home/julien/code/RZBankdataDE/lib:/home/julien/code/Ordering-WFC/lib"
PERLBREW_BASHRC_VERSION="0.76"
PERLBREW_HOME="/home/julien/.perlbrew"
PERLBREW_MANPATH="/home/julien/perl5/perlbrew/perls/perl-5.20.1/man"
PERLBREW_PATH="/home/julien/perl5/perlbrew/bin:/home/julien/perl5/perlbrew/perls/perl-5.20.1/bin"
PERLBREW_PERL="perl-5.20.1"
PERLBREW_ROOT="/home/julien/perl5/perlbrew"
PERLBREW_VERSION="0.76"
@INC:
/home/julien/code/StratoPro/lib
/home/julien/code/ProductDB/lib
/home/julien/code/StoreFront/lib
/home/julien/code/StoreFrontDatabases/lib
/home/julien/code/ProductDB/API/lib
/home/julien/code/RZBankdataDE/lib
/home/julien/code/Ordering-WFC/lib
/home/julien/perl5/perlbrew/perls/perl-5.20.1/lib/site_perl/5.20.1/x86_64-linux
/home/julien/perl5/perlbrew/perls/perl-5.20.1/lib/site_perl/5.20.1
/home/julien/perl5/perlbrew/perls/perl-5.20.1/lib/5.20.1/x86_64-linux
/home/julien/perl5/perlbrew/perls/perl-5.20.1/lib/5.20.1
.