Amazon-Credentials v1.1.24 Perl 5 v5.36.1 x86_64-linux

Status
Pass
From
Nigel Horne
Dist
Amazon-Credentials v1.1.24
Platform
Perl 5 v5.36.1 x86_64-linux
Date
2025-06-28 12:38:19
ID
c50b4e60-541c-11f0-ae22-746b33bdc8bb
This distribution has been tested as part of the CPAN Testers
project, supporting the Perl programming language.  See
http://wiki.cpantesters.org/ for more information or email
questions to cpan-testers-discuss@perl.org


--
Dear Robert Lauer,

This is a computer-generated report for Amazon-Credentials-1.1.24
on perl 5.36.1, created by CPAN-Reporter-1.2019.

Thank you for uploading your work to CPAN.  Congratulations!
All tests were successful.

Sections of this report:

    * Tester comments
    * Program output
    * Prerequisites
    * Environment and other context

------------------------------
TESTER COMMENTS
------------------------------

Additional comments from tester:

this report is from an automated smoke testing program
and was not reviewed by a human for accuracy

------------------------------
PROGRAM OUTPUT
------------------------------

Output from '/usr/bin/make test':

PERL_DL_NONLAZY=1 "/home/smoker/perl5/perlbrew/perls/perl-5.36.1/bin/perl5.36.1" "-MExtUtils::Command::MM" "-MTest::Harness" "-e" "undef *Test::Harness::Switches; test_harness(0, 'blib/lib', 'blib/arch')" t/*.t
t/00-credentials.t ....... ok
$VAR1 = [
          't/01-credentials.t'
        ];
t/01-credentials.t ....... ok
t/02-credentials.t ....... ok
t/03-container.t ......... ok
t/05-format.t ............ ok
t/04-process.t ........... ok
t/06-security.t .......... ok
t/07-encryption.t ........ skipped: Crypt::CBC unavilable
t/09-live-credentials.t .. skipped: set AMAZON_CREDENTIALS_TEST_ALL to test in AWS
t/08-imdsv2.t ............ skipped: set AMAZON_CREDENTIALS_TEST_ALL to test in AWS
t/10-logging.t ........... skipped: no Log::Log4perl available
t/11-order.t ............. ok
no credentials available at t/12-error.t line 52.
 at t/12-error.t line 52.
Can't exec "some_process_that_does_not_exist": No such file or directory at lib/Amazon/Credentials.pm line 482.
t/12-error.t ............. ok
t/13-env.t ............... ok
t/14-utils.t ............. ok
All tests successful.
Files=15, Tests=51,  5 wallclock secs ( 0.23 usr  0.05 sys +  7.54 cusr  1.82 csys =  9.64 CPU)
Result: PASS

------------------------------
PREREQUISITES
------------------------------

Prerequisite modules loaded:

requires:

    Module                  Need     Have    
    ----------------------- -------- --------
    Carp                    1.26     1.52    
    Class::Accessor::Fast   0.31     0.51    
    Config::Tiny            2.28     2.29    
    Date::Format            2.24     2.24    
    English                 1.05     1.11    
    Exporter                5.68     5.77    
    File::chdir             0.1010   0.1011  
    File::Find              0        1.40    
    File::HomeDir           1.00     1.006   
    HTTP::Request           6.00     6.44    
    JSON::PP                4.07     4.07    
    List::Util              1.5      1.62    
    LWP::UserAgent          6.36     6.68    
    MIME::Base64            3.13     3.16    
    POSIX::strptime         0.13     0.13    
    Scalar::Util            1.5      1.62    
    Test::Output            1.033    1.033   
    Time::Local             1.2300   1.30    

build_requires:

    Module                  Need     Have    
    ----------------------- -------- --------
    constant                1.33     1.33    
    Cwd                     3.40     3.84    
    Data::Dumper            2.145    2.184   
    Date::Format            2.24     2.24    
    English                 1.05     1.11    
    ExtUtils::MakeMaker     6.64     7.70    
    File::Path              2.09     2.18    
    File::ShareDir::Install 0        0.14    
    File::Temp              0.2301   0.2311  
    JSON::PP                4.07     4.07    
    MIME::Base64            3.13     3.16    
    Module::Loaded          0        0.08    
    strict                  1.07     1.12    
    Test::More              1.001014 1.302214
    Test::Output            1.031    1.033   
    Test::Without::Module   0        0.21    
    warnings                1.13     1.58    

configure_requires:

    Module                  Need     Have    
    ----------------------- -------- --------
    ExtUtils::MakeMaker     6.64     7.70    
    File::ShareDir::Install 0        0.14    


------------------------------
ENVIRONMENT AND OTHER CONTEXT
------------------------------

Environment variables:

    AUTOMATED_TESTING = 1
    HARNESS_OPTIONS = c:j2
    PATH = /home/smoker/perl5/perlbrew/bin:/home/smoker/perl5/perlbrew/perls/perl-5.36.1/bin:/usr/local/sbin:/usr/local/bin:/usr/sbin:/usr/bin:/sbin:/bin::
    PERL5LIB = /home/smoker/.cpan/build/POSIX-strptime-0.13-0/blib/arch:/home/smoker/.cpan/build/POSIX-strptime-0.13-0/blib/lib:/home/smoker/.cpan/build/AWS-Signature4-1.02-0/blib/arch:/home/smoker/.cpan/build/AWS-Signature4-1.02-0/blib/lib:/home/smoker/.cpan/build/Perl-Critic-Grape-0.0.4-0/blib/arch:/home/smoker/.cpan/build/Perl-Critic-Grape-0.0.4-0/blib/lib:/home/smoker/.cpan/build/Test-Simple-1.302214-0/blib/arch:/home/smoker/.cpan/build/Test-Simple-1.302214-0/blib/lib:/home/smoker/.cpan/build/Ref-Util-0.204-0/blib/arch:/home/smoker/.cpan/build/Ref-Util-0.204-0/blib/lib:/home/smoker/.cpan/build/Ref-Util-XS-0.117-0/blib/arch:/home/smoker/.cpan/build/Ref-Util-XS-0.117-0/blib/lib:/home/smoker/.cpan/build/Perl-Critic-1.156-0/blib/arch:/home/smoker/.cpan/build/Perl-Critic-1.156-0/blib/lib:/home/smoker/.cpan/build/PPI-1.283-0/blib/arch:/home/smoker/.cpan/build/PPI-1.283-0/blib/lib:/home/smoker/.cpan/build/Safe-Isa-1.000010-0/blib/arch:/home/smoker/.cpan/build/Safe-Isa-1.000010-0/blib/lib:/home/smoker/.cpan/build/AsposeSlidesCloud-SlidesApi-25.06-0/blib/arch:/home/smoker/.cpan/build/AsposeSlidesCloud-SlidesApi-25.06-0/blib/lib:/home/smoker/.cpan/build/Hash-Util-Exists-Tiny-1.03-0/blib/arch:/home/smoker/.cpan/build/Hash-Util-Exists-Tiny-1.03-0/blib/lib
    PERL5OPT = 
    PERL5_CPANPLUS_IS_RUNNING = 25
    PERL5_CPAN_IS_RUNNING = 25
    PERL5_CPAN_IS_RUNNING_IN_RECURSION = 1,25
    PERLBREW_HOME = /home/smoker/.perlbrew
    PERLBREW_MANPATH = /home/smoker/perl5/perlbrew/perls/perl-5.36.1/man
    PERLBREW_PATH = /home/smoker/perl5/perlbrew/bin:/home/smoker/perl5/perlbrew/perls/perl-5.36.1/bin
    PERLBREW_PERL = perl-5.36.1
    PERLBREW_ROOT = /home/smoker/perl5/perlbrew
    PERLBREW_SHELLRC_VERSION = 0.96
    PERLBREW_VERSION = 0.96
    PERL_MM_USE_DEFAULT = 1
    PERL_USE_UNSAFE_INC = 1
    SHELL = /bin/bash
    TERM = xterm
    TMPDIR = /tmp/testwrapper.18

Perl special variables (and OS-specific diagnostics, for MSWin32):

    $^X = /home/smoker/perl5/perlbrew/perls/perl-5.36.1/bin/perl5.36.1
    $UID/$EUID = 1000 / 1000
    $GID = 1000 1000
    $EGID = 1000 1000

Perl module toolchain versions installed:

    Module              Have    
    ------------------- --------
    CPAN                2.33    
    CPAN::Meta          2.150010
    Cwd                 3.84    
    ExtUtils::CBuilder  0.280236
    ExtUtils::Command   7.70    
    ExtUtils::Install   2.20    
    ExtUtils::MakeMaker 7.70    
    ExtUtils::Manifest  1.73    
    ExtUtils::ParseXS   3.45    
    File::Spec          3.84    
    JSON                n/a     
    JSON::PP            4.07    
    Module::Build       0.4234  
    Module::Signature   n/a     
    Parse::CPAN::Meta   2.150010
    Test2               1.302214
    Test::Harness       3.44    
    Test::More          1.302214
    YAML                1.30    
    YAML::Syck          1.34    
    version             0.9929  


--

Summary of my perl5 (revision 5 version 36 subversion 1) configuration:
   
  Platform:
    osname=linux
    osvers=5.4.0-1100-oracle
    archname=x86_64-linux
    uname='linux 0606cdb2f144 5.4.0-1100-oracle #109~18.04.1-ubuntu smp fri apr 21 12:01:52 utc 2023 x86_64 gnulinux '
    config_args='-de -Dprefix=/home/smoker/perl5/perlbrew/perls/perl-5.36.1 -Dusedevel -Accflags=-O2 -pipe -Wall -Wextra -mtune=native -march=native -Aeval:scriptdir=/home/smoker/perl5/perlbrew/perls/perl-5.36.1/bin'
    hint=recommended
    useposix=true
    d_sigaction=define
    useithreads=undef
    usemultiplicity=undef
    use64bitint=define
    use64bitall=define
    uselongdouble=undef
    usemymalloc=n
    default_inc_excludes_dot=define
  Compiler:
    cc='cc'
    ccflags ='-O2 -pipe -Wall -Wextra -mtune=native -march=native -fwrapv -fno-strict-aliasing -fstack-protector-strong -I/usr/local/include -D_LARGEFILE_SOURCE -D_FILE_OFFSET_BITS=64 -D_FORTIFY_SOURCE=2'
    optimize='-O2'
    cppflags='-O2 -pipe -Wall -Wextra -mtune=native -march=native -fwrapv -fno-strict-aliasing -fstack-protector-strong -I/usr/local/include'
    ccversion=''
    gccversion='8.3.0'
    gccosandvers=''
    intsize=4
    longsize=8
    ptrsize=8
    doublesize=8
    byteorder=12345678
    doublekind=3
    d_longlong=define
    longlongsize=8
    d_longdbl=define
    longdblsize=16
    longdblkind=3
    ivtype='long'
    ivsize=8
    nvtype='double'
    nvsize=8
    Off_t='off_t'
    lseeksize=8
    alignbytes=8
    prototype=define
  Linker and Libraries:
    ld='cc'
    ldflags =' -fstack-protector-strong -L/usr/local/lib'
    libpth=/usr/local/lib /usr/lib/x86_64-linux-gnu /usr/lib /lib/x86_64-linux-gnu /lib
    libs=-lpthread -lnsl -ldl -lm -lcrypt -lutil -lc
    perllibs=-lpthread -lnsl -ldl -lm -lcrypt -lutil -lc
    libc=libc-2.28.so
    so=so
    useshrplib=false
    libperl=libperl.a
    gnulibc_version='2.28'
  Dynamic Linking:
    dlsrc=dl_dlopen.xs
    dlext=so
    d_dlsymun=undef
    ccdlflags='-Wl,-E'
    cccdlflags='-fPIC'
    lddlflags='-shared -O2 -L/usr/local/lib -fstack-protector-strong'


Characteristics of this binary (from libperl): 
  Compile-time options:
    HAS_TIMES
    PERLIO_LAYERS
    PERL_COPY_ON_WRITE
    PERL_DONT_CREATE_GVSV
    PERL_MALLOC_WRAP
    PERL_OP_PARENT
    PERL_PRESERVE_IVUV
    PERL_USE_DEVEL
    USE_64_BIT_ALL
    USE_64_BIT_INT
    USE_LARGE_FILES
    USE_LOCALE
    USE_LOCALE_COLLATE
    USE_LOCALE_CTYPE
    USE_LOCALE_NUMERIC
    USE_LOCALE_TIME
    USE_PERLIO
    USE_PERL_ATOF
  Built under linux
  Compiled at May  2 2023 13:01:13
  %ENV:
    PERL5LIB="/home/smoker/.cpan/build/POSIX-strptime-0.13-0/blib/arch:/home/smoker/.cpan/build/POSIX-strptime-0.13-0/blib/lib:/home/smoker/.cpan/build/AWS-Signature4-1.02-0/blib/arch:/home/smoker/.cpan/build/AWS-Signature4-1.02-0/blib/lib:/home/smoker/.cpan/build/Perl-Critic-Grape-0.0.4-0/blib/arch:/home/smoker/.cpan/build/Perl-Critic-Grape-0.0.4-0/blib/lib:/home/smoker/.cpan/build/Test-Simple-1.302214-0/blib/arch:/home/smoker/.cpan/build/Test-Simple-1.302214-0/blib/lib:/home/smoker/.cpan/build/Ref-Util-0.204-0/blib/arch:/home/smoker/.cpan/build/Ref-Util-0.204-0/blib/lib:/home/smoker/.cpan/build/Ref-Util-XS-0.117-0/blib/arch:/home/smoker/.cpan/build/Ref-Util-XS-0.117-0/blib/lib:/home/smoker/.cpan/build/Perl-Critic-1.156-0/blib/arch:/home/smoker/.cpan/build/Perl-Critic-1.156-0/blib/lib:/home/smoker/.cpan/build/PPI-1.283-0/blib/arch:/home/smoker/.cpan/build/PPI-1.283-0/blib/lib:/home/smoker/.cpan/build/Safe-Isa-1.000010-0/blib/arch:/home/smoker/.cpan/build/Safe-Isa-1.000010-0/blib/lib:/home/smoker/.cpan/build/AsposeSlidesCloud-SlidesApi-25.06-0/blib/arch:/home/smoker/.cpan/build/AsposeSlidesCloud-SlidesApi-25.06-0/blib/lib:/home/smoker/.cpan/build/Hash-Util-Exists-Tiny-1.03-0/blib/arch:/home/smoker/.cpan/build/Hash-Util-Exists-Tiny-1.03-0/blib/lib"
    PERL5OPT=""
    PERL5_CPANPLUS_IS_RUNNING="25"
    PERL5_CPAN_IS_RUNNING="25"
    PERL5_CPAN_IS_RUNNING_IN_RECURSION="1,25"
    PERLBREW_HOME="/home/smoker/.perlbrew"
    PERLBREW_MANPATH="/home/smoker/perl5/perlbrew/perls/perl-5.36.1/man"
    PERLBREW_PATH="/home/smoker/perl5/perlbrew/bin:/home/smoker/perl5/perlbrew/perls/perl-5.36.1/bin"
    PERLBREW_PERL="perl-5.36.1"
    PERLBREW_ROOT="/home/smoker/perl5/perlbrew"
    PERLBREW_SHELLRC_VERSION="0.96"
    PERLBREW_VERSION="0.96"
    PERL_MM_USE_DEFAULT="1"
    PERL_USE_UNSAFE_INC="1"
  @INC:
    /home/smoker/.cpan/build/POSIX-strptime-0.13-0/blib/arch
    /home/smoker/.cpan/build/POSIX-strptime-0.13-0/blib/lib
    /home/smoker/.cpan/build/AWS-Signature4-1.02-0/blib/arch
    /home/smoker/.cpan/build/AWS-Signature4-1.02-0/blib/lib
    /home/smoker/.cpan/build/Perl-Critic-Grape-0.0.4-0/blib/arch
    /home/smoker/.cpan/build/Perl-Critic-Grape-0.0.4-0/blib/lib
    /home/smoker/.cpan/build/Test-Simple-1.302214-0/blib/arch
    /home/smoker/.cpan/build/Test-Simple-1.302214-0/blib/lib
    /home/smoker/.cpan/build/Ref-Util-0.204-0/blib/arch
    /home/smoker/.cpan/build/Ref-Util-0.204-0/blib/lib
    /home/smoker/.cpan/build/Ref-Util-XS-0.117-0/blib/arch
    /home/smoker/.cpan/build/Ref-Util-XS-0.117-0/blib/lib
    /home/smoker/.cpan/build/Perl-Critic-1.156-0/blib/arch
    /home/smoker/.cpan/build/Perl-Critic-1.156-0/blib/lib
    /home/smoker/.cpan/build/PPI-1.283-0/blib/arch
    /home/smoker/.cpan/build/PPI-1.283-0/blib/lib
    /home/smoker/.cpan/build/Safe-Isa-1.000010-0/blib/arch
    /home/smoker/.cpan/build/Safe-Isa-1.000010-0/blib/lib
    /home/smoker/.cpan/build/AsposeSlidesCloud-SlidesApi-25.06-0/blib/arch
    /home/smoker/.cpan/build/AsposeSlidesCloud-SlidesApi-25.06-0/blib/lib
    /home/smoker/.cpan/build/Hash-Util-Exists-Tiny-1.03-0/blib/arch
    /home/smoker/.cpan/build/Hash-Util-Exists-Tiny-1.03-0/blib/lib
    /home/smoker/perl5/perlbrew/perls/perl-5.36.1/lib/site_perl/5.36.1/x86_64-linux
    /home/smoker/perl5/perlbrew/perls/perl-5.36.1/lib/site_perl/5.36.1
    /home/smoker/perl5/perlbrew/perls/perl-5.36.1/lib/5.36.1/x86_64-linux
    /home/smoker/perl5/perlbrew/perls/perl-5.36.1/lib/5.36.1
    .