API-Instagram v0.013 Perl 5 v5.36.3 x86_64-linux

Status
Pass
From
Slaven Rezić
Dist
API-Instagram v0.013
Platform
Perl 5 v5.36.3 x86_64-linux
Date
2024-09-30 00:05:58
ID
c509999a-7ebf-11ef-bc4b-4c116e8775ea
This distribution has been tested as part of the CPAN Testers
project, supporting the Perl programming language.  See
http://wiki.cpantesters.org/ for more information or email
questions to cpan-testers-discuss@perl.org


--
Dear Gabriel Vieira,

This is a computer-generated report for API-Instagram-0.013
on perl 5.36.3, created by CPAN-Reporter-1.2019.

Thank you for uploading your work to CPAN.  Congratulations!
All tests were successful.

Sections of this report:

    * Tester comments
    * Program output
    * Prerequisites
    * Environment and other context

------------------------------
TESTER COMMENTS
------------------------------

Additional comments from tester:

none provided

------------------------------
PROGRAM OUTPUT
------------------------------

Output from '/usr/bin/make test':

PERL_DL_NONLAZY=1 "/opt/perl-5.36.3/bin/perl" "-MExtUtils::Command::MM" "-MTest::Harness" "-e" "undef *Test::Harness::Switches; test_harness(0, 'blib/lib', 'blib/arch')" t/*.t
t/00-comment.t ............ ok
t/00-compile.t ............ ok
ERROR: code required for generating access token. at t/00-instagram.t line 33.
User already authorized with code: 789 at t/00-instagram.t line 37.
A valid access_token is required at /home/cpansand/.cpan/build/2024092922/API-Instagram-0.013-0/blib/lib/API/Instagram/User.pm line 131.
A valid access_token is required at /home/cpansand/.cpan/build/2024092922/API-Instagram-0.013-0/blib/lib/API/Instagram/User.pm line 82.
t/00-instagram.t .......... ok
t/00-load.t ............... ok
t/00-location.t ........... ok
&Digest::MD5::md5_hex function called with reference argument at /home/cpansand/.cpan/build/2024092922/API-Instagram-0.013-0/blib/lib/API/Instagram.pm line 117, <DATA> line 85.
t/00-media.t .............. ok
t/00-search.t ............. ok
t/00-tag.t ................ ok
The feed is only available for the authenticated user at t/00-user.t line 47.
The liked-media is only available for the authenticated user at t/00-user.t line 48.
The requested-by is only available for the authenticated user at t/00-user.t line 49.
t/00-user.t ............... ok
&Digest::MD5::md5_hex function called with reference argument at /home/cpansand/.cpan/build/2024092922/API-Instagram-0.013-0/blib/lib/API/Instagram.pm line 117, <DATA> line 6.
Not available for location with no ID. at /home/cpansand/.cpan/build/2024092922/API-Instagram-0.013-0/blib/lib/API/Instagram/Location.pm line 24.
Not available for location with no ID. at t/01-location.t line 29.
t/01-location.t ........... ok
t/01-media.t .............. ok
t/01-search.t ............. ok
t/01-user.t ............... ok
The feed is only available for the authenticated user at t/02-user.t line 30.
The liked-media is only available for the authenticated user at t/02-user.t line 31.
The requested-by is only available for the authenticated user at t/02-user.t line 32.
t/02-user.t ............... ok
t/03-user.t ............... ok
Invalid action at t/04-user.t line 31.
t/04-user.t ............... ok
t/release-pod-coverage.t .. skipped: these tests are for release candidate testing
t/release-pod-syntax.t .... skipped: these tests are for release candidate testing
All tests successful.
Files=18, Tests=140,  2 wallclock secs ( 0.06 usr  0.03 sys +  1.55 cusr  0.46 csys =  2.10 CPU)
Result: PASS

------------------------------
PREREQUISITES
------------------------------

Prerequisite modules loaded:

requires:

    Module                    Need Have      
    ------------------------- ---- ----------
    Carp                      0    1.52      
    Data::Dumper              0    2.184     
    Digest::MD5               0    2.58      
    experimental              0    0.031     
    Furl                      0    3.14      
    JSON                      0    4.10      
    Moo                       0    2.005005  
    strict                    0    1.12      
    Time::Moment              0    0.44      
    URI                       0    5.28      
    warnings                  0    1.58      

build_requires:

    Module                    Need Have      
    ------------------------- ---- ----------
    ExtUtils::MakeMaker       0    7.70      
    File::Spec                0    3.84      
    Furl::Response            0    0         
    Inline::Files             0    0.71      
    IO::Handle                0    1.55      
    IPC::Open3                0    1.22      
    Test::MockObject::Extends 0    1.20200122
    Test::More                0    1.302204  

configure_requires:

    Module                    Need Have      
    ------------------------- ---- ----------
    ExtUtils::MakeMaker       0    7.70      


------------------------------
ENVIRONMENT AND OTHER CONTEXT
------------------------------

Environment variables:

    LANG = en_AU.UTF-8
    PATH = /usr/local/bin:/usr/bin:/bin:/usr/local/sbin:/usr/sbin:/sbin:/home/cpansand/bin/linux-gnu:/home/cpansand/bin/sh:/home/cpansand/bin:/usr/games:/home/cpansand/devel:/home/eserte/src/srezic-misc/scripts
    PERL5LIB = /home/cpansand/.cpan/build/2024092922/Inline-Files-0.71-0/blib/arch:/home/cpansand/.cpan/build/2024092922/Inline-Files-0.71-0/blib/lib:/home/cpansand/.cpan/build/2024092922/Operator-Util-0.05-0/blib/arch:/home/cpansand/.cpan/build/2024092922/Operator-Util-0.05-0/blib/lib:/home/cpansand/.cpan/build/2024092922/WebService-ThreatStack-1.00-0/blib/arch:/home/cpansand/.cpan/build/2024092922/WebService-ThreatStack-1.00-0/blib/lib
    PERL5OPT = 
    PERL5_CPANPLUS_IS_RUNNING = 1472603
    PERL5_CPAN_IS_RUNNING = 1472603
    PERL5_CPAN_IS_RUNNING_IN_RECURSION = 1390523,1472603
    PERLDOC = -MPod::Perldoc::ToTextOverstrike
    PERL_BATCH = yes
    PERL_CANARY_STABILITY_NOPROMPT = 1
    PERL_CPAN_REPORTER_CONFIG = /var/tmp/cpansmoker-1023/2024092920/cpanreporter_000_config.ini
    PERL_EXTUTILS_AUTOINSTALL = --defaultdeps
    PERL_USE_UNSAFE_INC = 1
    SHELL = /usr/bin/zsh
    TERM = screen
    TMPDIR = /var/tmp/cpansmoker-1023/2024092920

Perl special variables (and OS-specific diagnostics, for MSWin32):

    $^X = /opt/perl-5.36.3/bin/perl
    $UID/$EUID = 1023 / 1023
    $GID = 1023 1023
    $EGID = 1023 1023

Perl module toolchain versions installed:

    Module              Have    
    ------------------- --------
    CPAN                2.33    
    CPAN::Meta          2.150010
    Cwd                 3.84    
    ExtUtils::CBuilder  0.280236
    ExtUtils::Command   7.70    
    ExtUtils::Install   2.20    
    ExtUtils::MakeMaker 7.70    
    ExtUtils::Manifest  1.75    
    ExtUtils::ParseXS   3.45    
    File::Spec          3.84    
    JSON                4.10    
    JSON::PP            4.16    
    Module::Build       0.4234  
    Module::Signature   0.88    
    Parse::CPAN::Meta   2.150010
    Test2               1.302204
    Test::Harness       3.44    
    Test::More          1.302204
    YAML                1.31    
    YAML::Syck          1.34    
    version             0.9929  


--

Summary of my perl5 (revision 5 version 36 subversion 3) configuration:
   
  Platform:
    osname=linux
    osvers=6.6.8-100.fc38.x86_64
    archname=x86_64-linux
    uname='linux fedora39-2gb-hil 6.6.8-100.fc38.x86_64 #1 smp preempt_dynamic thu dec 21 04:01:45 utc 2023 x86_64 gnulinux '
    config_args='-ds -e -Dprefix=/opt/perl-5.36.3 -Dcf_email=srezic@cpan.org'
    hint=recommended
    useposix=true
    d_sigaction=define
    useithreads=undef
    usemultiplicity=undef
    use64bitint=define
    use64bitall=define
    uselongdouble=undef
    usemymalloc=n
    default_inc_excludes_dot=define
  Compiler:
    cc='cc'
    ccflags ='-fwrapv -fno-strict-aliasing -pipe -fstack-protector-strong -I/usr/local/include -D_LARGEFILE_SOURCE -D_FILE_OFFSET_BITS=64 -D_FORTIFY_SOURCE=2'
    optimize='-O2'
    cppflags='-fwrapv -fno-strict-aliasing -pipe -fstack-protector-strong -I/usr/local/include'
    ccversion=''
    gccversion='13.2.1 20231205 (Red Hat 13.2.1-6)'
    gccosandvers=''
    intsize=4
    longsize=8
    ptrsize=8
    doublesize=8
    byteorder=12345678
    doublekind=3
    d_longlong=define
    longlongsize=8
    d_longdbl=define
    longdblsize=16
    longdblkind=3
    ivtype='long'
    ivsize=8
    nvtype='double'
    nvsize=8
    Off_t='off_t'
    lseeksize=8
    alignbytes=8
    prototype=define
  Linker and Libraries:
    ld='cc'
    ldflags =' -fstack-protector-strong -L/usr/local/lib'
    libpth=/usr/local/lib /usr/lib /usr/lib64 /usr/local/lib64
    libs=-lpthread -ldb -ldl -lm -lcrypt -lutil -lc
    perllibs=-lpthread -ldl -lm -lcrypt -lutil -lc
    libc=/lib/../lib64/libc.so.6
    so=so
    useshrplib=false
    libperl=libperl.a
    gnulibc_version='2.38'
  Dynamic Linking:
    dlsrc=dl_dlopen.xs
    dlext=so
    d_dlsymun=undef
    ccdlflags='-Wl,-E'
    cccdlflags='-fPIC'
    lddlflags='-shared -O2 -L/usr/local/lib -fstack-protector-strong'


Characteristics of this binary (from libperl): 
  Compile-time options:
    HAS_TIMES
    PERLIO_LAYERS
    PERL_COPY_ON_WRITE
    PERL_DONT_CREATE_GVSV
    PERL_MALLOC_WRAP
    PERL_OP_PARENT
    PERL_PRESERVE_IVUV
    USE_64_BIT_ALL
    USE_64_BIT_INT
    USE_LARGE_FILES
    USE_LOCALE
    USE_LOCALE_COLLATE
    USE_LOCALE_CTYPE
    USE_LOCALE_NUMERIC
    USE_LOCALE_TIME
    USE_PERLIO
    USE_PERL_ATOF
  Built under linux
  Compiled at Dec 26 2023 08:08:23
  %ENV:
    PERL5LIB="/home/cpansand/.cpan/build/2024092922/Inline-Files-0.71-0/blib/arch:/home/cpansand/.cpan/build/2024092922/Inline-Files-0.71-0/blib/lib:/home/cpansand/.cpan/build/2024092922/Operator-Util-0.05-0/blib/arch:/home/cpansand/.cpan/build/2024092922/Operator-Util-0.05-0/blib/lib:/home/cpansand/.cpan/build/2024092922/WebService-ThreatStack-1.00-0/blib/arch:/home/cpansand/.cpan/build/2024092922/WebService-ThreatStack-1.00-0/blib/lib"
    PERL5OPT=""
    PERL5_CPANPLUS_IS_RUNNING="1472603"
    PERL5_CPAN_IS_RUNNING="1472603"
    PERL5_CPAN_IS_RUNNING_IN_RECURSION="1390523,1472603"
    PERLDOC="-MPod::Perldoc::ToTextOverstrike"
    PERL_BATCH="yes"
    PERL_CANARY_STABILITY_NOPROMPT="1"
    PERL_CPAN_REPORTER_CONFIG="/var/tmp/cpansmoker-1023/2024092920/cpanreporter_000_config.ini"
    PERL_EXTUTILS_AUTOINSTALL="--defaultdeps"
    PERL_USE_UNSAFE_INC="1"
  @INC:
    /home/cpansand/.cpan/build/2024092922/Inline-Files-0.71-0/blib/arch
    /home/cpansand/.cpan/build/2024092922/Inline-Files-0.71-0/blib/lib
    /home/cpansand/.cpan/build/2024092922/Operator-Util-0.05-0/blib/arch
    /home/cpansand/.cpan/build/2024092922/Operator-Util-0.05-0/blib/lib
    /home/cpansand/.cpan/build/2024092922/WebService-ThreatStack-1.00-0/blib/arch
    /home/cpansand/.cpan/build/2024092922/WebService-ThreatStack-1.00-0/blib/lib
    /opt/perl-5.36.3/lib/site_perl/5.36.3/x86_64-linux
    /opt/perl-5.36.3/lib/site_perl/5.36.3
    /opt/perl-5.36.3/lib/5.36.3/x86_64-linux
    /opt/perl-5.36.3/lib/5.36.3
    .