Report for CGI-Cache-1.4207

Back
From: metabase:user:a2358d56-d6b2-11e6-a629-66e62c5cb754
Subject: PASS CGI-Cache-1.4207 v5.24.0 Mac OS X
Date: 2017-01-09T21:44:16Z

This distribution has been tested as part of the CPAN Testers
project, supporting the Perl programming language.  See
http://wiki.cpantesters.org/ for more information or email
questions to cpan-testers-discuss@perl.org


--
Dear David Coppit,

This is a computer-generated report for CGI-Cache-1.4207
on perl 5.24.0, created by CPAN-Reporter-1.2018.

Thank you for uploading your work to CPAN.  Congratulations!
All tests were successful.

Sections of this report:

    * Tester comments
    * Program output
    * Prerequisites
    * Environment and other context

------------------------------
TESTER COMMENTS
------------------------------

Additional comments from tester:

none provided

------------------------------
PROGRAM OUTPUT
------------------------------

Output from '/usr/bin/make test':

PERL_DL_NONLAZY=1 "/Users/michele/perl5/perlbrew/perls/perl-5.24.0/bin/perl" "-MExtUtils::Command::MM" "-MTest::Harness" "-e" "undef *Test::Harness::Switches; test_harness(0, 'inc', 'blib/lib', 'blib/arch')" t/*.t
t/000_standard__compile.t ....... ok
t/000_standard__perl_critic.t ... skipped: Author test. Set $ENV{TEST_AUTHOR} to a true value to run.
t/000_standard__pod.t ........... ok
t/000_standard__pod_coverage.t .. skipped: Test::Pod::Coverage required for testing POD coverage
t/basic.t ....................... ok
t/buffer.t ...................... ok
t/cgi_carp.t .................... ok
t/disabled_ouput.t .............. ok
t/invalidate_cache_entry.t ...... ok
t/non-caching.t ................. ok
t/pause_continue.t .............. ok
t/stop.t ........................ ok
t/user_specified_filehandle.t ... ok
All tests successful.
Files=13, Tests=68,  6 wallclock secs ( 0.04 usr  0.03 sys +  1.54 cusr  0.31 csys =  1.92 CPU)
Result: PASS

------------------------------
PREREQUISITES
------------------------------

Prerequisite modules loaded:

requires:

    Module              Need  Have    
    ------------------- ----- --------
    Cache::Cache        0     1.08    
    File::Path          0     2.12_01 
    File::Spec          0     3.63    
    perl                5.005 5.024000
    Storable            0     2.56    
    Tie::Restore        0     0.11    

build_requires:

    Module              Need  Have    
    ------------------- ----- --------
    Error               0     0.17024 
    ExtUtils::MakeMaker 6.36  7.10_01 
    File::Slurp         0     9999.19 
    Test::Compile       0     v1.3.0  
    Test::More          0     1.001014
    UNIVERSAL::require  0     0.18    
    URI::Escape         0     3.31    

configure_requires:

    Module              Need  Have    
    ------------------- ----- --------
    ExtUtils::MakeMaker 6.36  7.10_01 
    URI::Escape         0     3.31    


------------------------------
ENVIRONMENT AND OTHER CONTEXT
------------------------------

Environment variables:

    LANG = it_IT.UTF-8
    NONINTERACTIVE_TESTING = 1
    PATH = /Users/michele/perl5/perlbrew/bin:/Users/michele/perl5/perlbrew/perls/perl-5.24.0/bin:/usr/local/bin:/usr/bin:/bin:/usr/sbin:/sbin:/Users/michele/bin:/usr/local/mysql/bin/
    PERL5LIB = 
    PERL5OPT = 
    PERL5_CPANPLUS_IS_RUNNING = 56823
    PERL5_CPAN_IS_RUNNING = 56823
    PERLBREW_BASHRC_VERSION = 0.78
    PERLBREW_HOME = /Users/michele/.perlbrew
    PERLBREW_MANPATH = /Users/michele/perl5/perlbrew/perls/perl-5.24.0/man
    PERLBREW_PATH = /Users/michele/perl5/perlbrew/bin:/Users/michele/perl5/perlbrew/perls/perl-5.24.0/bin
    PERLBREW_PERL = perl-5.24.0
    PERLBREW_ROOT = /Users/michele/perl5/perlbrew
    PERLBREW_VERSION = 0.78
    PERL_MM_USE_DEFAULT = 1
    SHELL = /bin/bash
    TERM = xterm-256color
    TMPDIR = /var/folders/vj/3qlq691j1nl8njzz04m96pdm0000gn/T/

Perl special variables (and OS-specific diagnostics, for MSWin32):

    $^X = /Users/michele/perl5/perlbrew/perls/perl-5.24.0/bin/perl
    $UID/$EUID = 501 / 501
    $GID = 20 20 701 12 61 79 80 81 98 33 100 204 395 398 399
    $EGID = 20 20 701 12 61 79 80 81 98 33 100 204 395 398 399

Perl module toolchain versions installed:

    Module              Have    
    ------------------- --------
    CPAN                2.11    
    CPAN::Meta          2.150005
    Cwd                 3.63    
    ExtUtils::CBuilder  0.280225
    ExtUtils::Command   7.10    
    ExtUtils::Install   2.04    
    ExtUtils::MakeMaker 7.10_01 
    ExtUtils::Manifest  1.70    
    ExtUtils::ParseXS   3.31    
    File::Spec          3.63    
    JSON                2.90    
    JSON::PP            2.27300 
    Module::Build       0.4220  
    Module::Signature   n/a     
    Parse::CPAN::Meta   1.4417  
    Test::Harness       3.36    
    Test::More          1.001014
    YAML                n/a     
    YAML::Syck          n/a     
    version             0.9916  


--

Summary of my perl5 (revision 5 version 24 subversion 0) configuration:
   
  Platform:
    osname=darwin, osvers=16.1.0, archname=darwin-2level
    uname='darwin lambda.local 16.1.0 darwin kernel version 16.1.0: wed oct 19 20:31:56 pdt 2016; root:xnu-3789.21.4~4release_x86_64 x86_64 '
    config_args='-de -Dprefix=/Users/michele/perl5/perlbrew/perls/perl-5.24.0 -Aeval:scriptdir=/Users/michele/perl5/perlbrew/perls/perl-5.24.0/bin'
    hint=recommended, useposix=true, d_sigaction=define
    useithreads=undef, usemultiplicity=undef
    use64bitint=define, use64bitall=define, uselongdouble=undef
    usemymalloc=n, bincompat5005=undef
  Compiler:
    cc='cc', ccflags ='-fno-common -DPERL_DARWIN -fno-strict-aliasing -pipe -fstack-protector-strong',
    optimize='-O3',
    cppflags='-fno-common -DPERL_DARWIN -fno-strict-aliasing -pipe -fstack-protector-strong'
    ccversion='', gccversion='4.2.1 Compatible Apple LLVM 8.0.0 (clang-800.0.42.1)', gccosandvers=''
    intsize=4, longsize=8, ptrsize=8, doublesize=8, byteorder=12345678, doublekind=3
    d_longlong=define, longlongsize=8, d_longdbl=define, longdblsize=16, longdblkind=3
    ivtype='long', ivsize=8, nvtype='double', nvsize=8, Off_t='off_t', lseeksize=8
    alignbytes=8, prototype=define
  Linker and Libraries:
    ld='env MACOSX_DEPLOYMENT_TARGET=10.3 cc', ldflags =' -fstack-protector-strong'
    libpth=/Library/Developer/CommandLineTools/usr/bin/../lib/clang/8.0.0/lib /Library/Developer/CommandLineTools/usr/lib /usr/lib
    libs=-lpthread -ldbm -ldl -lm -lutil -lc
    perllibs=-lpthread -ldl -lm -lutil -lc
    libc=, so=dylib, useshrplib=false, libperl=libperl.a
    gnulibc_version=''
  Dynamic Linking:
    dlsrc=dl_dlopen.xs, dlext=bundle, d_dlsymun=undef, ccdlflags=' '
    cccdlflags=' ', lddlflags=' -bundle -undefined dynamic_lookup -fstack-protector-strong'


Characteristics of this binary (from libperl): 
  Compile-time options: HAS_TIMES PERLIO_LAYERS PERL_COPY_ON_WRITE
                        PERL_DONT_CREATE_GVSV
                        PERL_HASH_FUNC_ONE_AT_A_TIME_HARD PERL_MALLOC_WRAP
                        PERL_PRESERVE_IVUV USE_64_BIT_ALL USE_64_BIT_INT
                        USE_LARGE_FILES USE_LOCALE USE_LOCALE_COLLATE
                        USE_LOCALE_CTYPE USE_LOCALE_NUMERIC USE_LOCALE_TIME
                        USE_PERLIO USE_PERL_ATOF
  Locally applied patches:
	Devel::PatchPerl 1.38
  Built under darwin
  Compiled at Jan  8 2017 21:50:53
  %ENV:
    PERL5LIB=""
    PERL5OPT=""
    PERL5_CPANPLUS_IS_RUNNING="56823"
    PERL5_CPAN_IS_RUNNING="56823"
    PERLBREW_BASHRC_VERSION="0.78"
    PERLBREW_HOME="/Users/michele/.perlbrew"
    PERLBREW_MANPATH="/Users/michele/perl5/perlbrew/perls/perl-5.24.0/man"
    PERLBREW_PATH="/Users/michele/perl5/perlbrew/bin:/Users/michele/perl5/perlbrew/perls/perl-5.24.0/bin"
    PERLBREW_PERL="perl-5.24.0"
    PERLBREW_ROOT="/Users/michele/perl5/perlbrew"
    PERLBREW_VERSION="0.78"
    PERL_MM_USE_DEFAULT="1"
  @INC:
    /Users/michele/perl5/perlbrew/perls/perl-5.24.0/lib/site_perl/5.24.0/darwin-2level
    /Users/michele/perl5/perlbrew/perls/perl-5.24.0/lib/site_perl/5.24.0
    /Users/michele/perl5/perlbrew/perls/perl-5.24.0/lib/5.24.0/darwin-2level
    /Users/michele/perl5/perlbrew/perls/perl-5.24.0/lib/5.24.0
    .