CGI-Cache v1.4208 Perl 5 v5.10.1 x86_64-linux-thread-multi

Status
Pass
From
David Cantrell (DCANTRELL)
Dist
CGI-Cache v1.4208
Platform
Perl 5 v5.10.1 x86_64-linux-thread-multi
Date
2018-07-09 11:18:13
ID
c4d00a34-8369-11e8-89d1-dbdf7247484a
This distribution has been tested as part of the CPAN Testers
project, supporting the Perl programming language.  See
http://wiki.cpantesters.org/ for more information or email
questions to cpan-testers-discuss@perl.org


--
Dear David Coppit,

This is a computer-generated report for CGI-Cache-1.4208
on perl 5.10.1, created by CPAN-Reporter-1.2018.

Thank you for uploading your work to CPAN.  Congratulations!
All tests were successful.

Sections of this report:

    * Tester comments
    * Program output
    * Prerequisites
    * Environment and other context

------------------------------
TESTER COMMENTS
------------------------------

Additional comments from tester:

this report is from an automated smoke testing program
and was not reviewed by a human for accuracy

------------------------------
PROGRAM OUTPUT
------------------------------

Output from '/usr/bin/make test':

PERL_DL_NONLAZY=1 "/home/david/cpantesting/perl-5.10.1/bin/perl" "-MExtUtils::Command::MM" "-MTest::Harness" "-e" "undef *Test::Harness::Switches; test_harness(1, 'blib/lib', 'blib/arch')" t/*.t
t/000_standard__compile.t ....... 
1..1
ok 1 - Compile test for blib/lib/CGI/Cache.pm
ok
t/000_standard__perl_critic.t ... skipped: Author test. Set $ENV{TEST_AUTHOR} to a true value to run.
t/000_standard__pod.t ........... skipped: Test::Pod required for testing POD
t/000_standard__pod_coverage.t .. skipped: Test::Pod::Coverage required for testing POD coverage
t/basic.t ....................... 
1..11
ok 1 - use CGI::Cache;
ok 2 - No errors initializing with default values
ok 3 - Return value after initializing with default values
ok 4 - No errors initializing with non-default values
ok 5 - Return value after initializing with non-default values
ok 6 - No errors setting a simple key
ok 7 - Return value after setting a simple key
ok 8 - No errors setting a complex key
ok 9 - Return value after setting a complex key
ok 10 - Empty cache directory until something cached
Cached output
ok 11 - Cache directory after something cached
ok
t/buffer.t ...................... 
1..6
ok 1 - read buffer(): Computing the right output
ok 2 - read buffer(): Computing the right errors
ok 3 - read buffer(): Correct cached data
ok 4 - write buffer(): Computing the right output
ok 5 - write buffer(): Computing the right errors
ok 6 - write buffer(): Correct cached data
ok
t/cgi_carp.t .................... 
1..7
ok 1 - CGI::Carp not caching with default attributes: Computing the right output
ok 2 - CGI::Carp not caching with default attributes: Computing the right errors
ok 3 - CGI::Carp not caching with default attributes: Undefined cached data
ok 4 - Empty cache directory until something cached
ok 5 - CGI::Carp caching with default attributes: Computing the right output
ok 6 - CGI::Carp caching with default attributes: Computing the right errors
ok 7 - CGI::Carp caching with default attributes: Correct cached data
ok
t/disabled_ouput.t .............. 
1..3
ok 1 - Disabled output: Computing the right output
ok 2 - Disabled output: Computing the right errors
ok 3 - Disabled output: Correct cached data
ok
t/invalidate_cache_entry.t ...... 
1..6
ok 1 - invalidate_cache_entry() setup: Computing the right output
ok 2 - invalidate_cache_entry() setup: Computing the right errors
ok 3 - invalidate_cache_entry() setup: Correct cached data
ok 4 - invalidate_cache_entry() operation: Computing the right output
ok 5 - invalidate_cache_entry() operation: Computing the right errors
ok 6 - invalidate_cache_entry() operation: Correct cached data
ok
t/non-caching.t ................. 
1..15
ok 1 - die() prevents caching: Computing the right output
ok 2 - die() prevents caching: Computing the right errors
ok 3 - die() prevents caching: Undefined cached data
ok 4 - Empty cache directory until something cached
ok 5 - Print to STDERR prevents caching: Computing the right output
ok 6 - Print to STDERR prevents caching: Computing the right errors
ok 7 - Print to STDERR prevents caching: Undefined cached data
ok 8 - Empty cache directory until something cached
ok 9 - redirected die() prevents caching: Computing the right output
ok 10 - redirected die() prevents caching: Computing the right errors
ok 11 - redirected die() prevents caching: Undefined cached data
ok 12 - Empty cache directory until something cached
ok 13 - die() (with filehandles) prevents caching: Computing the right output
ok 14 - die() (with filehandles) prevents caching: Computing the right errors
ok 15 - die() (with filehandles) prevents caching: Undefined cached data
ok
t/pause_continue.t .............. 
1..6
ok 1 - pause() and continue(): Computing the right output
ok 2 - pause() and continue(): Computing the right errors
ok 3 - pause() and continue(): Correct cached data
ok 4 - pause() and continue() with filehandles: Computing the right output
ok 5 - pause() and continue() with filehandles: Computing the right errors
ok 6 - pause() and continue() with filehandles: Correct cached data
ok
t/stop.t ........................ 
1..6
ok 1 - stop(): Computing the right output
ok 2 - stop(): Computing the right errors
ok 3 - stop(): Correct cached data
ok 4 - stop() with filehandles: Computing the right output
ok 5 - stop() with filehandles: Computing the right errors
ok 6 - stop() with filehandles: Correct cached data
ok
t/user_specified_filehandle.t ... 
1..6
ok 1 - Output to non-STDOUT filehandle: Computing the right output
ok 2 - Output to non-STDOUT filehandle: Computing the right errors
ok 3 - Output to non-STDOUT filehandle: Correct cached data
ok 4 - Monitor non-STDOUT filehandle: Computing the right output
ok 5 - Monitor non-STDOUT filehandle: Computing the right errors
ok 6 - Monitor non-STDOUT filehandle: Correct cached data
ok
All tests successful.
Files=13, Tests=67,  6 wallclock secs ( 0.04 usr  0.03 sys +  0.99 cusr  0.30 csys =  1.36 CPU)
Result: PASS

------------------------------
PREREQUISITES
------------------------------

Prerequisite modules loaded:

requires:

    Module              Need  Have    
    ------------------- ----- --------
    Cache::Cache        0     1.08    
    File::Path          0     2.15    
    File::Spec          0     3.30    
    perl                5.005 5.010001
    Storable            0     3.11    
    Tie::Restore        0     0.11    

build_requires:

    Module              Need  Have    
    ------------------- ----- --------
    Error               0     0.17026 
    ExtUtils::MakeMaker 6.36  7.34    
    File::Slurp         0     9999.19 
    Test::Compile       0     v1.3.0  
    Test::More          0     1.302136
    UNIVERSAL::require  0     0.18    
    URI::Escape         0     3.31    

configure_requires:

    Module              Need  Have    
    ------------------- ----- --------
    ExtUtils::MakeMaker 6.36  7.34    
    URI::Escape         0     3.31    


------------------------------
ENVIRONMENT AND OTHER CONTEXT
------------------------------

Environment variables:

    AUTOMATED_TESTING = 1
    NONINTERACTIVE_TESTING = 1
    PATH = /usr/local/bin:/usr/bin:/bin:/usr/local/games:/usr/games
    PERL = 5.10.1
    PERL5LIB = 
    PERL5OPT = 
    PERL5_CPANPLUS_IS_RUNNING = 8718
    PERL5_CPAN_IS_RUNNING = 8718
    PERLVER = 5.10.1
    PERL_INLINE_DIRECTORY = /home/david/.Inline-5.10.1
    PERL_MM_USE_DEFAULT = 1
    PERL_USE_UNSAFE_INC = 0
    SHELL = /bin/bash
    TERM = screen

Perl special variables (and OS-specific diagnostics, for MSWin32):

    $^X = /home/david/cpantesting/perl-5.10.1/bin/perl
    $UID/$EUID = 1000 / 1000
    $GID = 1000 1000
    $EGID = 1000 1000

Perl module toolchain versions installed:

    Module              Have    
    ------------------- --------
    CPAN                1.9402  
    CPAN::Meta          2.150010
    Cwd                 3.30    
    ExtUtils::CBuilder  0.280224
    ExtUtils::Command   7.34    
    ExtUtils::Install   2.06    
    ExtUtils::MakeMaker 7.34    
    ExtUtils::Manifest  1.70    
    ExtUtils::ParseXS   3.35    
    File::Spec          3.30    
    JSON                2.97001 
    JSON::PP            2.27400 
    Module::Build       0.4224  
    Module::Signature   n/a     
    Parse::CPAN::Meta   2.150010
    Test::Harness       3.42    
    Test::More          1.302136
    YAML                1.18    
    YAML::Syck          n/a     
    version             0.9917  


--

Summary of my perl5 (revision 5 version 10 subversion 1) configuration:
   
  Platform:
    osname=linux, osvers=3.16.0-4-amd64, archname=x86_64-linux-thread-multi
    uname='linux pigsty.barnyard.co.uk 3.16.0-4-amd64 #1 smp debian 3.16.36-1+deb8u1 (2016-09-03) x86_64 gnulinux '
    config_args='-de -Duse64bitall -Dusethreads -Dprefix=/home/david/cpantesting/perl-5.10.1'
    hint=recommended, useposix=true, d_sigaction=define
    useithreads=define, usemultiplicity=define
    useperlio=define, d_sfio=undef, uselargefiles=define, usesocks=undef
    use64bitint=define, use64bitall=define, uselongdouble=undef
    usemymalloc=n, bincompat5005=undef
  Compiler:
    cc='cc', ccflags ='-D_REENTRANT -D_GNU_SOURCE -fno-strict-aliasing -pipe -fstack-protector -I/usr/local/include -D_LARGEFILE_SOURCE -D_FILE_OFFSET_BITS=64',
    optimize='-O2',
    cppflags='-D_REENTRANT -D_GNU_SOURCE -fno-strict-aliasing -pipe -fstack-protector -I/usr/local/include'
    ccversion='', gccversion='4.9.2', gccosandvers=''
    intsize=4, longsize=8, ptrsize=8, doublesize=8, byteorder=12345678
    d_longlong=define, longlongsize=8, d_longdbl=define, longdblsize=16
    ivtype='long', ivsize=8, nvtype='double', nvsize=8, Off_t='off_t', lseeksize=8
    alignbytes=8, prototype=define
  Linker and Libraries:
    ld='cc', ldflags =' -fstack-protector -L/usr/local/lib'
    libpth=/usr/local/lib /lib/x86_64-linux-gnu /lib/../lib /usr/lib/x86_64-linux-gnu /usr/lib/../lib /lib /usr/lib
    libs=-lnsl -ldb -ldl -lm -lcrypt -lutil -lpthread -lc
    perllibs=-lnsl -ldl -lm -lcrypt -lutil -lpthread -lc
    libc=libc-2.19.so, so=so, useshrplib=false, libperl=libperl.a
    gnulibc_version='2.19'
  Dynamic Linking:
    dlsrc=dl_dlopen.xs, dlext=so, d_dlsymun=undef, ccdlflags='-Wl,-E'
    cccdlflags='-fPIC', lddlflags='-shared -O2 -L/usr/local/lib -fstack-protector'


Characteristics of this binary (from libperl): 
  Compile-time options: MULTIPLICITY PERL_DONT_CREATE_GVSV
                        PERL_IMPLICIT_CONTEXT PERL_MALLOC_WRAP USE_64_BIT_ALL
                        USE_64_BIT_INT USE_ITHREADS USE_LARGE_FILES
                        USE_PERLIO USE_REENTRANT_API
  Locally applied patches:
	Devel::PatchPerl 1.44
  Built under linux
  Compiled at Oct 12 2016 15:01:35
  %ENV:
    PERL="5.10.1"
    PERL5LIB=""
    PERL5OPT=""
    PERL5_CPANPLUS_IS_RUNNING="8718"
    PERL5_CPAN_IS_RUNNING="8718"
    PERLVER="5.10.1"
    PERL_INLINE_DIRECTORY="/home/david/.Inline-5.10.1"
    PERL_MM_USE_DEFAULT="1"
    PERL_USE_UNSAFE_INC="0"
  @INC:
    /home/david/cpantesting/perl-5.10.1/lib/5.10.1/x86_64-linux-thread-multi
    /home/david/cpantesting/perl-5.10.1/lib/5.10.1
    /home/david/cpantesting/perl-5.10.1/lib/site_perl/5.10.1/x86_64-linux-thread-multi
    /home/david/cpantesting/perl-5.10.1/lib/site_perl/5.10.1
    .