XML-SAX v1.02 Perl 5 v5.31.4 darwin-2level

Status
Pass
From
John SJ Anderson
Dist
XML-SAX v1.02
Platform
Perl 5 v5.31.4 darwin-2level
Date
2019-09-22 21:34:33
ID
c4c68dfc-dd80-11e9-9b61-9de0a54a22a4
This distribution has been tested as part of the CPAN Testers
project, supporting the Perl programming language.  See
http://wiki.cpantesters.org/ for more information or email
questions to cpan-testers-discuss@perl.org


--
Dear GRANTM,

This is a computer-generated report for XML-SAX-1.02
on perl 5.31.4, created by App::cpanminus::reporter 0.17 (1.7044).

Thank you for uploading your work to CPAN.  Congratulations!
All tests were successful.

Sections of this report:

    * Tester comments
    * Program output
    * Prerequisites
    * Environment and other context

------------------------------
TESTER COMMENTS
------------------------------

Additional comments from tester:

none provided

------------------------------
PROGRAM OUTPUT
------------------------------

Output from '':

Building and testing XML-SAX-1.02
cp lib/XML/SAX/PurePerl/Reader/NoUnicodeExt.pm blib/lib/XML/SAX/PurePerl/Reader/NoUnicodeExt.pm
cp lib/XML/SAX/PurePerl/Reader/Stream.pm blib/lib/XML/SAX/PurePerl/Reader/Stream.pm
cp lib/XML/SAX/ParserFactory.pm blib/lib/XML/SAX/ParserFactory.pm
cp lib/XML/SAX/PurePerl/Reader/UnicodeExt.pm blib/lib/XML/SAX/PurePerl/Reader/UnicodeExt.pm
cp lib/XML/SAX/PurePerl.pm blib/lib/XML/SAX/PurePerl.pm
cp lib/XML/SAX/PurePerl/DocType.pm blib/lib/XML/SAX/PurePerl/DocType.pm
cp lib/XML/SAX/PurePerl/Reader.pm blib/lib/XML/SAX/PurePerl/Reader.pm
cp lib/XML/SAX/PurePerl/EncodingDetect.pm blib/lib/XML/SAX/PurePerl/EncodingDetect.pm
cp lib/XML/SAX/PurePerl/Reader/URI.pm blib/lib/XML/SAX/PurePerl/Reader/URI.pm
cp lib/XML/SAX/PurePerl/DTDDecls.pm blib/lib/XML/SAX/PurePerl/DTDDecls.pm
cp lib/XML/SAX.pm blib/lib/XML/SAX.pm
cp lib/XML/SAX/PurePerl/NoUnicodeExt.pm blib/lib/XML/SAX/PurePerl/NoUnicodeExt.pm
cp lib/XML/SAX/PurePerl/DebugHandler.pm blib/lib/XML/SAX/PurePerl/DebugHandler.pm
cp lib/XML/SAX/PurePerl/Productions.pm blib/lib/XML/SAX/PurePerl/Productions.pm
cp lib/XML/SAX/PurePerl/UnicodeExt.pm blib/lib/XML/SAX/PurePerl/UnicodeExt.pm
cp lib/XML/SAX/Intro.pod blib/lib/XML/SAX/Intro.pod
cp lib/XML/SAX/DocumentLocator.pm blib/lib/XML/SAX/DocumentLocator.pm
cp lib/XML/SAX/PurePerl/Exception.pm blib/lib/XML/SAX/PurePerl/Exception.pm
cp lib/XML/SAX/PurePerl/Reader/String.pm blib/lib/XML/SAX/PurePerl/Reader/String.pm
cp lib/XML/SAX/PurePerl/XMLDecl.pm blib/lib/XML/SAX/PurePerl/XMLDecl.pm
Manifying 6 pod documents
PERL_DL_NONLAZY=1 "/opt/plenv/versions/5.31.4/bin/perl5.31.4" "-MExtUtils::Command::MM" "-MTest::Harness" "-e" "undef *Test::Harness::Switches; test_harness(0, 'blib/lib', 'blib/arch')" t/*.t
t/00basic.t ....... ok
t/01known.t ....... ok
t/10xmldecl1.t .... ok
t/11xmldecl2.t .... ok
t/12miscstart.t ... ok
t/13int_ent.t ..... ok
t/14encoding.t .... ok
t/15element.t ..... ok
parsed 80085 bytes in 1 seconds
t/16large.t ....... ok
t/19pi.t .......... ok
t/20factory.t ..... ok
t/21saxini.t ...... ok
t/30parse_file.t .. ok
t/40cdata.t ....... ok
t/42entities.t .... ok
t/99cleanup.t ..... ok
All tests successful.
Files=16, Tests=113,  1 wallclock secs ( 0.04 usr  0.01 sys +  0.80 cusr  0.07 csys =  0.92 CPU)
Result: PASS

------------------------------
PREREQUISITES
------------------------------

Prerequisite modules loaded:

    No requirements found

------------------------------
ENVIRONMENT AND OTHER CONTEXT
------------------------------

Environment variables:

    LANG = en_US.UTF-8
    LC_ALL = en_US.UTF-8
    LC_TERMINAL = iTerm2
    LC_TERMINAL_VERSION = 3.3.2
    PATH = /opt/plenv/versions/5.31.4/bin:/opt/plenv/libexec:/opt/plenv/plugins/Perl-Build/bin:/opt/plenv/shims:/opt/plenv/bin:/opt/nvm/versions/node/v11.10.0/bin:/Users/genehack/bin:/opt/vim/bin:/opt/git/bin:/opt/emacs/bin:/opt/local/bin:/usr/local/bin:/usr/bin:/bin:/usr/sbin:/sbin:/Applications/Postgres.app/Contents/Versions/latest/bin:/usr/local/opt/fzf/bin/
    PERL_CPANM_OPT = --skip-installed --prompt
    SHELL = /bin/zsh
    TERM = screen-256color
    TMPDIR = /var/folders/91/jjmr4sms7fz9s27f3_9glhb80000gn/T/

Perl special variables (and OS-specific diagnostics, for MSWin32):

    EGID = 20 20 12 61 79 80 81 98 701 33 100 204 250 395 398 399
    EUID = 501
    EXECUTABLE_NAME = /opt/plenv/versions/5.31.4/bin/perl5.31.4
    GID = 20 20 12 61 79 80 81 98 701 33 100 204 250 395 398 399
    UID = 501

Perl module toolchain versions installed:

    Module              Have    
    ------------------- --------
    CPAN                2.27    
    CPAN::Meta          2.150010
    Cwd                 3.78    
    ExtUtils::CBuilder  0.280232
    ExtUtils::Command   7.38    
    ExtUtils::Install   2.14    
    ExtUtils::MakeMaker 7.38    
    ExtUtils::Manifest  1.72    
    ExtUtils::ParseXS   3.40    
    File::Spec          3.78    
    JSON                4.02    
    JSON::PP            4.04    
    Module::Build       0.4229  
    Module::Signature   n/a     
    Parse::CPAN::Meta   2.150010
    Test::Harness       3.42    
    Test::More          1.302168
    YAML                1.29    
    YAML::Syck          n/a     
    version             0.9924  


--

Summary of my perl5 (revision 5 version 31 subversion 4) configuration:
   
  Platform:
    osname=darwin
    osvers=18.7.0
    archname=darwin-2level
    uname='darwin bigjob.home.genehack.org 18.7.0 darwin kernel version 18.7.0: tue aug 20 16:57:14 pdt 2019; root:xnu-4903.271.2~2release_x86_64 x86_64 i386 macmini8,1 darwin '
    config_args='-Dprefix=/opt/plenv/versions/5.31.4 -de -Dversiononly -Dusedevel -A'eval:scriptdir=/opt/plenv/versions/5.31.4/bin''
    hint=recommended
    useposix=true
    d_sigaction=define
    useithreads=undef
    usemultiplicity=undef
    use64bitint=define
    use64bitall=define
    uselongdouble=undef
    usemymalloc=n
    default_inc_excludes_dot=define
    bincompat5005=undef
  Compiler:
    cc='cc'
    ccflags ='-fno-common -DPERL_DARWIN -mmacosx-version-min=10.14 -fno-strict-aliasing -pipe -fstack-protector-strong -I/usr/local/include -DPERL_USE_SAFE_PUTENV'
    optimize='-O3'
    cppflags='-fno-common -DPERL_DARWIN -mmacosx-version-min=10.14 -fno-strict-aliasing -pipe -fstack-protector-strong -I/usr/local/include'
    ccversion=''
    gccversion='4.2.1 Compatible Apple LLVM 10.0.1 (clang-1001.0.46.4)'
    gccosandvers=''
    intsize=4
    longsize=8
    ptrsize=8
    doublesize=8
    byteorder=12345678
    doublekind=3
    d_longlong=define
    longlongsize=8
    d_longdbl=define
    longdblsize=16
    longdblkind=3
    ivtype='long'
    ivsize=8
    nvtype='double'
    nvsize=8
    Off_t='off_t'
    lseeksize=8
    alignbytes=8
    prototype=define
  Linker and Libraries:
    ld='cc'
    ldflags =' -mmacosx-version-min=10.14 -fstack-protector-strong -L/usr/local/lib'
    libpth=/usr/local/lib /Applications/Xcode.app/Contents/Developer/Toolchains/XcodeDefault.xctoolchain/usr/lib/clang/10.0.1/lib /Applications/Xcode.app/Contents/Developer/Toolchains/XcodeDefault.xctoolchain/usr/lib /Applications/Xcode.app/Contents/Developer/Platforms/MacOSX.platform/Developer/SDKs/MacOSX10.14.sdk/usr/lib /usr/lib
    libs=-lpthread -lgdbm -ldbm -ldl -lm -lutil -lc
    perllibs=-lpthread -ldl -lm -lutil -lc
    libc=
    so=dylib
    useshrplib=false
    libperl=libperl.a
    gnulibc_version=''
  Dynamic Linking:
    dlsrc=dl_dlopen.xs
    dlext=bundle
    d_dlsymun=undef
    ccdlflags=' '
    cccdlflags=' '
    lddlflags=' -mmacosx-version-min=10.14 -bundle -undefined dynamic_lookup -L/usr/local/lib -fstack-protector-strong'


Characteristics of this binary (from libperl): 
  Compile-time options:
    HAS_TIMES
    PERLIO_LAYERS
    PERL_COPY_ON_WRITE
    PERL_DONT_CREATE_GVSV
    PERL_MALLOC_WRAP
    PERL_OP_PARENT
    PERL_PRESERVE_IVUV
    PERL_USE_DEVEL
    PERL_USE_SAFE_PUTENV
    USE_64_BIT_ALL
    USE_64_BIT_INT
    USE_LARGE_FILES
    USE_LOCALE
    USE_LOCALE_COLLATE
    USE_LOCALE_CTYPE
    USE_LOCALE_NUMERIC
    USE_LOCALE_TIME
    USE_PERLIO
    USE_PERL_ATOF
  Locally applied patches:
    Devel::PatchPerl 1.52
  Built under darwin
  Compiled at Sep 22 2019 13:02:41
  %ENV:
    PERL_CPANM_OPT="--skip-installed --prompt"
  @INC:
    /opt/plenv/versions/5.31.4/lib/perl5/site_perl/5.31.4/darwin-2level
    /opt/plenv/versions/5.31.4/lib/perl5/site_perl/5.31.4
    /opt/plenv/versions/5.31.4/lib/perl5/5.31.4/darwin-2level
    /opt/plenv/versions/5.31.4/lib/perl5/5.31.4