Back
From: metabase:user:320bfe00-2aae-11df-837a-5e0a49663a4f
Subject: PASS Dist-Zilla-Stash-PodWeaver-1.005 v5.8.9 GNU/Linux
Date: 2014-02-03T02:27:46Z
This distribution has been tested as part of the CPAN Testers
project, supporting the Perl programming language. See
http://wiki.cpantesters.org/ for more information or email
questions to cpan-testers-discuss@perl.org
--
Dear Randy Stauner,
This is a computer-generated report for Dist-Zilla-Stash-PodWeaver-1.005
on perl 5.8.9, created by CPAN-Reporter-1.2010.
Thank you for uploading your work to CPAN. Congratulations!
All tests were successful.
Sections of this report:
* Tester comments
* Program output
* Prerequisites
* Environment and other context
------------------------------
TESTER COMMENTS
------------------------------
Additional comments from tester:
this report is from an automated smoke testing program
and was not reviewed by a human for accuracy
------------------------------
PROGRAM OUTPUT
------------------------------
Output from '/usr/bin/make test':
PERL_DL_NONLAZY=1 /home/sand/src/perl/repoperls/installed-perls/perl/perl-5.8.9/5da8/bin/perl "-MExtUtils::Command::MM" "-MTest::Harness" "-e" "undef *Test::Harness::Switches; test_harness(0, 'blib/lib', 'blib/arch')" t/*.t
t/00-compile.t ......... ok
# Prerequisite Report:
# Version Module
# ---------- ---------------------------------
# 1.006 Dist::Zilla::Role::Stash::Plugins
# 5.012 Dist::Zilla::Tester
# 6.88 ExtUtils::MakeMaker
# 1.13 File::Find
# 3.40 File::Spec::Functions
# 0.2304 File::Temp
# 1.38 List::Util
# 2.1202 Moose
# 0.100003 Pod::Coverage::TrustPod
# 4.006 Pod::Weaver::Config::Assembler
# 0.23 Test::CPAN::Meta
# 1.20120301 Test::MockObject
# 1.001002 Test::More
# 1.48 Test::Pod
# 1.08 Test::Pod::Coverage
# 1.03 strict
# 1.05_01 warnings
t/00-report-prereqs.t .. ok
t/ini-config.t ......... ok
All tests successful.
Files=3, Tests=17, 3 wallclock secs ( 0.02 usr 0.00 sys + 2.79 cusr 0.14 csys = 2.95 CPU)
Result: PASS
------------------------------
PREREQUISITES
------------------------------
Prerequisite modules loaded:
requires:
Module Need Have
--------------------------------- ----- ----------
Dist::Zilla::Role::Stash::Plugins 1.006 1.006
Moose 0 2.1202
Pod::Weaver::Config::Assembler 0 4.006
strict 0 1.03
warnings 0 1.05_01
build_requires:
Module Need Have
--------------------------------- ----- ----------
Dist::Zilla::Tester 0 5.012
ExtUtils::MakeMaker 0 6.88
File::Find 0 1.13
File::Spec::Functions 0 3.40
File::Temp 0 0.2304
List::Util 0 1.38
Test::MockObject 0 1.20120301
Test::More 0 1.001002
configure_requires:
Module Need Have
--------------------------------- ----- ----------
ExtUtils::MakeMaker 6.30 6.88
------------------------------
ENVIRONMENT AND OTHER CONTEXT
------------------------------
Environment variables:
AUTOMATED_TESTING = 1
LANG = en_US.UTF-8
LANGUAGE = en_US:en
PATH = /usr/lib/ccache:/home/sand/bin:/usr/local/bin:/usr/bin:/bin:/usr/bin/X11:/usr/games:/usr/local/perl/bin:/usr/X11/bin:/sbin:/usr/sbin
PERL5LIB =
PERL5OPT =
PERL5_CPANPLUS_IS_RUNNING = 27350
PERL5_CPAN_IS_RUNNING = 27350
PERL_MM_USE_DEFAULT = 1
SHELL = /usr/bin/zsh
TERM = screen
Perl special variables (and OS-specific diagnostics, for MSWin32):
$^X = /home/sand/src/perl/repoperls/installed-perls/perl/perl-5.8.9/5da8/bin/perl
$UID/$EUID = 1005 / 1005
$GID = 1005 1005
$EGID = 1005 1005
Perl module toolchain versions installed:
Module Have
------------------- --------
CPAN 2.00
CPAN::Meta 2.133380
Cwd 3.40
ExtUtils::CBuilder 0.280212
ExtUtils::Command 1.16
ExtUtils::Install 1.54
ExtUtils::MakeMaker 6.88
ExtUtils::Manifest 1.60
ExtUtils::ParseXS 3.22
File::Spec 3.40
JSON 2.90
JSON::PP 2.27203
Module::Build 0.4204
Module::Signature 0.73
Parse::CPAN::Meta 1.4409
Test::Harness 3.30
Test::More 1.001002
YAML 0.88
YAML::Syck 1.27
version 0.9907
--
Summary of my perl5 (revision 5 version 8 subversion 9) configuration:
Platform:
osname=linux, osvers=3.12-1-amd64, archname=x86_64-linux
uname='linux k83 3.12-1-amd64 #1 smp debian 3.12.6-2 (2013-12-29) x86_64 gnulinux '
config_args='-Dprefix=/home/sand/src/perl/repoperls/installed-perls/perl/perl-5.8.9/5da8 -Dmyhostname=k83 -Dinstallusrbinperl=n -Uversiononly -Dusedevel -des -Ui_db -Uuseithreads -Uuselongdouble -DDEBUGGING=-g -Dusedl -Ddlsrc=dl_dlopen.xs -Dlibs=-lnsl -ldb -ldl -lm -lcrypt -lutil -lc -Dlibpth=/usr/lib/x86_64-linux-gnu /usr/local/lib /lib /usr/lib'
hint=recommended, useposix=true, d_sigaction=define
usethreads=undef use5005threads=undef useithreads=undef usemultiplicity=undef
useperlio=define d_sfio=undef uselargefiles=define usesocks=undef
use64bitint=define use64bitall=define uselongdouble=undef
usemymalloc=n, bincompat5005=undef
Compiler:
cc='cc', ccflags ='-fno-strict-aliasing -pipe -I/usr/local/include -D_LARGEFILE_SOURCE -D_FILE_OFFSET_BITS=64',
optimize='-O2 -g',
cppflags='-fno-strict-aliasing -pipe -I/usr/local/include'
ccversion='', gccversion='4.8.2', gccosandvers=''
intsize=4, longsize=8, ptrsize=8, doublesize=8, byteorder=12345678
d_longlong=define, longlongsize=8, d_longdbl=define, longdblsize=16
ivtype='long', ivsize=8, nvtype='double', nvsize=8, Off_t='off_t', lseeksize=8
alignbytes=8, prototype=define
Linker and Libraries:
ld='cc', ldflags =' -L/usr/local/lib'
libpth=/usr/lib/x86_64-linux-gnu /usr/local/lib /lib /usr/lib
libs=-lnsl -ldb -ldl -lm -lcrypt -lutil -lc
perllibs=-lnsl -ldl -lm -lcrypt -lutil -lc
libc=, so=so, useshrplib=false, libperl=libperl.a
gnulibc_version='2.17'
Dynamic Linking:
dlsrc=dl_dlopen.xs, dlext=so, d_dlsymun=undef, ccdlflags='-Wl,-E'
cccdlflags='-fPIC', lddlflags='-shared -O2 -g -L/usr/local/lib'
Characteristics of this binary (from libperl):
Compile-time options: PERL_MALLOC_WRAP USE_64_BIT_ALL USE_64_BIT_INT
USE_FAST_STDIO USE_LARGE_FILES USE_PERLIO
Built under linux
Compiled at Jan 19 2014 20:31:50
%ENV:
PERL5LIB=""
PERL5OPT=""
PERL5_CPANPLUS_IS_RUNNING="27350"
PERL5_CPAN_IS_RUNNING="27350"
PERL_MM_USE_DEFAULT="1"
@INC:
/home/sand/src/perl/repoperls/installed-perls/perl/perl-5.8.9/5da8/lib/5.8.9/x86_64-linux
/home/sand/src/perl/repoperls/installed-perls/perl/perl-5.8.9/5da8/lib/5.8.9
/home/sand/src/perl/repoperls/installed-perls/perl/perl-5.8.9/5da8/lib/site_perl/5.8.9/x86_64-linux
/home/sand/src/perl/repoperls/installed-perls/perl/perl-5.8.9/5da8/lib/site_perl/5.8.9
.