Shell-Config-Generate v0.34 Perl 5 v5.33.4 riscv64-linux
- Status
- Pass
- From
- Ryan Voots
- Dist
-
Shell-Config-Generate v0.34
- Platform
- Perl 5 v5.33.4 riscv64-linux
- Date
- 2020-10-30 00:56:39
- ID
- c49c91a2-1a4a-11eb-9dde-a25c92c779be
This distribution has been tested as part of the CPAN Testers
project, supporting the Perl programming language. See
http://wiki.cpantesters.org/ for more information or email
questions to cpan-testers-discuss@perl.org
--
Dear Graham Ollis,
This is a computer-generated report for Shell-Config-Generate-0.34
on perl 5.33.4, created by CPAN-Reporter-1.2018.
Thank you for uploading your work to CPAN. Congratulations!
All tests were successful.
Sections of this report:
* Tester comments
* Program output
* Prerequisites
* Environment and other context
------------------------------
TESTER COMMENTS
------------------------------
Additional comments from tester:
this report is from an automated smoke testing program
and was not reviewed by a human for accuracy
------------------------------
PROGRAM OUTPUT
------------------------------
Output from '/usr/bin/make test':
PERL_DL_NONLAZY=1 "/home/ryan/perl5/perlbrew/perls/perl-blead/bin/perl5.33.4" "-MExtUtils::Command::MM" "-MTest::Harness" "-e" "undef *Test::Harness::Switches; test_harness(0, 'blib/lib', 'blib/arch')" t/*.t
#
#
#
# HARNESS_ACTIVE=1
# HARNESS_OPTIONS=
# HARNESS_VERSION=3.42
# LANG=en_US.UTF-8
# PERL5LIB=/home/ryan/smoker-blead/.cpan/build/Shell-Config-Generate-0.34-0/blib/lib:/home/ryan/smoker-blead/.cpan/build/Shell-Config-Generate-0.34-0/blib/arch:
# PERL5OPT=
# PERL5_CPANPLUS_IS_RUNNING=325141
# PERL5_CPAN_IS_RUNNING=325141
# PERL5_CPAN_IS_RUNNING_IN_RECURSION=66035,325141
# PERL_CR_SMOKER_CURRENT=Crypt-Sodium-Nitrate-0.03
# PERL_DL_NONLAZY=1
# PERL_EXTUTILS_AUTOINSTALL=--defaultdeps
# PERL_MM_USE_DEFAULT=1
# PERL_USE_UNSAFE_INC=1
# SHELL=/bin/zsh
#
#
#
# PERL5LIB path
# /home/ryan/smoker-blead/.cpan/build/Shell-Config-Generate-0.34-0/blib/lib
# /home/ryan/smoker-blead/.cpan/build/Shell-Config-Generate-0.34-0/blib/arch
#
#
#
# perl 5.033004
# ExtUtils::MakeMaker 7.48
# Shell::Guess 0.09
# Test2::API 1.302182
# Test2::Mock 0.000138
# Test2::V0 0.000138
#
#
#
t/00_diag.t .............................. ok
#
#
#
# found /usr/bin / [
# found /usr/bin / test
# found /usr/bin / zsh (shell)
# found /bin / bash (shell)
# found /bin / sh (shell)
# found /bin / zsh (shell)
#
#
#
t/01_diag.t .............................. ok
t/shell_config_generate__echo_off.t ...... ok
t/shell_config_generate__alias.t ......... ok
t/shell_config_generate__comment.t ....... ok
t/shell_config_generate__generate.t ...... ok
t/shell_config_generate__shebang.t ....... ok
t/shell_config_generate__set.t ........... ok
t/shell_config_generate__space_else.t .... ok
t/shell_config_generate__append_path.t ... ok
t/shell_config_generate__space_win32.t ... skipped: test only for cygwin and MSWin32
t/shell_config_generate__prepend_path.t .. ok
t/shell_config_generate__set_path.t ...... ok
All tests successful.
Files=13, Tests=80, 27 wallclock secs ( 2.40 usr 0.57 sys + 96.88 cusr 22.35 csys = 122.20 CPU)
Result: PASS
------------------------------
PREREQUISITES
------------------------------
Prerequisite modules loaded:
requires:
Module Need Have
------------------- -------- --------
perl 5.008001 5.033004
Shell::Guess 0.02 0.09
build_requires:
Module Need Have
------------------- -------- --------
ExtUtils::MakeMaker 0 7.48
Test2::API 1.302015 1.302182
Test2::Mock 0.000060 0.000138
Test2::V0 0.000060 0.000138
configure_requires:
Module Need Have
------------------- -------- --------
ExtUtils::MakeMaker 0 7.48
perl 5.008001 5.033004
------------------------------
ENVIRONMENT AND OTHER CONTEXT
------------------------------
Environment variables:
AUTOMATED_TESTING = 1
HARNESS_OPTIONS = j6
LANG = en_US.UTF-8
PATH = /usr/local/sbin:/usr/local/bin:/usr/sbin:/usr/bin:/sbin:/bin
PERL5LIB =
PERL5OPT =
PERL5_CPANPLUS_IS_RUNNING = 325141
PERL5_CPAN_IS_RUNNING = 325141
PERL5_CPAN_IS_RUNNING_IN_RECURSION = 66035,325141
PERL_CR_SMOKER_CURRENT = Crypt-Sodium-Nitrate-0.03
PERL_EXTUTILS_AUTOINSTALL = --defaultdeps
PERL_MM_USE_DEFAULT = 1
PERL_USE_UNSAFE_INC = 1
SHELL = /bin/zsh
Perl special variables (and OS-specific diagnostics, for MSWin32):
$^X = /home/ryan/perl5/perlbrew/perls/perl-blead/bin/perl5.33.4
$UID/$EUID = 1000 / 1000
$GID = 1000 4 27 102 1000
$EGID = 1000 4 27 102 1000
Perl module toolchain versions installed:
Module Have
------------------- --------
CPAN 2.28
CPAN::Meta 2.150010
Cwd 3.78
ExtUtils::CBuilder 0.280234
ExtUtils::Command 7.48
ExtUtils::Install 2.18
ExtUtils::MakeMaker 7.48
ExtUtils::Manifest 1.72
ExtUtils::ParseXS 3.41
File::Spec 3.78
JSON 4.02
JSON::PP 4.05
Module::Build 0.4231
Module::Signature n/a
Parse::CPAN::Meta 2.150010
Test::Harness 3.42
Test::More 1.302182
YAML 1.30
YAML::Syck 1.34
version 0.9928
--
Summary of my perl5 (revision 5 version 33 subversion 4) configuration:
Snapshot of: dfee93524089fd4fa372ce7e0dd15e2809b5c540
Platform:
osname=linux
osvers=5.9.1
archname=riscv64-linux
uname='linux riscv64 5.9.1 #1 smp sun oct 25 20:08:34 utc 2020 riscv64 gnulinux '
config_args='-de -Dprefix=/home/ryan/perl5/perlbrew/perls/perl-blead -Dusedevel -Aeval:scriptdir=/home/ryan/perl5/perlbrew/perls/perl-blead/bin'
hint=recommended
useposix=true
d_sigaction=define
useithreads=undef
usemultiplicity=undef
use64bitint=define
use64bitall=define
uselongdouble=undef
usemymalloc=n
default_inc_excludes_dot=define
Compiler:
cc='cc'
ccflags ='-fwrapv -fno-strict-aliasing -pipe -fstack-protector-strong -I/usr/local/include -D_LARGEFILE_SOURCE -D_FILE_OFFSET_BITS=64 -D_FORTIFY_SOURCE=2'
optimize='-O2'
cppflags='-fwrapv -fno-strict-aliasing -pipe -fstack-protector-strong -I/usr/local/include'
ccversion=''
gccversion='10.2.0'
gccosandvers=''
intsize=4
longsize=8
ptrsize=8
doublesize=8
byteorder=12345678
doublekind=3
d_longlong=define
longlongsize=8
d_longdbl=define
longdblsize=16
longdblkind=1
ivtype='long'
ivsize=8
nvtype='double'
nvsize=8
Off_t='off_t'
lseeksize=8
alignbytes=8
prototype=define
Linker and Libraries:
ld='cc'
ldflags =' -fstack-protector-strong -L/usr/local/lib'
libpth=/usr/local/lib /usr/include/riscv64-linux-gnu /usr/lib /lib/riscv64-linux-gnu /lib /usr/lib/riscv64-linux-gnu
libs=-lpthread -lnsl -ldl -lm -lcrypt -lutil -lc
perllibs=-lpthread -lnsl -ldl -lm -lcrypt -lutil -lc
libc=libc-2.31.so
so=so
useshrplib=false
libperl=libperl.a
gnulibc_version='2.31'
Dynamic Linking:
dlsrc=dl_dlopen.xs
dlext=so
d_dlsymun=undef
ccdlflags='-Wl,-E'
cccdlflags='-fPIC'
lddlflags='-shared -O2 -L/usr/local/lib -fstack-protector-strong'
Characteristics of this binary (from libperl):
Compile-time options:
HAS_TIMES
PERLIO_LAYERS
PERL_COPY_ON_WRITE
PERL_DONT_CREATE_GVSV
PERL_MALLOC_WRAP
PERL_OP_PARENT
PERL_PRESERVE_IVUV
PERL_USE_DEVEL
USE_64_BIT_ALL
USE_64_BIT_INT
USE_LARGE_FILES
USE_LOCALE
USE_LOCALE_COLLATE
USE_LOCALE_CTYPE
USE_LOCALE_NUMERIC
USE_LOCALE_TIME
USE_PERLIO
USE_PERL_ATOF
Built under linux
Compiled at Oct 27 2020 18:29:50
%ENV:
PERL5LIB=""
PERL5OPT=""
PERL5_CPANPLUS_IS_RUNNING="325141"
PERL5_CPAN_IS_RUNNING="325141"
PERL5_CPAN_IS_RUNNING_IN_RECURSION="66035,325141"
PERL_CR_SMOKER_CURRENT="Crypt-Sodium-Nitrate-0.03"
PERL_EXTUTILS_AUTOINSTALL="--defaultdeps"
PERL_MM_USE_DEFAULT="1"
PERL_USE_UNSAFE_INC="1"
@INC:
/home/ryan/perl5/perlbrew/perls/perl-blead/lib/site_perl/5.33.4/riscv64-linux
/home/ryan/perl5/perlbrew/perls/perl-blead/lib/site_perl/5.33.4
/home/ryan/perl5/perlbrew/perls/perl-blead/lib/5.33.4/riscv64-linux
/home/ryan/perl5/perlbrew/perls/perl-blead/lib/5.33.4
.