Back
From: metabase:user:314402c4-2aae-11df-837a-5e0a49663a4f
Subject: PASS Module-Build-Pluggable-XSUtil-1.02 v5.18.1 FreeBSD
Date: 2013-12-08T17:32:53Z
This distribution has been tested as part of the CPAN Testers
project, supporting the Perl programming language. See
http://wiki.cpantesters.org/ for more information or email
questions to cpan-testers-discuss@perl.org
--
Dear Tokuhiro Matsuno,
This is a computer-generated report for Module-Build-Pluggable-XSUtil-1.02
on perl 5.18.1, created by CPAN-Reporter-1.2010.
Thank you for uploading your work to CPAN. Congratulations!
All tests were successful.
Sections of this report:
* Tester comments
* Program output
* Prerequisites
* Environment and other context
------------------------------
TESTER COMMENTS
------------------------------
Additional comments from tester:
none provided
------------------------------
PROGRAM OUTPUT
------------------------------
Output from './Build test':
t/00_compile.t .... ok
Can't find dist packages without a MANIFEST file
Run 'Build manifest' to generate one
WARNING: Possible missing or corrupt 'MANIFEST' file.
Nothing to enter for 'provides' field in metafile.
Can't find dist packages without a MANIFEST file
Run 'Build manifest' to generate one
WARNING: Possible missing or corrupt 'MANIFEST' file.
Nothing to enter for 'provides' field in metafile.
Can't find dist packages without a MANIFEST file
Run 'Build manifest' to generate one
WARNING: Possible missing or corrupt 'MANIFEST' file.
Nothing to enter for 'provides' field in metafile.
Can't find dist packages without a MANIFEST file
Run 'Build manifest' to generate one
WARNING: Possible missing or corrupt 'MANIFEST' file.
Nothing to enter for 'provides' field in metafile.
Can't find dist packages without a MANIFEST file
Run 'Build manifest' to generate one
WARNING: Possible missing or corrupt 'MANIFEST' file.
Nothing to enter for 'provides' field in metafile.
Can't find dist packages without a MANIFEST file
Run 'Build manifest' to generate one
WARNING: Possible missing or corrupt 'MANIFEST' file.
Nothing to enter for 'provides' field in metafile.
Can't find dist packages without a MANIFEST file
Run 'Build manifest' to generate one
WARNING: Possible missing or corrupt 'MANIFEST' file.
Nothing to enter for 'provides' field in metafile.
Can't find dist packages without a MANIFEST file
Run 'Build manifest' to generate one
WARNING: Possible missing or corrupt 'MANIFEST' file.
Nothing to enter for 'provides' field in metafile.
t/01_simple.t ..... ok
t/Devel-WantXS.t .. ok
All tests successful.
Files=3, Tests=17, 4 wallclock secs ( 0.07 usr 0.04 sys + 3.11 cusr 0.73 csys = 3.95 CPU)
Result: PASS
------------------------------
PREREQUISITES
------------------------------
Prerequisite modules loaded:
requires:
Module Need Have
------------------------------ -------- --------
Devel::CheckCompiler 0.02 0.05
Devel::CheckLib 0.04 1.01
Devel::PPPort 3.19 3.20
Exporter 0 5.68
ExtUtils::CBuilder 0 0.280210
ExtUtils::ParseXS 2.21 3.18
Module::Build::Pluggable 0.10 0.10
Module::Build::Pluggable::Base 0 0
parent 0 0.228
perl 5.008005 5.018001
XSLoader 0.02 0.16
build_requires:
Module Need Have
------------------------------ -------- --------
Test::Module::Build::Pluggable 0 0
Test::More 0.98 1.001002
Test::Requires 0 0.07
configure_requires:
Module Need Have
------------------------------ -------- --------
CPAN::Meta 0 2.132830
CPAN::Meta::Prereqs 0 2.132830
Module::Build 0.38 0.4203
------------------------------
ENVIRONMENT AND OTHER CONTEXT
------------------------------
Environment variables:
DBIC_NO_WARN_BAD_PERL = 1
PATH = /usr/local/bin:/usr/bin:/bin:/usr/local/sbin:/usr/sbin:/sbin:/home/cpansand/bin/freebsd9.1:/home/cpansand/bin/sh:/home/cpansand/bin:/usr/games:/home/cpansand/devel:/usr/home/eserte/work/srezic-misc/scripts
PERL5LIB = /home/eserte/.cpan/build/App-Duppy-0.02-GLp1nz/blib/arch:/home/eserte/.cpan/build/App-Duppy-0.02-GLp1nz/blib/lib:/home/eserte/.cpan/build/CGI-Mungo-1.801-1xzeGi/blib/arch:/home/eserte/.cpan/build/CGI-Mungo-1.801-1xzeGi/blib/lib
PERL5OPT =
PERL5_CPANPLUS_IS_RUNNING = 37678
PERL5_CPAN_IS_RUNNING = 37678
PERL5_CPAN_IS_RUNNING_IN_RECURSION = 37657,37678
PERLDOC = -MPod::Perldoc::ToTextOverstrike
PERL_BATCH = yes
PERL_CPAN_REPORTER_CONFIG = /var/tmp/cpansmoker-1023/sXGlli7CE1_config.ini
PERL_EXTUTILS_AUTOINSTALL = --defaultdeps
PERL_HTML_DISPLAY_CLASS = HTML::Display::Mozilla
SHELL = /usr/local/bin/zsh
TERM = screen
TMPDIR = /var/tmp/cpansmoker-1023
Perl special variables (and OS-specific diagnostics, for MSWin32):
$^X = /usr/perl5.18.1/bin/perl
$UID/$EUID = 1023 / 1023
$GID = 1023 1023
$EGID = 1023 1023
Perl module toolchain versions installed:
Module Have
------------------- --------
CPAN 2.00
CPAN::Meta 2.132830
Cwd 3.40
ExtUtils::CBuilder 0.280210
ExtUtils::Command 1.17
ExtUtils::Install 1.59
ExtUtils::MakeMaker 6.82
ExtUtils::Manifest 1.63
ExtUtils::ParseXS 3.18
File::Spec 3.40
JSON 2.90
JSON::PP 2.27203
Module::Build 0.4203
Module::Signature 0.73
Parse::CPAN::Meta 1.4409
Test::Harness 3.30
Test::More 1.001002
YAML 0.85
YAML::Syck 1.27
version 0.9904
--
Summary of my perl5 (revision 5 version 18 subversion 1) configuration:
Platform:
osname=freebsd, osvers=9.2-release, archname=amd64-freebsd
uname='freebsd cvrsnica-freebsd-92 9.2-release freebsd 9.2-release #0 r255898: thu sep 26 22:50:31 utc 2013 root@bake.isc.freebsd.org:usrobjusrsrcsysgeneric amd64 '
config_args='-ds -e -Dprefix=/usr/perl5.18.1 -Dshrplib'
hint=previous, useposix=true, d_sigaction=define
useithreads=undef, usemultiplicity=undef
useperlio=define, d_sfio=undef, uselargefiles=define, usesocks=undef
use64bitint=define, use64bitall=define, uselongdouble=undef
usemymalloc=n, bincompat5005=undef
Compiler:
cc='cc', ccflags ='-DHAS_FPSETMASK -DHAS_FLOATINGPOINT_H -fno-strict-aliasing -pipe -fstack-protector -I/usr/local/include',
optimize='-O',
cppflags='-DHAS_FPSETMASK -DHAS_FLOATINGPOINT_H -fno-strict-aliasing -pipe -fstack-protector -I/usr/local/include -DHAS_FPSETMASK -DHAS_FLOATINGPOINT_H -fno-strict-aliasing -pipe -fstack-protector -I/usr/local/include'
ccversion='', gccversion='4.2.1 20070831 patched [FreeBSD]', gccosandvers=''
intsize=4, longsize=8, ptrsize=8, doublesize=8, byteorder=12345678
d_longlong=define, longlongsize=8, d_longdbl=define, longdblsize=16
ivtype='long', ivsize=8, nvtype='double', nvsize=8, Off_t='off_t', lseeksize=8
alignbytes=8, prototype=define
Linker and Libraries:
ld='cc', ldflags ='-Wl,-E -fstack-protector -L/usr/local/lib'
libpth=/usr/lib /usr/local/lib
libs=-lm -lcrypt -lutil -lc
perllibs=-lm -lcrypt -lutil -lc
libc=, so=so, useshrplib=false, libperl=libperl.a
gnulibc_version=''
Dynamic Linking:
dlsrc=dl_dlopen.xs, dlext=so, d_dlsymun=undef, ccdlflags=' '
cccdlflags='-DPIC -fPIC', lddlflags='-shared -L/usr/local/lib -fstack-protector'
Characteristics of this binary (from libperl):
Compile-time options: HAS_TIMES PERLIO_LAYERS PERL_DONT_CREATE_GVSV
PERL_HASH_FUNC_ONE_AT_A_TIME_HARD PERL_MALLOC_WRAP
PERL_PRESERVE_IVUV PERL_SAWAMPERSAND USE_64_BIT_ALL
USE_64_BIT_INT USE_LARGE_FILES USE_LOCALE
USE_LOCALE_COLLATE USE_LOCALE_CTYPE
USE_LOCALE_NUMERIC USE_PERLIO USE_PERL_ATOF
Built under freebsd
Compiled at Oct 15 2013 21:30:37
%ENV:
PERL5LIB="/home/eserte/.cpan/build/App-Duppy-0.02-GLp1nz/blib/arch:/home/eserte/.cpan/build/App-Duppy-0.02-GLp1nz/blib/lib:/home/eserte/.cpan/build/CGI-Mungo-1.801-1xzeGi/blib/arch:/home/eserte/.cpan/build/CGI-Mungo-1.801-1xzeGi/blib/lib"
PERL5OPT=""
PERL5_CPANPLUS_IS_RUNNING="37678"
PERL5_CPAN_IS_RUNNING="37678"
PERL5_CPAN_IS_RUNNING_IN_RECURSION="37657,37678"
PERLDOC="-MPod::Perldoc::ToTextOverstrike"
PERL_BATCH="yes"
PERL_CPAN_REPORTER_CONFIG="/var/tmp/cpansmoker-1023/sXGlli7CE1_config.ini"
PERL_EXTUTILS_AUTOINSTALL="--defaultdeps"
PERL_HTML_DISPLAY_CLASS="HTML::Display::Mozilla"
@INC:
/home/eserte/.cpan/build/App-Duppy-0.02-GLp1nz/blib/arch
/home/eserte/.cpan/build/App-Duppy-0.02-GLp1nz/blib/lib
/home/eserte/.cpan/build/CGI-Mungo-1.801-1xzeGi/blib/arch
/home/eserte/.cpan/build/CGI-Mungo-1.801-1xzeGi/blib/lib
/usr/perl5.18.1/lib/site_perl/5.18.1/amd64-freebsd
/usr/perl5.18.1/lib/site_perl/5.18.1
/usr/perl5.18.1/lib/5.18.1/amd64-freebsd
/usr/perl5.18.1/lib/5.18.1
.