Back
From: metabase:user:f0a1e540-adf3-11e5-b4d9-0267490dd990
Subject: PASS Math-Base36-0.14 v5.22.1 Mac OS X
Date: 2016-03-31T05:52:35Z
This distribution has been tested as part of the CPAN Testers
project, supporting the Perl programming language. See
http://wiki.cpantesters.org/ for more information or email
questions to cpan-testers-discuss@perl.org
--
Dear Brian Cassidy,
This is a computer-generated report for Math-Base36-0.14
on perl 5.22.1, created by CPAN-Reporter-1.2017.
Thank you for uploading your work to CPAN. Congratulations!
All tests were successful.
Sections of this report:
* Tester comments
* Program output
* Prerequisites
* Environment and other context
------------------------------
TESTER COMMENTS
------------------------------
Additional comments from tester:
none provided
------------------------------
PROGRAM OUTPUT
------------------------------
Output from '/opt/local/bin/make test':
PERL_DL_NONLAZY=1 "/opt/Perl/bin/perl" "-MExtUtils::Command::MM" "-MTest::Harness" "-e" "undef *Test::Harness::Switches; test_harness(0, 'inc', 'blib/lib', 'blib/arch')" t/*.t
t/01-use.t ........... ok
t/02-basic.t ......... ok
t/03-invalid.t ....... ok
t/98-pod_coverage.t .. ok
t/99-pod.t ........... ok
All tests successful.
Files=5, Tests=41, 1 wallclock secs ( 0.04 usr 0.01 sys + 0.35 cusr 0.05 csys = 0.45 CPU)
Result: PASS
------------------------------
PREREQUISITES
------------------------------
Prerequisite modules loaded:
requires:
Module Need Have
------------------- ----- --------
Math::BigInt 1.60 1.999715
perl 5.006 5.022001
build_requires:
Module Need Have
------------------- ----- --------
ExtUtils::MakeMaker 6.59 7.10
Test::Exception 0 0.43
Test::More 0 1.001014
configure_requires:
Module Need Have
------------------- ----- --------
ExtUtils::MakeMaker 6.59 7.10
------------------------------
ENVIRONMENT AND OTHER CONTEXT
------------------------------
Environment variables:
LANG = en_US.UTF-8
LC_ALL = en_US.UTF-8
LC_CTYPE = C
PATH = /opt/Perl/bin:/opt/Perl/sbin:/Users/ggreene/bin:/opt/local/bin:/opt/local/sbin:/opt/local/libexec/gnubin:/usr/local/mysql/bin:/Users/ggreene/Development/hrs:/Applications/Server.app/Contents/ServerRoot/usr/bin:/Applications/Server.app/Contents/ServerRoot/usr/sbin:/opt/X11/bin:/usr/local/bin:/usr/bin:/bin:/usr/sbin:/sbin
PERL5LIB =
PERL5OPT =
PERL5_CPANPLUS_IS_RUNNING = 17662
PERL5_CPAN_IS_RUNNING = 17662
SHELL = /bin/zsh
TERM = xterm
TMPDIR = /var/folders/9n/_nl5z6w10qj1dsf18lqbf_w96n_pcq/T/
Perl special variables (and OS-specific diagnostics, for MSWin32):
$^X = /opt/Perl/bin/perl
$UID/$EUID = 1297439127 / 1297439127
$GID = 582448329 582448329
$EGID = 582448329 582448329
Perl module toolchain versions installed:
Module Have
------------------- --------
CPAN 2.11
CPAN::Meta 2.150005
Cwd 3.62
ExtUtils::CBuilder 0.280224
ExtUtils::Command 7.10
ExtUtils::Install 2.04
ExtUtils::MakeMaker 7.10
ExtUtils::Manifest 1.70
ExtUtils::ParseXS 3.30
File::Spec 3.62
JSON 2.90
JSON::PP 2.27300
Module::Build 0.4216
Module::Signature 0.79
Parse::CPAN::Meta 1.4417
Test::Harness 3.36
Test::More 1.001014
YAML 1.15
YAML::Syck 1.29
version 0.9916
--
Summary of my perl5 (revision 5 version 22 subversion 1) configuration:
Platform:
osname=darwin, osvers=15.2.0, archname=darwin-thread-multi-ld-2level
uname='darwin ggreene-mbp.local 15.2.0 darwin kernel version 15.2.0: fri nov 13 19:56:56 pst 2015; root:xnu-3248.20.55~2release_x86_64 x86_64 '
config_args=''
hint=recommended, useposix=true, d_sigaction=define
useithreads=define, usemultiplicity=define
use64bitint=define, use64bitall=define, uselongdouble=define
usemymalloc=n, bincompat5005=undef
Compiler:
cc='cc', ccflags ='-fno-common -DPERL_DARWIN -fno-strict-aliasing -pipe -fstack-protector-strong -I/opt/local/include',
optimize='-O3',
cppflags='-fno-common -DPERL_DARWIN -fno-strict-aliasing -pipe -fstack-protector-strong -I/opt/local/include'
ccversion='', gccversion='4.2.1 Compatible Apple LLVM 7.0.2 (clang-700.1.81)', gccosandvers=''
intsize=4, longsize=8, ptrsize=8, doublesize=8, byteorder=12345678, doublekind=3
d_longlong=define, longlongsize=8, d_longdbl=define, longdblsize=16, longdblkind=3
ivtype='long', ivsize=8, nvtype='long double', nvsize=16, Off_t='off_t', lseeksize=8
alignbytes=16, prototype=define
Linker and Libraries:
ld='env MACOSX_DEPLOYMENT_TARGET=10.9 cc', ldflags =' -fstack-protector-strong -L/opt/local/lib'
libpth=/Applications/Xcode.app/Contents/Developer/Toolchains/XcodeDefault.xctoolchain/usr/bin/../lib/clang/7.0.2/lib /Applications/Xcode.app/Contents/Developer/Toolchains/XcodeDefault.xctoolchain/usr/lib /usr/lib /opt/local/lib /usr/local/mysql/lib
libs=-lpthread -lgdbm -ldbm -ldl -lm -lutil -lc
perllibs=-lpthread -ldl -lm -lutil -lc
libc=, so=dylib, useshrplib=false, libperl=libperl.a
gnulibc_version=''
Dynamic Linking:
dlsrc=dl_dlopen.xs, dlext=bundle, d_dlsymun=undef, ccdlflags=' '
cccdlflags=' ', lddlflags=' -bundle -undefined dynamic_lookup -L/opt/local/lib -fstack-protector-strong'
Characteristics of this binary (from libperl):
Compile-time options: HAS_TIMES MULTIPLICITY PERLIO_LAYERS
PERL_DONT_CREATE_GVSV
PERL_HASH_FUNC_ONE_AT_A_TIME_HARD
PERL_IMPLICIT_CONTEXT PERL_MALLOC_WRAP
PERL_NEW_COPY_ON_WRITE PERL_PRESERVE_IVUV
USE_64_BIT_ALL USE_64_BIT_INT USE_ITHREADS
USE_LARGE_FILES USE_LOCALE USE_LOCALE_COLLATE
USE_LOCALE_CTYPE USE_LOCALE_NUMERIC USE_LOCALE_TIME
USE_LONG_DOUBLE USE_PERLIO USE_PERL_ATOF
Built under darwin
Compiled at Dec 28 2015 14:34:27
%ENV:
PERL5LIB=""
PERL5OPT=""
PERL5_CPANPLUS_IS_RUNNING="17662"
PERL5_CPAN_IS_RUNNING="17662"
@INC:
/opt/Perl/lib/perl5/site_perl/5.22.1/darwin-thread-multi-ld-2level
/opt/Perl/lib/perl5/site_perl/5.22.1
/opt/Perl/lib/perl5/5.22.1/darwin-thread-multi-ld-2level
/opt/Perl/lib/perl5/5.22.1
.