Config-Model-TkUI v1.376 Perl 5 v5.37.1 x86_64-linux-ld
- Status
- Pass
- From
- Andreas J. König (ANDK)
- Dist
-
Config-Model-TkUI v1.376
- Platform
- Perl 5 v5.37.1 x86_64-linux-ld
- Date
- 2023-02-09 12:53:36
- ID
- c46771ac-a878-11ed-a53c-8dbb10a68ca3
This distribution has been tested as part of the CPAN Testers
project, supporting the Perl programming language. See
http://wiki.cpantesters.org/ for more information or email
questions to cpan-testers-discuss@perl.org
--
Dear Dominique Dumont,
This is a computer-generated report for Config-Model-TkUI-1.376
on perl 5.37.1, created by CPAN-Reporter-1.2018.
Thank you for uploading your work to CPAN. Congratulations!
All tests were successful.
Sections of this report:
* Tester comments
* Program output
* Prerequisites
* Environment and other context
------------------------------
TESTER COMMENTS
------------------------------
Additional comments from tester:
this report is from an automated smoke testing program
and was not reviewed by a human for accuracy
------------------------------
PROGRAM OUTPUT
------------------------------
Output from './Build test':
t/author-critic.t ........ skipped: these tests are for testing by the author
Name "Pod::POM::Node::Verbatim::EXPECT" used only once: possible typo at /home/sand/src/perl/repoperls/installed-perls/host/k93msid/v5.37.1/fc43/lib/site_perl/5.37.1/Pod/POM/Node.pm line 137.
Name "Pod::POM::Node::Pod::ATTRIBS" used only once: possible typo at /home/sand/src/perl/repoperls/installed-perls/host/k93msid/v5.37.1/fc43/lib/site_perl/5.37.1/Pod/POM/Node.pm line 81.
t/config-model-ui.t ...... ok
Name "Pod::POM::Node::Verbatim::EXPECT" used only once: possible typo at /home/sand/src/perl/repoperls/installed-perls/host/k93msid/v5.37.1/fc43/lib/site_perl/5.37.1/Pod/POM/Node.pm line 137.
Name "Pod::POM::Node::Pod::ATTRIBS" used only once: possible typo at /home/sand/src/perl/repoperls/installed-perls/host/k93msid/v5.37.1/fc43/lib/site_perl/5.37.1/Pod/POM/Node.pm line 81.
t/config-model-wizard.t .. ok
t/filter.t ............... ok
t/pod.t .................. ok
All tests successful.
Files=5, Tests=128, 27 wallclock secs ( 0.05 usr 0.10 sys + 6.55 cusr 1.24 csys = 7.94 CPU)
Result: PASS
------------------------------
PREREQUISITES
------------------------------
Prerequisite modules loaded:
requires:
Module Need Have
----------------------------- ----- ---------
Carp 0 1.53
Config::Model 2.139 2.150
Config::Model::ObjTreeScanner 0 2.150
File::HomeDir 0 1.006
List::MoreUtils 0 0.430
Log::Log4perl 1.11 1.55
Path::Tiny 0 0.144
perl 5.012 5.037001
Pod::POM 0 2.01
Pod::POM::View::Text 0 2.01
Scalar::Util 0 1.63
Text::Diff 0 1.45
Text::Wrap 0 2021.0814
Tk 0 804.036
Tk::Adjuster 0 4.008
Tk::Balloon 0 4.013
Tk::BrowseEntry 0 4.015
Tk::Dialog 0 4.005
Tk::DialogBox 0 4.016
! Tk::DirSelect 0 n/a
Tk::DoubleClick 0 0.04
Tk::FontDialog 0 0.18
Tk::Frame 0 4.010
Tk::Menubutton 0 4.005
Tk::NoteBook 0 4.012
Tk::Pane 0 4.007
Tk::Photo 0 4.006
Tk::PNG 0 4.004
Tk::Pod 0 5.41
Tk::Pod::Text 0 5.32
Tk::ROText 0 4.011
Tk::Toplevel 0 4.006
Tk::Tree 0 4.72
Try::Tiny 0 0.31
YAML 0 1.30
build_requires:
Module Need Have
----------------------------- ----- ---------
Config::Model::Tester::Setup 0 4.007
Config::Model::Value 0 2.150
Module::Build 0.34 0.4231
Test::Log::Log4perl 0 0.32
Test::Memory::Cycle 0 1.06
Test::More 0 1.302191
Test::Pod 1.00 1.52
XXX 0 0.38
YAML::XS 0 0.85
configure_requires:
Module Need Have
----------------------------- ----- ---------
Module::Build 0.34 0.4231
------------------------------
ENVIRONMENT AND OTHER CONTEXT
------------------------------
Environment variables:
AUTOMATED_TESTING = 1
LANG = en_US.UTF-8
LANGUAGE = en_US:en
PATH = /home/sand/bin:/usr/local/bin:/usr/bin:/bin:/usr/games:/usr/local/perl/bin:/usr/X11/bin:/sbin:/usr/sbin
PERL5LIB =
PERL5OPT =
PERL5_CPANPLUS_IS_RUNNING = 3544947
PERL5_CPAN_IS_RUNNING = 3544947
PERL_CANARY_STABILITY_NOPROMPT = 1
PERL_MM_USE_DEFAULT = 1
PERL_USE_UNSAFE_INC = 1
SHELL = /usr/bin/zsh
TERM = screen
Perl special variables (and OS-specific diagnostics, for MSWin32):
$^X = /home/sand/src/perl/repoperls/installed-perls/host/k93msid/v5.37.1/fc43/bin/perl
$UID/$EUID = 1005 / 1005
$GID = 1005 1005
$EGID = 1005 1005
Perl module toolchain versions installed:
Module Have
------------------- --------
CPAN 2.34
CPAN::Meta 2.150010
Cwd 3.85
ExtUtils::CBuilder 0.280237
ExtUtils::Command 7.65_02
ExtUtils::Install 2.20
ExtUtils::MakeMaker 7.65_02
ExtUtils::Manifest 1.73
ExtUtils::ParseXS 3.45
File::Spec 3.85
JSON 4.10
JSON::PP 4.12
Module::Build 0.4231
Module::Signature 0.88
Parse::CPAN::Meta 2.150010
Test::Harness 3.44
Test::More 1.302191
YAML 1.30
YAML::Syck 1.34
version 0.9929
--
Summary of my perl5 (revision 5 version 37 subversion 1) configuration:
Commit id: a33f7527640f5a662130b55a9fc8c2302b3b38f6
Platform:
osname=linux
osvers=5.10.0-14-amd64
archname=x86_64-linux-ld
uname='linux k93msid 5.10.0-14-amd64 #1 smp debian 5.10.113-1 (2022-04-29) x86_64 gnulinux '
config_args='-Dprefix=/home/sand/src/perl/repoperls/installed-perls/host/k93msid/v5.37.1/fc43 -Dmyhostname=k93msid -Dinstallusrbinperl=n -Uversiononly -Dusedevel -des -Ui_db -Dlibswanted=cl pthread socket inet nsl gdbm dbm malloc dl ld sun m crypt sec util c cposix posix ucb BSD gdbm_compat -Uuseithreads -Duselongdouble -DEBUGGING=both'
hint=recommended
useposix=true
d_sigaction=define
useithreads=undef
usemultiplicity=undef
use64bitint=define
use64bitall=define
uselongdouble=define
usemymalloc=n
default_inc_excludes_dot=define
Compiler:
cc='cc'
ccflags ='-fwrapv -DDEBUGGING -fno-strict-aliasing -pipe -fstack-protector-strong -I/usr/local/include -D_LARGEFILE_SOURCE -D_FILE_OFFSET_BITS=64 -D_FORTIFY_SOURCE=2'
optimize='-O2 -g'
cppflags='-fwrapv -DDEBUGGING -fno-strict-aliasing -pipe -fstack-protector-strong -I/usr/local/include'
ccversion=''
gccversion='11.3.0'
gccosandvers=''
intsize=4
longsize=8
ptrsize=8
doublesize=8
byteorder=12345678
doublekind=3
d_longlong=define
longlongsize=8
d_longdbl=define
longdblsize=16
longdblkind=3
ivtype='long'
ivsize=8
nvtype='long double'
nvsize=16
Off_t='off_t'
lseeksize=8
alignbytes=16
prototype=define
Linker and Libraries:
ld='cc'
ldflags =' -fstack-protector-strong -L/usr/local/lib'
libpth=/usr/local/lib /usr/lib/x86_64-linux-gnu /usr/lib /usr/lib64
libs=-lpthread -lnsl -ldl -lm -lcrypt -lutil -lc
perllibs=-lpthread -lnsl -ldl -lm -lcrypt -lutil -lc
libc=libc-2.33.so
so=so
useshrplib=false
libperl=libperl.a
gnulibc_version='2.33'
Dynamic Linking:
dlsrc=dl_dlopen.xs
dlext=so
d_dlsymun=undef
ccdlflags='-Wl,-E'
cccdlflags='-fPIC'
lddlflags='-shared -O2 -g -L/usr/local/lib -fstack-protector-strong'
Characteristics of this binary (from libperl):
Compile-time options:
DEBUGGING
HAS_TIMES
PERLIO_LAYERS
PERL_COPY_ON_WRITE
PERL_DONT_CREATE_GVSV
PERL_MALLOC_WRAP
PERL_OP_PARENT
PERL_PRESERVE_IVUV
PERL_USE_DEVEL
PERL_USE_SAFE_PUTENV
USE_64_BIT_ALL
USE_64_BIT_INT
USE_LARGE_FILES
USE_LOCALE
USE_LOCALE_COLLATE
USE_LOCALE_CTYPE
USE_LOCALE_NUMERIC
USE_LOCALE_TIME
USE_LONG_DOUBLE
USE_PERLIO
USE_PERL_ATOF
Built under linux
Compiled at Jun 21 2022 04:26:52
%ENV:
PERL5LIB=""
PERL5OPT=""
PERL5_CPANPLUS_IS_RUNNING="3544947"
PERL5_CPAN_IS_RUNNING="3544947"
PERL_CANARY_STABILITY_NOPROMPT="1"
PERL_MM_USE_DEFAULT="1"
PERL_USE_UNSAFE_INC="1"
@INC:
/home/sand/src/perl/repoperls/installed-perls/host/k93msid/v5.37.1/fc43/lib/site_perl/5.37.1/x86_64-linux-ld
/home/sand/src/perl/repoperls/installed-perls/host/k93msid/v5.37.1/fc43/lib/site_perl/5.37.1
/home/sand/src/perl/repoperls/installed-perls/host/k93msid/v5.37.1/fc43/lib/5.37.1/x86_64-linux-ld
/home/sand/src/perl/repoperls/installed-perls/host/k93msid/v5.37.1/fc43/lib/5.37.1
.