Crypt-OpenSSL-PKCS10 v0.26 Perl 5 v5.22.1 i386-freebsd
- Status
- Pass
- From
- Chris Williams (BINGOS)
- Dist
-
Crypt-OpenSSL-PKCS10 v0.26
- Platform
- Perl 5 v5.22.1 i386-freebsd
- Date
- 2024-06-28 04:34:54
- ID
- c43ae73c-3507-11ef-98b0-b3c3213a625c
This distribution has been tested as part of the CPAN Testers
project, supporting the Perl programming language. See
http://wiki.cpantesters.org/ for more information or email
questions to cpan-testers-discuss@perl.org
--
Dear Timothy Legge,
This is a computer-generated error report created automatically by
CPANPLUS, version 0.9914. Testers personal comments may appear
at the end of this report.
Thank you for uploading your work to CPAN. Congratulations!
All tests were successful.
TEST RESULTS:
Below is the error stack from stage 'make test':
"/usr/home/cpan/pit/bare/perl-5.22.1/bin/perl" -MExtUtils::Command::MM -e 'cp_nonempty' -- PKCS10.bs blib/arch/auto/Crypt/OpenSSL/PKCS10/PKCS10.bs 644
PERL_DL_NONLAZY=1 "/usr/home/cpan/pit/bare/perl-5.22.1/bin/perl" "-MExtUtils::Command::MM" "-MTest::Harness" "-e" "undef *Test::Harness::Switches; test_harness(0, 'blib/lib', 'blib/arch')" t/*.t
t/author-pod-spell.t ... skipped: these tests are for testing by the author
t/author-pod-syntax.t .. skipped: these tests are for testing by the author
-----BEGIN CERTIFICATE REQUEST-----
MIIBPzCBqQIBADAAMIGfMA0GCSqGSIb3DQEBAQUAA4GNADCBiQKBgQDbENWClMje
3aH9XGtadcHNFvNjHIT89D+rDcX7aU9oMO/J0lZoUuSgwU+NBwiMZOImGq7zPzpv
u0TYhgbKwt0CKys4MgSv3tL9XXJFM5Kzg4ntkpXs3ehHfwDBjqUUXCk7au9xo8Aj
PbsqmGN9c/pAqx7bGkyIoZHv/jMSQMCh+QIDAQABoAAwDQYJKoZIhvcNAQELBQAD
gYEAfpdZttFg7zBvjaIXTK4WV8uy9PnJ7R1G/V2ZUEMoQyIVNcJPXe80mBd5ptp+
xswDxhpPU4K9N+iUXc/zKn6722MpDg9HxuZTwHtlJ+RRSoytFP7UnFxKyisdY92Q
jNvfqjoCEzRtW0Nl/QgkUvQ/yaykU/vGrUt8xXfDidsEbpU=
-----END CERTIFICATE REQUEST-----
RSA Private-Key: (1024 bit, 2 primes)
modulus:
-----BEGIN CERTIFICATE REQUEST-----
MIIBPzCBqQIBADAAMIGfMA0GCSqGSIb3DQEBAQUAA4GNADCBiQKBgQDir5nfg256
IoIqK9ZplYZrE1WwklioAfJuWtbvbYn69HHT49Gfsp4nZu4mTdZ1LsUIXDDe2XKr
pxuR5sNGywLNoXM39jQro3UIKzD3bPZEZCgmJrCtipCIK56OzU0l7v99wJiHSdRg
QFiX2ylzGE6kO0h5UHLRYIYX8M3raNv+BwIDAQABoAAwDQYJKoZIhvcNAQELBQAD
gYEAgRIbEIljPF3F6ZnDyB0I1MVczbOBX/1v7OlSnEAhOeVGlxSW9q6fwoFNQYCq
qiawsvzdF64GzoWxcxuB3uG7nf1471zhv28lxtHISHzZ687LsoJNcPjmi6HIy+c8
48oOQqnpZBvf5yx3F4vc1L/EnDlgtHZ9mBaAt/IlblCBQx0=
-----END CERTIFICATE REQUEST-----
RSA Private-Key: (1024 bit, 2 primes)
modulus:
rsa
-----BEGIN PUBLIC KEY-----
MIGfMA0GCSqGSIb3DQEBAQUAA4GNADCBiQKBgQDir5nfg256IoIqK9ZplYZrE1Ww
klioAfJuWtbvbYn69HHT49Gfsp4nZu4mTdZ1LsUIXDDe2XKrpxuR5sNGywLNoXM3
9jQro3UIKzD3bPZEZCgmJrCtipCIK56OzU0l7v99wJiHSdRgQFiX2ylzGE6kO0h5
UHLRYIYX8M3raNv+BwIDAQAB
-----END PUBLIC KEY-----
-----BEGIN CERTIFICATE REQUEST-----
MIICJzCCAZACAQAwKTELMAkGA1UEBhMCUk8xDDAKBgNVBAoMA1VUSTEMMAoGA1UE
CwwDc3NpMIGfMA0GCSqGSIb3DQEBAQUAA4GNADCBiQKBgQC9Vo7xw5i4LwqlUBbM
yeY2yyVxaG/xa+4CizzOYpUwjyvx7ROlhn09RTq1Bu8/EatjD0d3XwE2FxjZsnuf
f9Bc6hklGQ44yVrUeuvWtfRa/UflozwlWQjEXZVzus6ErOFZDtLG4n2UTRTQKNmR
yYBgFDqZAqnytU8jqxeI4dBlzwIDAQABoIG9MIG6BgkqhkiG9w0BCQ4xgawwgakw
DgYDVR0PAQH/BAQDAgWgMC4GA1UdJQQnMCUGCCsGAQUFBwMBBglghkgBhvhCBAEG
CisGAQQBgjcKAwMGAisEMBwGA1UdEQQVMBOBEXN0ZXZlQG9wZW5zc2wub3JnMB0G
A1UdDgQWBBRq/CVL0Mr35xvbmn7t049K4dpLNjAZBgMqAwMEEhYQTXkgbmV3IGV4
dGVuc2lvbjAPBgMqAwQECB4GAGEAYgBjMA0GCSqGSIb3DQEBCwUAA4GBAHh/k/mz
/yolZLPFAMocbCbS30oZHXjQskVlQRN6Tj+d9h1RFhOIs9kGcRCGwU7dtvn91TY4
/EVoIUzQKFrhRjLBnaxf8BLLfZ7nesvltE2C/zNudol1E/WCgbQhj8PFL4pxDQvk
Q3kJ8VpieLfIGiAwIGoWNHIkBNG/a9iG4mrL
-----END CERTIFICATE REQUEST-----
C=RO, O=UTI, OU=ssi
RSA Private-Key: (1024 bit, 2 primes)
modulus:
rsa
-----BEGIN PUBLIC KEY-----
MIGfMA0GCSqGSIb3DQEBAQUAA4GNADCBiQKBgQC9Vo7xw5i4LwqlUBbMyeY2yyVx
aG/xa+4CizzOYpUwjyvx7ROlhn09RTq1Bu8/EatjD0d3XwE2FxjZsnuff9Bc6hkl
GQ44yVrUeuvWtfRa/UflozwlWQjEXZVzus6ErOFZDtLG4n2UTRTQKNmRyYBgFDqZ
AqnytU8jqxeI4dBlzwIDAQAB
-----END PUBLIC KEY-----
C=DE, ST=NRW, L=Foo, O=Internet Widgits Pty Ltd, CN=foo.der.bar.com
RSA Public-Key: (2048 bit)
Modulus:
rsa
-----BEGIN PUBLIC KEY-----
MIIBIjANBgkqhkiG9w0BAQEFAAOCAQ8AMIIBCgKCAQEAwPMYFxcoAOcmP7PjQBMw
ljajXZd6rZzlENWToE8CYA0M2TbzTOBCGmhxXfM2x/wBd8N+oemxCXNapK11nuXU
MD0OmJKy5cIPeHtJryFNmaGZJWNZW7AvlriVtKigGEFtT9G7PqSw2h8IID2FUPwp
QK4SMXFVBJxFy0BHsGBYRj5oRiYW+8Dldh2hscHwR/Ff/2LBgbcTktjz37/1JAoT
Qz2TBUIQqg8WU+Myutwe+ASyNJhfLMFdFnrmiN6Z9O2K9L0zxeeIvT5U4cLBiNM4
hPtBdmg9diOQlEd0M7kLGo/Hf9XSgjIbTP3i/Bd1RpdzpRkDIGjCWO6+faQeCA8R
6wIDAQAB
-----END PUBLIC KEY-----
t/Mytest.t ............. ok
t/release-kwalitee.t ... skipped: these tests are for release candidate testing
t/release-meta-json.t .. skipped: these tests are for release candidate testing
All tests successful.
Files=5, Tests=7, 0 wallclock secs ( 0.05 usr 0.02 sys + 0.24 cusr 0.10 csys = 0.42 CPU)
Result: PASS
PREREQUISITES:
Here is a list of prerequisites you specified and versions we
managed to load:
Module Name Have Want
Crypt::OpenSSL::Guess 0.15 0.11
Crypt::OpenSSL::RSA 0.33 0
Exporter 5.72 0
Test::More 1.302198 0
XSLoader 0.20 0
Perl module toolchain versions installed:
Module Name Have
CPANPLUS 0.9914
CPANPLUS::Dist::Build 0.90
Cwd 3.75
ExtUtils::CBuilder 0.280236
ExtUtils::Command 7.70
ExtUtils::Install 2.22
ExtUtils::MakeMaker 7.70
ExtUtils::Manifest 1.75
ExtUtils::ParseXS 3.51
File::Spec 3.75
Module::Build 0.4234
Pod::Parser 1.63
Pod::Simple 3.29
Test2 1.302198
Test::Harness 3.48
Test::More 1.302198
version 0.9930
******************************** NOTE ********************************
The comments above are created mechanically, possibly without manual
checking by the sender. As there are many people performing automatic
tests on each upload to CPAN, it is likely that you will receive
identical messages about the same problem.
If you believe that the message is mistaken, please reply to the first
one with correction and/or additional informations, and do not take
it personally. We appreciate your patience. :)
**********************************************************************
Additional comments:
This report was machine-generated by CPANPLUS::Dist::YACSmoke 1.08.
Powered by minismokebox version 0.68
CPANPLUS is prefering Build.PL
------------------------------
ENVIRONMENT AND OTHER CONTEXT
------------------------------
Environment variables:
AUTOMATED_TESTING = 1
NONINTERACTIVE_TESTING = 1
PATH = /sbin:/bin:/usr/sbin:/usr/bin:/usr/local/sbin:/usr/local/bin:/home/cpan/bin
PERL5LIB = /usr/home/cpan/pit/jail/2P4ebQp0j0/lib/perl5:/usr/home/cpan/pit/bare/conf/perl-5.22.1/.cpanplus/5.22.1/build/ZfrgqZgX47/Crypt-OpenSSL-PKCS10-0.26/blib/lib:/usr/home/cpan/pit/bare/conf/perl-5.22.1/.cpanplus/5.22.1/build/ZfrgqZgX47/Crypt-OpenSSL-PKCS10-0.26/blib/arch
PERL5_CPANPLUS_IS_RUNNING = 86493
PERL5_CPANPLUS_IS_VERSION = 0.9914
PERL5_MINISMOKEBOX = 0.68
PERL5_YACSMOKE_BASE = /usr/home/cpan/pit/bare/conf/perl-5.22.1
PERL_EXTUTILS_AUTOINSTALL = --defaultdeps
PERL_LOCAL_LIB_ROOT = /usr/home/cpan/pit/jail/2P4ebQp0j0
PERL_MB_OPT = --install_base "/usr/home/cpan/pit/jail/2P4ebQp0j0"
PERL_MM_OPT = INSTALL_BASE=/usr/home/cpan/pit/jail/2P4ebQp0j0
PERL_MM_USE_DEFAULT = 1
PERL_USE_UNSAFE_INC = 1
SHELL = /usr/local/bin/bash
TERM = screen
Perl special variables (and OS-specific diagnostics, for MSWin32):
Perl: $^X = /usr/home/cpan/pit/bare/perl-5.22.1/bin/perl
UID: $< = 1002
EUID: $> = 1002
GID: $( = 1002 1002
EGID: $) = 1002 1002
-------------------------------
--
Summary of my perl5 (revision 5 version 22 subversion 1) configuration:
Platform:
osname=freebsd, osvers=12.4-release, archname=i386-freebsd
uname='freebsd ffyrc 12.4-release freebsd 12.4-release r372781 generic i386 '
config_args='-des -Dprefix=/usr/home/cpan/pit/bare/perl-5.22.1'
hint=recommended, useposix=true, d_sigaction=define
useithreads=undef, usemultiplicity=undef
use64bitint=undef, use64bitall=undef, uselongdouble=undef
usemymalloc=n, bincompat5005=undef
Compiler:
cc='cc', ccflags ='-DHAS_FPSETMASK -DHAS_FLOATINGPOINT_H -fno-strict-aliasing -pipe -fstack-protector-strong -I/usr/local/include',
optimize='-O2',
cppflags='-DHAS_FPSETMASK -DHAS_FLOATINGPOINT_H -fno-strict-aliasing -pipe -fstack-protector-strong -I/usr/local/include'
ccversion='', gccversion='FreeBSD Clang 13.0.0 (git@github.com:llvm/llvm-project.git llvmorg-13.0.0-0-gd7b669b3a303)', gccosandvers=''
intsize=4, longsize=4, ptrsize=4, doublesize=8, byteorder=1234, doublekind=3
d_longlong=define, longlongsize=8, d_longdbl=define, longdblsize=12, longdblkind=3
ivtype='long', ivsize=4, nvtype='double', nvsize=8, Off_t='off_t', lseeksize=8
alignbytes=4, prototype=define
Linker and Libraries:
ld='cc', ldflags ='-Wl,-E -fstack-protector-strong -L/usr/local/lib'
libpth=/usr/lib /usr/local/lib /usr/lib/clang/13.0.0/lib /usr/lib
libs=-lpthread -lgdbm -ldl -lm -lcrypt -lutil -lc
perllibs=-lpthread -ldl -lm -lcrypt -lutil -lc
libc=, so=so, useshrplib=false, libperl=libperl.a
gnulibc_version=''
Dynamic Linking:
dlsrc=dl_dlopen.xs, dlext=so, d_dlsymun=undef, ccdlflags=' '
cccdlflags='-DPIC -fPIC', lddlflags='-shared -L/usr/local/lib -fstack-protector-strong'
Characteristics of this binary (from libperl):
Compile-time options: HAS_TIMES PERLIO_LAYERS PERL_DONT_CREATE_GVSV
PERL_HASH_FUNC_ONE_AT_A_TIME_HARD PERL_MALLOC_WRAP
PERL_NEW_COPY_ON_WRITE PERL_PRESERVE_IVUV
USE_LARGE_FILES USE_LOCALE USE_LOCALE_COLLATE
USE_LOCALE_CTYPE USE_LOCALE_NUMERIC USE_LOCALE_TIME
USE_PERLIO USE_PERL_ATOF
Locally applied patches:
Devel::PatchPerl 2.08
Built under freebsd
Compiled at Apr 3 2023 02:16:10
%ENV:
PERL5LIB="/usr/home/cpan/pit/jail/2P4ebQp0j0/lib/perl5:/usr/home/cpan/pit/bare/conf/perl-5.22.1/.cpanplus/5.22.1/build/ZfrgqZgX47/Crypt-OpenSSL-PKCS10-0.26/blib/lib:/usr/home/cpan/pit/bare/conf/perl-5.22.1/.cpanplus/5.22.1/build/ZfrgqZgX47/Crypt-OpenSSL-PKCS10-0.26/blib/arch"
PERL5_CPANPLUS_IS_RUNNING="86493"
PERL5_CPANPLUS_IS_VERSION="0.9914"
PERL5_MINISMOKEBOX="0.68"
PERL5_YACSMOKE_BASE="/usr/home/cpan/pit/bare/conf/perl-5.22.1"
PERL_EXTUTILS_AUTOINSTALL="--defaultdeps"
PERL_LOCAL_LIB_ROOT="/usr/home/cpan/pit/jail/2P4ebQp0j0"
PERL_MB_OPT="--install_base "/usr/home/cpan/pit/jail/2P4ebQp0j0""
PERL_MM_OPT="INSTALL_BASE=/usr/home/cpan/pit/jail/2P4ebQp0j0"
PERL_MM_USE_DEFAULT="1"
PERL_USE_UNSAFE_INC="1"
@INC:
/usr/home/cpan/pit/jail/2P4ebQp0j0/lib/perl5/5.22.1/i386-freebsd
/usr/home/cpan/pit/jail/2P4ebQp0j0/lib/perl5/5.22.1
/usr/home/cpan/pit/jail/2P4ebQp0j0/lib/perl5/i386-freebsd
/usr/home/cpan/pit/jail/2P4ebQp0j0/lib/perl5
/usr/home/cpan/pit/bare/conf/perl-5.22.1/.cpanplus/5.22.1/build/ZfrgqZgX47/Crypt-OpenSSL-PKCS10-0.26/blib/lib
/usr/home/cpan/pit/bare/conf/perl-5.22.1/.cpanplus/5.22.1/build/ZfrgqZgX47/Crypt-OpenSSL-PKCS10-0.26/blib/arch
/usr/home/cpan/pit/bare/perl-5.22.1/lib/site_perl/5.22.1/i386-freebsd
/usr/home/cpan/pit/bare/perl-5.22.1/lib/site_perl/5.22.1
/usr/home/cpan/pit/bare/perl-5.22.1/lib/5.22.1/i386-freebsd
/usr/home/cpan/pit/bare/perl-5.22.1/lib/5.22.1
.