Back
From: metabase:user:315f03b2-2aae-11df-837a-5e0a49663a4f
Subject: PASS Catalyst-Devel-1.34 v5.15.2 GNU/Linux
Date: 2011-10-15T18:44:51Z
This distribution has been tested as part of the CPAN Testers
project, supporting the Perl programming language. See
http://wiki.cpantesters.org/ for more information or email
questions to cpan-testers-discuss@perl.org
--
Dear Tomas Doran,
This is a computer-generated report for Catalyst-Devel-1.34
on perl 5.15.2, created by CPAN-Reporter-1.2002.
Thank you for uploading your work to CPAN. Congratulations!
All tests were successful.
Sections of this report:
* Tester comments
* Program output
* Prerequisites
* Environment and other context
------------------------------
TESTER COMMENTS
------------------------------
Additional comments from tester:
this report is from an automated smoke testing program
and was not reviewed by a human for accuracy
------------------------------
PROGRAM OUTPUT
------------------------------
Output from 'make test':
PERL_DL_NONLAZY=1 /home/smoke/perl5/perlbrew/perls/perl-5.15.2/bin/perl5.15.2 "-MExtUtils::Command::MM" "-e" "test_harness(0, 'inc', 'blib/lib', 'blib/arch')" t/01use.t t/back_compat.t t/generated_app.t t/get_sharedir_file.t t/optional_http-server-restart.t t/render_file_contents.t t/render_share_dir_file.t
t/01use.t ......................... ok
t/back_compat.t ................... ok
# Generated app is in /tmp/PnTilljyai
# Installed app is in /tmp/jgsORCXYxY
t/generated_app.t ................. ok
t/get_sharedir_file.t ............. ok
t/optional_http-server-restart.t .. skipped: set TEST_HTTP to enable this test
t/render_file_contents.t .......... ok
t/render_share_dir_file.t ......... ok
All tests successful.
Files=7, Tests=91, 23 wallclock secs ( 0.13 usr 0.06 sys + 18.43 cusr 3.52 csys = 22.14 CPU)
Result: PASS
------------------------------
PREREQUISITES
------------------------------
Prerequisite modules loaded:
requires:
Module Need Have
-------------------------------------- ------- -------
Catalyst 5.90001 5.90003
Catalyst::Action::RenderView 0.10 0.16
Catalyst::Plugin::ConfigLoader 0.30 0.30
Catalyst::Plugin::Static::Simple 0.28 0.29
Config::General 2.42 2.50
ExtUtils::MakeMaker 6.11 6.59
File::ChangeNotify 0.07 0.20
File::Copy::Recursive 0 0.38
File::ShareDir 0 1.03
Module::Install 0.91 1.02
Moose 0 2.0204
MooseX::Daemonize 0 0.13
MooseX::Emulate::Class::Accessor::Fast 0 0.00903
namespace::autoclean 0 0.13
namespace::clean 0 0.21
Path::Class 0.09 0.24
Starman 0 0.2014
Template 2.14 2.22
Test::Fatal 0.003 0.006
Test::More 0.94 0.98
build_requires:
Module Need Have
-------------------------------------- ------- -------
ExtUtils::MakeMaker 6.42 6.59
Test::Fatal 0.003 0.006
Test::More 0.94 0.98
configure_requires:
Module Need Have
-------------------------------------- ------- -------
ExtUtils::MakeMaker 6.42 6.59
------------------------------
ENVIRONMENT AND OTHER CONTEXT
------------------------------
Environment variables:
AUTOMATED_TESTING = 1
LANG = en_US.UTF-8
PATH = /home/smoke/perl5/perlbrew/bin:/home/smoke/perl5/perlbrew/perls/perl-5.15.2/bin:/usr/local/bin:/usr/bin:/bin:/usr/games
PATH_WITHOUT_PERLBREW = /usr/local/bin:/usr/bin:/bin:/usr/games
PERL5LIB =
PERL5OPT =
PERL5_CPANPLUS_IS_RUNNING = 16460
PERL5_CPAN_IS_RUNNING = 16460
PERL5_CPAN_IS_RUNNING_IN_RECURSION = 2456,16460
PERLBREW_HOME = /home/smoke/.perlbrew
PERLBREW_PATH = /home/smoke/perl5/perlbrew/bin:/home/smoke/perl5/perlbrew/perls/perl-5.15.2/bin
PERLBREW_PERL = perl-5.15.2
PERLBREW_ROOT = /home/smoke/perl5/perlbrew
PERLBREW_VERSION = 0.25
PERL_CR_SMOKER_CURRENT = Task-BeLike-CADAVIS-20111013
PERL_EXTUTILS_AUTOINSTALL = --defaultdeps
PERL_MM_USE_DEFAULT = 1
SHELL = /bin/bash
TERM = screen
Perl special variables (and OS-specific diagnostics, for MSWin32):
$^X = /home/smoke/perl5/perlbrew/perls/perl-5.15.2/bin/perl5.15.2
$UID/$EUID = 1001 / 1001
$GID = 1001 1001
$EGID = 1001 1001
Perl module toolchain versions installed:
Module Have
------------------- --------
CPAN 1.9800
CPAN::Meta 2.112150
Cwd 3.37
ExtUtils::CBuilder 0.280204
ExtUtils::Command 1.17
ExtUtils::Install 1.57
ExtUtils::MakeMaker 6.59
ExtUtils::Manifest 1.60
ExtUtils::ParseXS 3.05
File::Spec 3.34
JSON 2.53
JSON::PP 2.27200
Module::Build 0.39_01
Module::Signature 0.68
Parse::CPAN::Meta 1.4401
Test::Harness 3.23
Test::More 0.98
YAML 0.73
YAML::Syck n/a
version 0.93
--
Summary of my perl5 (revision 5 version 15 subversion 2) configuration:
Platform:
osname=linux, osvers=2.6.32-5-xen-686, archname=i686-linux-thread-multi
uname='linux prickle 2.6.32-5-xen-686 #1 smp tue jun 1 08:48:09 utc 2010 i686 gnulinux '
config_args='-de -Dprefix=/home/smoke/perl5/perlbrew/perls/perl-5.15.2 -Dcc=gcc -Duseithreads -Dusedevel'
hint=recommended, useposix=true, d_sigaction=define
useithreads=define, usemultiplicity=define
useperlio=define, d_sfio=undef, uselargefiles=define, usesocks=undef
use64bitint=undef, use64bitall=undef, uselongdouble=undef
usemymalloc=n, bincompat5005=undef
Compiler:
cc='gcc', ccflags ='-D_REENTRANT -D_GNU_SOURCE -fno-strict-aliasing -pipe -fstack-protector -I/usr/local/include -D_LARGEFILE_SOURCE -D_FILE_OFFSET_BITS=64',
optimize='-O2',
cppflags='-D_REENTRANT -D_GNU_SOURCE -fno-strict-aliasing -pipe -fstack-protector -I/usr/local/include'
ccversion='', gccversion='4.3.2', gccosandvers=''
intsize=4, longsize=4, ptrsize=4, doublesize=8, byteorder=1234
d_longlong=define, longlongsize=8, d_longdbl=define, longdblsize=12
ivtype='long', ivsize=4, nvtype='double', nvsize=8, Off_t='off_t', lseeksize=8
alignbytes=4, prototype=define
Linker and Libraries:
ld='gcc', ldflags =' -fstack-protector -L/usr/local/lib'
libpth=/usr/local/lib /lib/../lib /usr/lib/../lib /lib /usr/lib
libs=-lnsl -ldl -lm -lcrypt -lutil -lpthread -lc
perllibs=-lnsl -ldl -lm -lcrypt -lutil -lpthread -lc
libc=/lib/libc-2.11.2.so, so=so, useshrplib=false, libperl=libperl.a
gnulibc_version='2.11.2'
Dynamic Linking:
dlsrc=dl_dlopen.xs, dlext=so, d_dlsymun=undef, ccdlflags='-Wl,-E'
cccdlflags='-fPIC', lddlflags='-shared -O2 -L/usr/local/lib -fstack-protector'
Characteristics of this binary (from libperl):
Compile-time options: HAS_TIMES MULTIPLICITY PERLIO_LAYERS
PERL_DONT_CREATE_GVSV PERL_IMPLICIT_CONTEXT
PERL_MALLOC_WRAP PERL_PRESERVE_IVUV PERL_USE_DEVEL
USE_ITHREADS USE_LARGE_FILES USE_LOCALE
USE_LOCALE_COLLATE USE_LOCALE_CTYPE
USE_LOCALE_NUMERIC USE_PERLIO USE_PERL_ATOF
USE_REENTRANT_API
Built under linux
Compiled at Aug 21 2011 11:05:54
%ENV:
PERL5LIB=""
PERL5OPT=""
PERL5_CPANPLUS_IS_RUNNING="16460"
PERL5_CPAN_IS_RUNNING="16460"
PERL5_CPAN_IS_RUNNING_IN_RECURSION="2456,16460"
PERLBREW_HOME="/home/smoke/.perlbrew"
PERLBREW_PATH="/home/smoke/perl5/perlbrew/bin:/home/smoke/perl5/perlbrew/perls/perl-5.15.2/bin"
PERLBREW_PERL="perl-5.15.2"
PERLBREW_ROOT="/home/smoke/perl5/perlbrew"
PERLBREW_VERSION="0.25"
PERL_CR_SMOKER_CURRENT="Task-BeLike-CADAVIS-20111013"
PERL_EXTUTILS_AUTOINSTALL="--defaultdeps"
PERL_MM_USE_DEFAULT="1"
@INC:
/home/smoke/perl5/perlbrew/perls/perl-5.15.2/lib/site_perl/5.15.2/i686-linux-thread-multi
/home/smoke/perl5/perlbrew/perls/perl-5.15.2/lib/site_perl/5.15.2
/home/smoke/perl5/perlbrew/perls/perl-5.15.2/lib/5.15.2/i686-linux-thread-multi
/home/smoke/perl5/perlbrew/perls/perl-5.15.2/lib/5.15.2
.