Crypt-Perl v0.38 Perl 5 v5.26.0 x86_64-linux-ld

Status
Pass
From
Chris Williams (BINGOS)
Dist
Crypt-Perl v0.38
Platform
Perl 5 v5.26.0 x86_64-linux-ld
Date
2022-10-21 20:13:02
ID
c430272c-517c-11ed-aba6-9a79f339625c
This distribution has been tested as part of the CPAN Testers
project, supporting the Perl programming language.  See
http://wiki.cpantesters.org/ for more information or email
questions to cpan-testers-discuss@perl.org


--

Dear FELIPE,

This is a computer-generated error report created automatically by
CPANPLUS, version 0.9914. Testers personal comments may appear
at the end of this report.


Thank you for uploading your work to CPAN.  Congratulations!
All tests were successful.

TEST RESULTS:

Below is the error stack from stage 'make test':

PERL_DL_NONLAZY=1 "/home/cpan/pit/bare-ld/perl-5.26.0/bin/perl" "-MExtUtils::Command::MM" "-MTest::Harness" "-e" "undef *Test::Harness::Switches; test_harness(0, 'blib/lib', 'blib/arch')" t/*.t
# Looking for OpenSSL binary …
# Found OpenSSL: /usr/bin/openssl
# OpenSSL 1.1.1f  31 Mar 2020
# options:  bn(64,64) rc4(16x,int) des(int) blowfish(ptr) 
# compiler: gcc -fPIC -pthread -m64 -Wa,--noexecstack -Wall -Wa,--noexecstack -g -O2 -fdebug-prefix-map=/build/openssl-51ig8V/openssl-1.1.1f=. -fstack-protector-strong -Wformat -Werror=format-security -DOPENSSL_TLS_SECURITY_LEVEL=2 -DOPENSSL_USE_NODELETE -DL_ENDIAN -DOPENSSL_PIC -DOPENSSL_CPUID_OBJ -DOPENSSL_IA32_SSE2 -DOPENSSL_BN_ASM_MONT -DOPENSSL_BN_ASM_MONT5 -DOPENSSL_BN_ASM_GF2m -DSHA1_ASM -DSHA256_ASM -DSHA512_ASM -DKECCAK1600_ASM -DRC4_ASM -DMD5_ASM -DAESNI_ASM -DVPAES_ASM -DGHASH_ASM -DECP_NISTZ256_ASM -DX25519_ASM -DPOLY1305_ASM -DNDEBUG -Wdate-time -D_FORTIFY_SOURCE=2
t/Crypt-Perl-ASN1-BitString.t ..................... ok
# Math::BigInt 1.999837 (backend: Math::BigInt::Calc 1.999837)
t/Crypt-Perl-BigInt.t ............................. ok
# Math::BigInt 1.999837 (backend: Math::BigInt::Calc 1.999837)
# Math::BigInt::Calc 1.999837
t/Crypt-Perl-ECDSA-Deterministic.t ................ ok
t/Crypt-Perl-ECDSA-EC-Point.t ..................... ok
# Looking for OpenSSL binary …
# Found OpenSSL: /usr/bin/openssl
# OpenSSL 1.1.1f  31 Mar 2020
# options:  bn(64,64) rc4(16x,int) des(int) blowfish(ptr) 
# compiler: gcc -fPIC -pthread -m64 -Wa,--noexecstack -Wall -Wa,--noexecstack -g -O2 -fdebug-prefix-map=/build/openssl-51ig8V/openssl-1.1.1f=. -fstack-protector-strong -Wformat -Werror=format-security -DOPENSSL_TLS_SECURITY_LEVEL=2 -DOPENSSL_USE_NODELETE -DL_ENDIAN -DOPENSSL_PIC -DOPENSSL_CPUID_OBJ -DOPENSSL_IA32_SSE2 -DOPENSSL_BN_ASM_MONT -DOPENSSL_BN_ASM_MONT5 -DOPENSSL_BN_ASM_GF2m -DSHA1_ASM -DSHA256_ASM -DSHA512_ASM -DKECCAK1600_ASM -DRC4_ASM -DMD5_ASM -DAESNI_ASM -DVPAES_ASM -DGHASH_ASM -DECP_NISTZ256_ASM -DX25519_ASM -DPOLY1305_ASM -DNDEBUG -Wdate-time -D_FORTIFY_SOURCE=2
# Skipping “c2pnb163v1” (Crypt::Perl::X::ECDSA::NoCurveForOID) …
# Skipping “c2pnb163v2” (Crypt::Perl::X::ECDSA::NoCurveForOID) …
# Skipping “c2pnb163v3” (Crypt::Perl::X::ECDSA::NoCurveForOID) …
# Skipping “c2pnb176v1” (Crypt::Perl::X::ECDSA::NoCurveForOID) …
# Skipping “c2pnb208w1” (Crypt::Perl::X::ECDSA::NoCurveForOID) …
# Skipping “c2pnb272w1” (Crypt::Perl::X::ECDSA::NoCurveForOID) …
# Skipping “c2pnb304w1” (Crypt::Perl::X::ECDSA::NoCurveForOID) …
# Skipping “c2pnb368w1” (Crypt::Perl::X::ECDSA::NoCurveForOID) …
# Skipping “c2tnb191v1” (Crypt::Perl::X::ECDSA::NoCurveForOID) …
# Skipping “c2tnb191v2” (Crypt::Perl::X::ECDSA::NoCurveForOID) …
# Skipping “c2tnb191v3” (Crypt::Perl::X::ECDSA::NoCurveForOID) …
# Skipping “c2tnb239v1” (Crypt::Perl::X::ECDSA::NoCurveForOID) …
# Skipping “c2tnb239v2” (Crypt::Perl::X::ECDSA::NoCurveForOID) …
# Skipping “c2tnb239v3” (Crypt::Perl::X::ECDSA::NoCurveForOID) …
# Skipping “c2tnb359v1” (Crypt::Perl::X::ECDSA::NoCurveForOID) …
# Skipping “c2tnb431r1” (Crypt::Perl::X::ECDSA::NoCurveForOID) …
# Skipping “sect113r1” (Crypt::Perl::X::ECDSA::NoCurveForOID) …
# Skipping “sect113r2” (Crypt::Perl::X::ECDSA::NoCurveForOID) …
# Skipping “sect131r1” (Crypt::Perl::X::ECDSA::NoCurveForOID) …
# Skipping “sect131r2” (Crypt::Perl::X::ECDSA::NoCurveForOID) …
# Skipping “sect163k1” (Crypt::Perl::X::ECDSA::NoCurveForOID) …
# Skipping “sect163r1” (Crypt::Perl::X::ECDSA::NoCurveForOID) …
# Skipping “sect163r2” (Crypt::Perl::X::ECDSA::NoCurveForOID) …
# Skipping “sect193r1” (Crypt::Perl::X::ECDSA::NoCurveForOID) …
# Skipping “sect193r2” (Crypt::Perl::X::ECDSA::NoCurveForOID) …
# Skipping “sect233k1” (Crypt::Perl::X::ECDSA::NoCurveForOID) …
# Skipping “sect233r1” (Crypt::Perl::X::ECDSA::NoCurveForOID) …
# Skipping “sect239k1” (Crypt::Perl::X::ECDSA::NoCurveForOID) …
# Skipping “sect283k1” (Crypt::Perl::X::ECDSA::NoCurveForOID) …
# Skipping “sect283r1” (Crypt::Perl::X::ECDSA::NoCurveForOID) …
# Skipping “sect409k1” (Crypt::Perl::X::ECDSA::NoCurveForOID) …
# Skipping “sect409r1” (Crypt::Perl::X::ECDSA::NoCurveForOID) …
# Skipping “sect571k1” (Crypt::Perl::X::ECDSA::NoCurveForOID) …
# Skipping “sect571r1” (Crypt::Perl::X::ECDSA::NoCurveForOID) …
# Skipping “wap_wsg_idm_ecid_wtls1” (Crypt::Perl::X::ECDSA::NoCurveForOID) …
# Skipping “wap_wsg_idm_ecid_wtls10” (Crypt::Perl::X::ECDSA::NoCurveForOID) …
# Skipping “wap_wsg_idm_ecid_wtls11” (Crypt::Perl::X::ECDSA::NoCurveForOID) …
# Skipping “wap_wsg_idm_ecid_wtls3” (Crypt::Perl::X::ECDSA::NoCurveForOID) …
# Skipping “wap_wsg_idm_ecid_wtls4” (Crypt::Perl::X::ECDSA::NoCurveForOID) …
# Skipping “wap_wsg_idm_ecid_wtls5” (Crypt::Perl::X::ECDSA::NoCurveForOID) …
# Math::BigInt 1.999837 (backend: Math::BigInt::Calc 1.999837)
# XXX NOTE: This test can take a while and/or spew a lot of text.
# Skipping “c2pnb163v1” (Crypt::Perl::X::ECDSA::NoCurveForOID) …
# Skipping “c2pnb163v2” (Crypt::Perl::X::ECDSA::NoCurveForOID) …
# Skipping “c2pnb163v3” (Crypt::Perl::X::ECDSA::NoCurveForOID) …
# Skipping “c2pnb176v1” (Crypt::Perl::X::ECDSA::NoCurveForOID) …
# Skipping “c2pnb208w1” (Crypt::Perl::X::ECDSA::NoCurveForOID) …
# Skipping “c2pnb272w1” (Crypt::Perl::X::ECDSA::NoCurveForOID) …
# Skipping “c2pnb304w1” (Crypt::Perl::X::ECDSA::NoCurveForOID) …
# Skipping “c2pnb368w1” (Crypt::Perl::X::ECDSA::NoCurveForOID) …
# Skipping “c2tnb191v1” (Crypt::Perl::X::ECDSA::NoCurveForOID) …
# Skipping “c2tnb191v2” (Crypt::Perl::X::ECDSA::NoCurveForOID) …
# Skipping “c2tnb191v3” (Crypt::Perl::X::ECDSA::NoCurveForOID) …
# Skipping “c2tnb239v1” (Crypt::Perl::X::ECDSA::NoCurveForOID) …
# Skipping “c2tnb239v2” (Crypt::Perl::X::ECDSA::NoCurveForOID) …
# Skipping “c2tnb239v3” (Crypt::Perl::X::ECDSA::NoCurveForOID) …
# Skipping “c2tnb359v1” (Crypt::Perl::X::ECDSA::NoCurveForOID) …
# Skipping “c2tnb431r1” (Crypt::Perl::X::ECDSA::NoCurveForOID) …
# Skipping “sect113r1” (Crypt::Perl::X::ECDSA::NoCurveForOID) …
# Skipping “sect113r2” (Crypt::Perl::X::ECDSA::NoCurveForOID) …
# Skipping “sect131r1” (Crypt::Perl::X::ECDSA::NoCurveForOID) …
# Skipping “sect131r2” (Crypt::Perl::X::ECDSA::NoCurveForOID) …
# Skipping “sect163k1” (Crypt::Perl::X::ECDSA::NoCurveForOID) …
# Skipping “sect163r1” (Crypt::Perl::X::ECDSA::NoCurveForOID) …
# Skipping “sect163r2” (Crypt::Perl::X::ECDSA::NoCurveForOID) …
# Skipping “sect193r1” (Crypt::Perl::X::ECDSA::NoCurveForOID) …
# Skipping “sect193r2” (Crypt::Perl::X::ECDSA::NoCurveForOID) …
# Skipping “sect233k1” (Crypt::Perl::X::ECDSA::NoCurveForOID) …
# Skipping “sect233r1” (Crypt::Perl::X::ECDSA::NoCurveForOID) …
# Skipping “sect239k1” (Crypt::Perl::X::ECDSA::NoCurveForOID) …
# Skipping “sect283k1” (Crypt::Perl::X::ECDSA::NoCurveForOID) …
# Skipping “sect283r1” (Crypt::Perl::X::ECDSA::NoCurveForOID) …
# Skipping “sect409k1” (Crypt::Perl::X::ECDSA::NoCurveForOID) …
# Skipping “sect409r1” (Crypt::Perl::X::ECDSA::NoCurveForOID) …
# Skipping “sect571k1” (Crypt::Perl::X::ECDSA::NoCurveForOID) …
# Skipping “sect571r1” (Crypt::Perl::X::ECDSA::NoCurveForOID) …
# Skipping “wap_wsg_idm_ecid_wtls1” (Crypt::Perl::X::ECDSA::NoCurveForOID) …
# Skipping “wap_wsg_idm_ecid_wtls10” (Crypt::Perl::X::ECDSA::NoCurveForOID) …
# Skipping “wap_wsg_idm_ecid_wtls11” (Crypt::Perl::X::ECDSA::NoCurveForOID) …
# Skipping “wap_wsg_idm_ecid_wtls3” (Crypt::Perl::X::ECDSA::NoCurveForOID) …
# Skipping “wap_wsg_idm_ecid_wtls4” (Crypt::Perl::X::ECDSA::NoCurveForOID) …
# Skipping “wap_wsg_idm_ecid_wtls5” (Crypt::Perl::X::ECDSA::NoCurveForOID) …
# curve: brainpoolP160r1
# curve: brainpoolP160t1
# curve: brainpoolP192r1
# curve: brainpoolP192t1
# curve: brainpoolP224r1
# curve: brainpoolP224t1
# curve: brainpoolP256r1
# curve: brainpoolP256t1
# curve: brainpoolP320r1
# curve: brainpoolP320t1
# curve: brainpoolP384r1
# curve: brainpoolP384t1
# curve: brainpoolP512r1
# curve: brainpoolP512t1
# curve: prime192v1
# curve: prime192v2
# curve: prime192v3
# curve: prime239v1
# curve: prime239v2
# curve: prime239v3
# curve: prime256v1
# curve: secp112r1
read EC key
writing EC key
# curve: secp112r2
# curve: secp128r1
# curve: secp128r2
# curve: secp160k1
# curve: secp160r1
# curve: secp160r2
# curve: secp192k1
# curve: secp224k1
# curve: secp224r1
# curve: secp256k1
# curve: secp384r1
# curve: secp521r1
# curve: wap_wsg_idm_ecid_wtls12
# curve: wap_wsg_idm_ecid_wtls6
# curve: wap_wsg_idm_ecid_wtls7
# curve: wap_wsg_idm_ecid_wtls8
# curve: wap_wsg_idm_ecid_wtls9
t/Crypt-Perl-ECDSA-Generate.t ..................... ok
# Math::BigInt 1.999837 (backend: Math::BigInt::Calc 1.999837)
t/Crypt-Perl-ECDSA-Math.t ......................... ok
# Looking for OpenSSL binary …
# Found OpenSSL: /usr/bin/openssl
# OpenSSL 1.1.1f  31 Mar 2020
# options:  bn(64,64) rc4(16x,int) des(int) blowfish(ptr) 
# compiler: gcc -fPIC -pthread -m64 -Wa,--noexecstack -Wall -Wa,--noexecstack -g -O2 -fdebug-prefix-map=/build/openssl-51ig8V/openssl-1.1.1f=. -fstack-protector-strong -Wformat -Werror=format-security -DOPENSSL_TLS_SECURITY_LEVEL=2 -DOPENSSL_USE_NODELETE -DL_ENDIAN -DOPENSSL_PIC -DOPENSSL_CPUID_OBJ -DOPENSSL_IA32_SSE2 -DOPENSSL_BN_ASM_MONT -DOPENSSL_BN_ASM_MONT5 -DOPENSSL_BN_ASM_GF2m -DSHA1_ASM -DSHA256_ASM -DSHA512_ASM -DKECCAK1600_ASM -DRC4_ASM -DMD5_ASM -DAESNI_ASM -DVPAES_ASM -DGHASH_ASM -DECP_NISTZ256_ASM -DX25519_ASM -DPOLY1305_ASM -DNDEBUG -Wdate-time -D_FORTIFY_SOURCE=2
# Math::BigInt 1.999837 (backend: Math::BigInt::Calc 1.999837)
t/Crypt-Perl-ECDSA-Parse.t ........................ ok
# Looking for OpenSSL binary …
# Found OpenSSL: /usr/bin/openssl
# OpenSSL 1.1.1f  31 Mar 2020
# options:  bn(64,64) rc4(16x,int) des(int) blowfish(ptr) 
# compiler: gcc -fPIC -pthread -m64 -Wa,--noexecstack -Wall -Wa,--noexecstack -g -O2 -fdebug-prefix-map=/build/openssl-51ig8V/openssl-1.1.1f=. -fstack-protector-strong -Wformat -Werror=format-security -DOPENSSL_TLS_SECURITY_LEVEL=2 -DOPENSSL_USE_NODELETE -DL_ENDIAN -DOPENSSL_PIC -DOPENSSL_CPUID_OBJ -DOPENSSL_IA32_SSE2 -DOPENSSL_BN_ASM_MONT -DOPENSSL_BN_ASM_MONT5 -DOPENSSL_BN_ASM_GF2m -DSHA1_ASM -DSHA256_ASM -DSHA512_ASM -DKECCAK1600_ASM -DRC4_ASM -DMD5_ASM -DAESNI_ASM -DVPAES_ASM -DGHASH_ASM -DECP_NISTZ256_ASM -DX25519_ASM -DPOLY1305_ASM -DNDEBUG -Wdate-time -D_FORTIFY_SOURCE=2
# Math::BigInt 1.999837 (backend: Math::BigInt::Calc 1.999837)
# ---------- This test takes a while and spews a lot of text.
# Message: [Hello-0.0424155726531765254]
# brainpoolP160r1 (named_curve, compressed public point)
# Random Sig: 302c02142279d475dd5959d33e03f6e61159093ded9e4f1002140bc85908ef0d3d3fe7b1e2dce7e9464b8cbea7d9
# Deterministic Sig: 302d021500cd560f4fb2f0b847513c69574ed8f680f8aeab9702142b38603cd1c79c8d2863065d4310dae73bcf9d05
# brainpoolP160t1 (named_curve, compressed public point)
# Random Sig: 302c0214497b50c86215c7519b9b71418dcddc4ca449b7ac0214786b7ea685e0e10ef06845ec7fb864a31210e923
# Deterministic Sig: 302e021500cb15931cbd6934d3c683aec6b320abb430080f6a021500dd7aedfc3f9fe2c6e7eb17481a08b7a6153533f5
# brainpoolP192r1 (named_curve, compressed public point)
# Random Sig: 3036021900beab6b934a06f66444fd54ce295131d7ffae147dfc5678ce021900bc522f3cb23a16c846dd4d9f078b62a1246abad4a6b122de
# Deterministic Sig: 3034021806ab219837346511663efb4e0fa87b4dd10ffc6800bee3e002187c53a904841e2839f5b27bd944269ab40bd092ff3ef0ffa9
# brainpoolP192t1 (named_curve, compressed public point)
# Random Sig: 3035021900a832d92adcd534c303d57d77f0e4baa33c193c2746594c1f02183725e7b7470dbf40502416f36f5d14405df41892853c008a
# Deterministic Sig: 3034021811e1d2d64ea95a69f375aece3e202d4ee99e48337dc3d3ec021877918d52e2a050ee8a420dc4ede8151ccc207f54d95a3f75
# brainpoolP224r1 (named_curve, compressed public point)
# Random Sig: 303d021d0092b60992d3147988a4593bf936be1119b7badab597dab8ebe1fe9e3f021c64128d2a6883f8cf4de6bda9ba74b9934123e9e2dac53cf642c73c5a
# Deterministic Sig: 303c021c1f51ee0b4270e84aba81d4d1d32ae7d52ed202238b1c5a4e85b7715d021c4614ce56270f261b6a1b5cf91e9a6bffe62c63c9c511f73dc36edc70
# brainpoolP224t1 (named_curve, compressed public point)
# Random Sig: 303d021d009e9a1e76d48f3d5a6c5babb4db5346cde8661aba04319c705b5192d2021c7a979749ca1714781317c691b9e773a8f80137ebed3c17406cb5d199
# Deterministic Sig: 303d021d00c3c3c5f8beb264ea6021b52265d8ebea4b5b49347e5eee0c0ea23078021c251432e210769decb4c6935fdcf0d1b3946bba4bac0a5bc36cf1afc4
# brainpoolP256r1 (named_curve, compressed public point)
# Random Sig: 304402204870dea1bbd2d603463850c38fd8bd6dac1593a7ee7be6365bc3999b84dd82c302207f3c16d846739428930f23143f82db376917a608dea1ec465c27c6346cdb3057
# Deterministic Sig: 304502204d5f1a27bdc25cc18ff89bdfd4bfcd57d907ea6527d48cda261ac6961f327f230221008cfa46462b1b898c4e70cc405d629407d4c681024e38765b53d26661fd9e06e6
# brainpoolP256t1 (named_curve, compressed public point)
# Random Sig: 30440220296e09b277aadb86ac6189838e2bb77ec4da9b2d6c50eb91c1c56c1412c3707802203c5bce023f994c317977399ffe42608361dabfda254068078aed15767f118052
# Deterministic Sig: 3044022077f14f944bec4481aa08a6e9fbc277638c42d000c475c63fb3698ba78c313bda0220417013b3e35307474327700e58e007f1385c11e3b2747972c1a1bc37b57ca34e
# brainpoolP320r1 (named_curve, compressed public point)
# Random Sig: 305402287855d46565e8fa4501962aabc2378370f8cb4d4d0e768cb54d970e42d176dd6955696c00c1d1352d022830de147ce0e7c0940dee78e57c74da8aa3d6c68a871c6622a8cb07eb475425f8ff4bcaeede2f95e5
# Deterministic Sig: 3055022900b321e9e21f988b9b75b2578cfdddac27bbb6909116e4710b0ab6e0b891fc0503fe6a33573c66e3a40228557b66f48177bf173d89703ceb69d335091120e03d686f6a9b875d1c39161cd1b3a44ae73df10b6d
# brainpoolP320t1 (named_curve, compressed public point)
# Random Sig: 3054022825467d7e6c7f9711f44531ef66297f556a6499e187442c55238b78f235895197563201432507c56c02283b5e72ae1096668f6df9e9e8d27b48b0fcff0819bfd053797c9c9b6d110a76a788841ab389876619
# Deterministic Sig: 3055022900b94d74f015299ecc2427e60140c28af139aa8909183859d77b8f98eb858389260d59dc54e925ff7602287e2d05359c4baf7b36466782e718875b7fffac3bdfd7171ddbd87b45f18040edac92acc671dc9e4b
# brainpoolP384r1 (named_curve, compressed public point)
# Random Sig: 306402303f2d9e1bf1cf478a2d7f639de1f1d10ac29366844870f1ad4aea8b631dd924a41c05d384883de087cc25d51e0d09ecf602305971fe61baab076b5dc9216f004eec37555e5fa6ea3b63244ceea5627294debcfb21d32f399e5149520b5683ced966fa
# Deterministic Sig: 306402301131ee7424d75d67ac12daf1c48e4be0fd3d1671b077370e8332a5ac522b86eefe3e90df958ccc7872f9c8d0a1552a2902303baa3a9899991e5f73337f967a3f661d0972af9a5d40c8ee7ae221575a3c3fe8aa9ecbf85eb46b48478f343e9a45e96f
# brainpoolP384t1 (named_curve, compressed public point)
# Random Sig: 306402304dc0380061a6f12e652f5efa949046705386e157c7ba6685b979c22e1e659951679118f1ccf314e59b36541476331318023007e9923513414ab22db762bac59a6452e6a0cb489643bf8c5d1d9120a673068b5376bab9c7dfda40bd5c1df9fa3dbb32
# Deterministic Sig: 306402302dbed4ee171386250f3f46ed5145e592dd4280497c5235e387c2ffce0e55af8de21b4bd01ac12803b84c33b0f5811f43023008bff4920c04c691c31bd3f75ade95e4b46b140feb25ee28cd9f423a5badeb6f38cfedf6e3bdb5a5a80d8d7cb734cf63
# brainpoolP512r1 (named_curve, compressed public point)
# Random Sig: 30818402405acb297d6ace2deedf318075b04f8a311925969f7384c038cfac2e551ca0bd35cf249a29f1c0db1c520547dd759c0d10a3d16091aa482a65a74e5694d0f66f550240348f31dab97076f35e522931e04f718e0f69296c08bef4d6e8eae83cbf1c4377646581dbdf8b567b39fc797a59fe8c849a01ceda244fbcf4e87fcc5b9c63a966
# Deterministic Sig: 30818402403cb1e0b3577cd34d853821f5aaca2c201769c84c0330a9956489b5bb99f73c734f061c88697662d6dff7c523afa0abe30ac09eeb0b463821ae2892fb7f632a2802404582ae5c21ecf364d8b4fb1c73a36a700258d15711d7261b90a3ffe9fe2555761b646e9dcfe7d10123e251c8435bf1c6f1cdd989eac2be04cf8088ceafc3f641
# brainpoolP512t1 (named_curve, compressed public point)
# Random Sig: 308184024011dbd55bf2c4375f71553937588a0555217c87700509db9f96eb0ec1b0cad411132a4d9e59f90266dcafe7c80640d0826a2432b2d7c9666d9950e50d380055c802403a56a362f06da1b4dac985e80c30cdfb3e8d375645c50e8bd10cece4b1a072a114e620493e2457a19ae460b85c273b9ad551c20ad59fbb9e7f35504d6a346add
# Deterministic Sig: 30818402406b1134ec5692378976ae97708c3faa0166f18cb2d55a7bf0449e28e0c3641f8a22d49d1fb2bd0bd1b34560e01afd1eab2526c4bcd4c98ddd02fccfef5a57bfda02404ac314489493bd205d8abb8e9992b0a67a3af9fc62349620ec969202044e1ccf00aed5b500c93c3efb590ab59da62f94bc68b229895976a490554fb782c51e79
# c2pnb163v1 (named_curve, compressed public point)
# c2pnb163v2 (named_curve, compressed public point)
# c2pnb163v3 (named_curve, compressed public point)
# c2pnb176v1 (named_curve, compressed public point)
# c2pnb208w1 (named_curve, compressed public point)
# c2pnb272w1 (named_curve, compressed public point)
# c2pnb304w1 (named_curve, compressed public point)
# c2pnb368w1 (named_curve, compressed public point)
# c2tnb191v1 (named_curve, compressed public point)
# c2tnb191v2 (named_curve, compressed public point)
# c2tnb191v3 (named_curve, compressed public point)
# c2tnb239v1 (named_curve, compressed public point)
# c2tnb239v2 (named_curve, compressed public point)
# c2tnb239v3 (named_curve, compressed public point)
# c2tnb359v1 (named_curve, compressed public point)
# c2tnb431r1 (named_curve, compressed public point)
# prime192v1 (named_curve, compressed public point)
# Random Sig: 3035021900bfb0dcc108944721944b48f48b7d679dc23b47299b1add26021822e7147bf04e1836db78d5aa5a3cc38c70b97e076b031603
# Deterministic Sig: 303402187a48959e9466554911769c6aa30c6df2e43583a676992c2b02184bfa7930fbd891b889cea074253b849d9fa85c51fb219812
# prime192v2 (named_curve, compressed public point)
# Random Sig: 3035021900a95cd0dcfc466f52c679c6932b586113cae91c195bddd7e0021824364d792999dd59da7a4d94119be4e5b778e1f021dad095
# Deterministic Sig: 3034021825dfb576014b89847850db1123695eb930c5374f429a920a02186dce7176baa32e4a64bf017e68e29eb180144f28d7bdd54a
# prime192v3 (named_curve, compressed public point)
# Random Sig: 303502190080d4c41a77778dfe9471702efbc5bb9c6b35f9594583294302180c5bb221b8351a37930d5a451be9690246124a8d01e177b5
# Deterministic Sig: 3035021900cf44d85d1f1bf113eb2c53e5221cbe8c4550feb8b015fe3002186a4efd00fceaca0df09a9bdbbce7ddff75509f7212948003
# prime239v1 (named_curve, compressed public point)
# Random Sig: 3040021e7a678d09ed46701eabfbc4a1699323b26c312618b4a33dfdcb3b88391a50021e1224f586ed138ef03e5179ee5767b4c27b21e21378adc65f1d2222642953
# Deterministic Sig: 3040021e5e63453a61738f72222f6fff955c06f3cdb5e1747ccf906996970968a77a021e43af2e8c2520439b05728dc19d78cb67dcb3796e81c534d9456625a0fba3
# prime239v2 (named_curve, compressed public point)
# Random Sig: 3040021e7bc60d09e81d4ab4dd932cfaccb9cc3524f259eff5fb3143bd7f39a6e6a7021e3843e263644967c263b4f8a4a542d3410321a392bea88d83ee2268e0e156
# Deterministic Sig: 3040021e7ba15876f29777c7eec359e2ae59cf663baa9c2de2b4505d426717baa84a021e252b27fc321a0f8b44450ba30d30d7f41efeb95d7b1d4ab572ca76394c2c
# prime239v3 (named_curve, compressed public point)
# Random Sig: 3040021e1a3f8203f3673a13cd1b7ad7edc81a9b70ebf5047140ad844d42edd20445021e4d5eaec9872f29b3affc106da62eda03d3e7121b9ac6b1912c457966d387
# Deterministic Sig: 3040021e0e661c2469986382d9ecf51e48a224a46793ddc89144af6ed5f6ca5aa901021e01c0b2237c37d10c866d70fb9718f92796297fb9e0f0c987944e3b30873c
# prime256v1 (named_curve, compressed public point)
# Random Sig: 30440220266a228c4b7bff7bc5423b04836f32bfb8cae2f6b22f0f5fa13c95dfce9f984402207679685a20463d2e59cd0784a9e6ff0159cc67120fd360038562b3238509ad6c
# Deterministic Sig: 3044022034ab4b4415723f64bc1c18e37899b330beeddf21125432e5b19a6729abf8ccd702200dd861e38c3ae24402cfb9486926510422f632fb6f7158367b976c5e356bdb6c
# secp112r1 (named_curve, compressed public point)
# secp112r2 (named_curve, compressed public point)
# secp128r1 (named_curve, compressed public point)
# secp128r2 (named_curve, compressed public point)
# secp160k1 (named_curve, compressed public point)
# Random Sig: 302c02144409fc5c1cc0371a66c5aa8c87a6ace9f9295ba402146b440459027d7b3140191d2ce3dab01dbf4519de
# Deterministic Sig: 302e02150087a4e08be08fa73e7f6c7dfda9c74ec47aae9363021500a4af857b5419a405f25f2b3a4785592ae086bd1a
# secp160r1 (named_curve, compressed public point)
# Random Sig: 302e021500eca410c2bfcbb9a0c2b8c1b83b4741808bb1690d021500adbc1ea43f61c87cec9d9415ad66320b768996ac
# Deterministic Sig: 302c0214550729ccef3b2fc3dfb7d0c0cee2bd92bc3d9133021403bf9022eb70c45697b9d69b7f45a75e308cb621
# secp160r2 (named_curve, compressed public point)
# Random Sig: 302d021500e3aa343f349cc03759fbb66bda6c6f97dd5694dc02143927145f160a508f00fd9caa5c898c97f88834c9
# Deterministic Sig: 302c02140a797f9cc199739b07f8a4345d622451331659e6021456f3b8fc238e1a9e8dc0b403554e6ef3a84a3b9a
# secp192k1 (named_curve, compressed public point)
# Random Sig: 3034021810ac3ccca82836caf707e57bd0547e878d8b6c3821f55a0f021857943306cb84a5c8e675653a46572f71b72a5a2fdd9dd317
# Deterministic Sig: 3036021900a5f8301a8893ec8dc1e6b9547946280ac52f58ec99009730021900a090746e303d82f5ace3dfd821b41d7f6c32086b7d05508b
# secp224k1 (named_curve, compressed public point)
# Random Sig: 303d021d009b374efefbec0dbd304617fbd2d9b72cbaea7e60c63f88d45c071797021c78d3e15b11a0d6042b3ad55c2ceabce06d9355d0e6835a3c47a4b7c8
# Deterministic Sig: 303c021c698ab22c66a56c706fe792579ce1f4734035acf5047a885260629991021c21083d6011cad597059d96337163a8a18d2196dbe0681415ee685b07
# secp224r1 (named_curve, compressed public point)
# Random Sig: 303d021c7d5a8b24128e0e718092b0d0f10aed3ea85ddb53a580bed981d08715021d00ac55a04f70ed942d79b4507713e12859b8785c28e33d5d9a78b5b9ec
# Deterministic Sig: 303d021c58212a2da5e0f964e8202717b22d0b2ab7f173700b77ee0e901fe93f021d00b9e5fb541075c9d3e6b99b99dba07b1a0baa50f7c33e37d4d8588909
# secp256k1 (named_curve, compressed public point)
# Random Sig: 3045022100b83ff77b9a699e2338c2ef7cb175d0dcc21ccd75a42d643e458b55936cdf071b022010be0e248d4b29adfb5a28ea86e86e023dbf7da9ee102b28f97cdb33845b8cc3
# Deterministic Sig: 3045022100dff3aeb7d763143f51e21b7457bf7e25d995c037fd32f81cb18b835de9d61fb80220025d39d09b5c25c5e3a50824a6fcbbece27409a7ff88fba8ffc56c915be9cead
# secp384r1 (named_curve, compressed public point)
# Random Sig: 306502310093706f6fbbe077fe8dd1d8c8de4278cf57c07071fd3dbece46f03beca1821c46036b00657fbf7dac8ae23df468497b0c023059aabc8ed6004e16a9e55a9acdc140ae99daf6b32fe6272e260a90d4112796db64f20a4b073c91dc8a7d05d84b28afbc
# Deterministic Sig: 3064023014dda9602b88d19a221606b03588653a57babd1f8fc10af3123459f443c3fff366e169d3ad5364822ace3186055bceb902306eafb27931665b67355abe43b481bfd99bd4b05756f99190f89d18aac64ee0c80213eeb2422ea3bf29594d1af660b03e
# secp521r1 (named_curve, compressed public point)
# Random Sig: 30818702410e544d8d304723dc9e4d60a40d7659eabf74ece7c1b5de4ca0e6c802d2f9e1700809fc4b9aa84a968aa10243d7d2fe7e62d2f5ee52f722abd617199c249b4122e80242011f3af5abe98874292db84a06e11b8b6db961da6f679cf7809052aafcd5ae54c035cc6720025c58ab9cdf093778ddbd238b20cfdddbc3e1f9372c9724660a3a2ae1
# Deterministic Sig: 308188024200939a165cd70b21493decc6fff9f193ffb2293c1c809c99d140b8cb667f95be6c5c2c520e06d9e2286b0a8b4db5b20bd50c9f56e553a78e3fb4fd5b360d18e3b587024200d74c51ead7abdac62331c625cac3dcb6128b23ac9b3fa624b7acb76ba005247487821dd8c8421ff758980d65c1c80358aea409bde5762aa19ed9699b000bdb05c2
# sect113r1 (named_curve, compressed public point)
# sect113r2 (named_curve, compressed public point)
# sect131r1 (named_curve, compressed public point)
# sect131r2 (named_curve, compressed public point)
# sect163k1 (named_curve, compressed public point)
# sect163r1 (named_curve, compressed public point)
# sect163r2 (named_curve, compressed public point)
# sect193r1 (named_curve, compressed public point)
# sect193r2 (named_curve, compressed public point)
# sect233k1 (named_curve, compressed public point)
# sect233r1 (named_curve, compressed public point)
# sect239k1 (named_curve, compressed public point)
# sect283k1 (named_curve, compressed public point)
# sect283r1 (named_curve, compressed public point)
# sect409k1 (named_curve, compressed public point)
# sect409r1 (named_curve, compressed public point)
# sect571k1 (named_curve, compressed public point)
# sect571r1 (named_curve, compressed public point)
# wap-wsg-idm-ecid-wtls1 (named_curve, compressed public point)
# wap-wsg-idm-ecid-wtls10 (named_curve, compressed public point)
# wap-wsg-idm-ecid-wtls11 (named_curve, compressed public point)
# wap-wsg-idm-ecid-wtls12 (named_curve, compressed public point)
# Random Sig: 303e021d00912c0a2ed925be73e98e0f1f7e0c7721648f767045426c96ec3eab4d021d00d416023371d580ee232c22ab25d0775e9dd9e25587a5f67e9b6e2805
# Deterministic Sig: 303d021c741810313270ee13aaca9d044cb2fc310b06699fb3a1cfc7fa419674021d00f5532575fbc5f432b796bfb3ee5b1bdc35947698f90c166683b80925
# wap-wsg-idm-ecid-wtls3 (named_curve, compressed public point)
# wap-wsg-idm-ecid-wtls4 (named_curve, compressed public point)
# wap-wsg-idm-ecid-wtls5 (named_curve, compressed public point)
# wap-wsg-idm-ecid-wtls6 (named_curve, compressed public point)
# wap-wsg-idm-ecid-wtls7 (named_curve, compressed public point)
# Random Sig: 302d021500d8f3686aa5719525bd9a7e9fdfba17edb61bc595021404ca49abc0acc797a568b6c31104fe04f264ade1
# Deterministic Sig: 302e021500bf37d1c46609642330b5d1ca7aaf6ace89445f99021500f149c70f43b5504649f6ef0e9b5526771eee92ba
# wap-wsg-idm-ecid-wtls8 (named_curve, compressed public point)
# wap-wsg-idm-ecid-wtls9 (named_curve, compressed public point)
# Random Sig: 302e021500fe174d89501a41c3d1c37a82bb72e9c06bca3aaa021500f1578812b7310e68572d1619362f1742d8bacbb4
# Deterministic Sig: 302c021404f08a95e6910f03d87df382fee16ce83b9fd7a6021431a537e92377f8b4314094016a16e87f7db74b7f
# brainpoolP160r1 (named_curve, uncompressed public point)
# Random Sig: 302e021500ac3522f4151ef9c9df1b8ddfde7ac607ab89703a021500e67224d9d0932db788d48e33f710706049aeb212
# Deterministic Sig: 302d021500ad4409219861ae167fd1f31e2371c9a562135ca902141a02f8dbfe70829b25ef62e778df5167008d1c0c
# brainpoolP160t1 (named_curve, uncompressed public point)
# Random Sig: 302c021452dffb314d2339c69b797540ee0f0f4e0af8d43002146dc338ceb0678e7397aa658a97b47935a23bc007
# Deterministic Sig: 302e021500dc045a1f7a9e3e5d0951450c667c22e88d845749021500e5ef938e6b44ae23324a06ebfc42f84ff2ef946c
# brainpoolP192r1 (named_curve, uncompressed public point)
# Random Sig: 30350219008d8558b8462aaa6541dff613b0ed5c091798c83fb1204ea802180ee2996fdec692c8f8532fbb1cb072256eb779eb315ce562
# Deterministic Sig: 303402186b8b51a40b192a4b65ebc7b13f5919747fa7af58a9ca8982021806414bb3cf66e8fb4ef935613186a8f94c97104939a58c92
# brainpoolP192t1 (named_curve, uncompressed public point)
# Random Sig: 3036021900ad0614d533e24a07e00ee8086acbbdd10744d8d1fd56a229021900838b15fa96bbf9dc8ffb28386a0bed86dd038b3dddb55bc6
# Deterministic Sig: 3035021869de804e0d7e723314d6df0c2a301117382723f98851b1ec021900b2cf03e059d1ab0699d0ae5a20032162a4f31afc339a1d40
# brainpoolP224r1 (named_curve, uncompressed public point)
# Random Sig: 303d021d00ca88f82997f873a8146558e36c4500efd7867fce4ee457a94ec17609021c32aeba45f4ff00ef192a17059cbc8ee0d88129e4710bbd7e83c4d4ad
# Deterministic Sig: 303d021d00a35a5e2c89c99ce732942ef0b6313f5698635798c59cce8330b82d6f021c0e798a75b32efc0d7f19643f0f7d66d227d4d2a080c01b654fef5170
# brainpoolP224t1 (named_curve, uncompressed public point)
# Random Sig: 303c021c281cc6d4f0991a796ef91d98c45da4eb40efef8a759c18333b4330b5021c2ad3086f1b5103bfa35780ada4d72b281844efbb57aea7a60a1e1b92
# Deterministic Sig: 303c021c1e7eafbc9f133e7d353a4ecf38ef52a065797f67b85767f191ba852f021c6c47a1bdc25e3c1162ebf858d4e8a4ac130989e29f3e8da27b5a812f
# brainpoolP256r1 (named_curve, uncompressed public point)
# Random Sig: 30460221008468193f8f93b3dce06fd78dabfd286cc292e139fd4224a9ffbeb9207b5a4bb3022100a076fb0f6e7f6a00229e81770ff9b8903f13107f0baee0314c79050b4b081d5d
# Deterministic Sig: 304502210082ad92872c3ba609cd6ab997070c6ca878cdb411d704bc0ba96d684294d2a75602201fefdc6220d519d861e178349c9664e1090f1e2abae7b839a25a400a49e39b39
# brainpoolP256t1 (named_curve, uncompressed public point)
# Random Sig: 3045022100a54fdf432e5e15e6209a94d9adba41c30d221173125b0d36c6ed67113c342bd402201e743e8ce8f775623ad4e2ea6e0a0c4689f135339b5afbda905798ee16021cad
# Deterministic Sig: 304402202e3a083b9b964655e5326ee5c9e35c4b9278806cbe2b41f07bf4edf44f5c1004022055b412193e96570876b0d49ed67af9ff0376253c82b2abc255a3e71c97923de3
# brainpoolP320r1 (named_curve, uncompressed public point)
# Random Sig: 3055022900d15fc755252f8dea933a7a0dcfec79810f12c0ba597224e8f85558bc4dfe0fbd0c8b25ee0da1253702282bf5f8b6ccefd6ffa9a3d2a99b481dc713ccc6d0d82f91948031a9ea2e414a0dd9fe831ba8a2e837
# Deterministic Sig: 305502286d8df53c97b5cb9adfe055742eaa826abeb92022df2c3487219c965daa7e1d478c78c8979691d32d022900d0bf1a3299a8d0d342e22fa214a951f86489961b6120b7900f0955d66fa29e9f0751ec83006e5fb0
# brainpoolP320t1 (named_curve, uncompressed public point)
# Random Sig: 3055022900aa7d05b783bfdf4d4848b27249ae2e51cb57939911d2fe3b2df02ec38e213fca31f036ecddb6ec0902281e48e9f221c9216eadd2c7400a5bf02ad9dbd23b5592eca74d56e0056ea7cc0911169656b23b5b51
# Deterministic Sig: 3054022845569b47a182c932e05e67fac41fc0b625801c55275e95ccebadedf8698dd3ef5c8be0b31df9c25b02286673d5d1e439464e1f3bfdfc8ab80a0314369c05dc0d09f918d086233ffaf9ac20bf7f87e4117e48
# brainpoolP384r1 (named_curve, uncompressed public point)
# Random Sig: 3064023076488ccb72a48cfb8d15c30a8240e192ed676a0d6a850389aa4dfbd38a7e7c15adbb5ed08cb2ae6a284f6f55aac21810023038a4108bf4bd2d419ebe17b8e096c7b65a278968e7fa604b9421676bd0529b51720af9d8c076fffb9b2f797ef8548ae7
# Deterministic Sig: 306402307c5f681c6a399e19d29dd356f5c65c8dcf8e587923fd34d3e9339127cec2f9ff5baa5e114ea68ab1144fa3faeebceffb0230785cdf5d21d5ef482e64807a19018abadc9753874c328581049496bafa9e9fc4acdd2e47a5e8d6ebe587a3391f7892ad
# brainpoolP384t1 (named_curve, uncompressed public point)
# Random Sig: 30640230786455ba2b9e7de33ba97e0c1aeff9ef3c00103d6d422f4113e7857f388dd97985e9f3600f9bd46d53bc29e6113d69ff02306b8067aa50ed4f0af739cdef7a7453b6d40fac017705f3b7129fed7d12c9eb136c83fc109393da38696b6d8176f5de90
# Deterministic Sig: 3064023062b8cd0e5daaf1044d0a843a93d189151ed4eba1e76e1080728a0f3bf2fb1263e57f27ca5979fd8c48eec7ab3bdbccce02307587ced144a09947304e09cafcf4c574a4f1b7e6a5b6341ccd9a14d84135366636f8e1a6037f6b8c82c7b0ed83eac84a
# brainpoolP512r1 (named_curve, uncompressed public point)
# Random Sig: 3081860241008204dd114d721df01b26e1f2b72ebdebef45e70600e545cfbff1e4965c0010eeb4059de07788af3ee190e2cbf0061b0aee8551f44f8fe45e36ed691695b570b402410080abd4fe71223b5e8a60f4bbcaa74e0df47d22788c3d31e705e1bdf5044f00c458fd51f78f05e863171d71531cc49cf49b5d8db970140e3b0482e08398345452
# Deterministic Sig: 308184024038fd7a3e4a6dea3ff5cef63001e8ac3389e4dbf284714771ac3f6a5abc107c0d5fa3881dee3bceeee19d85c98bdb9a697140f9b15dac0e6e9f3ae63e622e9652024024162e3f71e9ddf90d749df13e1731de19dcbacd0e51f240dd8491941c878ab05e1e825119b2f6083583c414d66ca53741d8b0e379cb1a1a31c142d0b3e32d30
# brainpoolP512t1 (named_curve, uncompressed public point)
# Random Sig: 30818402407f1d6bfb51d63ed37541d64dc953f66d727bb51eab84eb05ee973edd94a646de642914cd4acc9e9f56317ef6ec763ff7ebe26d4125073e5576a39a53f868ada40240415c844f02114e9099472bb6029063ba155f78c1017613fafb5d257dc22f1e004e5458923279fee262a3fce797f9805401976f2df27b4f11bbd122ecdffd8701
# Deterministic Sig: 308184024059ebfe6bc5450f428df252e6e1fd768fffd1980bf9135594487e7c4fc3b2c4ee724b2bf3cf28afdd01d2318f3f740a7093884d6cccaf1857ab89d2654130aaa40240755f2d39903ee57fe0b8c37a81623aad81ab36e544d226a92e79e50b18fc67e834b7213640fa1181f356d70e57da6449e13f8acfae00a9a11283c495fadfc7f2
# c2pnb163v1 (named_curve, uncompressed public point)
# c2pnb163v2 (named_curve, uncompressed public point)
# c2pnb163v3 (named_curve, uncompressed public point)
# c2pnb176v1 (named_curve, uncompressed public point)
# c2pnb208w1 (named_curve, uncompressed public point)
# c2pnb272w1 (named_curve, uncompressed public point)
# c2pnb304w1 (named_curve, uncompressed public point)
# c2pnb368w1 (named_curve, uncompressed public point)
# c2tnb191v1 (named_curve, uncompressed public point)
# c2tnb191v2 (named_curve, uncompressed public point)
# c2tnb191v3 (named_curve, uncompressed public point)
# c2tnb239v1 (named_curve, uncompressed public point)
# c2tnb239v2 (named_curve, uncompressed public point)
# c2tnb239v3 (named_curve, uncompressed public point)
# c2tnb359v1 (named_curve, uncompressed public point)
# c2tnb431r1 (named_curve, uncompressed public point)
# prime192v1 (named_curve, uncompressed public point)
# Random Sig: 3035021837403f44423f57237fec9d2dd91cf2d99498e5b5555969ee02190095d1e9528d7e05f72bfde010f064de4722fa5899444d3cad
# Deterministic Sig: 3035021900fb2619c14ca559d8713c32cfddcb21bdd49050deffb774b402180fad45c1f0409ea454a305c0e02a27818742121a09424fb9
# prime192v2 (named_curve, uncompressed public point)
# Random Sig: 30360219008a4e2cd11caf033a3d57f36bb6321421214871a9ddeafe26021900e3eea272a76c64877c38cbe787d7af4c252d0655cac16726
# Deterministic Sig: 3035021900ce3a4336a947460d61629c897529c7b7f3bdab3be20b2f1002180522e9c827633270df797bc5bd58f752a4177f525eb82b12
# prime192v3 (named_curve, uncompressed public point)
# Random Sig: 3036021900b671343231387aad38a5bff61973d0592823dfa277c6d6870219009b5ace6a377804991be862fc3f97a693e070c81eb14942af
# Deterministic Sig: 3036021900e6a6e339c1a262bd92e53eaf611e18f7d0c16b3b3ee576ee0219009cb444c33a20aac160075149241886cdbeb7964e28c12d95
# prime239v1 (named_curve, uncompressed public point)
# Random Sig: 3040021e4d243fd40718b2671e493fcd62d4b9f4eb003e0b58dae76eae88cc94283b021e0bde4a66ded805e96c93a54522f5632b7ed15f1ee12d134baa5f370934a3
# Deterministic Sig: 3040021e4487592687d6e1604392c1fca2df0c6d3a8afcd2da6f88e07fc4fbccc03b021e10d1c33075fb07f6c5100d1528134889e449a32f2471da7ac1e66b053db5
# prime239v2 (named_curve, uncompressed public point)
# Random Sig: 3040021e31a851f6abf496a26fe7e302f47a593dc4c9a27ec2f3a427f3af97ec0a80021e5849bea0eb81647fc5787701c3e2feb7260759561c36d33d03933927d8bb
# Deterministic Sig: 3040021e33b886d79957d7195f3e815c2fa7ff0486b2bfee0f08ddffc524d16846a2021e12bdb92ffd037e52e1f7ec306d3dbb48a64a4a5c941866c83076e536c483
# prime239v3 (named_curve, uncompressed public point)
# Random Sig: 3040021e3a967759f211729de597bd68e8c71eacaba9fe5606974bd823d4d34de86a021e5cbf08fb5dc25f6276e23c69f2c28b4186bc0ed01d1b253925266ecce198
# Deterministic Sig: 3040021e00dbff7c8b97e976430736d74cc55e4fefd8491181cde6e7ab1c6793a3ac021e077e1a678d5ec0b362eebb35be7cb0382a9aca7b9c4b4a607b658397c16e
# prime256v1 (named_curve, uncompressed public point)
# Random Sig: 304502205ec32b0bf3428374699fcf2d929217e5ee06dc947bf1028b649540966500291502210082f1824569ff3e00d8970d832342d075f9d931546b2a0e07807d877e7ba42b41
# Deterministic Sig: 304502210091e6ec45190afb5028a5dd6746d89fe0218d1ed77d8231667928fe1a68477c5b02201c2413816c9005f485b5d798c9c445dd5ce29eb0d9ed25caf6f16b0a20ba80dd
# secp112r1 (named_curve, uncompressed public point)
# secp112r2 (named_curve, uncompressed public point)
# secp128r1 (named_curve, uncompressed public point)
# secp128r2 (named_curve, uncompressed public point)
# secp160k1 (named_curve, uncompressed public point)
# Random Sig: 302d02147ce35a898f3e08192ac5418e740713126822bd7902150094e1b0cebb1b8b4f3b6466163a5b47f89b660971
# Deterministic Sig: 302d021500a1a160ac784d97e6bd541804c82231c67e8b835d02146ce13d75aed8d854dd667efc9f609d1ee972867c
# secp160r1 (named_curve, uncompressed public point)
# Random Sig: 302e0215009e23bd0e1a0a63a9cedd099300f97d96c2a88031021500cfa04e7b9a84a81cdcd8a904755f437bf69eff6b
# Deterministic Sig: 302c0214050cf5f6edf828ca251e310899cc317247f14b3a021456728e6235d3153107abcfcac7e221948a81acbd
# secp160r2 (named_curve, uncompressed public point)
# Random Sig: 302d02144f83f853d692e1a283fa85bb14964c972ff01658021500bcb086e56f44808f5003cc08468b886c1e08e31f
# Deterministic Sig: 302d021500bff81bdea7d3217f02bf593ce0640b440cc8f4e702147ac45d493d1e6c8793c277f5ee9564bfed99f99d
# secp192k1 (named_curve, uncompressed public point)
# Random Sig: 303502184e8fd8c71f23ac3acca4f822628d01f61ba308a4878c31f9021900f78d42439e1504284fb1a863cc58e25ccbe8018cb3c7584b
# Deterministic Sig: 30350219008cd92c9317096e3e27212e73b23e6eaaa05dc14b4d5c965a021806227e115e10bb9f916072150efcfb412cca1ca3803f075c
# secp224k1 (named_curve, uncompressed public point)
# Random Sig: 303c021c1e7515cce9f92a31470d8335efb2fbb11bf25363bd275b70776df9fc021c4954edde868c530dc442ae9a32e43560de6e181dd7d3d41054704835
# Deterministic Sig: 303d021d00ac41d4d049b158b9152e01b10bd6e46a90d4d5c1f59d3a899e5e47e4021c01395ecf91bfb76d18f6474c8d89c73ff2f1cc144deb4e0ef6458c88
# secp224r1 (named_curve, uncompressed public point)
# Random Sig: 303c021c0b24cf60ce359d3027d4991a02ef7a49828287141673ec8e010a0e86021c44b22612f9e32f7350ac196610a5e71602d1c34b5391a17d22f9b209
# Deterministic Sig: 303c021c42c4e61fd6af00f6b2ccf6d3e33ae9f6d0850ce807210b381fc5718a021c3a1d875cd5bb6d3e5116b457952b679677c6a83419262466cb5938c1
# secp256k1 (named_curve, uncompressed public point)
# Random Sig: 304502200290c2ae17dc49bcb9c70a6380992dc7ed356ee3de1491b7deccb19f31f7a7a5022100df2871cde1a8a9440944eb39f31562ff470e155975e8c3e7cded20bd25b14917
# Deterministic Sig: 3045022014b9c1ada93bf4361b86b669ec674b0d0e3ad5d412fba0f0aedb65f5b0a28f91022100d23bbe114bdc88822fe3f55287181a6f82893788469bde1cca08f076ddc37a2a
# secp384r1 (named_curve, uncompressed public point)
# Random Sig: 306502300e329d5bd96c611aa744100e93607ad7db2a75a2ba49dc07198d7bc218444ada49707a8bc78c2441cf55c15044fee01a023100a2fc2f6d67fb78e3bfc8777c91a8e51ad1ac2e3d2ca64a8d8ab54c73f890839037cd3ce849cee533a18c657f293fcf8a
# Deterministic Sig: 3064023018bd8b03bcf652ef29a846861b284aa4beaf04fc8863f839b89f5d6edda13ee9b8c8b26672cdfaab16943d6c548f80510230632abce93567508a47063e21ed028c96a0d47eeeb4f1b4f349b3c84abc3c4f93f0d813523e8a37fd103369d8b9f264f6
# secp521r1 (named_curve, uncompressed public point)
# Random Sig: 30818802420090222b0fc0e7d2a858d9e77dec3121bd3b52ba0774ab0f434d924655f9961471d403fee27af2308dbb10df481a4d9b2924661fe2a15865ec2d966206eb53ae046a024200cd0329b7bc52902a1158565cfd21b9f311b9c7f87364ef9b008c6eee6788fde2a6f23f3807b82a091a9ad1cbe825b67d9348588080475868bfcf1db11834517515
# Deterministic Sig: 308186024162edf5854da7dcf4d2eaaf84fdfc87c8e7def80cc83e5644b79dab0f25f2f88a710ef64c5cf2947b400656cd2e841a2b76b03216cacd9e6acdc50bff70f9d44d6f024127f2394b8db1b2c8b07b1d2963f669e42a38ea0d9ab8669e8a2f99b14f1e29efbacfae5701c3356f0c348b1a37dbafd4c0c89a1a69e750c85483fff36a16352949
# sect113r1 (named_curve, uncompressed public point)
# sect113r2 (named_curve, uncompressed public point)
# sect131r1 (named_curve, uncompressed public point)
# sect131r2 (named_curve, uncompressed public point)
# sect163k1 (named_curve, uncompressed public point)
# sect163r1 (named_curve, uncompressed public point)
# sect163r2 (named_curve, uncompressed public point)
# sect193r1 (named_curve, uncompressed public point)
# sect193r2 (named_curve, uncompressed public point)
# sect233k1 (named_curve, uncompressed public point)
# sect233r1 (named_curve, uncompressed public point)
# sect239k1 (named_curve, uncompressed public point)
# sect283k1 (named_curve, uncompressed public point)
# sect283r1 (named_curve, uncompressed public point)
# sect409k1 (named_curve, uncompressed public point)
# sect409r1 (named_curve, uncompressed public point)
# sect571k1 (named_curve, uncompressed public point)
# sect571r1 (named_curve, uncompressed public point)
# wap-wsg-idm-ecid-wtls1 (named_curve, uncompressed public point)
# wap-wsg-idm-ecid-wtls10 (named_curve, uncompressed public point)
# wap-wsg-idm-ecid-wtls11 (named_curve, uncompressed public point)
# wap-wsg-idm-ecid-wtls12 (named_curve, uncompressed public point)
# Random Sig: 303e021d00e6e7dcb1cfe7e993fc5fa1dfc8b263012501081237e16254b583d37f021d008c9795698604997068ffa3602eec80b66439a6a789aa432037ed2e43
# Deterministic Sig: 303c021c279c4c4472a20c56fd2974169791f77b4ec6191b34456c79ab1cff23021c2eda2d8fbd3906a4cd03f06f93a5ab8b16900cd9846008390a5d8197
# wap-wsg-idm-ecid-wtls3 (named_curve, uncompressed public point)
# wap-wsg-idm-ecid-wtls4 (named_curve, uncompressed public point)
# wap-wsg-idm-ecid-wtls5 (named_curve, uncompressed public point)
# wap-wsg-idm-ecid-wtls6 (named_curve, uncompressed public point)
# wap-wsg-idm-ecid-wtls7 (named_curve, uncompressed public point)
# Random Sig: 302d021428e5232e60674284ae064f3b5f8a916237c5d059021500a36510d2b0ddbc6423d5f2a59af8ca728d528f22
# Deterministic Sig: 302c021430727ec16c74e006b9cc9610c5584bd571e4921502144d26f3ad2cbe7fa2111cfbc18f10a52babe6ad93
# wap-wsg-idm-ecid-wtls8 (named_curve, uncompressed public point)
# wap-wsg-idm-ecid-wtls9 (named_curve, uncompressed public point)
# Random Sig: 302c021458963435d30f353a74eafa7d531445a242331bb702144aee64b0a3f575929a532748fb9d599dda89210b
# Deterministic Sig: 302e021500d6027519d1f9801163f5e7a96c1178cbc735cd37021500df2b56acacc92f3e3295ee620b743deacd1a896a
# brainpoolP160r1 (named_curve, hybrid public point)
# Random Sig: 302c0214265cdc230c3536eebe70dcd2b7811e6ba803e52b02146698192600b0f634e1131c1669492367c1b2b6a2
# Deterministic Sig: 302e021500849d8c80a5a86caf871f5a3f2bab893dbc432c5a021500906d94fe7eceef7197bac63d8a882102b168b1d1
# brainpoolP160t1 (named_curve, hybrid public point)
# Random Sig: 302c0214121266a528a6ad20ddc281099aae10d2db5a606a0214477975f432370d418d28a6a5cc93f6306460cd72
# Deterministic Sig: 302d021500c059101d128256bee4952b940cda93313f4106b202145a8c313370e85b4787fb71620a01a15d3ab7941f
# brainpoolP192r1 (named_curve, hybrid public point)
# Random Sig: 3034021841a24b2064476b3f130255b4b1d9b10ef19f6b8f12e9e5820218640471a9ac861c04e27098adc0d32a6102b4d23938301ea6
# Deterministic Sig: 303402182f4633a5b85d1696f148d977f8a555a1700443103ad1575f021825f4ddcf07dfe2f48aaa7abda82ba1b7a1b3903b85ed35ed
# brainpoolP192t1 (named_curve, hybrid public point)
# Random Sig: 3036021900c13dd9b8a6388ec930179dfefb5a4deba97b91a5cb83f365021900be7ecf2fc839d166b349a2b262fccacdc1dacab59ffb0c0b
# Deterministic Sig: 303502186df5e129afe40a7ce549f2742de29bcbdc4331c1b3ae3b86021900867f9899591432e13019c12f590ca97e2a553d066bfeda6b
# brainpoolP224r1 (named_curve, hybrid public point)
# Random Sig: 303d021c450b27842e4bc36fe3d42aa8bb3994429a2cefd125519c520232937a021d009a1ef1d791c2892ba7a0905120dc204b0fe9cd14ae600c6f332a4596
# Deterministic Sig: 303c021c0de3a0467030a701d968fc42aeedff4f97dbb6036899b0a493985421021c43ee9c2d60009a0222aa871551412b014c25dd54350a7b326741bc90
# brainpoolP224t1 (named_curve, hybrid public point)
# Random Sig: 303c021c32accae5f942fafb786bdbd066471737d87254639f26d95f7c68bbe0021c54275e9a8b4d13603542ff6d4c774f8142757e58e76ef1c7503ec4f7
# Deterministic Sig: 303c021c01fa70fb52696a1fe5cdddeb43c18af0caa00dfe7739aa931e2f2dab021c43f9e6062966602883c5dda6af540babd54d444294f7c25563e67e94
# brainpoolP256r1 (named_curve, hybrid public point)
# Random Sig: 3044022079889009e79d73caf95305588bacb62c03c3cda18e60c3246849791454f6a863022020688f5bedb540930d0f14370f7a45214d0a8ddb6d4eed6d9cf0a7ecaf5dd590
# Deterministic Sig: 3044022070b86e512769d50ec7e9dcdb8d341aa4c09c2c928682d6575a9c6a81e5ed95a602205847bddffd6de2afb7e1df5514130b0231b46c707e47fd7002c8e2fa855c6182
# brainpoolP256t1 (named_curve, hybrid public point)
# Random Sig: 30440220532b55e61c330a619470ae85da1c6857f4474b9add66d4d717f201af5c0f4ebe022016a1b1f40b61b29b950771b3ec96b5394c08da17bfde036a1d029bbd42361d63
# Deterministic Sig: 304502202af9c75234c9c0fa122dd814a15c38d4a17cc243ef695f3cbb40b909e7c28e4702210082843a390cd6b1f1558d7ea1b58e727ac211615d63e4d5dcaa75ba32c0b29f25
# brainpoolP320r1 (named_curve, hybrid public point)
# Random Sig: 3055022900abc4d643b7b530f6e41bd102ce0fb92bd41f69302630df922272fcfced1da8e3f0b6194db62c7890022832f15dcbdb5d795b0eb6418115d65ce671e95558a8a82d505e22e6a9e0add501e90ec47c3968105d
# Deterministic Sig: 3056022900cf8960e9a833ccb48d7bd17af68cf66cc08fae3fd79cf115a4adf5a207eb491af02a8007d0c7300b02290087e61dfa7b541329447f5fd316899acee7718b13ac65bfb52bf9850c140a45bd433f34eb2b9a9c0d
# brainpoolP320t1 (named_curve, hybrid public point)
# Random Sig: 3055022900951933e9bc8451dc63c347fea4797157ee44431350ec6ebaf9b6ff083916c4819ece5acc027dce06022824f73fec3fce2db08521cdf8191b79a7cf0957c46611ba2df27affeaa225205b1e454a0fd26a6108
# Deterministic Sig: 3055022836b525871f7594297ba981018a0810ae32d5ff427cf78d63555e467f7b8b6e3f4aabc98d4a8bb296022900bccf51128705e913aace653fb43f3d4171b1af3d7ef98e9711019d9bb642ba355b192c24b3a82c3c
# brainpoolP384r1 (named_curve, hybrid public point)
# Random Sig: 306402301054ae42cdf6791e050b955ee91b8fe89a9b8251a8e57179bb8d4a62f7431b9ac6a5d3b1d36320843cc6f289679bb4d10230243d18824efb7278a1b3650df42eee3aa9f8391a9afb334f047ab05ab5ca7370564894b2262a79e143d1319ab2e4542e
# Deterministic Sig: 3064023018ff84e62accdc77ec79a7c3aff2090078e2be58e9e44cb019de433f90caf68f98b5bee5670ed486826f3cac989a4a7f023066cf12c389988a2e2518120aed2cc38579bd90b4829c4f7988c7ac01d6f101f02c51369b70f2ec3fa6976a034628f2b3
# brainpoolP384t1 (named_curve, hybrid public point)
# Random Sig: 306402301420945ecbbbd114df2e95c922ec5365ed12cdd888a3b2edb667ba73d8ab863ea2c6deee68a20f09edbd0ff937e2a7740230487f60df85f5dc118acd7e0a15314ec62236abe4ddff6ec6ba899d130c172053edc616a91711c2e1a2b2636dfc0debb2
# Deterministic Sig: 306402306523f891b1fe387c2dd21efd55e920c1d297c341e2fa7e52a7650706b948e605aeefa8a91d59a7da220a2bc9673a9d1f023040fd25f408df0158948c260d8a477cba3d52225fdbb67769bec759fbe1e73692f7b14494867bbe3be4fecc9facfa6f1c
# brainpoolP512r1 (named_curve, hybrid public point)
# Random Sig: 30818402400b51de10b04dd487f9cb3004ade004311501b24d16b80a6c92650f91e853dd4fdc8e1cf168c698d22376b7060d4e1fd95c8e61943ccd4903387fd548f0b7165b0240073235e5cb36a1f6812f85eb814d9b9c895b6b8da5c4f2747c5b6824da69f38827b6d115b6f00b1c74d5789fc53ffff64ec6c44e762af7e8b66055d681a83e5b
# Deterministic Sig: 308184024001ecf24f1e4a9bcd4ea107f527e42d6d3ae42a9154685f978faee82b5ae710aacc25abe068cba6996532f9f1c74c782cda40245787a05c13c44e38a527d024da024035153ce4c89a5109329ea906a1ae4d5bf7f15bff48d40c6272638e1e00782d3afd8a945392729a790954e40632f1bb64b8858877f8c20bc6bbd7a39a3490aa4d
# brainpoolP512t1 (named_curve, hybrid public point)
# Random Sig: 3081860241009fecf1fbebaf7de6250147788464c66d93f5da6d450916c008d8e7b7dce9e8bfeebc841fee04369b898b5a45a43ca7cb52ccc4ee9842a2fcb52f726b742f93bb0241009da9ad980fda22e939cc9501107f5f1a7a4dcc5f8e2904b22336a1461525a1d7e4c9fcc0c9a3c08493d03f47c246eadf96adb331ebf9e2e4c7e49cfe998d6a6a
# Deterministic Sig: 30818502404383a22408b9689d0b98ba33e7d2b737671c46f130f0c00a3cf1035eb2b22c626c1abc15b725c72a196b28bf4ef2b2a548a401da50d986f5ade923b91242f6c90241009f542de33adc9dbeb14ff814dbc524033e13f7dce9affc3279c956dddf12430dd049eec9510c794fd46c1aa6d4214ddea1f8962f3a3b0898449726e493af4bac
# c2pnb163v1 (named_curve, hybrid public point)
# c2pnb163v2 (named_curve, hybrid public point)
# c2pnb163v3 (named_curve, hybrid public point)
# c2pnb176v1 (named_curve, hybrid public point)
# c2pnb208w1 (named_curve, hybrid public point)
# c2pnb272w1 (named_curve, hybrid public point)
# c2pnb304w1 (named_curve, hybrid public point)
# c2pnb368w1 (named_curve, hybrid public point)
# c2tnb191v1 (named_curve, hybrid public point)
# c2tnb191v2 (named_curve, hybrid public point)
# c2tnb191v3 (named_curve, hybrid public point)
# c2tnb239v1 (named_curve, hybrid public point)
# c2tnb239v2 (named_curve, hybrid public point)
# c2tnb239v3 (named_curve, hybrid public point)
# c2tnb359v1 (named_curve, hybrid public point)
# c2tnb431r1 (named_curve, hybrid public point)
# prime192v1 (named_curve, hybrid public point)
# Random Sig: 3036021900ba1763a792b3a9187fcb48e01273b748c6b3936eef0917dc021900d2cf7a0b9466cc581e18da4e75207bab1d11f34d0e5521c2
# Deterministic Sig: 3035021829c1bc8a04151ca7b60c8cd04cc515118444efd5cc5bdd4a021900f1c8e5fa4f2de435c14c668554145dbc490c225c84769d0c
# prime192v2 (named_curve, hybrid public point)
# Random Sig: 30350218071bde4006f4a50ed9d661dd32a0cd344d292a85a9ba2fe2021900b0d0f38e21cd55d89b5e23eeb30982c544b644ded75e0be8
# Deterministic Sig: 3035021900ad25014d0b615ce514f3c65aaaf4860b9910c5062f161eae021805b8bdbf1c6752aebabaf19583361c3b491b9ad25b7b2a72
# prime192v3 (named_curve, hybrid public point)
# Random Sig: 3035021900d5535c45bbccd049e613fb55d6731b9be94ea3510f253c5f02186459ca90cd705259f3a33ee21e758b99c50e37743cb5dc52
# Deterministic Sig: 303602190084981f259c89525c42300834713f85a44f928ab6290553a9021900ed57c3a99e872257396c18184b73d6ce50648e4f1874ae5f
# prime239v1 (named_curve, hybrid public point)
# Random Sig: 3040021e1bed882433cedc11badf6f78b5e00724dc2140f9f3fe2436a59a13da9e3d021e55b6b4ebd97514e7172d3b74b7ede69d4de8f9ffc1adc7686f52e5255b15
# Deterministic Sig: 3040021e46d49ab9ed1ba38609c38a11cafadd5d6efe52bbd77640e3ccdb1f991056021e18394aacb5a9afff89a2bbbbbad7299c9e42348b43fca5a09ebd321f0533
# prime239v2 (named_curve, hybrid public point)
# Random Sig: 3040021e0f77c8f03bdcb23254066fd743b161d3a4b3874b1cb0f75fc8c9b8dc5ae8021e3093078b51054aa52343b655be8ed61ca71c332d7759e2d17520cbe23d0d
# Deterministic Sig: 3040021e1fae985481a830aa8773d56aced74951ba3b778bb8356b8799cd65055f11021e4980ea499277637269eed1b980aa633c7d68c4287186adb70a2f712f4e3a
# prime239v3 (named_curve, hybrid public point)
# Random Sig: 3040021e2e9b8707ee9f43cfcb3e56d877c417f11645183970479f83a8177827ab18021e672025f7452b66b04b7664b37a453a5674156cf8256ae4b68537b10f1952
# Deterministic Sig: 3040021e331c56522201b357be1014bb747d592e790a5b6182eba3fe61587154e633021e7c3eeb16ed763dc2ed25282fd41ac69940fc6437e5d93342a752e5d6f9de
# prime256v1 (named_curve, hybrid public point)
# Random Sig: 304602210097728327918e9315e848f4dd1cddd55e42175b34fbebeee65420f00851de376902210088e6f52600cf9aedf54c464c5e9bd6f12609c262a61e099d919c8db970650f40
# Deterministic Sig: 304402204aad7d55139d2da7716d266d44c5cb440db5d7d152aed3237a975843d76a75db022003e5df7a949faf3a5589d736322c679cc32ec9c29f7ac43b65ced1f07278b48d
# secp112r1 (named_curve, hybrid public point)
# secp112r2 (named_curve, hybrid public point)
# secp128r1 (named_curve, hybrid public point)
# secp128r2 (named_curve, hybrid public point)
# secp160k1 (named_curve, hybrid public point)
# Random Sig: 302e021500baa9697e04ef4580ccc0b77d131b88282dab0b45021500badf87ea3efdf315967096a88c6435600e809815
# Deterministic Sig: 302e021500a1dc831a8f7da4024253e5b2f7acb473afe5c9ef021500e4a674de2f3da9bbaaad5da56ab43b7638466e37
# secp160r1 (named_curve, hybrid public point)
# Random Sig: 302d021500a97d700e64178608c176b258026919e5cac3ab9f02146d96874c7b5837161bfae9b3ba64cc69bc681928
# Deterministic Sig: 302d02140d94bf302d10a3b0283b43faf1f5c1e9d5e4822f0215009bdf062c4803c78f2202d362b0b9c9c16ea8b679
# secp160r2 (named_curve, hybrid public point)
# Random Sig: 302d021500ad68226aee221dfc4df74d6c9122c30158f206cc021473c279c071d6d7786f0428e98da9af5a305d1932
# Deterministic Sig: 302d021412bf9174c7aae4f6c9ef8fde34dfe087b7448fc3021500d93e1e2ef1a914d15558ec6fc9e366613dc76c93
# secp192k1 (named_curve, hybrid public point)
# Random Sig: 303502182fd55bae444089d65356c9451c9ea8c23674d9b1eaaab11d021900a0bbcd92d1c2bcde074b8408d52809d5d21e2ebbaf7612b4
# Deterministic Sig: 3035021900c54aee715944a9b47700828dd753733f9840687cf12b91000218747131667aeda8d00fe7b8598cdf251d1761be7d7b5fd94d
# secp224k1 (named_curve, hybrid public point)
# Random Sig: 303d021d00b977f9fed8ff2429e2bfc754bf56b2692bda43806cd0d1f9cb29ce17021c0fdd85c6e58a56660e60c3724f49cbeb04f403461dfe4c2bbe1d6a59
# Deterministic Sig: 303e021d00ab9387452ffb54980ececf4d5640f95d0962d782bb073d8071d6fd5f021d0092e8dac1eca2abd277e4002daaa349cfa878552816ec667bc9789773
# secp224r1 (named_curve, hybrid public point)
# Random Sig: 303d021c2d1262785c5613a9b3a846b3fc5cd3392a0e80f783a437e7cf45cce9021d00d7ac90d82d4646df59c9c2e38397a4089229f2052fd4803b94d58fa6
# Deterministic Sig: 303e021d00a0614dcd1af3d94ac76eb99b2beca0ba8441c90666386c928934fa1c021d0081da122bfbe1377d42aea48651bf62f977378b0e6eb7bbd6e561bf5e
# secp256k1 (named_curve, hybrid public point)
# Random Sig: 3046022100939a034771f74382ee97fab659aa4c5d72f24af8f1e4f568db0aada1f600ae59022100b928ada3fd689830f389143d13a225802b316bbdc590f8950abe897dd9dffdf8
# Deterministic Sig: 30450221009e84a92a1925eb3ddae0b950cfb99cd73d2010ee59bc931b5b599275b195df5502205b7d5e1039dda944c1cdd809867ae08e77d95363e972b13e88551bc494a8a752
# secp384r1 (named_curve, hybrid public point)
# Random Sig: 306502302243684a965a308c647a5f8082df25e1ed7be484897c59fca4e342ecd6e8e77ae60896128c9c3efb337251d2e265aedb023100cc2666c384970d6dc36896944ea432f8ce3b252e55e935dafd24f595dbbf1ab86f463d477972331defe99eca6cdf5f41
# Deterministic Sig: 306502310093ac63c667d7d4565c58992fcbc159e368ec869ee7749bc34507c6c076cde9165499627c4235e017ca9e8dd8857514890230309aa3ade1944d504c40818bd2b4b7acdadb071dd13f62185d8d4d7e99b59b9c748325cf678a341454a818d5a62385db
# secp521r1 (named_curve, hybrid public point)
# Random Sig: 3081880242017364326207988f4cadec6a4c06d34fade605cc9bc2f772ae58eae5ffe0911c1c8b74f13eabcd67a9911519b93b150ef11869f84d8e7f3439e2c247b00c2ac9febc024201c7e8f293ca7770bd5a80490e9eeb7144fe465c7c56a93c7afd8cb4242458e170eb71233f90bdaf8f7768ab891256cb4d2e64c024661f68397eb1bd355546bad907
# Deterministic Sig: 30818802420134f113271fc892883d309ee041e61e71940e6fc7e89a23b4a9be21e02e19db6d1f990839b71a1a55c553b5d8e74eb936906e443fad2db66bacc6077cee8ff889fb024201dcae2f900af8903d6e14a466f9d8f3c7489cafcd14f8858e94fd97637a6bd04dd0ed53555585b523192d89986077a62334dceb5e7ba1d9c6fb94a9ef76fff2d9a1
# sect113r1 (named_curve, hybrid public point)
# sect113r2 (named_curve, hybrid public point)
# sect131r1 (named_curve, hybrid public point)
# sect131r2 (named_curve, hybrid public point)
# sect163k1 (named_curve, hybrid public point)
# sect163r1 (named_curve, hybrid public point)
# sect163r2 (named_curve, hybrid public point)
# sect193r1 (named_curve, hybrid public point)
# sect193r2 (named_curve, hybrid public point)
# sect233k1 (named_curve, hybrid public point)
# sect233r1 (named_curve, hybrid public point)
# sect239k1 (named_curve, hybrid public point)
# sect283k1 (named_curve, hybrid public point)
# sect283r1 (named_curve, hybrid public point)
# sect409k1 (named_curve, hybrid public point)
# sect409r1 (named_curve, hybrid public point)
# sect571k1 (named_curve, hybrid public point)
# sect571r1 (named_curve, hybrid public point)
# wap-wsg-idm-ecid-wtls1 (named_curve, hybrid public point)
# wap-wsg-idm-ecid-wtls10 (named_curve, hybrid public point)
# wap-wsg-idm-ecid-wtls11 (named_curve, hybrid public point)
# wap-wsg-idm-ecid-wtls12 (named_curve, hybrid public point)
# Random Sig: 303d021c3815207cac3fba1b637418f034205435fdaafc7b88ad14df3d8c642a021d009313501f0fce038b4a3c296727fb363a7cf9c87cf2f47b0e50b48f9b
# Deterministic Sig: 303c021c301f3dee75d39861db0be364aa432c6ce28b5a3f75f4d2aa7b84a9d6021c0cc81c1902cc15475c3aa3545a1185df83c5da35b597eb2cd371c24e
# wap-wsg-idm-ecid-wtls3 (named_curve, hybrid public point)
# wap-wsg-idm-ecid-wtls4 (named_curve, hybrid public point)
# wap-wsg-idm-ecid-wtls5 (named_curve, hybrid public point)
# wap-wsg-idm-ecid-wtls6 (named_curve, hybrid public point)
# wap-wsg-idm-ecid-wtls7 (named_curve, hybrid public point)
# Random Sig: 302c02144f97d3cbf55fbc5b6d18fb84fd3df7985c96a8ac021453d1ef8f4904bdb70072ff30ab5fa0ff4055797c
# Deterministic Sig: 302d021500ab2bf5c1defe9ad95b13fad9a1529a5dc2730e2702146bd3ab2b1c00d61fdb161ae56417abbb5f9a73d4
# wap-wsg-idm-ecid-wtls8 (named_curve, hybrid public point)
# wap-wsg-idm-ecid-wtls9 (named_curve, hybrid public point)
# Random Sig: 302d02144281aeb92c8df8c46f14e1ce1b7a44ad0b07b4cb021500d49b9a14a710c982009db8e8aa8fcbca3dd2d2a3
# Deterministic Sig: 302e021500a86af9fb4425429cbc369ebde175d1d94e9a2dc4021500e77c00b2be816bb32087932ee0151f21e2f32fa8
# brainpoolP160r1 (explicit, compressed public point)
# Random Sig: 302e021500e72a5ba12405d2155991428cf06579ff1c704b28021500862d458c9d6ee2a8e8f76b9ec813e677febab617
# Deterministic Sig: 302e021500c2da8568b67692a6e4d0d9505e9ea82cb340a21602150087f980954719fdd9470f2577669910725f101617
# brainpoolP160t1 (explicit, compressed public point)
# Random Sig: 302d021500817e3f987f7b6cf25d1fdcc6ad8e07c2d02e9cbf021427193ab5e81582131a40fced977d59a31f86aded
# Deterministic Sig: 302e021500a8c1064a1dea98aa09a9ba44252134c70ad2d2f0021500be1e04e71831b90fd0e6ed793762f5fa944adad1
# brainpoolP192r1 (explicit, compressed public point)
# Random Sig: 303402185be273b4d44a038c542668d18f39db9bc56e2f2e0a48605602181f12995ec6df3e328ac824487de8a7e681ff334d43ade010
# Deterministic Sig: 3034021876d2107d3d317bde28e6a1a544c2288360974c7eae5526ab021847412209700941c8795a1c1fc548b50548dac78cbd7cd156
# brainpoolP192t1 (explicit, compressed public point)
# Random Sig: 3035021900b4cc913c6d8c5548dab5dfdbd6ff3978c49a2eb3319ee34b02187d812606584c68af51676731430111e82b3714219658062a
# Deterministic Sig: 3036021900bec084d6c73e7be28f097636349fb493c4be5ca9be2ff7a5021900b80f6d231ceb7ee8bdaa8d65e8fb1f1b64ee8baef6a6fe66
# brainpoolP224r1 (explicit, compressed public point)
# Random Sig: 303d021d0093d584127eaf27a52e89a61247671ddf51691dba8ca157af656b44f2021c1e1b089db32072e31715bcef05a52e14c8b2ae5d39766876b6de07d9
# Deterministic Sig: 303e021d00c5f075f6f1574ea834160161be95a0efddd4792790214fe0fac0dd9c021d00cbc379a2baa1e60174e6c882a9cc7bd5375a46f2f0b94a766aed6290
# brainpoolP224t1 (explicit, compressed public point)
# Random Sig: 303c021c164053057780d380aa9163b58a6e1683418c53acdbff0a626c377513021c666b5e925e047a1b84decc5170b4daa3ee5b2b612adc78e46f6a9d80
# Deterministic Sig: 303e021d00816004aa331d1370ba4a6883542936da8dbab1e52afa409ed9abf07c021d00aa11f3be95869dcc575da14c9fec0d91a5faefae69026426f165a15d
# brainpoolP256r1 (explicit, compressed public point)
# Random Sig: 3045022072ac36504c837be26297b08dfd85aaed6ba06490124069b3a73cf0b4c42fccc3022100980393d8c796c9ec58753d3f8435765f2a67c5da8cef6c3da9d26c6dc1d418d1
# Deterministic Sig: 3045022100a7881e7b7896f61a590cd8e18b4b0c0a0ac578342034e6cdb90b0afd36baeb7502207aab226d1b3e5378e1ea29f2ec0be250406672fb85e57b12ed4c69cae0a35e33
# brainpoolP256t1 (explicit, compressed public point)
# Random Sig: 304502210083af7383a03d6ca98345bdc8f7a8454caddddde229d413d34fe87984904d79e602203a4a7f7372facda7a6fb20bf1d17f7987d5ee8f0a54d4c3432572f3749f987ff
# Deterministic Sig: 3045022064c42818bf8623568fb2aebb2b79212a36d254f2fbd2e887932071e42ffb22bc0221009ec9392dbb0cb02b19e55cdc5b80ac733f62d04886c6e4bf797192353138c626
# brainpoolP320r1 (explicit, compressed public point)
# Random Sig: 3055022833bda80adc2fcf650dd3c408ec58910079b927e12e399d61e5a7f28e054a45eb44d6d87d7f5ab1fb022900b2210a0fa9deecbd176abcf9c274bf74d6a84de9917515e5162da5ce9e0beeadb1b0238059d883bf
# Deterministic Sig: 305502280fb90bce5a508f8cfb605a35bf5deed3d4363947dfdd6afadf1c3057bd0485c8084883ee1ef17d810229008dc97b8dc9dc8d561df6831612afa330458cfa086a1a9d9c8e335fb3f2698731ab5cc307aa6fe10a
# brainpoolP320t1 (explicit, compressed public point)
# Random Sig: 3054022833fe71de0a669ecb46ea89b1a2d01066a16dc51e415c6ffc6b140a2f4fb422cac2986a199540102a022851ccb2c159f457054ea0ec5221469347e9d7f3e0fa90e68e25c4069b1e17c0030fc288421a55f35c
# Deterministic Sig: 30560229009114bffcd1cae0cc9128d56eb537db369afcdc238f50a687ef1b33bc1a6c98643a274f3e00efe3cd022900ca619cde9ffae0e213680767cc29bbeb3b7b37ec9b8159c59dbcf494332a09a906efc1a1eedb20c8
# brainpoolP384r1 (explicit, compressed public point)
# Random Sig: 306402305a30645807819e2a578bb37e1426cc7855069ca490571ebb2c6f31c43c1899ba9d029ab37fbc7fbf4c758064995ba2b002306148d475171d1cfb42b5ef090e1de5b8b0dcf26fe64e95be7a30fd99952ac3a1b3aafabcd15db4c661adc030236750d8
# Deterministic Sig: 306402302d9193ea07580e435124d0ee2a74214d1d518d86b3c734da15d538093aa62fe9d00500056f896bef4ad221e4e484d996023013c7c11ad9b61119b7597ac1d45f6b768b44470295f04fa3ec2d2b25c7fdd455c27e1a523a9c69ef0251ceeea1b7fc95
# brainpoolP384t1 (explicit, compressed public point)
# Random Sig: 3064023011d28fb6cc3aea423e20588cf94a141efb3eee92663027944b1c2d02fbc492713898eabf750e2345de88270cbb67c6850230566e46f2d8eb0264975ec8fa08f94f6a40e63ddc9c6fd187d799c1313aba117eee5f4b44db382b0aec5b579a14cbe536
# Deterministic Sig: 3064023049d38dbd7a9016a9e4d88f7835925f8e5ca78ed19c70346fdcc2ac829ff9276f4dd006a702dce42c0bb9a23c0bbed7bb023052ecd90253079b40f3a6ef746e4d79e9eb8469219c731dc54d314216b69d74df756f2a3d487c0ccb77c7e00bc21da403
# brainpoolP512r1 (explicit, compressed public point)
# Random Sig: 3081840240412f713cb23def5f64723d719375c66c95136789f8d143440cfc8e63c7f777e472fedf4ddaf68d0f3d22281129690ebc72fc8d03261a846a258e655698f715bc02403f49397072a245b6eca286de3615674a109c0ba26eb32abb80fe1b4472251bf5bb1f91d47923cc7d1a6d470de002baa11ef913da540cab80f4f401bcbd0ae77a
# Deterministic Sig: 30818502405f3f842b19e6c805b908572bf830bf8c8e0e9f4956e6b7104e630dd6ca3b8501d8baa1d3c58393d7abed2e5d13d7d6d61dca49b94489f4b9b44afce13afe11160241009eae80959d680dda2cee886755890a65789f632e4864c45a8c24a80100f6bcbfb6cbc7a53142781bdd3b5a66a6832b09895fa031b203af469df0f2084c5ef069
# brainpoolP512t1 (explicit, compressed public point)
# Random Sig: 30818402401f7a7a1cefbc4fbd33b1a3bf86bc273295b840933d7a1f5eb2f6cf4ddc35ccd28142f0d15b7f39ebe07bebe455ed441bb9756ce1e3a46b3ea27b2b6850cc241c0240372733307e7c1d0bc56c04e032b78f449e6cbbbde67dd97505970315e79c078d9f38c8c0d72982882e017159e25dcf6eee4ebde6c1f838c9b9b933d520b2e8fe
# Deterministic Sig: 308185024100a9723703957ac2bfc3ec7755ba14596e7f37048ae8b4f3924cdb16132430f36fdcb0f7adba6b194ac1f521784e949240cc8683c6e2510a5c54473f8802c89c0602407adc787495e66ef1cabb0363596f7ace1eef6ae4294ba5af7c985c9581fc6fe9945b3b9f6cc9d1e74db03804f50c9e927fad04f480adcb4a9eb1d9e67f427e59
# c2pnb163v1 (explicit, compressed public point)
# c2pnb163v2 (explicit, compressed public point)
# c2pnb163v3 (explicit, compressed public point)
# c2pnb176v1 (explicit, compressed public point)
# c2pnb208w1 (explicit, compressed public point)
# c2pnb272w1 (explicit, compressed public point)
# c2pnb304w1 (explicit, compressed public point)
# c2pnb368w1 (explicit, compressed public point)
# c2tnb191v1 (explicit, compressed public point)
# c2tnb191v2 (explicit, compressed public point)
# c2tnb191v3 (explicit, compressed public point)
# c2tnb239v1 (explicit, compressed public point)
# c2tnb239v2 (explicit, compressed public point)
# c2tnb239v3 (explicit, compressed public point)
# c2tnb359v1 (explicit, compressed public point)
# c2tnb431r1 (explicit, compressed public point)
# prime192v1 (explicit, compressed public point)
# Random Sig: 303602190086186fecc29c15f4ecac107f3cc120e92c7dd64b2d4b8dc50219008a0b052157d64fe57b64bd1d83e1c7d258de731eabd310bc
# Deterministic Sig: 303402183f3950a8151e571a2dfdc32c228faa8a70232ddb6f118b10021875c92f9f19fd6dcb1d508280aec453c9066b132ceb2b9181
# prime192v2 (explicit, compressed public point)
# Random Sig: 3035021900f32c6cd6d492fc8c78e7710d053082d72e51f4899d10503f02184138526461bbb695520f1924aa4cc459e52656718e486716
# Deterministic Sig: 3036021900d85b394310e249e837a3c6c7d86cb2e7f4060b2b7add2e280219009efa9ee7b4714240d2ef0c2b3374c2055384e9649da571d3
# prime192v3 (explicit, compressed public point)
# Random Sig: 3035021859ccc9ef1053ccb9eab3423da4734b75c5c665293da26e3a021900a44c5af895d62f2efeed1f14a88547d3d002c48cbf285fb8
# Deterministic Sig: 30350218670a22e4ada4ac0f7c1561abaeeb66c1aa0bf9f1916a54cc021900e0c2ba951e6b43bced76d1181467a664c7286c5c1b64109c
# prime239v1 (explicit, compressed public point)
# Random Sig: 3040021e3f21167e9391046a25878cd28afcd20bee81a7307074f4747a4d69ae3056021e764fab4d9241198f1d5d260ddc171b8d4add0b2907d4d597e70e2bbc5ff6
# Deterministic Sig: 3040021e59f49af38a3cd8f43829a081250ac9c1e6ed1fdf75b62c9f165801584a3d021e13f7a2137415bd46cf52c9743247f3999818d096277763997a7fada9b632
# prime239v2 (explicit, compressed public point)
# Random Sig: 3040021e6831bfc8b1fad58216161506602cacb3d4c739b8c2cf64f8f8ace5428d3e021e20f76ee0897ac205b585ccc6df46b8ceecc80bdbdb57357342de30434c7d
# Deterministic Sig: 3040021e16da009ca4689ffbb5b24dc8bbbb4edb02cb8561d26f2e64084187864d71021e0799d26b68617c1cc69db8b3abe5c3dbf3970ecdda27b6a9675ca303c3bf
# prime239v3 (explicit, compressed public point)
# Random Sig: 3040021e356cd38dc73bfad3fa4617ab5f047a771967a0e3ad9c3bfc203986530ac0021e02711db2bff621111e7a054563ab4f48f4a8cc4896b7f89eb926ad6cef61
# Deterministic Sig: 3040021e73313bacce3a847378d1ddedd6fe25a946ef70e73cbcca9452cb7c1c04a6021e4a916983a1e4429b109dd65b55fbd51736b603b7348a8b5a0e7870f23a4b
# prime256v1 (explicit, compressed public point)
# Random Sig: 3045022051d3e49b27cbd4faefb38e6de8831bee980c47b3dc2fe9c2bbf5faf0ffb2ae88022100a7f29a0fab955ca61a2b89e2f1da3edb533997b734b66876ea233e7019cc33e2
# Deterministic Sig: 3046022100b80bdb9b0c300b3e3c6c679a4ad12d89850737049dc1c59fc87b446b653f259402210099a33aa603f8ad16e342c64e77f54efbacadb0c8db55900cd4efac89ee311965
# secp112r1 (explicit, compressed public point)
# secp112r2 (explicit, compressed public point)
# secp128r1 (explicit, compressed public point)
# secp128r2 (explicit, compressed public point)
# secp160k1 (explicit, compressed public point)
# Random Sig: 302d02144de64d60cbf68abe2559da74bea5f7e1a8bc6efb021500f2651f44960ae4e6437934944a2b98f20de4c3d3
# Deterministic Sig: 302d021500e9a2f7d6f9330f70e2f27da40c3ddbf53a8750db021452990ebb96238186e6614ce6394e9e3a2f09ab9f
# secp160r1 (explicit, compressed public point)
# Random Sig: 302c02147d2f67058ab402a0e5ffde09983432a6108ce1920214686d0e38c0243d39e867c82c5fb3a198478be5ed
# Deterministic Sig: 302c021410cc89095fcc6bd71c824ca1d51a87f63b39f8f2021433576876b99aea3d8b7e1b223fc0dc1e941e028b
# secp160r2 (explicit, compressed public point)
# Random Sig: 302e0215008e5394c343a235d98f02a5d26231c34395e3f88a021500b9e900ea7e1a570f489285ec58fe950af67c9dd2
# Deterministic Sig: 302e021500c059cf6b231c2337a2d0b7a1ed12e190d27e6eb5021500adb2392b589b0144339b42321acd07ecfa5b1e02
# secp192k1 (explicit, compressed public point)
# Random Sig: 303402185b6d66018ad6115ee2bfb74c82607d6538237d21c313bb4302187cbd4244583225170e2aa545a84c633e0af2f7b2ef607989
# Deterministic Sig: 3034021851a81d6c3402f1c98703b0a69b528fd3d4dc7821417444970218250386deae206ddf7ab818165d0e18c4841d7cc8bf906d85
# secp224k1 (explicit, compressed public point)
# Random Sig: 303d021d00d18a5b52f425eda4294440b5518367172c9f9b7eec02c433a48c6ea1021c2901101d06a4e368d1fb69baa13779af5629790c3a57ce8b8cd5eac9
# Deterministic Sig: 303e021d00b4c892c4a079d6aa4870d0d3d3981ca7c5041fba89f076e733fcd6dc021d009e8911c0e047e35f037d220ce65f98c86c9b22fae420cfbeb40c0ed1
# secp224r1 (explicit, compressed public point)
# Random Sig: 303d021d00ba0e284a9e5fa9fc82bf69423ad569b1012a7bfd4ca700499d631acd021c023e354c5a07a85186c5d3b1b189ba7df7c3adf88f6a1e225731535f
# Deterministic Sig: 303e021d0099090602ab5be935ac707d06cec9ec4873bb56ebd4dcad8ea6824939021d0096e8f8937a6c48abbbdf16ec9e8587fc925e0ed026ef1c158ec2cfdc
# secp256k1 (explicit, compressed public point)
# Random Sig: 3046022100c34ba271914dc035c30c763df84395eeb0fc42ea931925811e92018e816d9bce022100e8b9c4f474ad0ae19da0bc1cd011206b9eddd48c6d0d9b30d253230020afd668
# Deterministic Sig: 304502203ee1d9efcbdb9bbae6ca17f30ee080e878db8632f1cc27e77bbbfd811b01a5cb0221009b64098649493326000a903e59f3093052b64457e1b41dd328de376b65d3cadd
# secp384r1 (explicit, compressed public point)
# Random Sig: 3066023100f9515449d7ce70d41b65f61c7d3acc564ea137bc59cff632dcd38ea4b6621f26ef828e4f8724a99d92a49fc2d486c11a023100b81fe4a254b148c78554d569965e2757c8d9be7ace8270f092c6baa2249694ac8ece80120ee020388a26f1f0b8a762cc
# Deterministic Sig: 306402302bed56775326967c253ace97b6c940d58b16d07a0707e6e47edd8d37bc30da052f068496b8a41c612a763c00367bfb190230469bda9177df05952fd027ee8a712f9206c8668d2cf32842dc72ef2577d467ba08853159f7950b3eb1900e335862b89c
# secp521r1 (explicit, compressed public point)
# Random Sig: 3081880242015381db48ddd3aef99316c82adcb0afdc7fdcb31be34c3334720c53b2743e982b7b40080f451fa32b3a436f56c9860ac7cb5f9eaf5c8ac0c6117f557e4de52a5c7b024201e78538b26f44f9bd4036d7719cbe3767475594cd5bbbc826c16dedee47ef646459d56b7b28e3122e92bc2092f1e26099d7664e9afbb93966fbb45875917f3b85e5
# Deterministic Sig: 3081880242016cadc7b3252868767c8728e373b2b9d0ccdcba2464e0d8be30c25407b04524a45ea6b93329b860996b2188972063345f8e9a1bf9862b53b8bb768341a927847f9502420152e6d1374489726400d35470ee5970c0cbaed6ea67e5e8832f10b8801dbf29d35160e4f082d29d034a39cf1a7a3a23278afda2beb8e18930046bf59f62ba3a4264
# sect113r1 (explicit, compressed public point)
# sect113r2 (explicit, compressed public point)
# sect131r1 (explicit, compressed public point)
# sect131r2 (explicit, compressed public point)
# sect163k1 (explicit, compressed public point)
# sect163r1 (explicit, compressed public point)
# sect163r2 (explicit, compressed public point)
# sect193r1 (explicit, compressed public point)
# sect193r2 (explicit, compressed public point)
# sect233k1 (explicit, compressed public point)
# sect233r1 (explicit, compressed public point)
# sect239k1 (explicit, compressed public point)
# sect283k1 (explicit, compressed public point)
# sect283r1 (explicit, compressed public point)
# sect409k1 (explicit, compressed public point)
# sect409r1 (explicit, compressed public point)
# sect571k1 (explicit, compressed public point)
# sect571r1 (explicit, compressed public point)
# wap-wsg-idm-ecid-wtls1 (explicit, compressed public point)
# wap-wsg-idm-ecid-wtls10 (explicit, compressed public point)
# wap-wsg-idm-ecid-wtls11 (explicit, compressed public point)
# wap-wsg-idm-ecid-wtls12 (explicit, compressed public point)
# Random Sig: 303d021c34b31fcbe76b6b6195c5135b213ab3eea41b5ffdf8ed8f1c843d23c5021d00f9d9381777b3a07e121e871edbace2e0ef8e4edb3bf258da9146e731
# Deterministic Sig: 303e021d00e9de03b3761202cb5cb949f7b9957d3a9848c97ae96f06f63db89062021d00ec5412cf3bc1c4514ab621b9801d49896dcfb8aa7454409d8c58da0d
# wap-wsg-idm-ecid-wtls3 (explicit, compressed public point)
# wap-wsg-idm-ecid-wtls4 (explicit, compressed public point)
# wap-wsg-idm-ecid-wtls5 (explicit, compressed public point)
# wap-wsg-idm-ecid-wtls6 (explicit, compressed public point)
# wap-wsg-idm-ecid-wtls7 (explicit, compressed public point)
# Random Sig: 302d02145298ac1cc7a810db91d50c6b608ba6d39635c2ba021500a39553196e046617ce3b3892d171908efc982893
# Deterministic Sig: 302e021500c3c7dcbec09898f9c2383840eb6d41908e69ae6e021500d94aae52cdf23416cb1b75afd2df09f0d4daad02
# wap-wsg-idm-ecid-wtls8 (explicit, compressed public point)
# wap-wsg-idm-ecid-wtls9 (explicit, compressed public point)
# Random Sig: 302c021415e347409c91bdb7f985e6d1a33073610847aa5602142df260c8343b326c1e9066d30b58a00c438ec2a8
# Deterministic Sig: 302d02145ddf8c024d83d92c9a77edd79a82af70afcad366021500cf49d85a0cff230ad91a14c458827466d055fdaa
# brainpoolP160r1 (explicit, uncompressed public point)
# Random Sig: 302d021500c7f369b676de66f5288dd868680c213b35eb72e90214136a11163b838933ad29fc0c3c240bb3b64ba6b8
# Deterministic Sig: 302c021447d0af0a0e45462ed675c6ca4ec336add1ee4294021405e9c920bce6a0ff6923012698a31187b3f006a8
# brainpoolP160t1 (explicit, uncompressed public point)
# Random Sig: 302e021500ba39da87f9bffb7195984459c1f404665c31ce040215008bc808f8f1c3b9a3eff7f79da97dc18ced4f95ea
# Deterministic Sig: 302d0215009e2e4a165665b2a01fea7af0291a485344278ead021404b6bf12ecc2fa5ef0c88e1cecfbdfe64718831c
# brainpoolP192r1 (explicit, uncompressed public point)
# Random Sig: 303502183a41e3dd83955051a26ae950a8e753d901d0a7fc1be34652021900972bd2302e2c4f2409a7eb309f7055ab19829c94d45dde3a
# Deterministic Sig: 3034021852097c5e54756652463bf2141b0d80dcaef5a0838cfe314902181bbe985179ea6d2577702b8b59b6771e55648a74bbb8a58e
# brainpoolP192t1 (explicit, uncompressed public point)
# Random Sig: 30340218145ad4d070aaa73168e63a7835c6e22cbb61dacd63773a5302181830676086b58ac8409e992d13caaf9b1cb7bd1889f20b9c
# Deterministic Sig: 3035021870423d97e654531bcc2c347952cfebb94ae4ab2973e4f2790219008f21e4e1ba09a25781e03139b81870491b5e1f65122c4d73
# brainpoolP224r1 (explicit, uncompressed public point)
# Random Sig: 303d021d00b7973e9e60988bad8181d9c048bb4d553f44f7ac679ccc7818e5d6a4021c6998b81a33b27d5fa222e061d90b5d95e2a9e0ceecdefa084e1d57ff
# Deterministic Sig: 303e021d00a50b9ff45c5c447111ec45cf574cbe3865dc5fa06c739c8a726f8afe021d00d154e834d87b296a2cf309ac0a87174f4142e653c25860f9c30fe68f
# brainpoolP224t1 (explicit, uncompressed public point)
# Random Sig: 303d021c1d0f52c149d8d59ba97bb3da0eeba5efd85f9a1da518a910cdfacf5e021d00c8dd37137d7912f6ab05e6fcf5b20863eee48fb2dff0b1dd88a17b3a
# Deterministic Sig: 303d021c01aa9a29e0fc7a2a45ecb2b95762ee6b9613d142bf0d027c1a6b7e98021d00cf7fe73e77b2a6c626eaffd8e561b5fd1b5c67233842aeeb2690fa2a
# brainpoolP256r1 (explicit, uncompressed public point)
# Random Sig: 3045022100a9d265ebacc42a4d53147a6429688ac6df61dfe89108215e49e0aa0dde2cba1d02204535277cc283889636cfde28921903fc2e1dbc94053477cd0b2eb22420b5cbac
# Deterministic Sig: 3044022051d5cd0702881b2bd9a7a39e40ab75b65c915360740d76685b63a8bcb25b6fb30220510836d09688fbce6b16ad19ec6e737011d37e3c27d41c282308e110e378bc66
# brainpoolP256t1 (explicit, uncompressed public point)
# Random Sig: 304402201927ceca6c97b02e942139e96457490718958bfdd925848932b5d6d9d4c174320220393f4e316d95f0e6d18e4a1140719d51d65a4652bf6d1503c4e09e3244a16557
# Deterministic Sig: 3045022100851f5b37e695abd9d485896cd378850165117a80e64122fcac0f32015eb48d4002201a20ec98485221725fd3a03feb5503c61ce2e1be8a22580273971ec1c7dab8f5
# brainpoolP320r1 (explicit, uncompressed public point)
# Random Sig: 3054022832cf90f4d446ad990aba2cd131ead21fb848c311ad7ea5f991e3f0dccc0c4e6923b3c796a1a01a2f02280ea95e31f1e9204bca5d544ba315a18aacbbea0e6287ad5af504bb389f9bf253854681e038ab70dd
# Deterministic Sig: 3055022900aacbd7ad02023f909cf7d913f1b7d5f363de286cfbd7e89373f32268820e972742b26336c4fa4a2402283533d761dddb8c2939f9da667541cb5f1188ce97876e1ab8c2ca69c561bac91ef05155ab78658c52
# brainpoolP320t1 (explicit, uncompressed public point)
# Random Sig: 305602290081b9117de177f9e693113892bc586631ae6e80bf00db92a6f8683d0d9e95a004bb2f7e805553859a022900887d17ac336a600cf40d4ff8a26de3b294b0553520187934b1aba03dc15e9fb8dfeacd97e5c7a326
# Deterministic Sig: 3055022900bb3a2bf9c6d73b049cef724bb0665dd9423164f1abbf4a837bdfc6a656984e674c794fe39dad8276022855df987f4f4f4072feaf8ecffce17d6ffec25eed75af78d59016d4af1ec8f8c713da8a14d5ce57de
# brainpoolP384r1 (explicit, uncompressed public point)
# Random Sig: 3064023032c1eaa1c7c57187fade952f47d7f08804a04ab954954f0a60fca8d7c4283fa9ff336db088b79ef6b18c8e8585c2fb8d0230138083f47a3f8a7a162611ef30dc59db4ff3d758feae70435c2c32703bb14f80e2d5a35698c3d4676d629caafb1a7f95
# Deterministic Sig: 3065023041c6ef14544dfe1be40744b80ec9efe09ad895d3fd2aaad249bb6c3d3f1ae8735df4173cadad57ab2fbf9c320282ad2002310088ae1479f99771001458dba37b29981d217f0a1477e3a0cc616337c254d82a317d3e828dd691817e1733f13bafee1321
# brainpoolP384t1 (explicit, uncompressed public point)
# Random Sig: 306502302d327dde5dbbea7d25e7cb5f85682617f6df133676fcce446f1b189c0d305522e14556e2358de5d0b9856e264465d60f02310080606e492ac77da1f14424254e2dae1dd51fc514865804ca959f2f0e1cd3f14671a59d50b7169d4cd1225fd383474e6d
# Deterministic Sig: 306402305fcd1b5165db559aba89f233e6da63aad835d0e0fe2bcd3fc3835b27c9bbbfa72ece40b1b24d8b699408f35f854ae7a402302a9a1bc3b74b1ca8ba12949ade34ecda84f6c16a2a367399140a3fe90950b9c72ce6b54e50d829d5632747ea29a70d61
# brainpoolP512r1 (explicit, uncompressed public point)
# Random Sig: 3081850241008a040099f28b65d22834b2320903f1b0cdc29a7163436920544239660b0322d9f5cc7129034730ce8c6616727cfd79d79c8e093bfa8bad643b987908f31209f60240371d8857f77458bfb7ce02c9aea9c096baeb1da5c4ad21fade79ebb1b9f401d1dc991dd553082e78d9aa578ed2ca757b862810c089b237f2ccadd522b6f074b9
# Deterministic Sig: 30818402402dd8b39bc18a6ae7175b65d85f108f33d65158dbae4a34e365ebd199c41f3a4515bf925a2c4d355541514151f535e4086d3c1e684869e33608065b5ea31b0eac02401689e71fa842e8bbfed1bfed9ea0f798eb14bcdf38c9779d2694e316ea114654167fa6f2a16eba40b1eb804a8888a27f0c05784178ba0daf1180f6cb07ff7c88
# brainpoolP512t1 (explicit, uncompressed public point)
# Random Sig: 308184024034ce9926052e866aef70dba657f958dcc70c94a8d9d45e24fd167320d4b693637a80a5efd7cdbff7f06c54206c613c766c6440eda18dbadf6bf4d4f164f50222024014b74fd77c6bb8317ce3d6071cb84e4e2fe48570ef344f3c91dc3a1dc79c20c2f11f8acf705a7aa6431f52f702c880ae22155683af1f857f034ec0a8e1a9ee46
# Deterministic Sig: 308185024100a202b11e36a78a5062681ffc337a6c02a1e2f0d370b30aa8d948024116a08cc3f81f142e964dbcf7b54180e651730a6ca2335028731b2b351b3a13595aeac29802407f1bbd9a6a8697c19454bed08e439424e2ff9a6cde118b04684939f77f04cdf2dc027c081db4959cc6b2c209a4413e1649d2a8caf424a8f834dafd800d8c24f2
# c2pnb163v1 (explicit, uncompressed public point)
# c2pnb163v2 (explicit, uncompressed public point)
# c2pnb163v3 (explicit, uncompressed public point)
# c2pnb176v1 (explicit, uncompressed public point)
# c2pnb208w1 (explicit, uncompressed public point)
# c2pnb272w1 (explicit, uncompressed public point)
# c2pnb304w1 (explicit, uncompressed public point)
# c2pnb368w1 (explicit, uncompressed public point)
# c2tnb191v1 (explicit, uncompressed public point)
# c2tnb191v2 (explicit, uncompressed public point)
# c2tnb191v3 (explicit, uncompressed public point)
# c2tnb239v1 (explicit, uncompressed public point)
# c2tnb239v2 (explicit, uncompressed public point)
# c2tnb239v3 (explicit, uncompressed public point)
# c2tnb359v1 (explicit, uncompressed public point)
# c2tnb431r1 (explicit, uncompressed public point)
# prime192v1 (explicit, uncompressed public point)
# Random Sig: 303402183254adeffce942fc7bbefd1ddd552aeca682718ffc98f5050218084d26c7f624480136951a0c580bf4b6e62bd90105965932
# Deterministic Sig: 3035021900a71d7371f62bc07a00c06bd309e391fc7f8558728df5931802185c6b6b4874b3b34110b25650bfc40083802c9fc91e09c3c9
# prime192v2 (explicit, uncompressed public point)
# Random Sig: 3036021900831edd3f8384091d9ae80a583a0c17d9a9c872cf459a08d1021900a2d7f8bc20f8fdb322f109e54840f297761f157dcd867790
# Deterministic Sig: 3035021900aad6ce5e4d83bb07b4fd79064ed2d1c5a88c5712aa85ca450218358542c6ab74c530a1bad5455f806b8052373f1aa310d255
# prime192v3 (explicit, uncompressed public point)
# Random Sig: 3035021900cc9dd5c4eb40e85b18261c448c2563ca279a1b1453698fe6021806bcedff775ce8d5daf40f55972f04fc5206eec1377649cc
# Deterministic Sig: 3035021900c2517baf661842547cf31048822c49ca3556aedf063eb9b4021870419214f5c09c1077861cf6905b18d85dad92062aece92b
# prime239v1 (explicit, uncompressed public point)
# Random Sig: 3040021e47ece5b220818d7a78836b895cb868e9617abce1b9e6b3656ab5b2964e6b021e73d6815259ae3a574b9d39cb3afe552338353915826b76e1aa18d9d08701
# Deterministic Sig: 3040021e615ffe12412e988811f4fa2f7bc1f34d862e7a2b24d0c36ac57fc729447a021e036398e416ebf92fd435ea841ff195caf87b32574f9c6fa2539926620e1d
# prime239v2 (explicit, uncompressed public point)
# Random Sig: 3040021e11f1f7859423ce41bfcd411c1bbbfe4449610140a6e6b82c308fcf5e0f0c021e715f6fe41179fc7f307a4c5c6d092cb24db242729dc34f856facd78e5ff9
# Deterministic Sig: 3040021e21a29397129a2fc1190e2ea80414a265baa3e7b7ac5d914a473309a48a1d021e5e93ab334ff16eb29e17e81abc20d264e7ff4fbd03e5f0eb937b3c0e2123
# prime239v3 (explicit, uncompressed public point)
# Random Sig: 3040021e451b4bb391981e8f8614f3ceba8a59d95b3e55c83289dd697c79c30dd601021e0a76a7eae7c68c41ca73c068e19c304ec321e168f4731407e46f9cdb9a39
# Deterministic Sig: 3040021e56e8b80c13c835a78af062a5b031cc92d7f7dfaf79501df3aff8a9bd2955021e75dcc9d2ef5f4e64bfff8ecdf1b031526821ab59f7554ac1a8f268a4c17e
# prime256v1 (explicit, uncompressed public point)
# Random Sig: 3045022100a4464d7d1fd14bd4a4331721851c87175185acfdbe0d301831c7ab36710ea09802201bc69e497569d9ae7eb4f239bebbe66ba52980d3837bc698c1cd2afa87526289
# Deterministic Sig: 304502210082ecdd8a3475d8bb726ca2a04a6ba5b79d339fce217b710775202f53a563278c0220116264cde3e1415b97cbfcbda62197a10822367710d616824ab890c2897f7579
# secp112r1 (explicit, uncompressed public point)
# secp112r2 (explicit, uncompressed public point)
# secp128r1 (explicit, uncompressed public point)
# secp128r2 (explicit, uncompressed public point)
# secp160k1 (explicit, uncompressed public point)
# Random Sig: 302e021500c7c7333c3f173d4e698fc7f48eb68787efa94186021500bb15503e13b8e30156db5f554d50e166bc6c9319
# Deterministic Sig: 302c0215009826390a21430c75fa33d7ef20693a2afbff6291021343ae1199f5e57511b5b6fcc4e48be9ff3ff540
# secp160r1 (explicit, uncompressed public point)
# Random Sig: 302d021500cbf05e6186884fec92e559bd35cbf7b9cd17e25b02141b99cb19cd7f622e7086744e9340c15d32406978
# Deterministic Sig: 302c02144baeace44ab2039c2c20285e196dc2d2255f5251021468d8b9e52403aac7007f47bcdf9b7762258d454a
# secp160r2 (explicit, uncompressed public point)
# Random Sig: 302d021500fccd15ead0fecae05ef2d8c03d0df715a0335d6b02141a3a6955e8d674f8f9eb29cad14f08e750df01c9
# Deterministic Sig: 302d021463aedcd371a6c482e08b9fe66ca8c2a310eaa0f702150099011c66e720e0282cf632aebbc0281b2a89a801
# secp192k1 (explicit, uncompressed public point)
# Random Sig: 303402180cf5fd8865552ba07535676827a5b3b70db8902e2bf7c8ec02180b49402d12f00166d82bb493b7e0aa7d00f31213dee1a8ad
# Deterministic Sig: 30350218054f0ad0e65788b8552e61f01b810cf96c0d8721d8a4e70e021900be2e95bedb50bd804db28c36d82fc3a5a4964877add71b43
# secp224k1 (explicit, uncompressed public point)
# Random Sig: 303d021d00c52648fc5a0e993308aefd20d0208bf69a802db0ef80415105ec9faf021c5eed43d69122ca6633e842f87362374f411311453b822054c6b9d639
# Deterministic Sig: 303d021d00bbed5b5f9182da9fb0ce719d21a925e07ee68e3e37ad20233d070d48021c7f7cd0ec55e4ca26966e4fe6fa1e05d67b41cc604d4207d410e7a780
# secp224r1 (explicit, uncompressed public point)
# Random Sig: 303c021c7d144a7802ca808845ed4acc6c8cf1260d3be7aedd22e5b5d181fc15021c5b95cafdaad73e56a45b90a77b54339d52d81e29983af3c54d0ede46
# Deterministic Sig: 303d021c23e4d069aab75a267f41698dbc01851b3c41a8d041c5c4decb4143ad021d00b49240fc367c17e8a05b325373cb6af6c3aa9fe0ea0ee544b8f1e847
# secp256k1 (explicit, uncompressed public point)
# Random Sig: 3045022100b4adf4187a0717f28d57e41568c7ec8e7c484126d368b2fa1d97503fea642f57022031c5ff78949ac84e7ad7a52f8f4371aa9ef7ab6c296a10c6b495261e25edfdb1
# Deterministic Sig: 3045022100c341b3bc2a792921c3d911679fe05b98d0335b3777de7817c8f343be15ce30110220456c3dd4df0523cf97f971eea8dd73f75a9e78e1d9ea1841574d08219e536381
# secp384r1 (explicit, uncompressed public point)
# Random Sig: 3066023100bbb94caa4d62c1d38d1d5d04699998dc9ee2bcd26a399ad011c33e387ce57df09b650dbd0f765c07932a8669aa02d56c023100ef6b9a5baf12c5f2f36e3e37b48a5be3cc5a4faa0f2119453baf3c53d137f996d320aadfda6a29c01b3852ca5eb1e5d4
# Deterministic Sig: 3065023100a8e8945d385a9d714221641c2b81fa9f91ae3b69d224b6bc2ea3e5f7a0574689b77d41d7cbc2bcb6721facdbcc43048e02305deac33df3802ef3d155d40c6c3b4fd7e80bef9adb6c116b116be1be0d20a6de63c87d0077ae6bcc869f8de1a39f0132
# secp521r1 (explicit, uncompressed public point)
# Random Sig: 308188024200deea308b86849dae0b633ebc8716db6a1d0ab37dc7db8bf89137070156d519c8c73c903532432b8e638cbcf0a07bfc9e56ddf59f4a7a67ef354d66d8cb71da8fef024201525a07cbcbe64ec1b454e65bb5d0a3b710e48084cc82157ad84b13e26bedd5c05dcb8610fe14bf65e153acdf3762016cf29a971394e00bd84588bdc71a28e431ff
# Deterministic Sig: 308188024200bb24671633bac15b7f1043d80ca88f7e982e2728510e9d3ce8871ede422407f95d1718fad50f3f9c41a4998391d3e2f1502f564602436bc60fcf28677b69c78d740242012fa4980e2366b53eebc1bbaee841d822caa6fbdb19cddd956d45d1e0a0234d4907eab6e9beb8e5572cb649bf386454c87824fc537bed0162118733821523bbbe1f
# sect113r1 (explicit, uncompressed public point)
# sect113r2 (explicit, uncompressed public point)
# sect131r1 (explicit, uncompressed public point)
# sect131r2 (explicit, uncompressed public point)
# sect163k1 (explicit, uncompressed public point)
# sect163r1 (explicit, uncompressed public point)
# sect163r2 (explicit, uncompressed public point)
# sect193r1 (explicit, uncompressed public point)
# sect193r2 (explicit, uncompressed public point)
# sect233k1 (explicit, uncompressed public point)
# sect233r1 (explicit, uncompressed public point)
# sect239k1 (explicit, uncompressed public point)
# sect283k1 (explicit, uncompressed public point)
# sect283r1 (explicit, uncompressed public point)
# sect409k1 (explicit, uncompressed public point)
# sect409r1 (explicit, uncompressed public point)
# sect571k1 (explicit, uncompressed public point)
# sect571r1 (explicit, uncompressed public point)
# wap-wsg-idm-ecid-wtls1 (explicit, uncompressed public point)
# wap-wsg-idm-ecid-wtls10 (explicit, uncompressed public point)
# wap-wsg-idm-ecid-wtls11 (explicit, uncompressed public point)
# wap-wsg-idm-ecid-wtls12 (explicit, uncompressed public point)
# Random Sig: 303d021d00cd739536112e6193d8dd02a4774e3cead68984e01162317973f48c7d021c061e7ea463b20b1f48ece0b94da010206303a9d4616626e765e34bce
# Deterministic Sig: 303c021c1e74617f518260401c395463753a5a21bc02b1ca96bcb68d9a9e82fe021c643957c79a142b50e08ad19262d9c441dd4bdffe07ffd7548cbf83d6
# wap-wsg-idm-ecid-wtls3 (explicit, uncompressed public point)
# wap-wsg-idm-ecid-wtls4 (explicit, uncompressed public point)
# wap-wsg-idm-ecid-wtls5 (explicit, uncompressed public point)
# wap-wsg-idm-ecid-wtls6 (explicit, uncompressed public point)
# wap-wsg-idm-ecid-wtls7 (explicit, uncompressed public point)
# Random Sig: 302c02142a141cf05f4ed19abab590013fa957d0ad558715021423c1a366ad755d5d34b1a65d79e833101c0eac4e
# Deterministic Sig: 302e021500c238260a610dc5898cd62efba5919696c2ead567021500974529cf7350fc9a36fac1bbfd6d9361b5fef285
# wap-wsg-idm-ecid-wtls8 (explicit, uncompressed public point)
# wap-wsg-idm-ecid-wtls9 (explicit, uncompressed public point)
# Random Sig: 302c02144d8e876b941333340e30b52799c7b400cb4879310214253575534860571b0d6c91060e1c295d803e0e14
# Deterministic Sig: 302c0214251d4b927eb9fac35d8270d5d0ef8af0e46ac2ad021437ed1195f7383184e2bd2a6a0fa3e8ea9f04c9b1
# brainpoolP160r1 (explicit, hybrid public point)
# Random Sig: 302e021500bcdcf8cb8beac13d3da6f66ed138cb394212b190021500b78c281fd381bfec67a2630474e5b6b3aebbd436
# Deterministic Sig: 302d02142df86c0d006b8309bae5e9ab7053555d5d21588302150095b1174ff254165e37ecd2dbcbce14abbeb7ee1e
# brainpoolP160t1 (explicit, hybrid public point)
# Random Sig: 302c02144d85d55ddb79e8847454fd4e337a746ea956ccc002140d15344542ff91b308368d6a7edb05a62facf471
# Deterministic Sig: 302e021500a3ad5cc60ea67951dc13e4312f62b951f380ca76021500c349507fa6b20d3bca1263f81d6d298539df20d3
# brainpoolP192r1 (explicit, hybrid public point)
# Random Sig: 30340218019a97fc76ef8067e8abeba9b2b59d648294c2667dc2e17402185cb8919f090fc81c0117379212ee471f1ef04925748c5d60
# Deterministic Sig: 30350219009c4becc1ec00e04aecd14f4b4cdecfcbb7d6f99c2bfc51dc021860348b705e4da803c340944f1dd69ca6c37cd717831a4d5f
# brainpoolP192t1 (explicit, hybrid public point)
# Random Sig: 3034021840febcfbcd540fad8e551b94f41e419e36a5fb15b9d39dc4021840ab796e47329eda5460a4a439195e8fd298d99f5780a198
# Deterministic Sig: 303502190081717feb376f77144134c0233c4c472e5686e8726a52505e02185f0d67c02ae73d2b36cfddf41dc8690007b029e3a468faba
# brainpoolP224r1 (explicit, hybrid public point)
# Random Sig: 303d021c5122e44e3664b3f2edb4f4cb6352599255bbbabf3dc42baa1cf222f8021d00853c3aae263dd3a90e1f36aa93ec33d154ac8ab6bb7f53f30215c30d
# Deterministic Sig: 303c021c053b2839c126229f3d1015f914ba5cc94031cb369c77cf7d1f884141021c4df62a5852289fc981a0ced011bf4ee95584fc9ebaeb9fb0149e8ee6
# brainpoolP224t1 (explicit, hybrid public point)
# Random Sig: 303d021d00a5c34665e543524f1198752ab35483bb385cf199fd070a5a13a280b1021c48124f77724fdb678bbe3c5e09e51fb561a6fd997d111edf169ad55c
# Deterministic Sig: 303d021c79ac5b26a19fdd6fdedfcedd0a1025d468e0d8a067e6fee076a06bfd021d00b6ae460bbd07e3628e19510a9e2da1c166ec0264a64ea03b52315108
# brainpoolP256r1 (explicit, hybrid public point)
# Random Sig: 304502201b5ee01f4ba2ee4f3915e8615338aa9856c0a889a68a7715ac1cf357340d4f3a0221009bd58fa35df716b114e55862e43395719f400b619ba0cc1a391e662b8c092e85
# Deterministic Sig: 3044022078b5a99d90be398c9f27daea1eeed542d429e0341eb1f22b165d13a806ccab5102200e35e0660a27d47a95854a8b7df59f9d50bbd6373e53364d90b014bec4383b69
# brainpoolP256t1 (explicit, hybrid public point)
# Random Sig: 3045022100a1d5c499ec3a0939552052d92303c06c5cbba52dd4d6c09e2201a22384634994022007790726c1add31f20b08433f880ae9a8f36c2c8f86b9213fc9c9efe82a5a96f
# Deterministic Sig: 304402201ea0708c162b5e939cdd547eb7cf3c51833a01c8d3aa090d042b6c12da4d105502205909f9bd3288713c537b73a4442804f19cbe66d221c750cb5688791a527be753
# brainpoolP320r1 (explicit, hybrid public point)
# Random Sig: 3055022900b33ba9c90fc01239710838f946ea7b14d100da5291eac5a1de4c62c49ff023916d14e96eb431c3a802282511129137b363d48b3d79d40904074d5a419513eaa30dafbf6929d63c81ef63cffa3f0dd9d90e73
# Deterministic Sig: 305402285bc888a25e3a4c2e134bedfef6a8f536d8874da40a8a229d1183f8beb5b80045e5a87779e4f15ee202284549bcf85b2b098b760617da2ea9857590b46ce0c4ede644ffc95866650c39d6da17bbfce6fad2ad
# brainpoolP320t1 (explicit, hybrid public point)
# Random Sig: 30540228405698a3876fb59b6f5045d682dc32d0de4a292e28ea0700f97889bab59cec0efc983c640208f17d02280c6e4e7934791d76cdca0fb61caa2df6503bd457be8bfde3254413c2a6e4dd72c5c8ba398189ebb9
# Deterministic Sig: 305402283b622ea3c92c7b51485afc3fb2507d8f0f37159cc4973da19863d07c8f96c15f92373396da5ecbb802284501d19373b1652284356e6fb3118dfd4598cc013a5a3f0e9aec90f69195d38f4e275e9b296eddec
# brainpoolP384r1 (explicit, hybrid public point)
# Random Sig: 3064023050826fd40b51f9c622860be34fadbad76a4bd6aafa17abb44409dd936a9fec384f709cf63cfdfd33e9cc29e1c424248402305135d4c231054c1ce29297c2b20ef2119c61ca5bbb588c673cfe0d1b4de81608c5966b92242be2b1cbd674d5900ceb44
# Deterministic Sig: 3064023034e09dd0336f11b7ee6e4214a45e4d540730efed6bbad5f1227f2034b80329f694cef94950b854916c1cfb680c375c53023047930f24e59fea26723569978fd1e16c672cb5462f461df7e4f72125b3c81e18edaca7a2d147e9a053176335f6bc165c
# brainpoolP384t1 (explicit, hybrid public point)
# Random Sig: 306402304696b68c1d66ac0a1aa2e0cda58ff515722f97f44c02df8e90382fd3c09ce56230d82e4cf1091f6addb2ce0387437c5c023044f2f5b256534a6dc25efe335e97bd0681606ad93746916c096c738a30e12ec8d1c40c117ba93d2c332cb72c34d4c1d7
# Deterministic Sig: 306402307c011ee78198d035846d51a1f5b36b932f6907790c86e33e9b826fa5e9e0058e8758792335a90e4fabcf037fb4764ec2023068387ffe419dc32de635c4c6372b8cf64030694afe7872e2ea2dccf180b1432ee2dd2862e97edce3693f68f47d281252
# brainpoolP512r1 (explicit, hybrid public point)
# Random Sig: 3081850240231e75d3a4422958d774dfb9d3aac6a29ea39bde712d5d5badeb7381d11cb3a8a00be4a863d2008fe52a0954b313a782a065b6457dc5b90260d4b7d9e47c42e00241008d74eed109109e8a6f6709e4e27e44a3e9ed1c354564893ee5fc9113545221b0556789349c434777bef4273303f6826a73870dc5354fc86a6078f0f80d80d2ce
# Deterministic Sig: 3081840240637df927a14b588882efbfb67914ea998ae45b9ed07e6aa0638b683782d0298dcd0c6f374ec5c0784b92376001d630049954d6eeae6cf9bb263330722f76adc40240089bdc55d66126dc08482d15caa6d5bc4c5dadd40c0f6d87136fa6a802b4d7f8db8497ab5949fbebfd79469c5d36e910803fbd265239072a32ba1a862e143fb1
# brainpoolP512t1 (explicit, hybrid public point)
# Random Sig: 30818402402b17967abaddff446c9ccd3f731689a4d3f4640c8cc032b8b0f00a5c3c1d06fc92d1f56cdfde8e3ebc7e25f03d6c824ccfca62695007eedcc3902262802becc002404862c717c35aadf5d3225663537269935c4d7ef88ed847f7018aef0d37cd1eb842b2a9a8f02baec6cdb4c7dd0fff7f5003a443e1f28ef422daa34623499be58d
# Deterministic Sig: 30818402400d5f8289fa8c6cfd504403ec000132860e4bc28dd78b1e4fc9ed2207d49df68ccdf916285e5312e18ec9e231fcaa0615a32abca8146d04534bf2c71da5e9a8e302406d87cbecae52721a6ca46efc17bb83ec1dc7ed0226e563df0926fccd4f068146eb83be30185545c4b6bff517a00f0c34a0b7e822855ec2455b3d23cceb876222
# c2pnb163v1 (explicit, hybrid public point)
# c2pnb163v2 (explicit, hybrid public point)
# c2pnb163v3 (explicit, hybrid public point)
# c2pnb176v1 (explicit, hybrid public point)
# c2pnb208w1 (explicit, hybrid public point)
# c2pnb272w1 (explicit, hybrid public point)
# c2pnb304w1 (explicit, hybrid public point)
# c2pnb368w1 (explicit, hybrid public point)
# c2tnb191v1 (explicit, hybrid public point)
# c2tnb191v2 (explicit, hybrid public point)
# c2tnb191v3 (explicit, hybrid public point)
# c2tnb239v1 (explicit, hybrid public point)
# c2tnb239v2 (explicit, hybrid public point)
# c2tnb239v3 (explicit, hybrid public point)
# c2tnb359v1 (explicit, hybrid public point)
# c2tnb431r1 (explicit, hybrid public point)
# prime192v1 (explicit, hybrid public point)
# Random Sig: 30350218676a3922ab519e34b81ca270b9e9ee5d3ffb309a1e5b056c02190081963caf72858628e1059f5d9c73aedfc428fbcff11c4fad
# Deterministic Sig: 303502187fad8fdecdff56be5af1b1873214a91b3dc1d4b523de3d250219009bdaeb2f8b9e62124d9da39af1cdd51ffd7a7ae6e48ea990
# prime192v2 (explicit, hybrid public point)
# Random Sig: 3036021900eb1fe4731887f4f76d403b2cc29d3072cd6d9f9932b3587a021900bbe576e30d1c644295691f88e731f14f0352e444486b1a30
# Deterministic Sig: 3034021810f30b113bc5a39741774dcf3040a3eaf8eab37b4a14f3b102187ce8acf1ed282075c2fcf18cc3512a8e994666c24571ef2e
# prime192v3 (explicit, hybrid public point)
# Random Sig: 303402187fa53575290b90365fc0743f7478b4041502d6d4206dcaa50218378226a099f491dd1255fb8b7c9edddb962e4c9500f634a5
# Deterministic Sig: 3035021900bb193af0b63648ff184bfb4865413ed516d863c5ca68fed2021840bcfa29e92b80c7380731aef3a862533f4ccd0ae126c361
# prime239v1 (explicit, hybrid public point)
# Random Sig: 3040021e038ea5f2cc5569e8841c818ec631ba3a6261854053bd73223941752b3a7b021e57e1aaa4ed24578dce9f5b838c334a9c1d34efd766403a95db2c2a572ce8
# Deterministic Sig: 3040021e128526a883ebb8478ed786af4bf1446630813c9f78faef77cf80c8f1f827021e690aa5c93da8e73632031a4d04b00cd4212b28c98b58237200805bed0cc4
# prime239v2 (explicit, hybrid public point)
# Random Sig: 3040021e27209c8d041b44ada50a45b6c2c89953466236add9cebf35464a69bbd513021e421c60a6a201140dc7cb542e2e3f62f6259744bff89ccc2b6672f56b0807
# Deterministic Sig: 3040021e33b89977706de343bb64fccef74c9f7a11bc74b63833c28d3a0a41054c7d021e4a20d319e87a2bb30835ebf97f2bf9075e4e062ef210693fb18b6eb4797a
# prime239v3 (explicit, hybrid public point)
# Random Sig: 3040021e71b6d0d9ae201c41686e98821fb59bad386ed319229959f8b006a78dd0e4021e33f8ca2d0400d4d30cfe3ff4c639d218d161fe315216bae741d76a2b9848
# Deterministic Sig: 3040021e6fdab24168d0dab69214af5880b0cfe0c2d3ff7cace58ac84beea81a4bd2021e0c0dd7d2aad324099ea800dee2d9536018b0d5a22854baf55630864adc46
# prime256v1 (explicit, hybrid public point)
# Random Sig: 3046022100a2383303cc3d61964f72ffe621b9f04163c72d0e02e635923efe77b59a82395b022100ac2b05fcf2994914b749ce5af06117edd2e183b43e00a36f34c1a3f3415a392e
# Deterministic Sig: 3045022007238c2593dca94f321c79052e141a77281278de402698ff44c8e73f3387bf1f022100da0c1859536a493e74d18507323d814af3a8f0c4a8f8ba7c4a4ceb345c371c3a
# secp112r1 (explicit, hybrid public point)
# secp112r2 (explicit, hybrid public point)
# secp128r1 (explicit, hybrid public point)
# secp128r2 (explicit, hybrid public point)
# secp160k1 (explicit, hybrid public point)
# Random Sig: 302d0215008c749f48f713c810f423006dc854bff29d2b0cb4021417618ba0d582bef283368337d422c4038bff59f3
# Deterministic Sig: 302c02145abb7997db2f39db11933c7c30d9c89e1da63a440214795029b9de2f416ad36287bf1fceb80f12190b3c
# secp160r1 (explicit, hybrid public point)
# Random Sig: 302d021500cfa6e9e03f8b70e3a95bcbab6e01189309848c44021420fe7b94fbbbd67ea3d138c95d1dba46b97ebc61
# Deterministic Sig: 302d021500b6e4ef27c633fa862667a7eb7617ad799f57c1bc0214266919df9d27e965c37d0d01d09871d49d81a320
# secp160r2 (explicit, hybrid public point)
# Random Sig: 302c021461089c7eaf970587704870ee5719ba612cde99b3021457f735fd34f60a6f0458871ddefa1652bcb20071
# Deterministic Sig: 302c02146c8c9fea77e883deda774043d329554a0944c1230214620d9f480b5c471af5ae59e844d6ccb67210396b
# secp192k1 (explicit, hybrid public point)
# Random Sig: 303502182f74f0b7620de9bbf8e3361b2725b6a1ebd2c656abac686e021900d49791817a576e71a03e83b20e01dc9997d440cc412186a4
# Deterministic Sig: 303402180e67708d906f6c29999f87ffccf471355c21f769aec4e55b02183532d56492a3b53591fadb5c8d75a286fc92c980c24cb8f5
# secp224k1 (explicit, hybrid public point)
# Random Sig: 303d021c4aa8d8301131eb0698d9b075f66c9600ae3dc6f6e4aa480f0617f50a021d00b6466116d0135289a1e20c637cd51f21f6b1857e434b72f1a980d476
# Deterministic Sig: 303c021b3ff5593122d138e537277d0fd52aee24b4db36f8fa72bd84491c97021d00a0764c8b558d08cddbbf7e5d1575324c0aeb2807604262d2659a3232
# secp224r1 (explicit, hybrid public point)
# Random Sig: 303d021c1200fad41363666f55a50b526e40b87e3919aa8f0c5b3669a031ada0021d00e1a895af00bead02a8d89e30bf926abf87cc22da5e618ef696e2f5e3
# Deterministic Sig: 303d021c7543efe308fb739267b216249679e12eed10a15f35aecc0153153f54021d00d4ffb1b4184786f7adbcaa388de80b42f756271d4fd7a0db980c7bb9
# secp256k1 (explicit, hybrid public point)
# Random Sig: 304402203b4672d7558f6a754bc87f282be689ac6c31dd61502b74ddc4171d2e368abd9a0220094d5985ad22362b3839685f2537de82139176260165bfe5228301965b8d07f7
# Deterministic Sig: 304502206ad77d4926639102b7954aceef53e35fe5198a4c61914c6c76f7a3c56a6830bf0221008099315f42fc690f0c14ee6449a3700267479c8a58b9386272ecc806427a4981
# secp384r1 (explicit, hybrid public point)
# Random Sig: 3065023100b4274b40ecfffaac523504b776e769a5bc93a5e6208a4b31b74b5c96cf74a26c42d662d20865c787b2aa6ac33567135c023015d7acc44c3402474bcc0ffebeb5848786a3efbe5964174738f0000c19fed2188b6f94076fbd38012e69ef4f442bcc1b
# Deterministic Sig: 30660231009617e2e495691bdd435b3d8b7ecff31d2690be736edd2a8373b716ee4d98c44186817b9182062477b3104ee3fa045eeb023100b2f197c3d23c53643efc5410321462a72be0cf1d2187f6231df88c3bf81eec054ce7c4c749eb5b1480d59ac5f347ba14
# secp521r1 (explicit, hybrid public point)
# Random Sig: 308188024200850de070493239e77a89e16d7079bf620905f222de80f67535188dc21d4253d12ef24066a157a896e370c0c926b63225419868959b88c76c0dae12a12f388477b0024200a76630b4c9d4c61ab3cc2d402126b068e172fa69ed1418ff40a4eb502adda18b904219376f5a9514ce5e74cec71a6692c934a36d813c29d57541240781ad808467
# Deterministic Sig: 308187024168e48b48a7ab9a63b8f7acaf4844c460fc3ae927b4190374d8d826b1ce74359a5eac342b03e302d8fe8eb5d01dc3b6f6881a329e6aae384849b0d27cb8c09e6efc02420110212dea759385f22659c060dadb42ee55bf845a6f368f9abb3e1d5a34ec4e129dcbbf1e32f3b1b685f251a29a2eca97d86cf7534c88bd4ffe8516406050375a57
# sect113r1 (explicit, hybrid public point)
# sect113r2 (explicit, hybrid public point)
# sect131r1 (explicit, hybrid public point)
# sect131r2 (explicit, hybrid public point)
# sect163k1 (explicit, hybrid public point)
# sect163r1 (explicit, hybrid public point)
# sect163r2 (explicit, hybrid public point)
# sect193r1 (explicit, hybrid public point)
# sect193r2 (explicit, hybrid public point)
# sect233k1 (explicit, hybrid public point)
# sect233r1 (explicit, hybrid public point)
# sect239k1 (explicit, hybrid public point)
# sect283k1 (explicit, hybrid public point)
# sect283r1 (explicit, hybrid public point)
# sect409k1 (explicit, hybrid public point)
# sect409r1 (explicit, hybrid public point)
# sect571k1 (explicit, hybrid public point)
# sect571r1 (explicit, hybrid public point)
# wap-wsg-idm-ecid-wtls1 (explicit, hybrid public point)
# wap-wsg-idm-ecid-wtls10 (explicit, hybrid public point)
# wap-wsg-idm-ecid-wtls11 (explicit, hybrid public point)
# wap-wsg-idm-ecid-wtls12 (explicit, hybrid public point)
# Random Sig: 303d021d008eec50c0acfed134d4c82b67d97044e1f6fd1d05c5052a67de7c800f021c67740f1c22312969376f0f2cee61663f27fb924fe860db11face72e1
# Deterministic Sig: 303d021d00f939f079990dd0d92251a4086158ca3cc608aae7d9b28de5e39839df021c096be25576901d0992e2424de269a327aba61770e0fb9d4380a6db0f
# wap-wsg-idm-ecid-wtls3 (explicit, hybrid public point)
# wap-wsg-idm-ecid-wtls4 (explicit, hybrid public point)
# wap-wsg-idm-ecid-wtls5 (explicit, hybrid public point)
# wap-wsg-idm-ecid-wtls6 (explicit, hybrid public point)
# wap-wsg-idm-ecid-wtls7 (explicit, hybrid public point)
# Random Sig: 302d021500c03a0364f5c43dc479e55e14e215cf65d0b04b5202142552e7f679cda257a602aa6cdd5cc33097de455d
# Deterministic Sig: 302d02143d0aa93879164090d766a6b9bcd7c23d2c8bdb14021500d62a94331711500c383d1583918d4a9b2b0cec03
# wap-wsg-idm-ecid-wtls8 (explicit, hybrid public point)
# wap-wsg-idm-ecid-wtls9 (explicit, hybrid public point)
# Random Sig: 302e021500f124fd6af87063203d589783b62f7988a115cb04021500a84f8e440969f48369a4e3b98c803c12f30ec6ff
# Deterministic Sig: 302d02140f61d04540f385e5f1ec51548287b253dbfb3ab4021500a1ff19387d019e623c61088eaa5bafc60be45a0a
# {
#   'c2pnb163v1 (explicit, compressed public point)' => 'Crypt::Perl::X::ECDSA::CharacteristicTwoUnsupported',
#   'c2pnb163v1 (explicit, hybrid public point)' => 'Crypt::Perl::X::ECDSA::CharacteristicTwoUnsupported',
#   'c2pnb163v1 (explicit, uncompressed public point)' => 'Crypt::Perl::X::ECDSA::CharacteristicTwoUnsupported',
#   'c2pnb163v1 (named_curve, compressed public point)' => 'Crypt::Perl::X::ECDSA::NoCurveForOID',
#   'c2pnb163v1 (named_curve, hybrid public point)' => 'Crypt::Perl::X::ECDSA::NoCurveForOID',
#   'c2pnb163v1 (named_curve, uncompressed public point)' => 'Crypt::Perl::X::ECDSA::NoCurveForOID',
#   'c2pnb163v2 (explicit, compressed public point)' => 'Crypt::Perl::X::ECDSA::CharacteristicTwoUnsupported',
#   'c2pnb163v2 (explicit, hybrid public point)' => 'Crypt::Perl::X::ECDSA::CharacteristicTwoUnsupported',
#   'c2pnb163v2 (explicit, uncompressed public point)' => 'Crypt::Perl::X::ECDSA::CharacteristicTwoUnsupported',
#   'c2pnb163v2 (named_curve, compressed public point)' => 'Crypt::Perl::X::ECDSA::NoCurveForOID',
#   'c2pnb163v2 (named_curve, hybrid public point)' => 'Crypt::Perl::X::ECDSA::NoCurveForOID',
#   'c2pnb163v2 (named_curve, uncompressed public point)' => 'Crypt::Perl::X::ECDSA::NoCurveForOID',
#   'c2pnb163v3 (explicit, compressed public point)' => 'Crypt::Perl::X::ECDSA::CharacteristicTwoUnsupported',
#   'c2pnb163v3 (explicit, hybrid public point)' => 'Crypt::Perl::X::ECDSA::CharacteristicTwoUnsupported',
#   'c2pnb163v3 (explicit, uncompressed public point)' => 'Crypt::Perl::X::ECDSA::CharacteristicTwoUnsupported',
#   'c2pnb163v3 (named_curve, compressed public point)' => 'Crypt::Perl::X::ECDSA::NoCurveForOID',
#   'c2pnb163v3 (named_curve, hybrid public point)' => 'Crypt::Perl::X::ECDSA::NoCurveForOID',
#   'c2pnb163v3 (named_curve, uncompressed public point)' => 'Crypt::Perl::X::ECDSA::NoCurveForOID',
#   'c2pnb176v1 (explicit, compressed public point)' => 'Crypt::Perl::X::ECDSA::CharacteristicTwoUnsupported',
#   'c2pnb176v1 (explicit, hybrid public point)' => 'Crypt::Perl::X::ECDSA::CharacteristicTwoUnsupported',
#   'c2pnb176v1 (explicit, uncompressed public point)' => 'Crypt::Perl::X::ECDSA::CharacteristicTwoUnsupported',
#   'c2pnb176v1 (named_curve, compressed public point)' => 'Crypt::Perl::X::ECDSA::NoCurveForOID',
#   'c2pnb176v1 (named_curve, hybrid public point)' => 'Crypt::Perl::X::ECDSA::NoCurveForOID',
#   'c2pnb176v1 (named_curve, uncompressed public point)' => 'Crypt::Perl::X::ECDSA::NoCurveForOID',
#   'c2pnb208w1 (explicit, compressed public point)' => 'Crypt::Perl::X::ECDSA::CharacteristicTwoUnsupported',
#   'c2pnb208w1 (explicit, hybrid public point)' => 'Crypt::Perl::X::ECDSA::CharacteristicTwoUnsupported',
#   'c2pnb208w1 (explicit, uncompressed public point)' => 'Crypt::Perl::X::ECDSA::CharacteristicTwoUnsupported',
#   'c2pnb208w1 (named_curve, compressed public point)' => 'Crypt::Perl::X::ECDSA::NoCurveForOID',
#   'c2pnb208w1 (named_curve, hybrid public point)' => 'Crypt::Perl::X::ECDSA::NoCurveForOID',
#   'c2pnb208w1 (named_curve, uncompressed public point)' => 'Crypt::Perl::X::ECDSA::NoCurveForOID',
#   'c2pnb272w1 (explicit, compressed public point)' => 'Crypt::Perl::X::ECDSA::CharacteristicTwoUnsupported',
#   'c2pnb272w1 (explicit, hybrid public point)' => 'Crypt::Perl::X::ECDSA::CharacteristicTwoUnsupported',
#   'c2pnb272w1 (explicit, uncompressed public point)' => 'Crypt::Perl::X::ECDSA::CharacteristicTwoUnsupported',
#   'c2pnb272w1 (named_curve, compressed public point)' => 'Crypt::Perl::X::ECDSA::NoCurveForOID',
#   'c2pnb272w1 (named_curve, hybrid public point)' => 'Crypt::Perl::X::ECDSA::NoCurveForOID',
#   'c2pnb272w1 (named_curve, uncompressed public point)' => 'Crypt::Perl::X::ECDSA::NoCurveForOID',
#   'c2pnb304w1 (explicit, compressed public point)' => 'Crypt::Perl::X::ECDSA::CharacteristicTwoUnsupported',
#   'c2pnb304w1 (explicit, hybrid public point)' => 'Crypt::Perl::X::ECDSA::CharacteristicTwoUnsupported',
#   'c2pnb304w1 (explicit, uncompressed public point)' => 'Crypt::Perl::X::ECDSA::CharacteristicTwoUnsupported',
#   'c2pnb304w1 (named_curve, compressed public point)' => 'Crypt::Perl::X::ECDSA::NoCurveForOID',
#   'c2pnb304w1 (named_curve, hybrid public point)' => 'Crypt::Perl::X::ECDSA::NoCurveForOID',
#   'c2pnb304w1 (named_curve, uncompressed public point)' => 'Crypt::Perl::X::ECDSA::NoCurveForOID',
#   'c2pnb368w1 (explicit, compressed public point)' => 'Crypt::Perl::X::ECDSA::CharacteristicTwoUnsupported',
#   'c2pnb368w1 (explicit, hybrid public point)' => 'Crypt::Perl::X::ECDSA::CharacteristicTwoUnsupported',
#   'c2pnb368w1 (explicit, uncompressed public point)' => 'Crypt::Perl::X::ECDSA::CharacteristicTwoUnsupported',
#   'c2pnb368w1 (named_curve, compressed public point)' => 'Crypt::Perl::X::ECDSA::NoCurveForOID',
#   'c2pnb368w1 (named_curve, hybrid public point)' => 'Crypt::Perl::X::ECDSA::NoCurveForOID',
#   'c2pnb368w1 (named_curve, uncompressed public point)' => 'Crypt::Perl::X::ECDSA::NoCurveForOID',
#   'c2tnb191v1 (explicit, compressed public point)' => 'Crypt::Perl::X::ECDSA::CharacteristicTwoUnsupported',
#   'c2tnb191v1 (explicit, hybrid public point)' => 'Crypt::Perl::X::ECDSA::CharacteristicTwoUnsupported',
#   'c2tnb191v1 (explicit, uncompressed public point)' => 'Crypt::Perl::X::ECDSA::CharacteristicTwoUnsupported',
#   'c2tnb191v1 (named_curve, compressed public point)' => 'Crypt::Perl::X::ECDSA::NoCurveForOID',
#   'c2tnb191v1 (named_curve, hybrid public point)' => 'Crypt::Perl::X::ECDSA::NoCurveForOID',
#   'c2tnb191v1 (named_curve, uncompressed public point)' => 'Crypt::Perl::X::ECDSA::NoCurveForOID',
#   'c2tnb191v2 (explicit, compressed public point)' => 'Crypt::Perl::X::ECDSA::CharacteristicTwoUnsupported',
#   'c2tnb191v2 (explicit, hybrid public point)' => 'Crypt::Perl::X::ECDSA::CharacteristicTwoUnsupported',
#   'c2tnb191v2 (explicit, uncompressed public point)' => 'Crypt::Perl::X::ECDSA::CharacteristicTwoUnsupported',
#   'c2tnb191v2 (named_curve, compressed public point)' => 'Crypt::Perl::X::ECDSA::NoCurveForOID',
#   'c2tnb191v2 (named_curve, hybrid public point)' => 'Crypt::Perl::X::ECDSA::NoCurveForOID',
#   'c2tnb191v2 (named_curve, uncompressed public point)' => 'Crypt::Perl::X::ECDSA::NoCurveForOID',
#   'c2tnb191v3 (explicit, compressed public point)' => 'Crypt::Perl::X::ECDSA::CharacteristicTwoUnsupported',
#   'c2tnb191v3 (explicit, hybrid public point)' => 'Crypt::Perl::X::ECDSA::CharacteristicTwoUnsupported',
#   'c2tnb191v3 (explicit, uncompressed public point)' => 'Crypt::Perl::X::ECDSA::CharacteristicTwoUnsupported',
#   'c2tnb191v3 (named_curve, compressed public point)' => 'Crypt::Perl::X::ECDSA::NoCurveForOID',
#   'c2tnb191v3 (named_curve, hybrid public point)' => 'Crypt::Perl::X::ECDSA::NoCurveForOID',
#   'c2tnb191v3 (named_curve, uncompressed public point)' => 'Crypt::Perl::X::ECDSA::NoCurveForOID',
#   'c2tnb239v1 (explicit, compressed public point)' => 'Crypt::Perl::X::ECDSA::CharacteristicTwoUnsupported',
#   'c2tnb239v1 (explicit, hybrid public point)' => 'Crypt::Perl::X::ECDSA::CharacteristicTwoUnsupported',
#   'c2tnb239v1 (explicit, uncompressed public point)' => 'Crypt::Perl::X::ECDSA::CharacteristicTwoUnsupported',
#   'c2tnb239v1 (named_curve, compressed public point)' => 'Crypt::Perl::X::ECDSA::NoCurveForOID',
#   'c2tnb239v1 (named_curve, hybrid public point)' => 'Crypt::Perl::X::ECDSA::NoCurveForOID',
#   'c2tnb239v1 (named_curve, uncompressed public point)' => 'Crypt::Perl::X::ECDSA::NoCurveForOID',
#   'c2tnb239v2 (explicit, compressed public point)' => 'Crypt::Perl::X::ECDSA::CharacteristicTwoUnsupported',
#   'c2tnb239v2 (explicit, hybrid public point)' => 'Crypt::Perl::X::ECDSA::CharacteristicTwoUnsupported',
#   'c2tnb239v2 (explicit, uncompressed public point)' => 'Crypt::Perl::X::ECDSA::CharacteristicTwoUnsupported',
#   'c2tnb239v2 (named_curve, compressed public point)' => 'Crypt::Perl::X::ECDSA::NoCurveForOID',
#   'c2tnb239v2 (named_curve, hybrid public point)' => 'Crypt::Perl::X::ECDSA::NoCurveForOID',
#   'c2tnb239v2 (named_curve, uncompressed public point)' => 'Crypt::Perl::X::ECDSA::NoCurveForOID',
#   'c2tnb239v3 (explicit, compressed public point)' => 'Crypt::Perl::X::ECDSA::CharacteristicTwoUnsupported',
#   'c2tnb239v3 (explicit, hybrid public point)' => 'Crypt::Perl::X::ECDSA::CharacteristicTwoUnsupported',
#   'c2tnb239v3 (explicit, uncompressed public point)' => 'Crypt::Perl::X::ECDSA::CharacteristicTwoUnsupported',
#   'c2tnb239v3 (named_curve, compressed public point)' => 'Crypt::Perl::X::ECDSA::NoCurveForOID',
#   'c2tnb239v3 (named_curve, hybrid public point)' => 'Crypt::Perl::X::ECDSA::NoCurveForOID',
#   'c2tnb239v3 (named_curve, uncompressed public point)' => 'Crypt::Perl::X::ECDSA::NoCurveForOID',
#   'c2tnb359v1 (explicit, compressed public point)' => 'Crypt::Perl::X::ECDSA::CharacteristicTwoUnsupported',
#   'c2tnb359v1 (explicit, hybrid public point)' => 'Crypt::Perl::X::ECDSA::CharacteristicTwoUnsupported',
#   'c2tnb359v1 (explicit, uncompressed public point)' => 'Crypt::Perl::X::ECDSA::CharacteristicTwoUnsupported',
#   'c2tnb359v1 (named_curve, compressed public point)' => 'Crypt::Perl::X::ECDSA::NoCurveForOID',
#   'c2tnb359v1 (named_curve, hybrid public point)' => 'Crypt::Perl::X::ECDSA::NoCurveForOID',
#   'c2tnb359v1 (named_curve, uncompressed public point)' => 'Crypt::Perl::X::ECDSA::NoCurveForOID',
#   'c2tnb431r1 (explicit, compressed public point)' => 'Crypt::Perl::X::ECDSA::CharacteristicTwoUnsupported',
#   'c2tnb431r1 (explicit, hybrid public point)' => 'Crypt::Perl::X::ECDSA::CharacteristicTwoUnsupported',
#   'c2tnb431r1 (explicit, uncompressed public point)' => 'Crypt::Perl::X::ECDSA::CharacteristicTwoUnsupported',
#   'c2tnb431r1 (named_curve, compressed public point)' => 'Crypt::Perl::X::ECDSA::NoCurveForOID',
#   'c2tnb431r1 (named_curve, hybrid public point)' => 'Crypt::Perl::X::ECDSA::NoCurveForOID',
#   'c2tnb431r1 (named_curve, uncompressed public point)' => 'Crypt::Perl::X::ECDSA::NoCurveForOID',
#   'secp112r1 (explicit, compressed public point)' => 'Crypt::Perl::X::TooLongToSign',
#   'secp112r1 (explicit, hybrid public point)' => 'Crypt::Perl::X::TooLongToSign',
#   'secp112r1 (explicit, uncompressed public point)' => 'Crypt::Perl::X::TooLongToSign',
#   'secp112r1 (named_curve, compressed public point)' => 'Crypt::Perl::X::TooLongToSign',
#   'secp112r1 (named_curve, hybrid public point)' => 'Crypt::Perl::X::TooLongToSign',
#   'secp112r1 (named_curve, uncompressed public point)' => 'Crypt::Perl::X::TooLongToSign',
#   'secp112r2 (explicit, compressed public point)' => 'Crypt::Perl::X::TooLongToSign',
#   'secp112r2 (explicit, hybrid public point)' => 'Crypt::Perl::X::TooLongToSign',
#   'secp112r2 (explicit, uncompressed public point)' => 'Crypt::Perl::X::TooLongToSign',
#   'secp112r2 (named_curve, compressed public point)' => 'Crypt::Perl::X::TooLongToSign',
#   'secp112r2 (named_curve, hybrid public point)' => 'Crypt::Perl::X::TooLongToSign',
#   'secp112r2 (named_curve, uncompressed public point)' => 'Crypt::Perl::X::TooLongToSign',
#   'secp128r1 (explicit, compressed public point)' => 'Crypt::Perl::X::TooLongToSign',
#   'secp128r1 (explicit, hybrid public point)' => 'Crypt::Perl::X::TooLongToSign',
#   'secp128r1 (explicit, uncompressed public point)' => 'Crypt::Perl::X::TooLongToSign',
#   'secp128r1 (named_curve, compressed public point)' => 'Crypt::Perl::X::TooLongToSign',
#   'secp128r1 (named_curve, hybrid public point)' => 'Crypt::Perl::X::TooLongToSign',
#   'secp128r1 (named_curve, uncompressed public point)' => 'Crypt::Perl::X::TooLongToSign',
#   'secp128r2 (explicit, compressed public point)' => 'Crypt::Perl::X::TooLongToSign',
#   'secp128r2 (explicit, hybrid public point)' => 'Crypt::Perl::X::TooLongToSign',
#   'secp128r2 (explicit, uncompressed public point)' => 'Crypt::Perl::X::TooLongToSign',
#   'secp128r2 (named_curve, compressed public point)' => 'Crypt::Perl::X::TooLongToSign',
#   'secp128r2 (named_curve, hybrid public point)' => 'Crypt::Perl::X::TooLongToSign',
#   'secp128r2 (named_curve, uncompressed public point)' => 'Crypt::Perl::X::TooLongToSign',
#   'sect113r1 (explicit, compressed public point)' => 'Crypt::Perl::X::ECDSA::CharacteristicTwoUnsupported',
#   'sect113r1 (explicit, hybrid public point)' => 'Crypt::Perl::X::ECDSA::CharacteristicTwoUnsupported',
#   'sect113r1 (explicit, uncompressed public point)' => 'Crypt::Perl::X::ECDSA::CharacteristicTwoUnsupported',
#   'sect113r1 (named_curve, compressed public point)' => 'Crypt::Perl::X::ECDSA::NoCurveForOID',
#   'sect113r1 (named_curve, hybrid public point)' => 'Crypt::Perl::X::ECDSA::NoCurveForOID',
#   'sect113r1 (named_curve, uncompressed public point)' => 'Crypt::Perl::X::ECDSA::NoCurveForOID',
#   'sect113r2 (explicit, compressed public point)' => 'Crypt::Perl::X::ECDSA::CharacteristicTwoUnsupported',
#   'sect113r2 (explicit, hybrid public point)' => 'Crypt::Perl::X::ECDSA::CharacteristicTwoUnsupported',
#   'sect113r2 (explicit, uncompressed public point)' => 'Crypt::Perl::X::ECDSA::CharacteristicTwoUnsupported',
#   'sect113r2 (named_curve, compressed public point)' => 'Crypt::Perl::X::ECDSA::NoCurveForOID',
#   'sect113r2 (named_curve, hybrid public point)' => 'Crypt::Perl::X::ECDSA::NoCurveForOID',
#   'sect113r2 (named_curve, uncompressed public point)' => 'Crypt::Perl::X::ECDSA::NoCurveForOID',
#   'sect131r1 (explicit, compressed public point)' => 'Crypt::Perl::X::ECDSA::CharacteristicTwoUnsupported',
#   'sect131r1 (explicit, hybrid public point)' => 'Crypt::Perl::X::ECDSA::CharacteristicTwoUnsupported',
#   'sect131r1 (explicit, uncompressed public point)' => 'Crypt::Perl::X::ECDSA::CharacteristicTwoUnsupported',
#   'sect131r1 (named_curve, compressed public point)' => 'Crypt::Perl::X::ECDSA::NoCurveForOID',
#   'sect131r1 (named_curve, hybrid public point)' => 'Crypt::Perl::X::ECDSA::NoCurveForOID',
#   'sect131r1 (named_curve, uncompressed public point)' => 'Crypt::Perl::X::ECDSA::NoCurveForOID',
#   'sect131r2 (explicit, compressed public point)' => 'Crypt::Perl::X::ECDSA::CharacteristicTwoUnsupported',
#   'sect131r2 (explicit, hybrid public point)' => 'Crypt::Perl::X::ECDSA::CharacteristicTwoUnsupported',
#   'sect131r2 (explicit, uncompressed public point)' => 'Crypt::Perl::X::ECDSA::CharacteristicTwoUnsupported',
#   'sect131r2 (named_curve, compressed public point)' => 'Crypt::Perl::X::ECDSA::NoCurveForOID',
#   'sect131r2 (named_curve, hybrid public point)' => 'Crypt::Perl::X::ECDSA::NoCurveForOID',
#   'sect131r2 (named_curve, uncompressed public point)' => 'Crypt::Perl::X::ECDSA::NoCurveForOID',
#   'sect163k1 (explicit, compressed public point)' => 'Crypt::Perl::X::ECDSA::CharacteristicTwoUnsupported',
#   'sect163k1 (explicit, hybrid public point)' => 'Crypt::Perl::X::ECDSA::CharacteristicTwoUnsupported',
#   'sect163k1 (explicit, uncompressed public point)' => 'Crypt::Perl::X::ECDSA::CharacteristicTwoUnsupported',
#   'sect163k1 (named_curve, compressed public point)' => 'Crypt::Perl::X::ECDSA::NoCurveForOID',
#   'sect163k1 (named_curve, hybrid public point)' => 'Crypt::Perl::X::ECDSA::NoCurveForOID',
#   'sect163k1 (named_curve, uncompressed public point)' => 'Crypt::Perl::X::ECDSA::NoCurveForOID',
#   'sect163r1 (explicit, compressed public point)' => 'Crypt::Perl::X::ECDSA::CharacteristicTwoUnsupported',
#   'sect163r1 (explicit, hybrid public point)' => 'Crypt::Perl::X::ECDSA::CharacteristicTwoUnsupported',
#   'sect163r1 (explicit, uncompressed public point)' => 'Crypt::Perl::X::ECDSA::CharacteristicTwoUnsupported',
#   'sect163r1 (named_curve, compressed public point)' => 'Crypt::Perl::X::ECDSA::NoCurveForOID',
#   'sect163r1 (named_curve, hybrid public point)' => 'Crypt::Perl::X::ECDSA::NoCurveForOID',
#   'sect163r1 (named_curve, uncompressed public point)' => 'Crypt::Perl::X::ECDSA::NoCurveForOID',
#   'sect163r2 (explicit, compressed public point)' => 'Crypt::Perl::X::ECDSA::CharacteristicTwoUnsupported',
#   'sect163r2 (explicit, hybrid public point)' => 'Crypt::Perl::X::ECDSA::CharacteristicTwoUnsupported',
#   'sect163r2 (explicit, uncompressed public point)' => 'Crypt::Perl::X::ECDSA::CharacteristicTwoUnsupported',
#   'sect163r2 (named_curve, compressed public point)' => 'Crypt::Perl::X::ECDSA::NoCurveForOID',
#   'sect163r2 (named_curve, hybrid public point)' => 'Crypt::Perl::X::ECDSA::NoCurveForOID',
#   'sect163r2 (named_curve, uncompressed public point)' => 'Crypt::Perl::X::ECDSA::NoCurveForOID',
#   'sect193r1 (explicit, compressed public point)' => 'Crypt::Perl::X::ECDSA::CharacteristicTwoUnsupported',
#   'sect193r1 (explicit, hybrid public point)' => 'Crypt::Perl::X::ECDSA::CharacteristicTwoUnsupported',
#   'sect193r1 (explicit, uncompressed public point)' => 'Crypt::Perl::X::ECDSA::CharacteristicTwoUnsupported',
#   'sect193r1 (named_curve, compressed public point)' => 'Crypt::Perl::X::ECDSA::NoCurveForOID',
#   'sect193r1 (named_curve, hybrid public point)' => 'Crypt::Perl::X::ECDSA::NoCurveForOID',
#   'sect193r1 (named_curve, uncompressed public point)' => 'Crypt::Perl::X::ECDSA::NoCurveForOID',
#   'sect193r2 (explicit, compressed public point)' => 'Crypt::Perl::X::ECDSA::CharacteristicTwoUnsupported',
#   'sect193r2 (explicit, hybrid public point)' => 'Crypt::Perl::X::ECDSA::CharacteristicTwoUnsupported',
#   'sect193r2 (explicit, uncompressed public point)' => 'Crypt::Perl::X::ECDSA::CharacteristicTwoUnsupported',
#   'sect193r2 (named_curve, compressed public point)' => 'Crypt::Perl::X::ECDSA::NoCurveForOID',
#   'sect193r2 (named_curve, hybrid public point)' => 'Crypt::Perl::X::ECDSA::NoCurveForOID',
#   'sect193r2 (named_curve, uncompressed public point)' => 'Crypt::Perl::X::ECDSA::NoCurveForOID',
#   'sect233k1 (explicit, compressed public point)' => 'Crypt::Perl::X::ECDSA::CharacteristicTwoUnsupported',
#   'sect233k1 (explicit, hybrid public point)' => 'Crypt::Perl::X::ECDSA::CharacteristicTwoUnsupported',
#   'sect233k1 (explicit, uncompressed public point)' => 'Crypt::Perl::X::ECDSA::CharacteristicTwoUnsupported',
#   'sect233k1 (named_curve, compressed public point)' => 'Crypt::Perl::X::ECDSA::NoCurveForOID',
#   'sect233k1 (named_curve, hybrid public point)' => 'Crypt::Perl::X::ECDSA::NoCurveForOID',
#   'sect233k1 (named_curve, uncompressed public point)' => 'Crypt::Perl::X::ECDSA::NoCurveForOID',
#   'sect233r1 (explicit, compressed public point)' => 'Crypt::Perl::X::ECDSA::CharacteristicTwoUnsupported',
#   'sect233r1 (explicit, hybrid public point)' => 'Crypt::Perl::X::ECDSA::CharacteristicTwoUnsupported',
#   'sect233r1 (explicit, uncompressed public point)' => 'Crypt::Perl::X::ECDSA::CharacteristicTwoUnsupported',
#   'sect233r1 (named_curve, compressed public point)' => 'Crypt::Perl::X::ECDSA::NoCurveForOID',
#   'sect233r1 (named_curve, hybrid public point)' => 'Crypt::Perl::X::ECDSA::NoCurveForOID',
#   'sect233r1 (named_curve, uncompressed public point)' => 'Crypt::Perl::X::ECDSA::NoCurveForOID',
#   'sect239k1 (explicit, compressed public point)' => 'Crypt::Perl::X::ECDSA::CharacteristicTwoUnsupported',
#   'sect239k1 (explicit, hybrid public point)' => 'Crypt::Perl::X::ECDSA::CharacteristicTwoUnsupported',
#   'sect239k1 (explicit, uncompressed public point)' => 'Crypt::Perl::X::ECDSA::CharacteristicTwoUnsupported',
#   'sect239k1 (named_curve, compressed public point)' => 'Crypt::Perl::X::ECDSA::NoCurveForOID',
#   'sect239k1 (named_curve, hybrid public point)' => 'Crypt::Perl::X::ECDSA::NoCurveForOID',
#   'sect239k1 (named_curve, uncompressed public point)' => 'Crypt::Perl::X::ECDSA::NoCurveForOID',
#   'sect283k1 (explicit, compressed public point)' => 'Crypt::Perl::X::ECDSA::CharacteristicTwoUnsupported',
#   'sect283k1 (explicit, hybrid public point)' => 'Crypt::Perl::X::ECDSA::CharacteristicTwoUnsupported',
#   'sect283k1 (explicit, uncompressed public point)' => 'Crypt::Perl::X::ECDSA::CharacteristicTwoUnsupported',
#   'sect283k1 (named_curve, compressed public point)' => 'Crypt::Perl::X::ECDSA::NoCurveForOID',
#   'sect283k1 (named_curve, hybrid public point)' => 'Crypt::Perl::X::ECDSA::NoCurveForOID',
#   'sect283k1 (named_curve, uncompressed public point)' => 'Crypt::Perl::X::ECDSA::NoCurveForOID',
#   'sect283r1 (explicit, compressed public point)' => 'Crypt::Perl::X::ECDSA::CharacteristicTwoUnsupported',
#   'sect283r1 (explicit, hybrid public point)' => 'Crypt::Perl::X::ECDSA::CharacteristicTwoUnsupported',
#   'sect283r1 (explicit, uncompressed public point)' => 'Crypt::Perl::X::ECDSA::CharacteristicTwoUnsupported',
#   'sect283r1 (named_curve, compressed public point)' => 'Crypt::Perl::X::ECDSA::NoCurveForOID',
#   'sect283r1 (named_curve, hybrid public point)' => 'Crypt::Perl::X::ECDSA::NoCurveForOID',
#   'sect283r1 (named_curve, uncompressed public point)' => 'Crypt::Perl::X::ECDSA::NoCurveForOID',
#   'sect409k1 (explicit, compressed public point)' => 'Crypt::Perl::X::ECDSA::CharacteristicTwoUnsupported',
#   'sect409k1 (explicit, hybrid public point)' => 'Crypt::Perl::X::ECDSA::CharacteristicTwoUnsupported',
#   'sect409k1 (explicit, uncompressed public point)' => 'Crypt::Perl::X::ECDSA::CharacteristicTwoUnsupported',
#   'sect409k1 (named_curve, compressed public point)' => 'Crypt::Perl::X::ECDSA::NoCurveForOID',
#   'sect409k1 (named_curve, hybrid public point)' => 'Crypt::Perl::X::ECDSA::NoCurveForOID',
#   'sect409k1 (named_curve, uncompressed public point)' => 'Crypt::Perl::X::ECDSA::NoCurveForOID',
#   'sect409r1 (explicit, compressed public point)' => 'Crypt::Perl::X::ECDSA::CharacteristicTwoUnsupported',
#   'sect409r1 (explicit, hybrid public point)' => 'Crypt::Perl::X::ECDSA::CharacteristicTwoUnsupported',
#   'sect409r1 (explicit, uncompressed public point)' => 'Crypt::Perl::X::ECDSA::CharacteristicTwoUnsupported',
#   'sect409r1 (named_curve, compressed public point)' => 'Crypt::Perl::X::ECDSA::NoCurveForOID',
#   'sect409r1 (named_curve, hybrid public point)' => 'Crypt::Perl::X::ECDSA::NoCurveForOID',
#   'sect409r1 (named_curve, uncompressed public point)' => 'Crypt::Perl::X::ECDSA::NoCurveForOID',
#   'sect571k1 (explicit, compressed public point)' => 'Crypt::Perl::X::ECDSA::CharacteristicTwoUnsupported',
#   'sect571k1 (explicit, hybrid public point)' => 'Crypt::Perl::X::ECDSA::CharacteristicTwoUnsupported',
#   'sect571k1 (explicit, uncompressed public point)' => 'Crypt::Perl::X::ECDSA::CharacteristicTwoUnsupported',
#   'sect571k1 (named_curve, compressed public point)' => 'Crypt::Perl::X::ECDSA::NoCurveForOID',
#   'sect571k1 (named_curve, hybrid public point)' => 'Crypt::Perl::X::ECDSA::NoCurveForOID',
#   'sect571k1 (named_curve, uncompressed public point)' => 'Crypt::Perl::X::ECDSA::NoCurveForOID',
#   'sect571r1 (explicit, compressed public point)' => 'Crypt::Perl::X::ECDSA::CharacteristicTwoUnsupported',
#   'sect571r1 (explicit, hybrid public point)' => 'Crypt::Perl::X::ECDSA::CharacteristicTwoUnsupported',
#   'sect571r1 (explicit, uncompressed public point)' => 'Crypt::Perl::X::ECDSA::CharacteristicTwoUnsupported',
#   'sect571r1 (named_curve, compressed public point)' => 'Crypt::Perl::X::ECDSA::NoCurveForOID',
#   'sect571r1 (named_curve, hybrid public point)' => 'Crypt::Perl::X::ECDSA::NoCurveForOID',
#   'sect571r1 (named_curve, uncompressed public point)' => 'Crypt::Perl::X::ECDSA::NoCurveForOID',
#   'wap-wsg-idm-ecid-wtls1 (explicit, compressed public point)' => 'Crypt::Perl::X::ECDSA::CharacteristicTwoUnsupported',
#   'wap-wsg-idm-ecid-wtls1 (explicit, hybrid public point)' => 'Crypt::Perl::X::ECDSA::CharacteristicTwoUnsupported',
#   'wap-wsg-idm-ecid-wtls1 (explicit, uncompressed public point)' => 'Crypt::Perl::X::ECDSA::CharacteristicTwoUnsupported',
#   'wap-wsg-idm-ecid-wtls1 (named_curve, compressed public point)' => 'Crypt::Perl::X::ECDSA::NoCurveForOID',
#   'wap-wsg-idm-ecid-wtls1 (named_curve, hybrid public point)' => 'Crypt::Perl::X::ECDSA::NoCurveForOID',
#   'wap-wsg-idm-ecid-wtls1 (named_curve, uncompressed public point)' => 'Crypt::Perl::X::ECDSA::NoCurveForOID',
#   'wap-wsg-idm-ecid-wtls10 (explicit, compressed public point)' => 'Crypt::Perl::X::ECDSA::CharacteristicTwoUnsupported',
#   'wap-wsg-idm-ecid-wtls10 (explicit, hybrid public point)' => 'Crypt::Perl::X::ECDSA::CharacteristicTwoUnsupported',
#   'wap-wsg-idm-ecid-wtls10 (explicit, uncompressed public point)' => 'Crypt::Perl::X::ECDSA::CharacteristicTwoUnsupported',
#   'wap-wsg-idm-ecid-wtls10 (named_curve, compressed public point)' => 'Crypt::Perl::X::ECDSA::NoCurveForOID',
#   'wap-wsg-idm-ecid-wtls10 (named_curve, hybrid public point)' => 'Crypt::Perl::X::ECDSA::NoCurveForOID',
#   'wap-wsg-idm-ecid-wtls10 (named_curve, uncompressed public point)' => 'Crypt::Perl::X::ECDSA::NoCurveForOID',
#   'wap-wsg-idm-ecid-wtls11 (explicit, compressed public point)' => 'Crypt::Perl::X::ECDSA::CharacteristicTwoUnsupported',
#   'wap-wsg-idm-ecid-wtls11 (explicit, hybrid public point)' => 'Crypt::Perl::X::ECDSA::CharacteristicTwoUnsupported',
#   'wap-wsg-idm-ecid-wtls11 (explicit, uncompressed public point)' => 'Crypt::Perl::X::ECDSA::CharacteristicTwoUnsupported',
#   'wap-wsg-idm-ecid-wtls11 (named_curve, compressed public point)' => 'Crypt::Perl::X::ECDSA::NoCurveForOID',
#   'wap-wsg-idm-ecid-wtls11 (named_curve, hybrid public point)' => 'Crypt::Perl::X::ECDSA::NoCurveForOID',
#   'wap-wsg-idm-ecid-wtls11 (named_curve, uncompressed public point)' => 'Crypt::Perl::X::ECDSA::NoCurveForOID',
#   'wap-wsg-idm-ecid-wtls3 (explicit, compressed public point)' => 'Crypt::Perl::X::ECDSA::CharacteristicTwoUnsupported',
#   'wap-wsg-idm-ecid-wtls3 (explicit, hybrid public point)' => 'Crypt::Perl::X::ECDSA::CharacteristicTwoUnsupported',
#   'wap-wsg-idm-ecid-wtls3 (explicit, uncompressed public point)' => 'Crypt::Perl::X::ECDSA::CharacteristicTwoUnsupported',
#   'wap-wsg-idm-ecid-wtls3 (named_curve, compressed public point)' => 'Crypt::Perl::X::ECDSA::NoCurveForOID',
#   'wap-wsg-idm-ecid-wtls3 (named_curve, hybrid public point)' => 'Crypt::Perl::X::ECDSA::NoCurveForOID',
#   'wap-wsg-idm-ecid-wtls3 (named_curve, uncompressed public point)' => 'Crypt::Perl::X::ECDSA::NoCurveForOID',
#   'wap-wsg-idm-ecid-wtls4 (explicit, compressed public point)' => 'Crypt::Perl::X::ECDSA::CharacteristicTwoUnsupported',
#   'wap-wsg-idm-ecid-wtls4 (explicit, hybrid public point)' => 'Crypt::Perl::X::ECDSA::CharacteristicTwoUnsupported',
#   'wap-wsg-idm-ecid-wtls4 (explicit, uncompressed public point)' => 'Crypt::Perl::X::ECDSA::CharacteristicTwoUnsupported',
#   'wap-wsg-idm-ecid-wtls4 (named_curve, compressed public point)' => 'Crypt::Perl::X::ECDSA::NoCurveForOID',
#   'wap-wsg-idm-ecid-wtls4 (named_curve, hybrid public point)' => 'Crypt::Perl::X::ECDSA::NoCurveForOID',
#   'wap-wsg-idm-ecid-wtls4 (named_curve, uncompressed public point)' => 'Crypt::Perl::X::ECDSA::NoCurveForOID',
#   'wap-wsg-idm-ecid-wtls5 (explicit, compressed public point)' => 'Crypt::Perl::X::ECDSA::CharacteristicTwoUnsupported',
#   'wap-wsg-idm-ecid-wtls5 (explicit, hybrid public point)' => 'Crypt::Perl::X::ECDSA::CharacteristicTwoUnsupported',
#   'wap-wsg-idm-ecid-wtls5 (explicit, uncompressed public point)' => 'Crypt::Perl::X::ECDSA::CharacteristicTwoUnsupported',
#   'wap-wsg-idm-ecid-wtls5 (named_curve, compressed public point)' => 'Crypt::Perl::X::ECDSA::NoCurveForOID',
#   'wap-wsg-idm-ecid-wtls5 (named_curve, hybrid public point)' => 'Crypt::Perl::X::ECDSA::NoCurveForOID',
#   'wap-wsg-idm-ecid-wtls5 (named_curve, uncompressed public point)' => 'Crypt::Perl::X::ECDSA::NoCurveForOID',
#   'wap-wsg-idm-ecid-wtls6 (explicit, compressed public point)' => 'Crypt::Perl::X::TooLongToSign',
#   'wap-wsg-idm-ecid-wtls6 (explicit, hybrid public point)' => 'Crypt::Perl::X::TooLongToSign',
#   'wap-wsg-idm-ecid-wtls6 (explicit, uncompressed public point)' => 'Crypt::Perl::X::TooLongToSign',
#   'wap-wsg-idm-ecid-wtls6 (named_curve, compressed public point)' => 'Crypt::Perl::X::TooLongToSign',
#   'wap-wsg-idm-ecid-wtls6 (named_curve, hybrid public point)' => 'Crypt::Perl::X::TooLongToSign',
#   'wap-wsg-idm-ecid-wtls6 (named_curve, uncompressed public point)' => 'Crypt::Perl::X::TooLongToSign',
#   'wap-wsg-idm-ecid-wtls8 (explicit, compressed public point)' => 'Crypt::Perl::X::TooLongToSign',
#   'wap-wsg-idm-ecid-wtls8 (explicit, hybrid public point)' => 'Crypt::Perl::X::TooLongToSign',
#   'wap-wsg-idm-ecid-wtls8 (explicit, uncompressed public point)' => 'Crypt::Perl::X::TooLongToSign',
#   'wap-wsg-idm-ecid-wtls8 (named_curve, compressed public point)' => 'Crypt::Perl::X::TooLongToSign',
#   'wap-wsg-idm-ecid-wtls8 (named_curve, hybrid public point)' => 'Crypt::Perl::X::TooLongToSign',
#   'wap-wsg-idm-ecid-wtls8 (named_curve, uncompressed public point)' => 'Crypt::Perl::X::TooLongToSign'
# }
t/Crypt-Perl-ECDSA-PrivateKey.t ................... ok
# Looking for OpenSSL binary …
# Found OpenSSL: /usr/bin/openssl
# OpenSSL 1.1.1f  31 Mar 2020
# options:  bn(64,64) rc4(16x,int) des(int) blowfish(ptr) 
# compiler: gcc -fPIC -pthread -m64 -Wa,--noexecstack -Wall -Wa,--noexecstack -g -O2 -fdebug-prefix-map=/build/openssl-51ig8V/openssl-1.1.1f=. -fstack-protector-strong -Wformat -Werror=format-security -DOPENSSL_TLS_SECURITY_LEVEL=2 -DOPENSSL_USE_NODELETE -DL_ENDIAN -DOPENSSL_PIC -DOPENSSL_CPUID_OBJ -DOPENSSL_IA32_SSE2 -DOPENSSL_BN_ASM_MONT -DOPENSSL_BN_ASM_MONT5 -DOPENSSL_BN_ASM_GF2m -DSHA1_ASM -DSHA256_ASM -DSHA512_ASM -DKECCAK1600_ASM -DRC4_ASM -DMD5_ASM -DAESNI_ASM -DVPAES_ASM -DGHASH_ASM -DECP_NISTZ256_ASM -DX25519_ASM -DPOLY1305_ASM -DNDEBUG -Wdate-time -D_FORTIFY_SOURCE=2
# Math::BigInt 1.999837 (backend: Math::BigInt::Calc 1.999837)
read EC key
writing EC key
t/Crypt-Perl-ECDSA-PublicKey.t .................... ok
t/Crypt-Perl-Ed25519-Math.t ....................... ok
t/Crypt-Perl-Ed25519-Parse.t ...................... ok
t/Crypt-Perl-Ed25519-PrivateKey.t ................. ok
# Math::BigInt 1.999837 (backend: Math::BigInt::Calc 1.999837)
t/Crypt-Perl-Math.t ............................... ok
# Math::BigInt 1.999837 (backend: Math::BigInt::Calc 1.999837)
t/Crypt-Perl-PK.t ................................. ok
# Math::BigInt 1.999837 (backend: Math::BigInt::Calc 1.999837)
t/Crypt-Perl-PKCS10-Attribute-extensionRequest.t .. ok
# Looking for OpenSSL binary …
# Found OpenSSL: /usr/bin/openssl
# OpenSSL 1.1.1f  31 Mar 2020
# options:  bn(64,64) rc4(16x,int) des(int) blowfish(ptr) 
# compiler: gcc -fPIC -pthread -m64 -Wa,--noexecstack -Wall -Wa,--noexecstack -g -O2 -fdebug-prefix-map=/build/openssl-51ig8V/openssl-1.1.1f=. -fstack-protector-strong -Wformat -Werror=format-security -DOPENSSL_TLS_SECURITY_LEVEL=2 -DOPENSSL_USE_NODELETE -DL_ENDIAN -DOPENSSL_PIC -DOPENSSL_CPUID_OBJ -DOPENSSL_IA32_SSE2 -DOPENSSL_BN_ASM_MONT -DOPENSSL_BN_ASM_MONT5 -DOPENSSL_BN_ASM_GF2m -DSHA1_ASM -DSHA256_ASM -DSHA512_ASM -DKECCAK1600_ASM -DRC4_ASM -DMD5_ASM -DAESNI_ASM -DVPAES_ASM -DGHASH_ASM -DECP_NISTZ256_ASM -DX25519_ASM -DPOLY1305_ASM -DNDEBUG -Wdate-time -D_FORTIFY_SOURCE=2
# Checking /usr/bin/openssl for ed25519 support …
Algorithm ed25519" not found
# /usr/bin/openssl does not support ed25519.
# Math::BigInt 1.999837 (backend: Math::BigInt::Calc 1.999837)
Generating RSA private key, 1024 bit long modulus (2 primes)
..+++++
.....+++++
e is 65537 (0x010001)
Generating RSA private key, 2048 bit long modulus (2 primes)
......................................................+++++
............................................................................................................+++++
e is 65537 (0x010001)
read EC key
writing EC key
read EC key
writing EC key
read EC key
writing EC key
read EC key
writing EC key
read EC key
writing EC key
read EC key
writing EC key
read EC key
writing EC key
t/Crypt-Perl-PKCS10.t ............................. ok
# Looking for OpenSSL binary …
# Found OpenSSL: /usr/bin/openssl
# OpenSSL 1.1.1f  31 Mar 2020
# options:  bn(64,64) rc4(16x,int) des(int) blowfish(ptr) 
# compiler: gcc -fPIC -pthread -m64 -Wa,--noexecstack -Wall -Wa,--noexecstack -g -O2 -fdebug-prefix-map=/build/openssl-51ig8V/openssl-1.1.1f=. -fstack-protector-strong -Wformat -Werror=format-security -DOPENSSL_TLS_SECURITY_LEVEL=2 -DOPENSSL_USE_NODELETE -DL_ENDIAN -DOPENSSL_PIC -DOPENSSL_CPUID_OBJ -DOPENSSL_IA32_SSE2 -DOPENSSL_BN_ASM_MONT -DOPENSSL_BN_ASM_MONT5 -DOPENSSL_BN_ASM_GF2m -DSHA1_ASM -DSHA256_ASM -DSHA512_ASM -DKECCAK1600_ASM -DRC4_ASM -DMD5_ASM -DAESNI_ASM -DVPAES_ASM -DGHASH_ASM -DECP_NISTZ256_ASM -DX25519_ASM -DPOLY1305_ASM -DNDEBUG -Wdate-time -D_FORTIFY_SOURCE=2
# Math::BigInt 1.999837 (backend: Math::BigInt::Calc 1.999837)
# Your Crypt::Perl::BigInt backend is “Math::BigInt::Calc”.
t/Crypt-Perl-RSA-Generate.t ....................... ok
# Math::BigInt 1.999837 (backend: Math::BigInt::Calc 1.999837)
t/Crypt-Perl-RSA-Parse.t .......................... ok
t/Crypt-Perl-RSA-PKCS1_v1_5.t ..................... ok
# Math::BigInt 1.999837 (backend: Math::BigInt::Calc 1.999837)
t/Crypt-Perl-RSA-PrivateKey.t ..................... ok
# Math::BigInt 1.999837 (backend: Math::BigInt::Calc 1.999837)
t/Crypt-Perl-RSA-PublicKey.t ...................... ok
# Math::BigInt 1.999837 (backend: Math::BigInt::Calc 1.999837)
t/Crypt-Perl-X509-Extension-subjectAltName.t ...... ok
t/Crypt-Perl-X509-SCT.t ........................... ok
# Looking for OpenSSL binary …
# Found OpenSSL: /usr/bin/openssl
# OpenSSL 1.1.1f  31 Mar 2020
# options:  bn(64,64) rc4(16x,int) des(int) blowfish(ptr) 
# compiler: gcc -fPIC -pthread -m64 -Wa,--noexecstack -Wall -Wa,--noexecstack -g -O2 -fdebug-prefix-map=/build/openssl-51ig8V/openssl-1.1.1f=. -fstack-protector-strong -Wformat -Werror=format-security -DOPENSSL_TLS_SECURITY_LEVEL=2 -DOPENSSL_USE_NODELETE -DL_ENDIAN -DOPENSSL_PIC -DOPENSSL_CPUID_OBJ -DOPENSSL_IA32_SSE2 -DOPENSSL_BN_ASM_MONT -DOPENSSL_BN_ASM_MONT5 -DOPENSSL_BN_ASM_GF2m -DSHA1_ASM -DSHA256_ASM -DSHA512_ASM -DKECCAK1600_ASM -DRC4_ASM -DMD5_ASM -DAESNI_ASM -DVPAES_ASM -DGHASH_ASM -DECP_NISTZ256_ASM -DX25519_ASM -DPOLY1305_ASM -DNDEBUG -Wdate-time -D_FORTIFY_SOURCE=2
# Checking /usr/bin/openssl for ed25519 support …
Algorithm ed25519" not found
# /usr/bin/openssl does not support ed25519.
# Math::BigInt 1.999837 (backend: Math::BigInt::Calc 1.999837)
# self-sign - RSA
# two RSAs
# self-sign - ECC
# two ECCs
# subject RSA, signer ECC
# subject ECC, signer RSA
t/Crypt-Perl-X509v3.t ............................. ok
# Looking for OpenSSL binary …
# Found OpenSSL: /usr/bin/openssl
# OpenSSL 1.1.1f  31 Mar 2020
# options:  bn(64,64) rc4(16x,int) des(int) blowfish(ptr) 
# compiler: gcc -fPIC -pthread -m64 -Wa,--noexecstack -Wall -Wa,--noexecstack -g -O2 -fdebug-prefix-map=/build/openssl-51ig8V/openssl-1.1.1f=. -fstack-protector-strong -Wformat -Werror=format-security -DOPENSSL_TLS_SECURITY_LEVEL=2 -DOPENSSL_USE_NODELETE -DL_ENDIAN -DOPENSSL_PIC -DOPENSSL_CPUID_OBJ -DOPENSSL_IA32_SSE2 -DOPENSSL_BN_ASM_MONT -DOPENSSL_BN_ASM_MONT5 -DOPENSSL_BN_ASM_GF2m -DSHA1_ASM -DSHA256_ASM -DSHA512_ASM -DKECCAK1600_ASM -DRC4_ASM -DMD5_ASM -DAESNI_ASM -DVPAES_ASM -DGHASH_ASM -DECP_NISTZ256_ASM -DX25519_ASM -DPOLY1305_ASM -DNDEBUG -Wdate-time -D_FORTIFY_SOURCE=2
# Checking /usr/bin/openssl for ed25519 support …
Algorithm ed25519" not found
# /usr/bin/openssl does not support ed25519.
t/Crypt-Perl-X509v3_ed25519.t ..................... ok
# Parsing...
t/ecdsa_verify_small_r_and_s.t .................... ok
All tests successful.
Files=26, Tests=3872, 1845 wallclock secs ( 0.60 usr  0.08 sys + 1838.72 cusr  2.68 csys = 1842.08 CPU)
Result: PASS


PREREQUISITES:

Here is a list of prerequisites you specified and versions we
managed to load:

	  Module Name                        Have     Want
	  Bytes::Random::Secure::Tiny       1.011    1.008
	  Call::Context                      0.03        0
	  Class::Accessor::Fast              0.51     0.34
	  Convert::ASN1                      0.33     0.27
	  Crypt::Format                      0.12     0.12
	  Digest::SHA                        6.03        0
	  ExtUtils::MakeMaker                7.64        0
	  File::Slurp                     9999.32        0
	  File::Which                        1.27        0
	  MIME::Base64                       3.15     3.11
	  Math::BigInt                   1.999837 1.999818
	  Math::ProvablePrime                0.51     0.51
	  Symbol::Get                        0.10     0.02
	  Test::Class                        0.52      0.4
	  Test::Deep                        1.130        0
	  Test::Exception                    0.43     0.40
	  Test::FailWarnings                0.008        0
	  Test::More                     1.302191        0
	  Try::Tiny                          0.31        0
	  autodie                            2.29        0
	  parent                            0.236    0.225

Perl module toolchain versions installed:
	Module Name                        Have
	CPANPLUS                         0.9914
	CPANPLUS::Dist::Build              0.90
	Cwd                                3.75
	ExtUtils::CBuilder             0.280236
	ExtUtils::Command                  7.64
	ExtUtils::Install                  2.20
	ExtUtils::MakeMaker                7.64
	ExtUtils::Manifest                 1.73
	ExtUtils::ParseXS                  3.44
	File::Spec                         3.75
	Module::Build                    0.4231
	Pod::Parser                        1.63
	Pod::Simple                        3.35
	Test2                          1.302191
	Test::Harness                      3.44
	Test::More                     1.302191
	version                          0.9929

******************************** NOTE ********************************
The comments above are created mechanically, possibly without manual
checking by the sender.  As there are many people performing automatic
tests on each upload to CPAN, it is likely that you will receive
identical messages about the same problem.

If you believe that the message is mistaken, please reply to the first
one with correction and/or additional informations, and do not take
it personally.  We appreciate your patience. :)
**********************************************************************

Additional comments:


This report was machine-generated by CPANPLUS::Dist::YACSmoke 1.08.
Powered by minismokebox version 0.68

CPANPLUS is prefering Build.PL

------------------------------
ENVIRONMENT AND OTHER CONTEXT
------------------------------

Environment variables:

    AUTOMATED_TESTING = 1
    LANG = en_GB.UTF-8
    LANGUAGE = en_GB:en
    NONINTERACTIVE_TESTING = 1
    PATH = /usr/local/sbin:/usr/local/bin:/usr/sbin:/usr/bin:/sbin:/bin:/usr/games:/usr/local/games:/snap/bin
    PERL5LIB = /home/cpan/pit/jail/sinMuOGZUR/lib/perl5:/home/cpan/pit/bare-ld/conf/perl-5.26.0/.cpanplus/5.26.0/build/n6IJALIs1B/Crypt-Perl-0.38/blib/lib:/home/cpan/pit/bare-ld/conf/perl-5.26.0/.cpanplus/5.26.0/build/n6IJALIs1B/Crypt-Perl-0.38/blib/arch
    PERL5_CPANPLUS_IS_RUNNING = 4081490
    PERL5_CPANPLUS_IS_VERSION = 0.9914
    PERL5_MINISMOKEBOX = 0.68
    PERL5_YACSMOKE_BASE = /home/cpan/pit/bare-ld/conf/perl-5.26.0
    PERL_EXTUTILS_AUTOINSTALL = --defaultdeps
    PERL_LOCAL_LIB_ROOT = /home/cpan/pit/jail/sinMuOGZUR
    PERL_MB_OPT = --install_base "/home/cpan/pit/jail/sinMuOGZUR"
    PERL_MM_OPT = INSTALL_BASE=/home/cpan/pit/jail/sinMuOGZUR
    PERL_MM_USE_DEFAULT = 1
    SHELL = /bin/bash
    TERM = screen.xterm-256color

Perl special variables (and OS-specific diagnostics, for MSWin32):

    Perl: $^X = /home/cpan/pit/bare-ld/perl-5.26.0/bin/perl
    UID:  $<  = 1001
    EUID: $>  = 1001
    GID:  $(  = 1001 1001
    EGID: $)  = 1001 1001


-------------------------------


--

Summary of my perl5 (revision 5 version 26 subversion 0) configuration:
   
  Platform:
    osname=linux
    osvers=5.4.0-26-generic
    archname=x86_64-linux-ld
    uname='linux uchder 5.4.0-26-generic #30-ubuntu smp mon apr 20 16:58:30 utc 2020 x86_64 x86_64 x86_64 gnulinux '
    config_args='-des -Dprefix=/home/cpan/pit/bare-ld/perl-5.26.0 -Duselongdouble'
    hint=recommended
    useposix=true
    d_sigaction=define
    useithreads=undef
    usemultiplicity=undef
    use64bitint=define
    use64bitall=define
    uselongdouble=define
    usemymalloc=n
    default_inc_excludes_dot=define
    bincompat5005=undef
  Compiler:
    cc='cc'
    ccflags ='-fwrapv -fno-strict-aliasing -pipe -fstack-protector-strong -I/usr/local/include -D_LARGEFILE_SOURCE -D_FILE_OFFSET_BITS=64'
    optimize='-O2'
    cppflags='-fwrapv -fno-strict-aliasing -pipe -fstack-protector-strong -I/usr/local/include'
    ccversion=''
    gccversion='9.3.0'
    gccosandvers=''
    intsize=4
    longsize=8
    ptrsize=8
    doublesize=8
    byteorder=12345678
    doublekind=3
    d_longlong=define
    longlongsize=8
    d_longdbl=define
    longdblsize=16
    longdblkind=3
    ivtype='long'
    ivsize=8
    nvtype='long double'
    nvsize=16
    Off_t='off_t'
    lseeksize=8
    alignbytes=16
    prototype=define
  Linker and Libraries:
    ld='cc'
    ldflags =' -fstack-protector-strong -L/usr/local/lib'
    libpth=/usr/local/lib /usr/include/x86_64-linux-gnu /usr/lib /lib/x86_64-linux-gnu /lib/../lib /usr/lib/x86_64-linux-gnu /usr/lib/../lib /lib
    libs=-lpthread -lnsl -lgdbm -ldl -lm -lcrypt -lutil -lc
    perllibs=-lpthread -lnsl -ldl -lm -lcrypt -lutil -lc
    libc=libc-2.31.so
    so=so
    useshrplib=false
    libperl=libperl.a
    gnulibc_version='2.31'
  Dynamic Linking:
    dlsrc=dl_dlopen.xs
    dlext=so
    d_dlsymun=undef
    ccdlflags='-Wl,-E'
    cccdlflags='-fPIC'
    lddlflags='-shared -O2 -L/usr/local/lib -fstack-protector-strong'


Characteristics of this binary (from libperl): 
  Compile-time options:
    HAS_TIMES
    PERLIO_LAYERS
    PERL_COPY_ON_WRITE
    PERL_DONT_CREATE_GVSV
    PERL_MALLOC_WRAP
    PERL_OP_PARENT
    PERL_PRESERVE_IVUV
    USE_64_BIT_ALL
    USE_64_BIT_INT
    USE_LARGE_FILES
    USE_LOCALE
    USE_LOCALE_COLLATE
    USE_LOCALE_CTYPE
    USE_LOCALE_NUMERIC
    USE_LOCALE_TIME
    USE_LONG_DOUBLE
    USE_PERLIO
    USE_PERL_ATOF
  Locally applied patches:
    Devel::PatchPerl 1.90
  Built under linux
  Compiled at Apr 27 2020 16:07:57
  %ENV:
    PERL5LIB="/home/cpan/pit/jail/sinMuOGZUR/lib/perl5:/home/cpan/pit/bare-ld/conf/perl-5.26.0/.cpanplus/5.26.0/build/n6IJALIs1B/Crypt-Perl-0.38/blib/lib:/home/cpan/pit/bare-ld/conf/perl-5.26.0/.cpanplus/5.26.0/build/n6IJALIs1B/Crypt-Perl-0.38/blib/arch"
    PERL5_CPANPLUS_IS_RUNNING="4081490"
    PERL5_CPANPLUS_IS_VERSION="0.9914"
    PERL5_MINISMOKEBOX="0.68"
    PERL5_YACSMOKE_BASE="/home/cpan/pit/bare-ld/conf/perl-5.26.0"
    PERL_EXTUTILS_AUTOINSTALL="--defaultdeps"
    PERL_LOCAL_LIB_ROOT="/home/cpan/pit/jail/sinMuOGZUR"
    PERL_MB_OPT="--install_base "/home/cpan/pit/jail/sinMuOGZUR""
    PERL_MM_OPT="INSTALL_BASE=/home/cpan/pit/jail/sinMuOGZUR"
    PERL_MM_USE_DEFAULT="1"
  @INC:
    /home/cpan/pit/jail/sinMuOGZUR/lib/perl5/5.26.0/x86_64-linux-ld
    /home/cpan/pit/jail/sinMuOGZUR/lib/perl5/5.26.0
    /home/cpan/pit/jail/sinMuOGZUR/lib/perl5/x86_64-linux-ld
    /home/cpan/pit/jail/sinMuOGZUR/lib/perl5
    /home/cpan/pit/bare-ld/conf/perl-5.26.0/.cpanplus/5.26.0/build/n6IJALIs1B/Crypt-Perl-0.38/blib/lib
    /home/cpan/pit/bare-ld/conf/perl-5.26.0/.cpanplus/5.26.0/build/n6IJALIs1B/Crypt-Perl-0.38/blib/arch
    /home/cpan/pit/bare-ld/perl-5.26.0/lib/site_perl/5.26.0/x86_64-linux-ld
    /home/cpan/pit/bare-ld/perl-5.26.0/lib/site_perl/5.26.0
    /home/cpan/pit/bare-ld/perl-5.26.0/lib/5.26.0/x86_64-linux-ld
    /home/cpan/pit/bare-ld/perl-5.26.0/lib/5.26.0