Report for CatalystX-Widget-Paginator-0.04

Back
From: metabase:user:9820532a-708b-1014-9a05-b18a96298da1
Subject: PASS CatalystX-Widget-Paginator-0.04 v5.15.7 GNU/Linux
Date: 2012-01-29T22:01:16Z

This distribution has been tested as part of the CPAN Testers
project, supporting the Perl programming language.  See
http://wiki.cpantesters.org/ for more information or email
questions to cpan-testers-discuss@perl.org


--
Dear Oleg A. Mamontov,

This is a computer-generated report for CatalystX-Widget-Paginator-0.04
on perl 5.15.7, created by CPAN-Reporter-1.2003.

Thank you for uploading your work to CPAN.  Congratulations!
All tests were successful.

Sections of this report:

    * Tester comments
    * Program output
    * Prerequisites
    * Environment and other context

------------------------------
TESTER COMMENTS
------------------------------

Additional comments from tester:

this report is from an automated smoke testing program
and was not reviewed by a human for accuracy

------------------------------
PROGRAM OUTPUT
------------------------------

Output from '/usr/bin/make test':

PERL_DL_NONLAZY=1 /home/test/perl5/perlbrew/perls/perl-5.15.7-ld/bin/perl5.15.7 "-MExtUtils::Command::MM" "-e" "test_harness(0, 'inc', 'blib/lib', 'blib/arch')" t/00-load.t t/01-manifest.t t/02-boilerplate.t t/03-pod-coverage.t t/04-pod.t t/10-app.t t/11-defaults.t t/12-delim.t t/13-edges.t t/14-link.t t/15-main.t t/16-page.t t/17-rows.t t/18-page_arg.t t/19-invalid.t t/20-page_auto.t t/21-prefix.t t/22-side.t t/23-style.t t/24-suffix.t t/25-text.t t/26-objects.t t/27-namespace.t t/28-subclass.t
# Testing CatalystX::Widget::Paginator 0.04, Perl 5.015007, /home/test/perl5/perlbrew/perls/perl-5.15.7-ld/bin/perl5.15.7
t/00-load.t .......... ok
t/01-manifest.t ...... skipped: Author tests not required for installation
t/02-boilerplate.t ... ok
t/03-pod-coverage.t .. ok
t/04-pod.t ........... ok
defined(@array) is deprecated at /home/test/perl5/perlbrew/perls/perl-5.15.7-ld/lib/site_perl/5.15.7/Module/Find.pm line 182.
	(Maybe you should just omit the defined()?)
t/10-app.t ........... ok
defined(@array) is deprecated at /home/test/perl5/perlbrew/perls/perl-5.15.7-ld/lib/site_perl/5.15.7/Module/Find.pm line 182.
	(Maybe you should just omit the defined()?)
t/11-defaults.t ...... ok
defined(@array) is deprecated at /home/test/perl5/perlbrew/perls/perl-5.15.7-ld/lib/site_perl/5.15.7/Module/Find.pm line 182.
	(Maybe you should just omit the defined()?)
t/12-delim.t ......... ok
defined(@array) is deprecated at /home/test/perl5/perlbrew/perls/perl-5.15.7-ld/lib/site_perl/5.15.7/Module/Find.pm line 182.
	(Maybe you should just omit the defined()?)
t/13-edges.t ......... ok
defined(@array) is deprecated at /home/test/perl5/perlbrew/perls/perl-5.15.7-ld/lib/site_perl/5.15.7/Module/Find.pm line 182.
	(Maybe you should just omit the defined()?)
t/14-link.t .......... ok
defined(@array) is deprecated at /home/test/perl5/perlbrew/perls/perl-5.15.7-ld/lib/site_perl/5.15.7/Module/Find.pm line 182.
	(Maybe you should just omit the defined()?)
t/15-main.t .......... ok
defined(@array) is deprecated at /home/test/perl5/perlbrew/perls/perl-5.15.7-ld/lib/site_perl/5.15.7/Module/Find.pm line 182.
	(Maybe you should just omit the defined()?)
t/16-page.t .......... ok
defined(@array) is deprecated at /home/test/perl5/perlbrew/perls/perl-5.15.7-ld/lib/site_perl/5.15.7/Module/Find.pm line 182.
	(Maybe you should just omit the defined()?)
t/17-rows.t .......... ok
defined(@array) is deprecated at /home/test/perl5/perlbrew/perls/perl-5.15.7-ld/lib/site_perl/5.15.7/Module/Find.pm line 182.
	(Maybe you should just omit the defined()?)
t/18-page_arg.t ...... ok
defined(@array) is deprecated at /home/test/perl5/perlbrew/perls/perl-5.15.7-ld/lib/site_perl/5.15.7/Module/Find.pm line 182.
	(Maybe you should just omit the defined()?)
t/19-invalid.t ....... ok
defined(@array) is deprecated at /home/test/perl5/perlbrew/perls/perl-5.15.7-ld/lib/site_perl/5.15.7/Module/Find.pm line 182.
	(Maybe you should just omit the defined()?)
t/20-page_auto.t ..... ok
defined(@array) is deprecated at /home/test/perl5/perlbrew/perls/perl-5.15.7-ld/lib/site_perl/5.15.7/Module/Find.pm line 182.
	(Maybe you should just omit the defined()?)
t/21-prefix.t ........ ok
defined(@array) is deprecated at /home/test/perl5/perlbrew/perls/perl-5.15.7-ld/lib/site_perl/5.15.7/Module/Find.pm line 182.
	(Maybe you should just omit the defined()?)
t/22-side.t .......... ok
defined(@array) is deprecated at /home/test/perl5/perlbrew/perls/perl-5.15.7-ld/lib/site_perl/5.15.7/Module/Find.pm line 182.
	(Maybe you should just omit the defined()?)
t/23-style.t ......... ok
defined(@array) is deprecated at /home/test/perl5/perlbrew/perls/perl-5.15.7-ld/lib/site_perl/5.15.7/Module/Find.pm line 182.
	(Maybe you should just omit the defined()?)
t/24-suffix.t ........ ok
defined(@array) is deprecated at /home/test/perl5/perlbrew/perls/perl-5.15.7-ld/lib/site_perl/5.15.7/Module/Find.pm line 182.
	(Maybe you should just omit the defined()?)
t/25-text.t .......... ok
defined(@array) is deprecated at /home/test/perl5/perlbrew/perls/perl-5.15.7-ld/lib/site_perl/5.15.7/Module/Find.pm line 182.
	(Maybe you should just omit the defined()?)
t/26-objects.t ....... ok
defined(@array) is deprecated at /home/test/perl5/perlbrew/perls/perl-5.15.7-ld/lib/site_perl/5.15.7/Module/Find.pm line 182.
	(Maybe you should just omit the defined()?)
t/27-namespace.t ..... ok
defined(@array) is deprecated at /home/test/perl5/perlbrew/perls/perl-5.15.7-ld/lib/site_perl/5.15.7/Module/Find.pm line 182.
	(Maybe you should just omit the defined()?)
t/28-subclass.t ...... ok
All tests successful.

Test Summary Report
-------------------
t/02-boilerplate.t (Wstat: 0 Tests: 3 Failed: 0)
  TODO passed:   1-3
Files=24, Tests=48, 146 wallclock secs ( 0.09 usr  0.05 sys + 26.04 cusr  1.97 csys = 28.15 CPU)
Result: PASS

------------------------------
PREREQUISITES
------------------------------

Prerequisite modules loaded:

requires:

    Module                        Need Have   
    ----------------------------- ---- -------
    Catalyst::Model::DBIC::Schema 0    0.59   
    Catalyst::Plugin::Widget      0.03 0.04   
    Catalyst::Test                0    0      
    DBD::SQLite                   0    1.36_01
    DBI                           0    1.617  
    Test::More                    0    0.98   

build_requires:

    Module                        Need Have   
    ----------------------------- ---- -------
    Catalyst::Model::DBIC::Schema 0    0.59   
    Catalyst::Test                0    0      
    DBD::SQLite                   0    1.36_01
    DBI                           0    1.617  
    ExtUtils::MakeMaker           6.42 6.62   
    Test::More                    0    0.98   

configure_requires:

    Module                        Need Have   
    ----------------------------- ---- -------
    ExtUtils::MakeMaker           6.42 6.62   


------------------------------
ENVIRONMENT AND OTHER CONTEXT
------------------------------

Environment variables:

    AUTOMATED_TESTING = 1
    LANG = C
    LC_ALL = C
    MANPATH_WITHOUT_PERLBREW = 
    PATH = /home/test/perl5/perlbrew/bin:/home/test/perl5/perlbrew/perls/perl-5.15.7-ld/bin:/home/test/bin:~/bin:/usr/bin:/bin
    PATH_WITHOUT_PERLBREW = /home/test/bin:~/bin:/usr/bin:/bin
    PERL5LIB = 
    PERL5OPT = 
    PERL5_CPANPLUS_IS_RUNNING = 28460
    PERL5_CPAN_IS_RUNNING = 28460
    PERL5_CPAN_IS_RUNNING_IN_RECURSION = 23323,28460
    PERLBREW_BASHRC_VERSION = 0.39
    PERLBREW_HOME = /home/test/.perlbrew
    PERLBREW_MANPATH = /home/test/perl5/perlbrew/perls/perl-5.15.7-ld/man
    PERLBREW_PATH = /home/test/perl5/perlbrew/bin:/home/test/perl5/perlbrew/perls/perl-5.15.7-ld/bin
    PERLBREW_PERL = perl-5.15.7-ld
    PERLBREW_ROOT = /home/test/perl5/perlbrew
    PERLBREW_VERSION = 0.40
    PERL_CPANM_OPT = --prompt --mirror file:///mirrors/cpan/
    PERL_CR_SMOKER_CURRENT = CatalystX-Widget-Paginator-0.04
    PERL_EXTUTILS_AUTOINSTALL = --defaultdeps
    PERL_MM_USE_DEFAULT = 1
    SHELL = /bin/bash
    TERM = linux

Perl special variables (and OS-specific diagnostics, for MSWin32):

    $^X = /home/test/perl5/perlbrew/perls/perl-5.15.7-ld/bin/perl5.15.7
    $UID/$EUID = 1001 / 1001
    $GID = 1001 1001
    $EGID = 1001 1001

Perl module toolchain versions installed:

    Module              Have    
    ------------------- --------
    CPAN                1.9800  
    CPAN::Meta          2.113640
    Cwd                 3.39_01 
    ExtUtils::CBuilder  0.280202
    ExtUtils::Command   1.17    
    ExtUtils::Install   1.57    
    ExtUtils::MakeMaker 6.62    
    ExtUtils::Manifest  1.60    
    ExtUtils::ParseXS   3.13_01 
    File::Spec          3.39_01 
    JSON                2.53    
    JSON::PP            2.27200 
    Module::Build       0.39_01 
    Module::Signature   n/a     
    Parse::CPAN::Meta   1.4401  
    Test::Harness       3.23    
    Test::More          0.98    
    YAML                0.78    
    YAML::Syck          1.19    
    version             0.95    


--

Summary of my perl5 (revision 5 version 15 subversion 7) configuration:
   
  Platform:
    osname=linux, osvers=2.6.35-28-generic, archname=x86_64-linux-ld
    uname='linux zippy 2.6.35-28-generic #50-ubuntu smp fri mar 18 18:42:20 utc 2011 x86_64 gnulinux '
    config_args='-de -Dprefix=/home/test/perl5/perlbrew/perls/perl-5.15.7-ld -Duselongdouble -Dusedevel'
    hint=recommended, useposix=true, d_sigaction=define
    useithreads=undef, usemultiplicity=undef
    useperlio=define, d_sfio=undef, uselargefiles=define, usesocks=undef
    use64bitint=define, use64bitall=define, uselongdouble=define
    usemymalloc=n, bincompat5005=undef
  Compiler:
    cc='cc', ccflags ='-fno-strict-aliasing -pipe -fstack-protector -I/usr/local/include -D_LARGEFILE_SOURCE -D_FILE_OFFSET_BITS=64',
    optimize='-O2',
    cppflags='-fno-strict-aliasing -pipe -fstack-protector -I/usr/local/include'
    ccversion='', gccversion='4.4.5', gccosandvers=''
    intsize=4, longsize=8, ptrsize=8, doublesize=8, byteorder=12345678
    d_longlong=define, longlongsize=8, d_longdbl=define, longdblsize=16
    ivtype='long', ivsize=8, nvtype='long double', nvsize=16, Off_t='off_t', lseeksize=8
    alignbytes=16, prototype=define
  Linker and Libraries:
    ld='cc', ldflags =' -fstack-protector -L/usr/local/lib'
    libpth=/usr/local/lib /lib/../lib /usr/lib/../lib /lib /usr/lib /usr/lib/x86_64-linux-gnu /lib64 /usr/lib64
    libs=-lnsl -ldl -lm -lcrypt -lutil -lc
    perllibs=-lnsl -ldl -lm -lcrypt -lutil -lc
    libc=/lib/libc-2.12.1.so, so=so, useshrplib=false, libperl=libperl.a
    gnulibc_version='2.12.1'
  Dynamic Linking:
    dlsrc=dl_dlopen.xs, dlext=so, d_dlsymun=undef, ccdlflags='-Wl,-E'
    cccdlflags='-fPIC', lddlflags='-shared -O2 -L/usr/local/lib -fstack-protector'


Characteristics of this binary (from libperl): 
  Compile-time options: HAS_TIMES PERLIO_LAYERS PERL_DONT_CREATE_GVSV
                        PERL_MALLOC_WRAP PERL_PRESERVE_IVUV PERL_USE_DEVEL
                        USE_64_BIT_ALL USE_64_BIT_INT USE_LARGE_FILES
                        USE_LOCALE USE_LOCALE_COLLATE USE_LOCALE_CTYPE
                        USE_LOCALE_NUMERIC USE_LONG_DOUBLE USE_PERLIO
                        USE_PERL_ATOF
  Built under linux
  Compiled at Jan 27 2012 12:50:03
  %ENV:
    PERL5LIB=""
    PERL5OPT=""
    PERL5_CPANPLUS_IS_RUNNING="28460"
    PERL5_CPAN_IS_RUNNING="28460"
    PERL5_CPAN_IS_RUNNING_IN_RECURSION="23323,28460"
    PERLBREW_BASHRC_VERSION="0.39"
    PERLBREW_HOME="/home/test/.perlbrew"
    PERLBREW_MANPATH="/home/test/perl5/perlbrew/perls/perl-5.15.7-ld/man"
    PERLBREW_PATH="/home/test/perl5/perlbrew/bin:/home/test/perl5/perlbrew/perls/perl-5.15.7-ld/bin"
    PERLBREW_PERL="perl-5.15.7-ld"
    PERLBREW_ROOT="/home/test/perl5/perlbrew"
    PERLBREW_VERSION="0.40"
    PERL_CPANM_OPT="--prompt --mirror file:///mirrors/cpan/"
    PERL_CR_SMOKER_CURRENT="CatalystX-Widget-Paginator-0.04"
    PERL_EXTUTILS_AUTOINSTALL="--defaultdeps"
    PERL_MM_USE_DEFAULT="1"
  @INC:
    /home/test/perl5/perlbrew/perls/perl-5.15.7-ld/lib/site_perl/5.15.7/x86_64-linux-ld
    /home/test/perl5/perlbrew/perls/perl-5.15.7-ld/lib/site_perl/5.15.7
    /home/test/perl5/perlbrew/perls/perl-5.15.7-ld/lib/5.15.7/x86_64-linux-ld
    /home/test/perl5/perlbrew/perls/perl-5.15.7-ld/lib/5.15.7
    .