XML-LibXML v2.0201 Perl 5 v5.18.4 x86_64-linux-thread-multi

Status
Pass
From
David Cantrell (DCANTRELL)
Dist
XML-LibXML v2.0201
Platform
Perl 5 v5.18.4 x86_64-linux-thread-multi
Date
2019-05-28 12:26:06
ID
c41d03a2-8143-11e9-aa5d-8f65052d0de1
This distribution has been tested as part of the CPAN Testers
project, supporting the Perl programming language.  See
http://wiki.cpantesters.org/ for more information or email
questions to cpan-testers-discuss@perl.org


--
Dear Shlomi Fish,

This is a computer-generated report for XML-LibXML-2.0201
on perl 5.18.4, created by CPAN-Reporter-1.2018.

Thank you for uploading your work to CPAN.  Congratulations!
All tests were successful.

Sections of this report:

    * Tester comments
    * Program output
    * Prerequisites
    * Environment and other context

------------------------------
TESTER COMMENTS
------------------------------

Additional comments from tester:

this report is from an automated smoke testing program
and was not reviewed by a human for accuracy

------------------------------
PROGRAM OUTPUT
------------------------------

Output from '/usr/bin/make test':

PERL_DL_NONLAZY=1 /home/david/cpantesting/perl-5.18.4/bin/perl "-MExtUtils::Command::MM" "-e" "test_harness(0, 'blib/lib', 'blib/arch')" t/*.t
# 
# Versions for all modules listed in MYMETA.json (including optional ones):
# 
# === Configure Requires ===
# 
#     Module              Want     Have
#     ------------------- ---- --------
#     Alien::Libxml2       any     0.09
#     Config               any 5.018004
#     ExtUtils::MakeMaker  any     6.66
# 
# === Build Requires ===
# 
#     Module              Want Have
#     ------------------- ---- ----
#     ExtUtils::MakeMaker  any 6.66
# 
# === Test Requires ===
# 
#     Module       Want     Have
#     ------------ ---- --------
#     Config        any 5.018004
#     Errno         any     1.18
#     IO::File      any     1.16
#     IO::Handle    any     1.34
#     POSIX         any     1.32
#     Scalar::Util  any     1.50
#     Test::More    any 1.302162
#     locale        any     1.02
#     utf8          any     1.10
# 
# === Runtime Requires ===
# 
#     Module                    Want  Have
#     ------------------------- ---- -----
#     Carp                       any  1.29
#     DynaLoader                 any  1.18
#     Encode                     any  2.49
#     Exporter                  5.57  5.68
#     IO::Handle                 any  1.34
#     Scalar::Util               any  1.50
#     Tie::Hash                  any  1.04
#     XML::NamespaceSupport     1.07  1.12
#     XML::SAX                  0.11  1.00
#     XML::SAX::Base             any  1.09
#     XML::SAX::DocumentLocator  any undef
#     XML::SAX::Exception        any  1.09
#     base                       any  2.18
#     constant                   any  1.27
#     overload                   any  1.22
#     parent                     any 0.225
#     strict                     any  1.07
#     vars                       any  1.03
#     warnings                   any  1.18
# 
t/00-report-prereqs.t .............................. ok
# 
# 
# Compiled against libxml2 version: 20909
# Running libxml2 version:          20909
# 
t/01basic.t ........................................ ok
t/02parse.t ........................................ ok
t/03doc.t .......................................... ok
t/04node.t ......................................... ok
t/05text.t ......................................... ok
t/06elements.t ..................................... ok
t/07dtd.t .......................................... ok
t/08findnodes.t .................................... ok
t/09xpath.t ........................................ ok
t/10ns.t ........................................... ok
t/11memory.t ....................................... skipped: These tests are for authors only!
t/12html.t ......................................... ok
t/13dtd.t .......................................... ok
t/14sax.t .......................................... ok
t/15nodelist.t ..................................... ok
t/16docnodes.t ..................................... ok
t/17callbacks.t .................................... ok
t/18docfree.t ...................................... ok
t/19die_on_invalid_utf8_rt_58848.t ................. ok
t/19encoding.t ..................................... ok
t/20extras.t ....................................... ok
t/21catalog.t ...................................... ok
t/23rawfunctions.t ................................. ok
t/24c14n.t ......................................... ok
t/25relaxng.t ...................................... ok
t/26schema.t ....................................... ok
t/27new_callbacks_simple.t ......................... ok
t/28new_callbacks_multiple.t ....................... ok
t/29id.t ........................................... ok
t/30keep_blanks.t .................................. ok
t/30xpathcontext.t ................................. ok
t/31xpc_functions.t ................................ ok
t/32xpc_variables.t ................................ ok
t/35huge_mode.t .................................... ok
t/40reader.t ....................................... ok
t/40reader_mem_error.t ............................. ok
t/41xinclude.t ..................................... ok
t/42common.t ....................................... ok
t/43options.t ...................................... ok
t/44extent.t ....................................... ok
t/45regex.t ........................................ ok
t/46err_column.t ................................... ok
t/47load_xml_callbacks.t ........................... ok
t/48_memleak_rt_83744.t ............................ ok
t/48_reader_undef_warning_on_empty_str_rt106830.t .. ok
t/48_removeChild_crashes_rt_80395.t ................ ok
t/48_replaceNode_DTD_nodes_rT_80521.t .............. ok
t/48_RH5_double_free_rt83779.t ..................... ok
t/48_rt123379_setNamespace.t ....................... ok
t/48_rt55000.t ..................................... ok
t/48_rt93429_recover_2_in_html_parsing.t ........... ok
t/48_SAX_Builder_rt_91433.t ........................ ok
t/48importing_nodes_IDs_rt_69520.t ................. ok
t/49_load_html.t ................................... ok
t/49callbacks_returning_undef.t .................... ok
t/49global_extent.t ................................ ok
t/50devel.t ........................................ ok
t/51_parse_html_string_rt87089.t ................... ok
t/60error_prev_chain.t ............................. ok
t/60struct_error.t ................................. ok
t/61error.t ........................................ ok
t/62overload.t ..................................... ok
t/71overloads.t .................................... ok
t/72destruction.t .................................. ok
t/80registryleak.t ................................. ok
t/90shared_clone_failed_rt_91800.t ................. skipped: optional (set THREAD_TEST=1 to run these tests)
t/90stack.t ........................................ ok
t/90threads.t ...................................... skipped: optional (set THREAD_TEST=1 to run these tests)
t/91unique_key.t ................................... ok
t/cpan-changes.t ................................... skipped: These tests are for authors only!
t/pod-files-presence.t ............................. ok
t/pod.t ............................................ skipped: These tests are for authors only!
t/release-kwalitee.t ............................... skipped: These tests are for authors only!
t/style-trailing-space.t ........................... skipped: These tests are for authors only!
All tests successful.
Files=75, Tests=2537, 84 wallclock secs ( 0.43 usr  0.10 sys +  7.64 cusr  0.98 csys =  9.15 CPU)
Result: PASS

------------------------------
PREREQUISITES
------------------------------

Prerequisite modules loaded:

requires:

    Module                    Need     Have    
    ------------------------- -------- --------
    base                      0        2.18    
    Carp                      0        1.29    
    constant                  0        1.27    
    DynaLoader                0        1.18    
    Encode                    0        2.49    
    Exporter                  5.57     5.68    
    IO::Handle                0        1.34    
    overload                  0        1.22    
    parent                    0        0.225   
    perl                      5.008001 5.018004
    Scalar::Util              0        1.50    
    strict                    0        1.07    
    Tie::Hash                 0        1.04    
    vars                      0        1.03    
    warnings                  0        1.18    
    XML::NamespaceSupport     1.07     1.12    
    XML::SAX                  0.11     1.00    
    XML::SAX::Base            0        1.09    
    XML::SAX::DocumentLocator 0        0       
    XML::SAX::Exception       0        1.09    

build_requires:

    Module                    Need     Have    
    ------------------------- -------- --------
    Config                    0        5.018004
    Errno                     0        1.18    
    ExtUtils::MakeMaker       0        6.66    
    IO::File                  0        1.16    
    IO::Handle                0        1.34    
    locale                    0        1.02    
    POSIX                     0        1.32    
    Scalar::Util              0        1.50    
    Test::More                0        1.302162
    utf8                      0        1.10    

configure_requires:

    Module                    Need     Have    
    ------------------------- -------- --------
    Alien::Libxml2            0        0.09    
    Config                    0        5.018004
    ExtUtils::MakeMaker       0        6.66    


------------------------------
ENVIRONMENT AND OTHER CONTEXT
------------------------------

Environment variables:

    AUTOMATED_TESTING = 1
    LANG = en_US.UTF-8
    NONINTERACTIVE_TESTING = 1
    PATH = /usr/local/bin:/usr/bin:/bin:/usr/local/games:/usr/games
    PERL = 5.18.4
    PERL5LIB = 
    PERL5OPT = 
    PERL5_CPANPLUS_IS_RUNNING = 25044
    PERL5_CPAN_IS_RUNNING = 25044
    PERLVER = 5.18.4
    PERL_INLINE_DIRECTORY = /home/david/.Inline-5.18.4
    PERL_MM_USE_DEFAULT = 1
    PERL_USE_UNSAFE_INC = 0
    SHELL = /bin/bash
    TERM = screen

Perl special variables (and OS-specific diagnostics, for MSWin32):

    $^X = /home/david/cpantesting/perl-5.18.4/bin/perl
    $UID/$EUID = 1000 / 1000
    $GID = 1000 27 1000
    $EGID = 1000 27 1000

Perl module toolchain versions installed:

    Module              Have    
    ------------------- --------
    CPAN                2.00    
    CPAN::Meta          2.150010
    Cwd                 3.40    
    ExtUtils::CBuilder  0.280210
    ExtUtils::Command   1.17    
    ExtUtils::Install   1.59    
    ExtUtils::MakeMaker 6.66    
    ExtUtils::Manifest  1.63    
    ExtUtils::ParseXS   3.35    
    File::Spec          3.40    
    JSON                4.02    
    JSON::PP            4.02    
    Module::Build       0.4229  
    Module::Signature   n/a     
    Parse::CPAN::Meta   2.150010
    Test::Harness       3.42    
    Test::More          1.302162
    YAML                n/a     
    YAML::Syck          n/a     
    version             0.9924  


--

Summary of my perl5 (revision 5 version 18 subversion 4) configuration:
   
  Platform:
    osname=linux, osvers=4.9.0-8-amd64, archname=x86_64-linux-thread-multi
    uname='linux pigsty 4.9.0-8-amd64 #1 smp debian 4.9.144-3 (2019-02-02) x86_64 gnulinux '
    config_args='-de -Duse64bitall -Dusethreads -Dprefix=/home/david/cpantesting/perl-5.18.4 -A ccflags=-fwrapv'
    hint=previous, useposix=true, d_sigaction=define
    useithreads=define, usemultiplicity=define
    useperlio=define, d_sfio=undef, uselargefiles=define, usesocks=undef
    use64bitint=define, use64bitall=define, uselongdouble=undef
    usemymalloc=n, bincompat5005=undef
  Compiler:
    cc='cc', ccflags ='-D_REENTRANT -D_GNU_SOURCE -fno-strict-aliasing -pipe -fstack-protector -I/usr/local/include -D_LARGEFILE_SOURCE -D_FILE_OFFSET_BITS=64 -fwrapv -fwrapv',
    optimize='-O2',
    cppflags='-D_REENTRANT -D_GNU_SOURCE -fno-strict-aliasing -pipe -fstack-protector -I/usr/local/include -D_REENTRANT -D_GNU_SOURCE -fno-strict-aliasing -pipe -fstack-protector -I/usr/local/include -D_LARGEFILE_SOURCE -D_FILE_OFFSET_BITS=64 -fwrapv -D_REENTRANT -D_GNU_SOURCE -fno-strict-aliasing -pipe -fstack-protector -I/usr/local/include -D_LARGEFILE_SOURCE -D_FILE_OFFSET_BITS=64 -fwrapv -fwrapv'
    ccversion='', gccversion='6.3.0 20170516', gccosandvers=''
    intsize=4, longsize=8, ptrsize=8, doublesize=8, byteorder=12345678
    d_longlong=define, longlongsize=8, d_longdbl=define, longdblsize=16
    ivtype='long', ivsize=8, nvtype='double', nvsize=8, Off_t='off_t', lseeksize=8
    alignbytes=8, prototype=define
  Linker and Libraries:
    ld='cc', ldflags =' -fstack-protector -L/usr/local/lib'
    libpth=/usr/local/lib /lib/x86_64-linux-gnu /lib/../lib /usr/lib/x86_64-linux-gnu /usr/lib/../lib /lib /usr/lib
    libs=-lnsl -ldb -ldl -lm -lcrypt -lutil -lpthread -lc
    perllibs=-lnsl -ldl -lm -lcrypt -lutil -lpthread -lc
    libc=libc-2.24.so, so=so, useshrplib=false, libperl=libperl.a
    gnulibc_version='2.24'
  Dynamic Linking:
    dlsrc=dl_dlopen.xs, dlext=so, d_dlsymun=undef, ccdlflags='-Wl,-E'
    cccdlflags='-fPIC', lddlflags='-shared -O2 -L/usr/local/lib -fstack-protector'


Characteristics of this binary (from libperl): 
  Compile-time options: HAS_TIMES MULTIPLICITY PERLIO_LAYERS
                        PERL_DONT_CREATE_GVSV
                        PERL_HASH_FUNC_ONE_AT_A_TIME_HARD
                        PERL_IMPLICIT_CONTEXT PERL_MALLOC_WRAP
                        PERL_PRESERVE_IVUV PERL_SAWAMPERSAND USE_64_BIT_ALL
                        USE_64_BIT_INT USE_ITHREADS USE_LARGE_FILES
                        USE_LOCALE USE_LOCALE_COLLATE USE_LOCALE_CTYPE
                        USE_LOCALE_NUMERIC USE_PERLIO USE_PERL_ATOF
                        USE_REENTRANT_API
  Locally applied patches:
	Devel::PatchPerl 1.56
  Built under linux
  Compiled at Apr 25 2019 17:34:00
  %ENV:
    PERL="5.18.4"
    PERL5LIB=""
    PERL5OPT=""
    PERL5_CPANPLUS_IS_RUNNING="25044"
    PERL5_CPAN_IS_RUNNING="25044"
    PERLVER="5.18.4"
    PERL_INLINE_DIRECTORY="/home/david/.Inline-5.18.4"
    PERL_MM_USE_DEFAULT="1"
    PERL_USE_UNSAFE_INC="0"
  @INC:
    /home/david/cpantesting/perl-5.18.4/lib/site_perl/5.18.4/x86_64-linux-thread-multi
    /home/david/cpantesting/perl-5.18.4/lib/site_perl/5.18.4
    /home/david/cpantesting/perl-5.18.4/lib/5.18.4/x86_64-linux-thread-multi
    /home/david/cpantesting/perl-5.18.4/lib/5.18.4
    .