Report for Catalyst-Engine-Apache-1.16

Back
From: metabase:user:30977d10-2aae-11df-837a-5e0a49663a4f
Subject: PASS Catalyst-Engine-Apache-1.16 v5.10.1 GNU/Linux
Date: 2010-10-07T21:35:11Z

This distribution has been tested as part of the CPAN Testers
project, supporting the Perl programming language.  See
http://wiki.cpantesters.org/ for more information or email
questions to cpan-testers-discuss@perl.org


--
Dear Florian Ragwitz,

This is a computer-generated report for Catalyst-Engine-Apache-1.16
on perl 5.10.1, created by CPAN-Reporter-1.1802.

Thank you for uploading your work to CPAN.  Congratulations!
All tests were successful.

Sections of this report:

    * Tester comments
    * Program output
    * Prerequisites
    * Environment and other context

------------------------------
TESTER COMMENTS
------------------------------

Additional comments from tester:

this report is from an automated smoke testing program
and was not reviewed by a human for accuracy

------------------------------
PROGRAM OUTPUT
------------------------------

Output from '/usr/bin/make test':

PERL_DL_NONLAZY=1 /home/stro/perl/perl5101/bin/perl "-MExtUtils::Command::MM" "-e" "test_harness(0, 'blib/lib', 'blib/arch')" t/*.t
t/00compiles.t ........................................... ok
t/author-live_component_controller_action_action.t ....... skipped: these tests are for testing by the author
t/author-live_component_controller_action_auto.t ......... skipped: these tests are for testing by the author
t/author-live_component_controller_action_begin.t ........ skipped: these tests are for testing by the author
t/author-live_component_controller_action_chained.t ...... skipped: these tests are for testing by the author
t/author-live_component_controller_action_default.t ...... skipped: these tests are for testing by the author
t/author-live_component_controller_action_detach.t ....... skipped: these tests are for testing by the author
t/author-live_component_controller_action_end.t .......... skipped: these tests are for testing by the author
t/author-live_component_controller_action_forward.t ...... skipped: these tests are for testing by the author
t/author-live_component_controller_action_global.t ....... skipped: these tests are for testing by the author
t/author-live_component_controller_action_index.t ........ skipped: these tests are for testing by the author
t/author-live_component_controller_action_inheritance.t .. skipped: these tests are for testing by the author
t/author-live_component_controller_action_local.t ........ skipped: these tests are for testing by the author
t/author-live_component_controller_action_multipath.t .... skipped: these tests are for testing by the author
t/author-live_component_controller_action_path.t ......... skipped: these tests are for testing by the author
t/author-live_component_controller_action_private.t ...... skipped: these tests are for testing by the author
t/author-live_component_controller_action_regexp.t ....... skipped: these tests are for testing by the author
t/author-live_component_controller_action_streaming.t .... skipped: these tests are for testing by the author
t/author-live_component_controller_args.t ................ skipped: these tests are for testing by the author
t/author-live_engine_request_body.t ...................... skipped: these tests are for testing by the author
t/author-live_engine_request_body_demand.t ............... skipped: these tests are for testing by the author
t/author-live_engine_request_cookies.t ................... skipped: these tests are for testing by the author
t/author-live_engine_request_headers.t ................... skipped: these tests are for testing by the author
t/author-live_engine_request_parameters.t ................ skipped: these tests are for testing by the author
t/author-live_engine_request_uploads.t ................... skipped: these tests are for testing by the author
t/author-live_engine_request_uri.t ....................... skipped: these tests are for testing by the author
t/author-live_engine_response_cookies.t .................. skipped: these tests are for testing by the author
t/author-live_engine_response_errors.t ................... skipped: these tests are for testing by the author
t/author-live_engine_response_headers.t .................. skipped: these tests are for testing by the author
t/author-live_engine_response_large.t .................... skipped: these tests are for testing by the author
t/author-live_engine_response_redirect.t ................. skipped: these tests are for testing by the author
t/author-live_engine_response_status.t ................... skipped: these tests are for testing by the author
t/author-live_engine_setup_basics.t ...................... skipped: these tests are for testing by the author
t/author-live_engine_setup_plugins.t ..................... skipped: these tests are for testing by the author
t/author-live_fork.t ..................................... skipped: these tests are for testing by the author
t/author-live_loop.t ..................................... skipped: these tests are for testing by the author
t/author-live_plugin_loaded.t ............................ skipped: these tests are for testing by the author
t/author-live_priorities.t ............................... skipped: these tests are for testing by the author
t/author-live_recursion.t ................................ skipped: these tests are for testing by the author
t/author-notabs.t ........................................ skipped: these tests are for testing by the author
t/author-pod.t ........................................... skipped: these tests are for testing by the author
t/author-podcoverage.t ................................... skipped: these tests are for testing by the author
t/release-no-tabs.t ...................................... skipped: these tests are for release candidate testing
t/release-pod-syntax.t ................................... skipped: these tests are for release candidate testing
All tests successful.
Files=44, Tests=1,  3 wallclock secs ( 0.10 usr  0.32 sys +  0.88 cusr  0.44 csys =  1.74 CPU)
Result: PASS

------------------------------
PREREQUISITES
------------------------------

Prerequisite modules loaded:

requires:

    Module              Need Have   
    ------------------- ---- -------
    Catalyst::Runtime   5.80 5.80029

configure_requires:

    Module              Need Have   
    ------------------- ---- -------
    ExtUtils::MakeMaker 6.31 6.56   


------------------------------
ENVIRONMENT AND OTHER CONTEXT
------------------------------

Environment variables:

    AUTOMATED_TESTING = 1
    LANG = en_US.UTF-8
    PATH = /usr/local/bin:/usr/bin:/bin:/usr/games
    PERL5LIB = 
    PERL5OPT = 
    PERL5_CPANPLUS_IS_RUNNING = 20748
    PERL5_CPAN_IS_RUNNING = 20748
    PERL5_CPAN_IS_RUNNING_IN_RECURSION = 20266,20748
    PERL_CR_SMOKER_CURRENT = Catalyst-Engine-Apache-1.16
    PERL_EXTUTILS_AUTOINSTALL = --defaultdeps
    PERL_MM_USE_DEFAULT = 1
    SHELL = /bin/bash
    TERM = xterm

Perl special variables (and OS-specific diagnostics, for MSWin32):

    $^X = /home/stro/perl/perl5101/bin/perl
    $UID/$EUID = 1000 / 1000
    $GID = 1000 20 24 25 29 44 46 1000
    $EGID = 1000 20 24 25 29 44 46 1000

Perl module toolchain versions installed:

    Module              Have  
    ------------------- ------
    CPAN                1.9402
    Cwd                 3.31  
    ExtUtils::CBuilder  0.2703
    ExtUtils::Command   1.16  
    ExtUtils::Install   1.54  
    ExtUtils::MakeMaker 6.56  
    ExtUtils::Manifest  1.58  
    ExtUtils::ParseXS   2.2206
    File::Spec          3.31  
    Module::Build       0.3607
    Module::Signature   0.66  
    Test::Harness       3.22  
    Test::More          0.96  
    YAML                0.72  
    YAML::Syck          1.14  
    version             0.82  


--

Summary of my perl5 (revision 5 version 10 subversion 1) configuration:
   
  Platform:
    osname=linux, osvers=2.6.26-2-686, archname=i686-linux
    uname='linux debian5 2.6.26-2-686 #1 smp wed may 12 21:56:10 utc 2010 i686 gnulinux '
    config_args=''
    hint=recommended, useposix=true, d_sigaction=define
    useithreads=undef, usemultiplicity=undef
    useperlio=define, d_sfio=undef, uselargefiles=define, usesocks=undef
    use64bitint=undef, use64bitall=undef, uselongdouble=undef
    usemymalloc=n, bincompat5005=undef
  Compiler:
    cc='cc', ccflags ='-fno-strict-aliasing -pipe -fstack-protector -I/usr/local/include -D_LARGEFILE_SOURCE -D_FILE_OFFSET_BITS=64',
    optimize='-O2',
    cppflags='-fno-strict-aliasing -pipe -fstack-protector -I/usr/local/include'
    ccversion='', gccversion='4.3.2', gccosandvers=''
    intsize=4, longsize=4, ptrsize=4, doublesize=8, byteorder=1234
    d_longlong=define, longlongsize=8, d_longdbl=define, longdblsize=12
    ivtype='long', ivsize=4, nvtype='double', nvsize=8, Off_t='off_t', lseeksize=8
    alignbytes=4, prototype=define
  Linker and Libraries:
    ld='cc', ldflags =' -fstack-protector -L/usr/local/lib'
    libpth=/usr/local/lib /lib /usr/lib
    libs=-lnsl -ldb -ldl -lm -lcrypt -lutil -lc
    perllibs=-lnsl -ldl -lm -lcrypt -lutil -lc
    libc=/lib/libc-2.7.so, so=so, useshrplib=false, libperl=libperl.a
    gnulibc_version='2.7'
  Dynamic Linking:
    dlsrc=dl_dlopen.xs, dlext=so, d_dlsymun=undef, ccdlflags='-Wl,-E'
    cccdlflags='-fPIC', lddlflags='-shared -O2 -L/usr/local/lib -fstack-protector'


Characteristics of this binary (from libperl): 
  Compile-time options: PERL_DONT_CREATE_GVSV PERL_MALLOC_WRAP
                        USE_LARGE_FILES USE_PERLIO
  Built under linux
  Compiled at Jun 16 2010 14:29:13
  %ENV:
    PERL5LIB=""
    PERL5OPT=""
    PERL5_CPANPLUS_IS_RUNNING="20748"
    PERL5_CPAN_IS_RUNNING="20748"
    PERL5_CPAN_IS_RUNNING_IN_RECURSION="20266,20748"
    PERL_CR_SMOKER_CURRENT="Catalyst-Engine-Apache-1.16"
    PERL_EXTUTILS_AUTOINSTALL="--defaultdeps"
    PERL_MM_USE_DEFAULT="1"
  @INC:
    /home/stro/perl/perl5101/lib/5.10.1/i686-linux
    /home/stro/perl/perl5101/lib/5.10.1
    /home/stro/perl/perl5101/lib/site_perl/5.10.1/i686-linux
    /home/stro/perl/perl5101/lib/site_perl/5.10.1
    .