Test-Class-Tiny v0.03 Perl 5 v5.32.1 darwin-2level
- Status
- Pass
- From
- Philip Sharman
- Dist
-
Test-Class-Tiny v0.03
- Platform
- Perl 5 v5.32.1 darwin-2level
- Date
- 2021-05-10 16:50:02
- ID
- c3d4f55a-b1af-11eb-99b3-1ce59d77df28
This distribution has been tested as part of the CPAN Testers
project, supporting the Perl programming language. See
http://wiki.cpantesters.org/ for more information or email
questions to cpan-testers-discuss@perl.org
--
Dear Felipe Gasper,
This is a computer-generated report for Test-Class-Tiny-0.03
on perl 5.32.1, created by CPAN-Reporter-1.2018.
Thank you for uploading your work to CPAN. Congratulations!
All tests were successful.
Sections of this report:
* Tester comments
* Program output
* Prerequisites
* Environment and other context
------------------------------
TESTER COMMENTS
------------------------------
Additional comments from tester:
none provided
------------------------------
PROGRAM OUTPUT
------------------------------
Output from '/usr/bin/make test':
PERL_DL_NONLAZY=1 "/Users/psharman/perl5/perlbrew/perls/perl-5.32.0/bin/perl" "-MExtUtils::Command::MM" "-MTest::Harness" "-e" "undef *Test::Harness::Switches; test_harness(0, 'blib/lib', 'blib/arch')" t/*.t
t/basic.t .......... ok
t/dynamic_count.t .. ok
t/inheritance.t .... ok
t/order.t .......... ok
t/suffix_naming.t .. ok
All tests successful.
Files=5, Tests=26, 1 wallclock secs ( 0.03 usr 0.01 sys + 0.58 cusr 0.14 csys = 0.76 CPU)
Result: PASS
------------------------------
PREREQUISITES
------------------------------
Prerequisite modules loaded:
requires:
Module Need Have
------------------- -------- --------
mro 0 1.23
perl 5.010000 5.032001
Test2::API 0 1.302183
build_requires:
Module Need Have
------------------- -------- --------
ExtUtils::MakeMaker 0 7.62
parent 0 0.238
Test2::V0 0 0.000139
Test::Deep 0 1.130
configure_requires:
Module Need Have
------------------- -------- --------
ExtUtils::MakeMaker 0 7.62
------------------------------
ENVIRONMENT AND OTHER CONTEXT
------------------------------
Environment variables:
LANG = en_CA.UTF-8
LC_ALL = en_US.UTF-8
PATH = /Users/psharman/.volta/bin:/Users/psharman/bin:/Users/psharman/.volta/bin:/usr/local/Cellar/libxml2/2.9.10_2/bin:/usr/local/opt/ruby/bin:/usr/local/lib/ruby/gems/2.5.0/bin:/Applications/Postgres.app/Contents/Versions/latest/bin:/Users/psharman/perl5/perlbrew/bin:/Users/psharman/perl5/perlbrew/perls/perl-5.32.0/bin:/usr/local/bin:/usr/bin:/bin:/usr/sbin:/sbin:/Users/psharman/.ansible:/opt/X11/bin:/Library/Apple/usr/bin:/Applications/Rakudo/bin:/Applications/Rakudo/share/perl6/site/bin
PERL5LIB =
PERL5OPT =
PERL5_CPANPLUS_IS_RUNNING = 59966
PERL5_CPAN_IS_RUNNING = 59966
PERL_USE_UNSAFE_INC = 1
SHELL = /bin/sh
TERM = xterm-256color
Perl special variables (and OS-specific diagnostics, for MSWin32):
$^X = /Users/psharman/perl5/perlbrew/perls/perl-5.32.0/bin/perl
$UID/$EUID = 0 / 0
$GID = 0 0 1 2 3 4 5 8 9 12 20 29 61 80 701 702 33
$EGID = 0 0 1 2 3 4 5 8 9 12 20 29 61 80 701 702 33
Perl module toolchain versions installed:
Module Have
------------------- --------
CPAN 2.28
CPAN::Meta 2.150010
Cwd 3.78
ExtUtils::CBuilder 0.280236
ExtUtils::Command 7.62
ExtUtils::Install 2.20
ExtUtils::MakeMaker 7.62
ExtUtils::Manifest 1.73
ExtUtils::ParseXS 3.40
File::Spec 3.78
JSON 4.03
JSON::PP 4.06
Module::Build 0.4231
Module::Signature n/a
Parse::CPAN::Meta 2.150010
Test::Harness 3.42
Test::More 1.302183
YAML 1.30
YAML::Syck n/a
version 0.9929
--
Summary of my perl5 (revision 5 version 32 subversion 1) configuration:
Platform:
osname=darwin
osvers=19.6.0
archname=darwin-2level
uname='darwin psharman-wsm.internal.salesforce.com 19.6.0 darwin kernel version 19.6.0: tue jan 12 22:13:05 pst 2021; root:xnu-6153.141.16~1release_x86_64 x86_64 '
config_args='-de -Dprefix=/Users/psharman/perl5/perlbrew/perls/perl-5.32.0 -Aeval:scriptdir=/Users/psharman/perl5/perlbrew/perls/perl-5.32.0/bin'
hint=recommended
useposix=true
d_sigaction=define
useithreads=undef
usemultiplicity=undef
use64bitint=define
use64bitall=define
uselongdouble=undef
usemymalloc=n
default_inc_excludes_dot=define
bincompat5005=undef
Compiler:
cc='cc'
ccflags ='-fno-common -DPERL_DARWIN -mmacosx-version-min=10.15 -fno-strict-aliasing -pipe -fstack-protector-strong -I/usr/local/include -DPERL_USE_SAFE_PUTENV'
optimize='-O3'
cppflags='-fno-common -DPERL_DARWIN -mmacosx-version-min=10.15 -fno-strict-aliasing -pipe -fstack-protector-strong -I/usr/local/include'
ccversion=''
gccversion='Apple LLVM 12.0.0 (clang-1200.0.32.29)'
gccosandvers=''
intsize=4
longsize=8
ptrsize=8
doublesize=8
byteorder=12345678
doublekind=3
d_longlong=define
longlongsize=8
d_longdbl=define
longdblsize=16
longdblkind=3
ivtype='long'
ivsize=8
nvtype='double'
nvsize=8
Off_t='off_t'
lseeksize=8
alignbytes=8
prototype=define
Linker and Libraries:
ld='cc'
ldflags =' -mmacosx-version-min=10.15 -fstack-protector-strong -L/usr/local/lib'
libpth=/usr/local/lib /Applications/Xcode.app/Contents/Developer/Toolchains/XcodeDefault.xctoolchain/usr/lib/clang/12.0.0/lib /Library/Developer/CommandLineTools/SDKs/MacOSX10.15.sdk/usr/lib /Applications/Xcode.app/Contents/Developer/Toolchains/XcodeDefault.xctoolchain/usr/lib /usr/lib
libs=-lpthread -lgdbm -ldbm -ldb -ldl -lm -lutil -lc
perllibs=-lpthread -ldl -lm -lutil -lc
libc=
so=dylib
useshrplib=false
libperl=libperl.a
gnulibc_version=''
Dynamic Linking:
dlsrc=dl_dlopen.xs
dlext=bundle
d_dlsymun=undef
ccdlflags=' '
cccdlflags=' '
lddlflags=' -mmacosx-version-min=10.15 -bundle -undefined dynamic_lookup -L/usr/local/lib -fstack-protector-strong'
Characteristics of this binary (from libperl):
Compile-time options:
HAS_TIMES
PERLIO_LAYERS
PERL_COPY_ON_WRITE
PERL_DONT_CREATE_GVSV
PERL_MALLOC_WRAP
PERL_OP_PARENT
PERL_PRESERVE_IVUV
PERL_USE_SAFE_PUTENV
USE_64_BIT_ALL
USE_64_BIT_INT
USE_LARGE_FILES
USE_LOCALE
USE_LOCALE_COLLATE
USE_LOCALE_CTYPE
USE_LOCALE_NUMERIC
USE_LOCALE_TIME
USE_PERLIO
USE_PERL_ATOF
Built under darwin
Compiled at Feb 25 2021 12:34:56
%ENV:
PERL5LIB=""
PERL5OPT=""
PERL5_CPANPLUS_IS_RUNNING="59966"
PERL5_CPAN_IS_RUNNING="59966"
PERL_USE_UNSAFE_INC="1"
@INC:
/Users/psharman/perl5/perlbrew/perls/perl-5.32.0/lib/site_perl/5.32.1/darwin-2level
/Users/psharman/perl5/perlbrew/perls/perl-5.32.0/lib/site_perl/5.32.1
/Users/psharman/perl5/perlbrew/perls/perl-5.32.0/lib/5.32.1/darwin-2level
/Users/psharman/perl5/perlbrew/perls/perl-5.32.0/lib/5.32.1
/Users/psharman/perl5/perlbrew/perls/perl-5.32.0/lib/site_perl/5.32.0/darwin-2level
/Users/psharman/perl5/perlbrew/perls/perl-5.32.0/lib/site_perl/5.32.0
/Users/psharman/perl5/perlbrew/perls/perl-5.32.0/lib/site_perl
.