Back
From: metabase:user:320bfe00-2aae-11df-837a-5e0a49663a4f
Subject: PASS Acme-PERLANCAR-Test-0.29 v5.24.0 GNU/Linux
Date: 2017-03-21T06:36:50Z
This distribution has been tested as part of the CPAN Testers
project, supporting the Perl programming language. See
http://wiki.cpantesters.org/ for more information or email
questions to cpan-testers-discuss@perl.org
--
Dear perlancar,
This is a computer-generated report for Acme-PERLANCAR-Test-0.29
on perl 5.24.0, created by CPAN-Reporter-1.2018.
Thank you for uploading your work to CPAN. Congratulations!
All tests were successful.
Sections of this report:
* Tester comments
* Program output
* Prerequisites
* Environment and other context
------------------------------
TESTER COMMENTS
------------------------------
Additional comments from tester:
this report is from an automated smoke testing program
and was not reviewed by a human for accuracy
------------------------------
PROGRAM OUTPUT
------------------------------
Output from '/usr/bin/make test':
PERL_DL_NONLAZY=1 "/home/sand/src/perl/repoperls/installed-perls/host/k93msid/v5.24.0/2d7c/bin/perl" "-MExtUtils::Command::MM" "-MTest::Harness" "-e" "undef *Test::Harness::Switches; test_harness(0, 'blib/lib', 'blib/arch')" t/*.t
t/00-compile.t ........... ok
t/author-pod-coverage.t .. skipped: these tests are for testing by the author
t/author-pod-syntax.t .... skipped: these tests are for testing by the author
# {
# 'AUTOMATED_TESTING' => '1',
# 'DISPLAY' => ':121',
# 'GPG_TTY' => '/dev/pts/11',
# 'HARNESS_ACTIVE' => '1',
# 'HARNESS_VERSION' => '3.38',
# 'HOME' => '/home/sand',
# 'LANG' => 'en_US.UTF-8',
# 'LESS' => '-RMQcfi -j9 -X -P line %lt (of %L) of %f',
# 'LESSCHARSET' => 'utf-8',
# 'LOGNAME' => 'sand',
# 'MAIL' => '/var/mail/sand',
# 'MAKEFLAGS' => '',
# 'MAKELEVEL' => '1',
# 'MANPAGER' => 'less',
# 'MFLAGS' => '',
# 'OLDPWD' => '/home/sand',
# 'PAGER' => 'less',
# 'PATH' => '/home/sand/bin:/usr/local/bin:/usr/bin:/bin:/usr/games:/usr/local/perl/bin:/usr/X11/bin:/sbin:/usr/sbin',
# 'PERL5LIB' => '/tmp/loop_over_bdir-14187-8J0qH2/Acme-PERLANCAR-Test-0.29-0/blib/lib:/tmp/loop_over_bdir-14187-8J0qH2/Acme-PERLANCAR-Test-0.29-0/blib/arch:',
# 'PERL5OPT' => '',
# 'PERL5_CPANPLUS_IS_RUNNING' => '14190',
# 'PERL5_CPAN_IS_RUNNING' => '14190',
# 'PERL_CANARY_STABILITY_NOPROMPT' => '1',
# 'PERL_DL_NONLAZY' => '1',
# 'PERL_MM_USE_DEFAULT' => '1',
# 'PERL_USE_UNSAFE_INC' => '1',
# 'PWD' => '/tmp/loop_over_bdir-14187-8J0qH2/Acme-PERLANCAR-Test-0.29-0',
# 'SHELL' => '/usr/bin/zsh',
# 'SHLVL' => '2',
# 'SSH_CLIENT' => '192.168.0.83 52408 22',
# 'SSH_CONNECTION' => '192.168.0.83 52408 192.168.0.60 22',
# 'SSH_TTY' => '/dev/pts/0',
# 'STY' => '3981.pts-0.k93msid',
# 'SVN_EDITOR' => 'emacsclient',
# 'TAP_VERSION' => '13',
# 'TERM' => 'screen',
# 'TERMCAP' => 'SC|screen|VT 100/ANSI X3.64 virtual terminal:\\
# :hs:ts=\\E_:fs=\\E\\\\:ds=\\E_\\E\\\\:\\
# :DO=\\E[%dB:LE=\\E[%dD:RI=\\E[%dC:UP=\\E[%dA:bs:bt=\\E[Z:\\
# :cd=\\E[J:ce=\\E[K:cl=\\E[H\\E[J:cm=\\E[%i%d;%dH:ct=\\E[3g:\\
# :do=^J:nd=\\E[C:pt:rc=\\E8:rs=\\Ec:sc=\\E7:st=\\EH:up=\\EM:\\
# :le=^H:bl=^G:cr=^M:it#8:ho=\\E[H:nw=\\EE:ta=^I:is=\\E)0:\\
# :li#63:co#81:am:xn:xv:LP:sr=\\EM:al=\\E[L:AL=\\E[%dL:\\
# :cs=\\E[%i%d;%dr:dl=\\E[M:DL=\\E[%dM:dc=\\E[P:DC=\\E[%dP:\\
# :im=\\E[4h:ei=\\E[4l:mi:IC=\\E[%d@:ks=\\E[?1h\\E=:\\
# :ke=\\E[?1l\\E>:vi=\\E[?25l:ve=\\E[34h\\E[?25h:vs=\\E[34l:\\
# :ti=\\E[?1049h:te=\\E[?1049l:us=\\E[4m:ue=\\E[24m:so=\\E[3m:\\
# :se=\\E[23m:mb=\\E[5m:md=\\E[1m:mr=\\E[7m:me=\\E[m:ms:\\
# :Co#8:pa#64:AF=\\E[3%dm:AB=\\E[4%dm:op=\\E[39;49m:AX:\\
# :vb=\\Eg:G0:as=\\E(0:ae=\\E(B:\\
# :ac=\\140\\140aaffggjjkkllmmnnooppqqrrssttuuvvwwxxyyzz{{||}}~~..--++,,hhII00:\\
# :po=\\E[5i:pf=\\E[4i:Km=\\E[M:k0=\\E[10~:k1=\\EOP:k2=\\EOQ:\\
# :k3=\\EOR:k4=\\EOS:k5=\\E[15~:k6=\\E[17~:k7=\\E[18~:\\
# :k8=\\E[19~:k9=\\E[20~:k;=\\E[21~:F1=\\E[23~:F2=\\E[24~:\\
# :F3=\\E[25~:F4=\\E[26~:F5=\\E[28~:F6=\\E[29~:F7=\\E[31~:\\
# :F8=\\E[32~:F9=\\E[33~:FA=\\E[34~:kb=:K1=\\EOw:K2=\\EOu:\\
# :K3=\\EOy:K4=\\EOq:K5=\\EOs:kB=\\E[Z:kE=\\E[8\\^:*4=\\E[3$:\\
# :*7=\\E[8$:#2=\\E[7$:#3=\\E[2$:#4=\\E[d:%c=\\E[6$:%e=\\E[5$:\\
# :%i=\\E[c:kh=\\E[1~:@1=\\E[1~:kH=\\E[4~:@7=\\E[4~:kN=\\E[6~:\\
# :kP=\\E[5~:kI=\\E[2~:kD=\\E[3~:ku=\\EOA:kd=\\EOB:kr=\\EOC:\\
# :kl=\\EOD:km:',
# 'TEST2_ACTIVE' => '1',
# 'TEST_ACTIVE' => '1',
# 'USER' => 'sand',
# 'WINDOW' => '10',
# '_' => '/usr/bin/nice',
# 'dunique' => ''
# }
t/printenv.t ............. ok
All tests successful.
Files=4, Tests=3, 0 wallclock secs ( 0.02 usr 0.03 sys + 0.14 cusr 0.04 csys = 0.23 CPU)
Result: PASS
------------------------------
PREREQUISITES
------------------------------
Prerequisite modules loaded:
requires:
Module Need Have
------------------- -------- --------
perl 5.010001 5.024000
strict 0 1.11
warnings 0 1.36
build_requires:
Module Need Have
------------------- -------- --------
ExtUtils::MakeMaker 0 7.24
File::Spec 0 3.63
IO::Handle 0 1.36
IPC::Open3 0 1.20
Test::More 0.98 1.302078
configure_requires:
Module Need Have
------------------- -------- --------
ExtUtils::MakeMaker 0 7.24
------------------------------
ENVIRONMENT AND OTHER CONTEXT
------------------------------
Environment variables:
AUTOMATED_TESTING = 1
LANG = en_US.UTF-8
PATH = /home/sand/bin:/usr/local/bin:/usr/bin:/bin:/usr/games:/usr/local/perl/bin:/usr/X11/bin:/sbin:/usr/sbin
PERL5LIB =
PERL5OPT =
PERL5_CPANPLUS_IS_RUNNING = 14190
PERL5_CPAN_IS_RUNNING = 14190
PERL_CANARY_STABILITY_NOPROMPT = 1
PERL_MM_USE_DEFAULT = 1
PERL_USE_UNSAFE_INC = 1
SHELL = /usr/bin/zsh
TERM = screen
Perl special variables (and OS-specific diagnostics, for MSWin32):
$^X = /home/sand/src/perl/repoperls/installed-perls/host/k93msid/v5.24.0/2d7c/bin/perl
$UID/$EUID = 1005 / 1005
$GID = 1005 1005
$EGID = 1005 1005
Perl module toolchain versions installed:
Module Have
------------------- --------
CPAN 2.17
CPAN::Meta 2.150010
Cwd 3.63
ExtUtils::CBuilder 0.280225
ExtUtils::Command 7.24
ExtUtils::Install 2.04
ExtUtils::MakeMaker 7.24
ExtUtils::Manifest 1.70
ExtUtils::ParseXS 3.31
File::Spec 3.63
JSON 2.90
JSON::PP 2.27300
Module::Build 0.4220
Module::Signature 0.81
Parse::CPAN::Meta 2.150010
Test::Harness 3.38
Test::More 1.302078
YAML 1.23
YAML::Syck 1.29
version 0.9916
--
Summary of my perl5 (revision 5 version 24 subversion 0) configuration:
Derived from: be2c0c650b028f54e427f2469a59942edfdff8a9
Platform:
osname=linux, osvers=4.9.0-2-amd64, archname=x86_64-linux-ld
uname='linux k93msid 4.9.0-2-amd64 #1 smp debian 4.9.13-1 (2017-02-27) x86_64 gnulinux '
config_args='-Dprefix=/home/sand/src/perl/repoperls/installed-perls/host/k93msid/v5.24.0/2d7c -Dmyhostname=k93msid -Dinstallusrbinperl=n -Uversiononly -Dusedevel -des -Ui_db -Dlibswanted=cl pthread socket inet nsl gdbm dbm malloc dl ld sun m crypt sec util c cposix posix ucb BSD gdbm_compat -Uuseithreads -Duselongdouble -DDEBUGGING=-g'
hint=recommended, useposix=true, d_sigaction=define
useithreads=undef, usemultiplicity=undef
use64bitint=define, use64bitall=define, uselongdouble=define
usemymalloc=n, bincompat5005=undef
Compiler:
cc='cc', ccflags ='-fwrapv -fno-strict-aliasing -pipe -fstack-protector-strong -I/usr/local/include -D_LARGEFILE_SOURCE -D_FILE_OFFSET_BITS=64',
optimize='-O2 -g',
cppflags='-fwrapv -fno-strict-aliasing -pipe -fstack-protector-strong -I/usr/local/include'
ccversion='', gccversion='6.3.0 20170316', gccosandvers=''
intsize=4, longsize=8, ptrsize=8, doublesize=8, byteorder=12345678, doublekind=3
d_longlong=define, longlongsize=8, d_longdbl=define, longdblsize=16, longdblkind=3
ivtype='long', ivsize=8, nvtype='long double', nvsize=16, Off_t='off_t', lseeksize=8
alignbytes=16, prototype=define
Linker and Libraries:
ld='cc', ldflags =' -fstack-protector-strong -L/usr/local/lib'
libpth=/usr/local/lib /usr/lib/gcc/x86_64-linux-gnu/6/include-fixed /usr/include/x86_64-linux-gnu /usr/lib /lib/x86_64-linux-gnu /lib/../lib /usr/lib/x86_64-linux-gnu /usr/lib/../lib /lib
libs=-lpthread -lnsl -ldl -lm -lcrypt -lutil -lc
perllibs=-lpthread -lnsl -ldl -lm -lcrypt -lutil -lc
libc=libc-2.24.so, so=so, useshrplib=false, libperl=libperl.a
gnulibc_version='2.24'
Dynamic Linking:
dlsrc=dl_dlopen.xs, dlext=so, d_dlsymun=undef, ccdlflags='-Wl,-E'
cccdlflags='-fPIC', lddlflags='-shared -O2 -g -L/usr/local/lib -fstack-protector-strong'
Characteristics of this binary (from libperl):
Compile-time options: HAS_TIMES PERLIO_LAYERS PERL_COPY_ON_WRITE
PERL_DONT_CREATE_GVSV
PERL_HASH_FUNC_ONE_AT_A_TIME_HARD PERL_MALLOC_WRAP
PERL_PRESERVE_IVUV PERL_USE_DEVEL USE_64_BIT_ALL
USE_64_BIT_INT USE_LARGE_FILES USE_LOCALE
USE_LOCALE_COLLATE USE_LOCALE_CTYPE
USE_LOCALE_NUMERIC USE_LOCALE_TIME USE_LONG_DOUBLE
USE_PERLIO USE_PERL_ATOF
Locally applied patches:
uncommitted-changes
Built under linux
Compiled at Mar 19 2017 06:33:28
%ENV:
PERL5LIB=""
PERL5OPT=""
PERL5_CPANPLUS_IS_RUNNING="14190"
PERL5_CPAN_IS_RUNNING="14190"
PERL_CANARY_STABILITY_NOPROMPT="1"
PERL_MM_USE_DEFAULT="1"
PERL_USE_UNSAFE_INC="1"
@INC:
/home/sand/src/perl/repoperls/installed-perls/host/k93msid/v5.24.0/2d7c/lib/site_perl/5.24.0/x86_64-linux-ld
/home/sand/src/perl/repoperls/installed-perls/host/k93msid/v5.24.0/2d7c/lib/site_perl/5.24.0
/home/sand/src/perl/repoperls/installed-perls/host/k93msid/v5.24.0/2d7c/lib/5.24.0/x86_64-linux-ld
/home/sand/src/perl/repoperls/installed-perls/host/k93msid/v5.24.0/2d7c/lib/5.24.0
.