Report for Curses-UI-0.9607

Back
From: metabase:user:30977d10-2aae-11df-837a-5e0a49663a4f
Subject: PASS Curses-UI-0.9607 v5.13.4 GNU/Linux
Date: 2010-11-19T03:40:33Z

This distribution has been tested as part of the CPAN Testers
project, supporting the Perl programming language.  See
http://wiki.cpantesters.org/ for more information or email
questions to cpan-testers-discuss@perl.org


--
Dear Shawn Boyette,

This is a computer-generated report for Curses-UI-0.9607
on perl 5.13.4, created by CPAN-Reporter-1.1803.

Thank you for uploading your work to CPAN.  Congratulations!
All tests were successful.

Sections of this report:

    * Tester comments
    * Program output
    * Prerequisites
    * Environment and other context

------------------------------
TESTER COMMENTS
------------------------------

Additional comments from tester:

this report is from an automated smoke testing program
and was not reviewed by a human for accuracy

------------------------------
PROGRAM OUTPUT
------------------------------

Output from '/usr/bin/make test':

/home/stro/perl/perl5134th/bin/perl "-Iinc" Makefile.PL --config= --installdeps=Curses,0
Cannot determine perl version info from lib/Curses/UI.pm
WARNING: 'All rights reserved' in copyright may invalidate Open Source license.
PERL_DL_NONLAZY=1 /home/stro/perl/perl5134th/bin/perl "-MExtUtils::Command::MM" "-e" "test_harness(0, 'inc', 'blib/lib', 'blib/arch')" t/01base_classes.t t/02widget_classes.t t/03dialog_classes.t t/04language_classes.t t/05pod.t t/06ui.t t/07widget.t t/08common.t t/09label.t t/10texteditor.t t/11listbox.t t/12gpm_handler.t t/13notebook.t t/99misc.t
Prototype after '@' for Curses::UI::Widget::width_by_windowscrwidth : $@; at /home/stro/cpan/build/5.13.4-th/Curses-UI-0.9607-BT_Atw/t/../lib/Curses/UI/Widget.pm line 356.
Prototype after '@' for Curses::UI::Widget::height_by_windowscrheight : $@; at /home/stro/cpan/build/5.13.4-th/Curses-UI-0.9607-BT_Atw/t/../lib/Curses/UI/Widget.pm line 380.
Prototype after '@' for Curses::UI::Widget::set_binding : $@; at /home/stro/cpan/build/5.13.4-th/Curses-UI-0.9607-BT_Atw/t/../lib/Curses/UI/Widget.pm line 898.
Prototype after '@' for Curses::UI::Widget::set_mouse_binding : $@; at /home/stro/cpan/build/5.13.4-th/Curses-UI-0.9607-BT_Atw/t/../lib/Curses/UI/Widget.pm line 924.
Prototype after '@' for Curses::UI::Container::add : $@; at /home/stro/cpan/build/5.13.4-th/Curses-UI-0.9607-BT_Atw/t/../lib/Curses/UI/Container.pm line 67.
Prototype after '@' for Curses::UI::Container::set_focusorder : @; at /home/stro/cpan/build/5.13.4-th/Curses-UI-0.9607-BT_Atw/t/../lib/Curses/UI/Container.pm line 475.
Prototype after '@' for Curses::UI::Container::set_draworder : @; at /home/stro/cpan/build/5.13.4-th/Curses-UI-0.9607-BT_Atw/t/../lib/Curses/UI/Container.pm line 483.
t/01base_classes.t ...... ok
Prototype after '@' for Curses::UI::Widget::width_by_windowscrwidth : $@; at /home/stro/cpan/build/5.13.4-th/Curses-UI-0.9607-BT_Atw/blib/lib/Curses/UI/Widget.pm line 356.
Prototype after '@' for Curses::UI::Widget::height_by_windowscrheight : $@; at /home/stro/cpan/build/5.13.4-th/Curses-UI-0.9607-BT_Atw/blib/lib/Curses/UI/Widget.pm line 380.
Prototype after '@' for Curses::UI::Widget::set_binding : $@; at /home/stro/cpan/build/5.13.4-th/Curses-UI-0.9607-BT_Atw/blib/lib/Curses/UI/Widget.pm line 898.
Prototype after '@' for Curses::UI::Widget::set_mouse_binding : $@; at /home/stro/cpan/build/5.13.4-th/Curses-UI-0.9607-BT_Atw/blib/lib/Curses/UI/Widget.pm line 924.
Prototype after '@' for Curses::UI::Container::add : $@; at /home/stro/cpan/build/5.13.4-th/Curses-UI-0.9607-BT_Atw/blib/lib/Curses/UI/Container.pm line 67.
Prototype after '@' for Curses::UI::Container::set_focusorder : @; at /home/stro/cpan/build/5.13.4-th/Curses-UI-0.9607-BT_Atw/blib/lib/Curses/UI/Container.pm line 475.
Prototype after '@' for Curses::UI::Container::set_draworder : @; at /home/stro/cpan/build/5.13.4-th/Curses-UI-0.9607-BT_Atw/blib/lib/Curses/UI/Container.pm line 483.
Prototype after '@' for Curses::UI::Listbox::maxlabelwidth : @; at /home/stro/cpan/build/5.13.4-th/Curses-UI-0.9607-BT_Atw/blib/lib/Curses/UI/Listbox.pm line 221.
t/02widget_classes.t .... ok
Prototype after '@' for Curses::UI::Widget::width_by_windowscrwidth : $@; at /home/stro/cpan/build/5.13.4-th/Curses-UI-0.9607-BT_Atw/blib/lib/Curses/UI/Widget.pm line 356.
Prototype after '@' for Curses::UI::Widget::height_by_windowscrheight : $@; at /home/stro/cpan/build/5.13.4-th/Curses-UI-0.9607-BT_Atw/blib/lib/Curses/UI/Widget.pm line 380.
Prototype after '@' for Curses::UI::Widget::set_binding : $@; at /home/stro/cpan/build/5.13.4-th/Curses-UI-0.9607-BT_Atw/blib/lib/Curses/UI/Widget.pm line 898.
Prototype after '@' for Curses::UI::Widget::set_mouse_binding : $@; at /home/stro/cpan/build/5.13.4-th/Curses-UI-0.9607-BT_Atw/blib/lib/Curses/UI/Widget.pm line 924.
Prototype after '@' for Curses::UI::Container::add : $@; at /home/stro/cpan/build/5.13.4-th/Curses-UI-0.9607-BT_Atw/blib/lib/Curses/UI/Container.pm line 67.
Prototype after '@' for Curses::UI::Container::set_focusorder : @; at /home/stro/cpan/build/5.13.4-th/Curses-UI-0.9607-BT_Atw/blib/lib/Curses/UI/Container.pm line 475.
Prototype after '@' for Curses::UI::Container::set_draworder : @; at /home/stro/cpan/build/5.13.4-th/Curses-UI-0.9607-BT_Atw/blib/lib/Curses/UI/Container.pm line 483.
t/03dialog_classes.t .... ok
Prototype after '@' for Curses::UI::Widget::width_by_windowscrwidth : $@; at /home/stro/cpan/build/5.13.4-th/Curses-UI-0.9607-BT_Atw/t/../lib/Curses/UI/Widget.pm line 356.
Prototype after '@' for Curses::UI::Widget::height_by_windowscrheight : $@; at /home/stro/cpan/build/5.13.4-th/Curses-UI-0.9607-BT_Atw/t/../lib/Curses/UI/Widget.pm line 380.
Prototype after '@' for Curses::UI::Widget::set_binding : $@; at /home/stro/cpan/build/5.13.4-th/Curses-UI-0.9607-BT_Atw/t/../lib/Curses/UI/Widget.pm line 898.
Prototype after '@' for Curses::UI::Widget::set_mouse_binding : $@; at /home/stro/cpan/build/5.13.4-th/Curses-UI-0.9607-BT_Atw/t/../lib/Curses/UI/Widget.pm line 924.
Prototype after '@' for Curses::UI::Container::add : $@; at /home/stro/cpan/build/5.13.4-th/Curses-UI-0.9607-BT_Atw/t/../lib/Curses/UI/Container.pm line 67.
Prototype after '@' for Curses::UI::Container::set_focusorder : @; at /home/stro/cpan/build/5.13.4-th/Curses-UI-0.9607-BT_Atw/t/../lib/Curses/UI/Container.pm line 475.
Prototype after '@' for Curses::UI::Container::set_draworder : @; at /home/stro/cpan/build/5.13.4-th/Curses-UI-0.9607-BT_Atw/t/../lib/Curses/UI/Container.pm line 483.
t/04language_classes.t .. ok
t/05pod.t ............... ok
Prototype after '@' for Curses::UI::Widget::width_by_windowscrwidth : $@; at /home/stro/cpan/build/5.13.4-th/Curses-UI-0.9607-BT_Atw/blib/lib/Curses/UI/Widget.pm line 356.
Prototype after '@' for Curses::UI::Widget::height_by_windowscrheight : $@; at /home/stro/cpan/build/5.13.4-th/Curses-UI-0.9607-BT_Atw/blib/lib/Curses/UI/Widget.pm line 380.
Prototype after '@' for Curses::UI::Widget::set_binding : $@; at /home/stro/cpan/build/5.13.4-th/Curses-UI-0.9607-BT_Atw/blib/lib/Curses/UI/Widget.pm line 898.
Prototype after '@' for Curses::UI::Widget::set_mouse_binding : $@; at /home/stro/cpan/build/5.13.4-th/Curses-UI-0.9607-BT_Atw/blib/lib/Curses/UI/Widget.pm line 924.
Prototype after '@' for Curses::UI::Container::add : $@; at /home/stro/cpan/build/5.13.4-th/Curses-UI-0.9607-BT_Atw/blib/lib/Curses/UI/Container.pm line 67.
Prototype after '@' for Curses::UI::Container::set_focusorder : @; at /home/stro/cpan/build/5.13.4-th/Curses-UI-0.9607-BT_Atw/blib/lib/Curses/UI/Container.pm line 475.
Prototype after '@' for Curses::UI::Container::set_draworder : @; at /home/stro/cpan/build/5.13.4-th/Curses-UI-0.9607-BT_Atw/blib/lib/Curses/UI/Container.pm line 483.
t/06ui.t ................ ok
Prototype after '@' for Curses::UI::Widget::width_by_windowscrwidth : $@; at /home/stro/cpan/build/5.13.4-th/Curses-UI-0.9607-BT_Atw/blib/lib/Curses/UI/Widget.pm line 356.
Prototype after '@' for Curses::UI::Widget::height_by_windowscrheight : $@; at /home/stro/cpan/build/5.13.4-th/Curses-UI-0.9607-BT_Atw/blib/lib/Curses/UI/Widget.pm line 380.
Prototype after '@' for Curses::UI::Widget::set_binding : $@; at /home/stro/cpan/build/5.13.4-th/Curses-UI-0.9607-BT_Atw/blib/lib/Curses/UI/Widget.pm line 898.
Prototype after '@' for Curses::UI::Widget::set_mouse_binding : $@; at /home/stro/cpan/build/5.13.4-th/Curses-UI-0.9607-BT_Atw/blib/lib/Curses/UI/Widget.pm line 924.
Prototype after '@' for Curses::UI::Container::add : $@; at /home/stro/cpan/build/5.13.4-th/Curses-UI-0.9607-BT_Atw/blib/lib/Curses/UI/Container.pm line 67.
Prototype after '@' for Curses::UI::Container::set_focusorder : @; at /home/stro/cpan/build/5.13.4-th/Curses-UI-0.9607-BT_Atw/blib/lib/Curses/UI/Container.pm line 475.
Prototype after '@' for Curses::UI::Container::set_draworder : @; at /home/stro/cpan/build/5.13.4-th/Curses-UI-0.9607-BT_Atw/blib/lib/Curses/UI/Container.pm line 483.
t/07widget.t ............ ok
Prototype after '@' for Curses::UI::Widget::width_by_windowscrwidth : $@; at /home/stro/cpan/build/5.13.4-th/Curses-UI-0.9607-BT_Atw/blib/lib/Curses/UI/Widget.pm line 356.
Prototype after '@' for Curses::UI::Widget::height_by_windowscrheight : $@; at /home/stro/cpan/build/5.13.4-th/Curses-UI-0.9607-BT_Atw/blib/lib/Curses/UI/Widget.pm line 380.
Prototype after '@' for Curses::UI::Widget::set_binding : $@; at /home/stro/cpan/build/5.13.4-th/Curses-UI-0.9607-BT_Atw/blib/lib/Curses/UI/Widget.pm line 898.
Prototype after '@' for Curses::UI::Widget::set_mouse_binding : $@; at /home/stro/cpan/build/5.13.4-th/Curses-UI-0.9607-BT_Atw/blib/lib/Curses/UI/Widget.pm line 924.
Prototype after '@' for Curses::UI::Container::add : $@; at /home/stro/cpan/build/5.13.4-th/Curses-UI-0.9607-BT_Atw/blib/lib/Curses/UI/Container.pm line 67.
Prototype after '@' for Curses::UI::Container::set_focusorder : @; at /home/stro/cpan/build/5.13.4-th/Curses-UI-0.9607-BT_Atw/blib/lib/Curses/UI/Container.pm line 475.
Prototype after '@' for Curses::UI::Container::set_draworder : @; at /home/stro/cpan/build/5.13.4-th/Curses-UI-0.9607-BT_Atw/blib/lib/Curses/UI/Container.pm line 483.
t/08common.t ............ ok
Prototype after '@' for Curses::UI::Widget::width_by_windowscrwidth : $@; at /home/stro/cpan/build/5.13.4-th/Curses-UI-0.9607-BT_Atw/blib/lib/Curses/UI/Widget.pm line 356.
Prototype after '@' for Curses::UI::Widget::height_by_windowscrheight : $@; at /home/stro/cpan/build/5.13.4-th/Curses-UI-0.9607-BT_Atw/blib/lib/Curses/UI/Widget.pm line 380.
Prototype after '@' for Curses::UI::Widget::set_binding : $@; at /home/stro/cpan/build/5.13.4-th/Curses-UI-0.9607-BT_Atw/blib/lib/Curses/UI/Widget.pm line 898.
Prototype after '@' for Curses::UI::Widget::set_mouse_binding : $@; at /home/stro/cpan/build/5.13.4-th/Curses-UI-0.9607-BT_Atw/blib/lib/Curses/UI/Widget.pm line 924.
Prototype after '@' for Curses::UI::Container::add : $@; at /home/stro/cpan/build/5.13.4-th/Curses-UI-0.9607-BT_Atw/blib/lib/Curses/UI/Container.pm line 67.
Prototype after '@' for Curses::UI::Container::set_focusorder : @; at /home/stro/cpan/build/5.13.4-th/Curses-UI-0.9607-BT_Atw/blib/lib/Curses/UI/Container.pm line 475.
Prototype after '@' for Curses::UI::Container::set_draworder : @; at /home/stro/cpan/build/5.13.4-th/Curses-UI-0.9607-BT_Atw/blib/lib/Curses/UI/Container.pm line 483.
t/09label.t ............. ok
Prototype after '@' for Curses::UI::Widget::width_by_windowscrwidth : $@; at /home/stro/cpan/build/5.13.4-th/Curses-UI-0.9607-BT_Atw/blib/lib/Curses/UI/Widget.pm line 356.
Prototype after '@' for Curses::UI::Widget::height_by_windowscrheight : $@; at /home/stro/cpan/build/5.13.4-th/Curses-UI-0.9607-BT_Atw/blib/lib/Curses/UI/Widget.pm line 380.
Prototype after '@' for Curses::UI::Widget::set_binding : $@; at /home/stro/cpan/build/5.13.4-th/Curses-UI-0.9607-BT_Atw/blib/lib/Curses/UI/Widget.pm line 898.
Prototype after '@' for Curses::UI::Widget::set_mouse_binding : $@; at /home/stro/cpan/build/5.13.4-th/Curses-UI-0.9607-BT_Atw/blib/lib/Curses/UI/Widget.pm line 924.
Prototype after '@' for Curses::UI::Container::add : $@; at /home/stro/cpan/build/5.13.4-th/Curses-UI-0.9607-BT_Atw/blib/lib/Curses/UI/Container.pm line 67.
Prototype after '@' for Curses::UI::Container::set_focusorder : @; at /home/stro/cpan/build/5.13.4-th/Curses-UI-0.9607-BT_Atw/blib/lib/Curses/UI/Container.pm line 475.
Prototype after '@' for Curses::UI::Container::set_draworder : @; at /home/stro/cpan/build/5.13.4-th/Curses-UI-0.9607-BT_Atw/blib/lib/Curses/UI/Container.pm line 483.
t/10texteditor.t ........ ok
Prototype after '@' for Curses::UI::Widget::width_by_windowscrwidth : $@; at /home/stro/cpan/build/5.13.4-th/Curses-UI-0.9607-BT_Atw/blib/lib/Curses/UI/Widget.pm line 356.
Prototype after '@' for Curses::UI::Widget::height_by_windowscrheight : $@; at /home/stro/cpan/build/5.13.4-th/Curses-UI-0.9607-BT_Atw/blib/lib/Curses/UI/Widget.pm line 380.
Prototype after '@' for Curses::UI::Widget::set_binding : $@; at /home/stro/cpan/build/5.13.4-th/Curses-UI-0.9607-BT_Atw/blib/lib/Curses/UI/Widget.pm line 898.
Prototype after '@' for Curses::UI::Widget::set_mouse_binding : $@; at /home/stro/cpan/build/5.13.4-th/Curses-UI-0.9607-BT_Atw/blib/lib/Curses/UI/Widget.pm line 924.
Prototype after '@' for Curses::UI::Container::add : $@; at /home/stro/cpan/build/5.13.4-th/Curses-UI-0.9607-BT_Atw/blib/lib/Curses/UI/Container.pm line 67.
Prototype after '@' for Curses::UI::Container::set_focusorder : @; at /home/stro/cpan/build/5.13.4-th/Curses-UI-0.9607-BT_Atw/blib/lib/Curses/UI/Container.pm line 475.
Prototype after '@' for Curses::UI::Container::set_draworder : @; at /home/stro/cpan/build/5.13.4-th/Curses-UI-0.9607-BT_Atw/blib/lib/Curses/UI/Container.pm line 483.
Prototype after '@' for Curses::UI::Listbox::maxlabelwidth : @; at /home/stro/cpan/build/5.13.4-th/Curses-UI-0.9607-BT_Atw/blib/lib/Curses/UI/Listbox.pm line 221.
t/11listbox.t ........... ok
Prototype after '@' for Curses::UI::Widget::width_by_windowscrwidth : $@; at /home/stro/cpan/build/5.13.4-th/Curses-UI-0.9607-BT_Atw/blib/lib/Curses/UI/Widget.pm line 356.
Prototype after '@' for Curses::UI::Widget::height_by_windowscrheight : $@; at /home/stro/cpan/build/5.13.4-th/Curses-UI-0.9607-BT_Atw/blib/lib/Curses/UI/Widget.pm line 380.
Prototype after '@' for Curses::UI::Widget::set_binding : $@; at /home/stro/cpan/build/5.13.4-th/Curses-UI-0.9607-BT_Atw/blib/lib/Curses/UI/Widget.pm line 898.
Prototype after '@' for Curses::UI::Widget::set_mouse_binding : $@; at /home/stro/cpan/build/5.13.4-th/Curses-UI-0.9607-BT_Atw/blib/lib/Curses/UI/Widget.pm line 924.
Prototype after '@' for Curses::UI::Container::add : $@; at /home/stro/cpan/build/5.13.4-th/Curses-UI-0.9607-BT_Atw/blib/lib/Curses/UI/Container.pm line 67.
Prototype after '@' for Curses::UI::Container::set_focusorder : @; at /home/stro/cpan/build/5.13.4-th/Curses-UI-0.9607-BT_Atw/blib/lib/Curses/UI/Container.pm line 475.
Prototype after '@' for Curses::UI::Container::set_draworder : @; at /home/stro/cpan/build/5.13.4-th/Curses-UI-0.9607-BT_Atw/blib/lib/Curses/UI/Container.pm line 483.
t/12gpm_handler.t ....... ok
Prototype after '@' for Curses::UI::Widget::width_by_windowscrwidth : $@; at /home/stro/cpan/build/5.13.4-th/Curses-UI-0.9607-BT_Atw/blib/lib/Curses/UI/Widget.pm line 356.
Prototype after '@' for Curses::UI::Widget::height_by_windowscrheight : $@; at /home/stro/cpan/build/5.13.4-th/Curses-UI-0.9607-BT_Atw/blib/lib/Curses/UI/Widget.pm line 380.
Prototype after '@' for Curses::UI::Widget::set_binding : $@; at /home/stro/cpan/build/5.13.4-th/Curses-UI-0.9607-BT_Atw/blib/lib/Curses/UI/Widget.pm line 898.
Prototype after '@' for Curses::UI::Widget::set_mouse_binding : $@; at /home/stro/cpan/build/5.13.4-th/Curses-UI-0.9607-BT_Atw/blib/lib/Curses/UI/Widget.pm line 924.
Prototype after '@' for Curses::UI::Container::add : $@; at /home/stro/cpan/build/5.13.4-th/Curses-UI-0.9607-BT_Atw/blib/lib/Curses/UI/Container.pm line 67.
Prototype after '@' for Curses::UI::Container::set_focusorder : @; at /home/stro/cpan/build/5.13.4-th/Curses-UI-0.9607-BT_Atw/blib/lib/Curses/UI/Container.pm line 475.
Prototype after '@' for Curses::UI::Container::set_draworder : @; at /home/stro/cpan/build/5.13.4-th/Curses-UI-0.9607-BT_Atw/blib/lib/Curses/UI/Container.pm line 483.
t/13notebook.t .......... ok
Prototype after '@' for Curses::UI::Widget::width_by_windowscrwidth : $@; at /home/stro/cpan/build/5.13.4-th/Curses-UI-0.9607-BT_Atw/blib/lib/Curses/UI/Widget.pm line 356.
Prototype after '@' for Curses::UI::Widget::height_by_windowscrheight : $@; at /home/stro/cpan/build/5.13.4-th/Curses-UI-0.9607-BT_Atw/blib/lib/Curses/UI/Widget.pm line 380.
Prototype after '@' for Curses::UI::Widget::set_binding : $@; at /home/stro/cpan/build/5.13.4-th/Curses-UI-0.9607-BT_Atw/blib/lib/Curses/UI/Widget.pm line 898.
Prototype after '@' for Curses::UI::Widget::set_mouse_binding : $@; at /home/stro/cpan/build/5.13.4-th/Curses-UI-0.9607-BT_Atw/blib/lib/Curses/UI/Widget.pm line 924.
Prototype after '@' for Curses::UI::Container::add : $@; at /home/stro/cpan/build/5.13.4-th/Curses-UI-0.9607-BT_Atw/blib/lib/Curses/UI/Container.pm line 67.
Prototype after '@' for Curses::UI::Container::set_focusorder : @; at /home/stro/cpan/build/5.13.4-th/Curses-UI-0.9607-BT_Atw/blib/lib/Curses/UI/Container.pm line 475.
Prototype after '@' for Curses::UI::Container::set_draworder : @; at /home/stro/cpan/build/5.13.4-th/Curses-UI-0.9607-BT_Atw/blib/lib/Curses/UI/Container.pm line 483.
t/99misc.t .............. ok
All tests successful.
Files=14, Tests=169,  2 wallclock secs ( 0.07 usr  0.19 sys +  1.34 cusr  1.11 csys =  2.71 CPU)
Result: PASS

------------------------------
PREREQUISITES
------------------------------

Prerequisite modules loaded:

requires:

    Module              Need   Have  
    ------------------- ------ ------
    Curses              0      1.28  
    ExtUtils::MakeMaker 6.5601 6.5601
    Term::ReadKey       0      2.30  


------------------------------
ENVIRONMENT AND OTHER CONTEXT
------------------------------

Environment variables:

    AUTOMATED_TESTING = 1
    LANG = en_US.UTF-8
    PATH = /usr/local/bin:/usr/bin:/bin:/usr/games
    PERL5LIB = 
    PERL5OPT = 
    PERL5_CPANPLUS_IS_RUNNING = 10920
    PERL5_CPAN_IS_RUNNING = 10920
    PERL5_CPAN_IS_RUNNING_IN_RECURSION = 342,10920
    PERL_CR_SMOKER_CURRENT = App-Syndicator-0.006
    PERL_EXTUTILS_AUTOINSTALL = --defaultdeps
    PERL_MM_USE_DEFAULT = 1
    SHELL = /bin/bash
    TERM = xterm

Perl special variables (and OS-specific diagnostics, for MSWin32):

    $^X = /home/stro/perl/perl5134th/bin/perl
    $UID/$EUID = 1000 / 1000
    $GID = 1000 20 24 25 29 44 46 1000
    $EGID = 1000 20 24 25 29 44 46 1000

Perl module toolchain versions installed:

    Module              Have   
    ------------------- -------
    CPAN                1.94_57
    Cwd                 3.31   
    ExtUtils::CBuilder  0.2703 
    ExtUtils::Command   1.16   
    ExtUtils::Install   1.55   
    ExtUtils::MakeMaker 6.5601 
    ExtUtils::Manifest  1.58   
    ExtUtils::ParseXS   2.2207 
    File::Spec          3.31_01
    Module::Build       0.36_17
    Module::Signature   0.66   
    Test::Harness       3.22   
    Test::More          0.96   
    YAML                0.72   
    YAML::Syck          1.14   
    version             0.82   


--

Summary of my perl5 (revision 5 version 13 subversion 4) configuration:
   
  Platform:
    osname=linux, osvers=2.6.26-2-686, archname=i686-linux-thread-multi
    uname='linux debian5 2.6.26-2-686 #1 smp mon jun 21 05:58:44 utc 2010 i686 gnulinux '
    config_args=''
    hint=recommended, useposix=true, d_sigaction=define
    useithreads=define, usemultiplicity=define
    useperlio=define, d_sfio=undef, uselargefiles=define, usesocks=undef
    use64bitint=undef, use64bitall=undef, uselongdouble=undef
    usemymalloc=n, bincompat5005=undef
  Compiler:
    cc='cc', ccflags ='-D_REENTRANT -D_GNU_SOURCE -fno-strict-aliasing -pipe -fstack-protector -I/usr/local/include -D_LARGEFILE_SOURCE -D_FILE_OFFSET_BITS=64',
    optimize='-O2',
    cppflags='-D_REENTRANT -D_GNU_SOURCE -fno-strict-aliasing -pipe -fstack-protector -I/usr/local/include'
    ccversion='', gccversion='4.3.2', gccosandvers=''
    intsize=4, longsize=4, ptrsize=4, doublesize=8, byteorder=1234
    d_longlong=define, longlongsize=8, d_longdbl=define, longdblsize=12
    ivtype='long', ivsize=4, nvtype='double', nvsize=8, Off_t='off_t', lseeksize=8
    alignbytes=4, prototype=define
  Linker and Libraries:
    ld='cc', ldflags =' -fstack-protector -L/usr/local/lib'
    libpth=/usr/local/lib /lib /usr/lib
    libs=-lnsl -ldb -ldl -lm -lcrypt -lutil -lpthread -lc
    perllibs=-lnsl -ldl -lm -lcrypt -lutil -lpthread -lc
    libc=/lib/libc-2.7.so, so=so, useshrplib=false, libperl=libperl.a
    gnulibc_version='2.7'
  Dynamic Linking:
    dlsrc=dl_dlopen.xs, dlext=so, d_dlsymun=undef, ccdlflags='-Wl,-E'
    cccdlflags='-fPIC', lddlflags='-shared -O2 -L/usr/local/lib -fstack-protector'


Characteristics of this binary (from libperl): 
  Compile-time options: MULTIPLICITY PERL_DONT_CREATE_GVSV
                        PERL_IMPLICIT_CONTEXT PERL_MALLOC_WRAP USE_ITHREADS
                        USE_LARGE_FILES USE_PERLIO USE_PERL_ATOF
                        USE_REENTRANT_API
  Built under linux
  Compiled at Aug 26 2010 16:59:51
  %ENV:
    PERL5LIB=""
    PERL5OPT=""
    PERL5_CPANPLUS_IS_RUNNING="10920"
    PERL5_CPAN_IS_RUNNING="10920"
    PERL5_CPAN_IS_RUNNING_IN_RECURSION="342,10920"
    PERL_CR_SMOKER_CURRENT="App-Syndicator-0.006"
    PERL_EXTUTILS_AUTOINSTALL="--defaultdeps"
    PERL_MM_USE_DEFAULT="1"
  @INC:
    /home/stro/perl/perl5134th/lib/site_perl/5.13.4/i686-linux-thread-multi
    /home/stro/perl/perl5134th/lib/site_perl/5.13.4
    /home/stro/perl/perl5134th/lib/5.13.4/i686-linux-thread-multi
    /home/stro/perl/perl5134th/lib/5.13.4
    .