Back
From: metabase:user:31d414ea-2aae-11df-837a-5e0a49663a4f
Subject: PASS Facebook-OpenGraph-1.13 v5.10.1 GNU/Linux
Date: 2014-04-14T13:07:42Z
This distribution has been tested as part of the CPAN Testers
project, supporting the Perl programming language. See
http://wiki.cpantesters.org/ for more information or email
questions to cpan-testers-discuss@perl.org
--
Dear Go Hagiwara,
This is a computer-generated report for Facebook-OpenGraph-1.13
on perl 5.10.1, created by CPAN-Reporter-1.1803.
Thank you for uploading your work to CPAN. Congratulations!
All tests were successful.
Sections of this report:
* Tester comments
* Program output
* Prerequisites
* Environment and other context
------------------------------
TESTER COMMENTS
------------------------------
Additional comments from tester:
this report is from an automated smoke testing program
and was not reviewed by a human for accuracy
------------------------------
PROGRAM OUTPUT
------------------------------
Output from './Build test':
t/000_combile.t .............................. ok
t/001_basic/01_initialize.t .................. ok
t/001_basic/02_uri.t ......................... ok
t/001_basic/03_video_uri.t ................... ok
t/001_basic/04_auth_uri.t .................... ok
t/001_basic/05_signed_request.t .............. ok
t/001_basic/06_prep_param.t .................. ok
t/001_basic/07_field_expansion.t ............. ok
t/001_basic/08_appsecret_proof.t ............. ok
t/002_retrieve/01_get_app_token.t ............ ok
t/002_retrieve/02_get_user_token.t ........... ok
t/002_retrieve/03_fetch.t .................... ok
t/002_retrieve/04_field_expansion.t .......... ok
t/002_retrieve/05_fetch_with_etag.t .......... ok
t/002_retrieve/06_batch.t .................... ok
t/002_retrieve/07_bulk_fetch.t ............... ok
t/002_retrieve/08_fql.t ...................... ok
t/002_retrieve/09_bulk_fql.t ................. ok
t/002_retrieve/10_check_object.t ............. ok
t/002_retrieve/11_appsecret_proof.t .......... ok
t/002_retrieve/12_use_post_method.t .......... ok
t/002_retrieve/13_paging.t ................... ok
t/002_retrieve/14_exchange_token.t ........... ok
t/003_publish/01_post.t ...................... ok
t/003_publish/02_post_photo.t ................ ok
t/003_publish/03_post_movie.t ................ ok
t/003_publish/04_create_test_users.t ......... ok
t/003_publish/05_publish_action.t ............ ok
t/003_publish/06_publish_staging_resource.t .. ok
t/003_publish/07_post_like.t ................. ok
All tests successful.
Files=30, Tests=57, 2 wallclock secs ( 0.09 usr 0.16 sys + 1.83 cusr 0.43 csys = 2.51 CPU)
Result: PASS
------------------------------
PREREQUISITES
------------------------------
Prerequisite modules loaded:
requires:
Module Need Have
----------------------- ---- ----------
Data::Recursive::Encode 0 0.04
Digest::SHA 0 5.47
Furl 0 3.02
Furl::HTTP 0 3.02
HTTP::Message 0 6.06
HTTP::Request::Common 0 6.04
JSON 2 2.90
MIME::Base64::URLSafe 0 0.01
Module::Build 0 0.4205
parent 0 0.228
Parse::CPAN::Meta 0 1.4414
Scalar::Util 0 1.38
Sub::Uplevel 0 0.22
URI 0 1.60
build_requires:
Module Need Have
----------------------- ---- ----------
ExtUtils::CBuilder 0 0.280216
ExtUtils::MakeMaker 6.36 6.96
Test::Exception 0 0.31
Test::Mock::Furl 0 0.05
Test::MockObject 0 1.20140408
configure_requires:
Module Need Have
----------------------- ---- ----------
CPAN::Meta 0 2.140640
CPAN::Meta::Prereqs 0 2.140640
Module::Build 0.38 0.4205
------------------------------
ENVIRONMENT AND OTHER CONTEXT
------------------------------
Environment variables:
AUTOMATED_TESTING = 1
PATH = /usr/local/bin:/usr/bin:/bin:/usr/games
PERL = 5.10.1
PERL5LIB =
PERL5OPT =
PERL5_CPANPLUS_IS_RUNNING = 21559
PERL5_CPAN_IS_RUNNING = 21559
PERLVER = 5.10.1
PERL_INLINE_DIRECTORY = /home/david/.Inline-5.10.1
PERL_MM_USE_DEFAULT = 1
SHELL = /bin/bash
TERM = screen
Perl special variables (and OS-specific diagnostics, for MSWin32):
$^X = /home/david/cpantesting/perl-5.10.1/bin/perl
$UID/$EUID = 1000 / 1000
$GID = 1000 1000
$EGID = 1000 1000
Perl module toolchain versions installed:
Module Have
------------------- --------
CPAN 1.9402
Cwd 3.40
ExtUtils::CBuilder 0.280216
ExtUtils::Command 1.16
ExtUtils::Install 1.54
ExtUtils::MakeMaker 6.96
ExtUtils::Manifest 1.60
ExtUtils::ParseXS 3.24
File::Spec 3.40
Module::Build 0.4205
Module::Signature n/a
Test::Harness 3.30
Test::More 1.001003
YAML 0.70
YAML::Syck n/a
version 0.9908
--
Summary of my perl5 (revision 5 version 10 subversion 1) configuration:
Platform:
osname=linux, osvers=2.6.18-4-xen-amd64, archname=x86_64-linux-thread-multi
uname='linux pigsty.barnyard.co.uk 2.6.18-4-xen-amd64 #1 smp fri may 4 02:40:51 utc 2007 x86_64 gnulinux '
config_args='-de -Duse64bitall -Dusethreads -Dprefix=/home/david/cpantesting/perl-5.10.1'
hint=recommended, useposix=true, d_sigaction=define
useithreads=define, usemultiplicity=define
useperlio=define, d_sfio=undef, uselargefiles=define, usesocks=undef
use64bitint=define, use64bitall=define, uselongdouble=undef
usemymalloc=n, bincompat5005=undef
Compiler:
cc='cc', ccflags ='-D_REENTRANT -D_GNU_SOURCE -fno-strict-aliasing -pipe -fstack-protector -I/usr/local/include -D_LARGEFILE_SOURCE -D_FILE_OFFSET_BITS=64',
optimize='-O2',
cppflags='-D_REENTRANT -D_GNU_SOURCE -fno-strict-aliasing -pipe -fstack-protector -I/usr/local/include'
ccversion='', gccversion='4.1.2 20061115 (prerelease) (Debian 4.1.1-21)', gccosandvers=''
intsize=4, longsize=8, ptrsize=8, doublesize=8, byteorder=12345678
d_longlong=define, longlongsize=8, d_longdbl=define, longdblsize=16
ivtype='long', ivsize=8, nvtype='double', nvsize=8, Off_t='off_t', lseeksize=8
alignbytes=8, prototype=define
Linker and Libraries:
ld='cc', ldflags =' -fstack-protector -L/usr/local/lib'
libpth=/usr/local/lib /lib /usr/lib /lib64 /usr/lib64
libs=-lnsl -lgdbm -ldb -ldl -lm -lcrypt -lutil -lpthread -lc -lgdbm_compat
perllibs=-lnsl -ldl -lm -lcrypt -lutil -lpthread -lc
libc=/lib/libc-2.3.6.so, so=so, useshrplib=false, libperl=libperl.a
gnulibc_version='2.3.6'
Dynamic Linking:
dlsrc=dl_dlopen.xs, dlext=so, d_dlsymun=undef, ccdlflags='-Wl,-E'
cccdlflags='-fPIC', lddlflags='-shared -O2 -L/usr/local/lib -fstack-protector'
Characteristics of this binary (from libperl):
Compile-time options: MULTIPLICITY PERL_DONT_CREATE_GVSV
PERL_IMPLICIT_CONTEXT PERL_MALLOC_WRAP USE_64_BIT_ALL
USE_64_BIT_INT USE_ITHREADS USE_LARGE_FILES
USE_PERLIO USE_REENTRANT_API
Built under linux
Compiled at Aug 25 2009 16:04:12
%ENV:
PERL="5.10.1"
PERL5LIB=""
PERL5OPT=""
PERL5_CPANPLUS_IS_RUNNING="21559"
PERL5_CPAN_IS_RUNNING="21559"
PERLVER="5.10.1"
PERL_INLINE_DIRECTORY="/home/david/.Inline-5.10.1"
PERL_MM_USE_DEFAULT="1"
@INC:
/home/david/cpantesting/perl-5.10.1/lib/5.10.1/x86_64-linux-thread-multi
/home/david/cpantesting/perl-5.10.1/lib/5.10.1
/home/david/cpantesting/perl-5.10.1/lib/site_perl/5.10.1/x86_64-linux-thread-multi
/home/david/cpantesting/perl-5.10.1/lib/site_perl/5.10.1
.