Parallel-ForkManager v2.02 Perl 5 v5.16.3 x86_64-linux
- Status
- Pass
- From
- Slaven Rezić (SREZIC)
- Dist
-
Parallel-ForkManager v2.02
- Platform
- Perl 5 v5.16.3 x86_64-linux
- Date
- 2019-03-02 22:51:48
- ID
- c342d80c-3d3d-11e9-82fb-dc611f24ea8f
This distribution has been tested as part of the CPAN Testers
project, supporting the Perl programming language. See
http://wiki.cpantesters.org/ for more information or email
questions to cpan-testers-discuss@perl.org
--
Dear Yanick Champoux,
This is a computer-generated report for Parallel-ForkManager-2.02
on perl 5.16.3, created by CPAN-Reporter-1.2018.
Thank you for uploading your work to CPAN. Congratulations!
All tests were successful.
Sections of this report:
* Tester comments
* Program output
* Prerequisites
* Environment and other context
------------------------------
TESTER COMMENTS
------------------------------
Additional comments from tester:
none provided
------------------------------
PROGRAM OUTPUT
------------------------------
Output from 'make test':
PERL_DL_NONLAZY=1 "/opt/perl-5.16.3/bin/perl" "-MExtUtils::Command::MM" "-MTest::Harness" "-e" "undef *Test::Harness::Switches; test_harness(0, 'blib/lib', 'blib/arch')" t/*.t
t/00-compile.t ............ ok
# time: 1 seconds
# time: 20 seconds
# time: 0 seconds
# time: 7 seconds
t/00-load.t ............... ok
#
# Versions for all modules listed in MYMETA.json (including optional ones):
#
# === Configure Requires ===
#
# Module Want Have
# ------------------- ---- ----
# ExtUtils::MakeMaker any 7.18
#
# === Build Requires ===
#
# Module Want Have
# ------------------- ---- ----
# ExtUtils::MakeMaker any 7.18
#
# === Test Requires ===
#
# Module Want Have
# ------------------- ---- --------
# ExtUtils::MakeMaker any 7.18
# File::Spec any 3.39_02
# IO::Handle any 1.33
# IPC::Open3 any 1.12
# Test::More 0.94 1.302026
# Test::Warn any 0.30
#
# === Test Recommends ===
#
# Module Want Have
# ---------- -------- --------
# CPAN::Meta 2.120900 2.150005
#
# === Runtime Requires ===
#
# Module Want Have
# ---------- ---- --------
# Carp any 1.26
# File::Path any 2.08_01
# File::Spec any 3.39_02
# File::Temp any 0.2304
# Moo any 2.001001
# Moo::Role any 2.001001
# POSIX any 1.30
# Storable any 2.51
# strict any 1.07
# warnings any 1.13
#
t/00-report-prereqs.t ..... ok
t/01-utf8-all.t ........... skipped: Need utf8::all for this test crashing on Windows
# This test can take 10-20 seconds, please wait. Started at Sat Mar 2 22:08:35 2019
t/02-callback.t ........... ok
# This test can take 2-6 seconds, please wait. Started at Sat Mar 2 22:08:51 2019
t/03-callback-data.t ...... ok
t/basic-methods.t ......... ok
t/changing-pids.t ......... ok
t/start_child.t ........... ok
# code outside of P::FM stole 11287
child process '11287' disappeared. A call to `waitpid` outside of Parallel::ForkManager might have reaped it.
t/waitpid-conflict.t ...... ok
# code outside of P::FM stole 11301
t/waitpid-waitonechild.t .. ok
t/waitpid_blocking.t ...... ok
All tests successful.
Test Summary Report
-------------------
t/waitpid-conflict.t (Wstat: 0 Tests: 2 Failed: 0)
TODO passed: 1-2
t/waitpid-waitonechild.t (Wstat: 0 Tests: 3 Failed: 0)
TODO passed: 1-3
Files=12, Tests=28, 66 wallclock secs ( 0.02 usr 0.01 sys + 0.78 cusr 0.07 csys = 0.88 CPU)
Result: PASS
------------------------------
PREREQUISITES
------------------------------
Prerequisite modules loaded:
requires:
Module Need Have
------------------- ----- --------
Carp 0 1.26
File::Path 0 2.08_01
File::Spec 0 3.39_02
File::Temp 0 0.2304
Moo 0 2.001001
Moo::Role 0 2.001001
perl 5.006 5.016003
POSIX 0 1.30
Storable 0 2.51
strict 0 1.07
warnings 0 1.13
build_requires:
Module Need Have
------------------- ----- --------
ExtUtils::MakeMaker 0 7.18
File::Spec 0 3.39_02
IO::Handle 0 1.33
IPC::Open3 0 1.12
Test::More 0.94 1.302026
Test::Warn 0 0.30
configure_requires:
Module Need Have
------------------- ----- --------
ExtUtils::MakeMaker 0 7.18
------------------------------
ENVIRONMENT AND OTHER CONTEXT
------------------------------
Environment variables:
LANG = en_US.UTF-8
PATH = /usr/local/bin:/usr/bin:/bin:/usr/local/sbin:/usr/sbin:/sbin:/home/eserte/bin/linux-gnu:/home/eserte/bin/sh:/home/eserte/bin:/home/eserte/bin/pistachio-perl/bin:/usr/games:/home/eserte/devel:/home/eserte/src/srezic-misc/scripts
PERL5LIB =
PERL5OPT =
PERL5_CPANPLUS_IS_RUNNING = 8596
PERL5_CPAN_IS_RUNNING = 8596
PERL5_CPAN_IS_RUNNING_IN_RECURSION = 17067,8596
PERLDOC = -MPod::Perldoc::ToTextOverstrike
PERL_BATCH = yes
PERL_CANARY_STABILITY_NOPROMPT = 1
PERL_CPAN_REPORTER_CONFIG = /var/tmp/cpansmoker-1000/2019030221/cpanreporter_000_config.ini
PERL_EXTUTILS_AUTOINSTALL = --defaultdeps
PISTACHIO_PERL_MANAGER = 1
SHELL = /bin/zsh
STDPERL = perl
TERM = xterm
TMPDIR = /var/tmp/cpansmoker-1000/2019030221
Perl special variables (and OS-specific diagnostics, for MSWin32):
$^X = /opt/perl-5.16.3/bin/perl
$UID/$EUID = 1000 / 1000
$GID = 1000 4 24 25 27 29 30 44 46 108 111 115 128 134 1000 1024
$EGID = 1000 4 24 25 27 29 30 44 46 108 111 115 128 134 1000 1024
Perl module toolchain versions installed:
Module Have
------------------- --------
CPAN 1.9800
CPAN::Meta 2.150005
Cwd 3.39_02
ExtUtils::CBuilder 0.280206
ExtUtils::Command 7.18
ExtUtils::Install 1.58
ExtUtils::MakeMaker 7.18
ExtUtils::Manifest 1.70
ExtUtils::ParseXS 3.30
File::Spec 3.39_02
JSON 2.90
JSON::PP 2.27203
Module::Build 0.4218
Module::Signature 0.83
Parse::CPAN::Meta 1.4417
Test::Harness 3.36
Test::More 1.302026
YAML 1.15
YAML::Syck 1.29
version 0.99
--
Summary of my perl5 (revision 5 version 16 subversion 3) configuration:
Platform:
osname=linux, osvers=3.16.0-4-amd64, archname=x86_64-linux
uname='linux cabulja 3.16.0-4-amd64 #1 smp debian 3.16.7-ckt25-2 (2016-04-08) x86_64 gnulinux '
config_args='-ds -e -Dprefix=/opt/perl-5.16.3 -Dcf_email=srezic@cpan.org -Dcc=gcc-4.8'
hint=previous, useposix=true, d_sigaction=define
useithreads=undef, usemultiplicity=undef
useperlio=define, d_sfio=undef, uselargefiles=define, usesocks=undef
use64bitint=define, use64bitall=define, uselongdouble=undef
usemymalloc=n, bincompat5005=undef
Compiler:
cc='gcc-4.8', ccflags ='-fno-strict-aliasing -pipe -fstack-protector -I/usr/local/include -D_LARGEFILE_SOURCE -D_FILE_OFFSET_BITS=64',
optimize='-O2',
cppflags='-fno-strict-aliasing -pipe -fstack-protector -I/usr/local/include -fno-strict-aliasing -pipe -fstack-protector -I/usr/local/include -D_LARGEFILE_SOURCE -D_FILE_OFFSET_BITS=64'
ccversion='', gccversion='4.8.4', gccosandvers=''
intsize=4, longsize=8, ptrsize=8, doublesize=8, byteorder=12345678
d_longlong=define, longlongsize=8, d_longdbl=define, longdblsize=16
ivtype='long', ivsize=8, nvtype='double', nvsize=8, Off_t='off_t', lseeksize=8
alignbytes=8, prototype=define
Linker and Libraries:
ld='gcc-4.8', ldflags =' -fstack-protector -L/usr/local/lib'
libpth=/usr/local/lib /lib/x86_64-linux-gnu /lib/../lib /usr/lib/x86_64-linux-gnu /usr/lib/../lib /lib /usr/lib
libs=-lnsl -lgdbm -ldb -ldl -lm -lcrypt -lutil -lc -lgdbm_compat
perllibs=-lnsl -ldl -lm -lcrypt -lutil -lc
libc=libc-2.19.so, so=so, useshrplib=false, libperl=libperl.a
gnulibc_version='2.19'
Dynamic Linking:
dlsrc=dl_dlopen.xs, dlext=so, d_dlsymun=undef, ccdlflags='-Wl,-E'
cccdlflags='-fPIC', lddlflags='-shared -O2 -L/usr/local/lib -fstack-protector'
Characteristics of this binary (from libperl):
Compile-time options: HAS_TIMES PERLIO_LAYERS PERL_DONT_CREATE_GVSV
PERL_MALLOC_WRAP PERL_PRESERVE_IVUV USE_64_BIT_ALL
USE_64_BIT_INT USE_LARGE_FILES USE_LOCALE
USE_LOCALE_COLLATE USE_LOCALE_CTYPE
USE_LOCALE_NUMERIC USE_PERLIO USE_PERL_ATOF
Locally applied patches:
Devel::PatchPerl 1.42
Built under linux
Compiled at Jun 7 2016 20:12:51
%ENV:
PERL5LIB=""
PERL5OPT=""
PERL5_CPANPLUS_IS_RUNNING="8596"
PERL5_CPAN_IS_RUNNING="8596"
PERL5_CPAN_IS_RUNNING_IN_RECURSION="17067,8596"
PERLDOC="-MPod::Perldoc::ToTextOverstrike"
PERL_BATCH="yes"
PERL_CANARY_STABILITY_NOPROMPT="1"
PERL_CPAN_REPORTER_CONFIG="/var/tmp/cpansmoker-1000/2019030221/cpanreporter_000_config.ini"
PERL_EXTUTILS_AUTOINSTALL="--defaultdeps"
@INC:
/opt/perl-5.16.3/lib/site_perl/5.16.3/x86_64-linux
/opt/perl-5.16.3/lib/site_perl/5.16.3
/opt/perl-5.16.3/lib/5.16.3/x86_64-linux
/opt/perl-5.16.3/lib/5.16.3
.