Pod-Markdown v3.200 Perl 5 v5.33.4 x86_64-linux-thread-multi

Status
Pass
From
Carlos Guevara
Dist
Pod-Markdown v3.200
Platform
Perl 5 v5.33.4 x86_64-linux-thread-multi
Date
2020-10-25 16:25:57
ID
c325b08e-16de-11eb-a53b-cb6c589fc27c
This distribution has been tested as part of the CPAN Testers
project, supporting the Perl programming language.  See
http://wiki.cpantesters.org/ for more information or email
questions to cpan-testers-discuss@perl.org


--
Dear Randy Stauner,

This is a computer-generated report for Pod-Markdown-3.200
on perl 5.33.4, created by CPAN-Reporter-1.2018.

Thank you for uploading your work to CPAN.  Congratulations!
All tests were successful.

Sections of this report:

    * Tester comments
    * Program output
    * Prerequisites
    * Environment and other context

------------------------------
TESTER COMMENTS
------------------------------

Additional comments from tester:

this report is from an automated smoke testing program
and was not reviewed by a human for accuracy

------------------------------
PROGRAM OUTPUT
------------------------------

Output from '/usr/bin/make test':

PERL_DL_NONLAZY=1 "/home/cpan/bin/perl-blead/bin/perl5.33.4" "-MExtUtils::Command::MM" "-MTest::Harness" "-e" "undef *Test::Harness::Switches; test_harness(0, 'blib/lib', 'blib/arch')" t/*.t
t/00-compile.t ......... ok
# 
# Versions for all modules listed in MYMETA.json (including optional ones):
# 
# === Configure Requires ===
# 
#     Module              Want Have
#     ------------------- ---- ----
#     ExtUtils::MakeMaker  any 7.48
# 
# === Build Requires ===
# 
#     Module              Want Have
#     ------------------- ---- ----
#     ExtUtils::MakeMaker  any 7.48
# 
# === Test Requires ===
# 
#     Module                Want     Have
#     --------------------- ---- --------
#     Exporter               any     5.76
#     ExtUtils::MakeMaker    any     7.48
#     File::Spec             any     3.78
#     File::Spec::Functions  any     3.78
#     File::Temp             any   0.2311
#     IO::Handle             any     1.42
#     IPC::Open3             any     1.21
#     Symbol                 any     1.09
#     Test::Differences      any     0.67
#     Test::More            0.88 1.302182
#     lib                    any     0.65
#     utf8                   any     1.24
# 
# === Test Recommends ===
# 
#     Module         Want     Have
#     ---------- -------- --------
#     CPAN::Meta 2.120900 2.150010
# 
# === Runtime Requires ===
# 
#     Module               Want  Have
#     -------------------- ---- -----
#     Encode                any  3.07
#     Getopt::Long          any  2.52
#     Pod::Simple          3.27  3.41
#     Pod::Simple::Methody  any  3.41
#     Pod::Usage            any  2.01
#     URI::Escape           any  5.05
#     parent                any 0.238
#     strict                any  1.12
#     warnings              any  1.48
# 
# === Runtime Recommends ===
# 
#     Module         Want Have
#     -------------- ---- ----
#     HTML::Entities  any 3.75
# 
t/00-report-prereqs.t .. ok
t/back-compat.t ........ ok
t/basic.t .............. ok
t/codes.t .............. ok
t/encoding.t ........... ok
t/entities.t ........... ok
t/escape.t ............. ok
t/formats.t ............ ok
t/links.t .............. ok
t/lists.t .............. ok
t/meta.t ............... ok
t/misc.t ............... ok
t/nested.t ............. ok
t/new.t ................ ok
t/perldoc.t ............ ok
t/pod2markdown.t ....... ok
t/verbatim.t ........... ok
All tests successful.
Files=18, Tests=354,  5 wallclock secs ( 0.12 usr  0.00 sys +  4.26 cusr  0.56 csys =  4.94 CPU)
Result: PASS

------------------------------
PREREQUISITES
------------------------------

Prerequisite modules loaded:

requires:

    Module                Need  Have    
    --------------------- ----- --------
    Encode                0     3.07    
    Getopt::Long          0     2.52    
    parent                0     0.238   
    perl                  5.008 5.033004
    Pod::Simple           3.27  3.41    
    Pod::Simple::Methody  0     3.41    
    Pod::Usage            0     2.01    
    strict                0     1.12    
    URI::Escape           0     5.05    
    warnings              0     1.48    

build_requires:

    Module                Need  Have    
    --------------------- ----- --------
    Exporter              0     5.76    
    ExtUtils::MakeMaker   0     7.48    
    File::Spec            0     3.78    
    File::Spec::Functions 0     3.78    
    File::Temp            0     0.2311  
    IO::Handle            0     1.42    
    IPC::Open3            0     1.21    
    lib                   0     0.65    
    Symbol                0     1.09    
    Test::Differences     0     0.67    
    Test::More            0.88  1.302182
    utf8                  0     1.24    

configure_requires:

    Module                Need  Have    
    --------------------- ----- --------
    ExtUtils::MakeMaker   0     7.48    
    perl                  5.008 5.033004


------------------------------
ENVIRONMENT AND OTHER CONTEXT
------------------------------

Environment variables:

    AUTOMATED_TESTING = 1
    DATE_MANIP_TEST_DM5 = 1
    LANG = en_US.UTF-8
    LC_ALL = C
    NONINTERACTIVE_TESTING = 1
    PATH = /home/cpan/bin/perl-blead/bin:/home/cpan/bin:/home/cpan/.local/bin:/home/cpan/bin:/home/cpan/bin:/usr/local/sbin:/usr/local/bin:/usr/sbin:/usr/bin:/sbin:/bin:/usr/games:/usr/local/games:/snap/bin
    PERL5LIB = 
    PERL5OPT = 
    PERL5_CPANPLUS_IS_RUNNING = 15548
    PERL5_CPAN_IS_RUNNING = 15548
    PERL_MM_USE_DEFAULT = 1
    PERL_USE_UNSAFE_INC = 1
    PERL_VERSION = blead
    SHELL = /bin/bash
    TERM = screen.xterm-256color
    TMPDIR = /home/cpan/tmp

Perl special variables (and OS-specific diagnostics, for MSWin32):

    $^X = /home/cpan/bin/perl-blead/bin/perl5.33.4
    $UID/$EUID = 1002 / 1002
    $GID = 1002 1002
    $EGID = 1002 1002

Perl module toolchain versions installed:

    Module              Have    
    ------------------- --------
    CPAN                2.28    
    CPAN::Meta          2.150010
    Cwd                 3.78    
    ExtUtils::CBuilder  0.280234
    ExtUtils::Command   7.48    
    ExtUtils::Install   2.18    
    ExtUtils::MakeMaker 7.48    
    ExtUtils::Manifest  1.72    
    ExtUtils::ParseXS   3.41    
    File::Spec          3.78    
    JSON                4.02    
    JSON::PP            4.05    
    Module::Build       0.4231  
    Module::Signature   n/a     
    Parse::CPAN::Meta   2.150010
    Test::Harness       3.42    
    Test::More          1.302182
    YAML                n/a     
    YAML::Syck          n/a     
    version             0.9928  


--

Summary of my perl5 (revision 5 version 33 subversion 4) configuration:
  Commit id: bb58640a409949759318542317e353e2241cc408
  Platform:
    osname=linux
    osvers=4.4.0-193-generic
    archname=x86_64-linux-thread-multi
    uname='linux cjg-xenial 4.4.0-193-generic #224-ubuntu smp tue oct 6 17:15:28 utc 2020 x86_64 x86_64 x86_64 gnulinux '
    config_args='-des -Dprefix=~/bin/perl-blead -Dscriptdir=~/bin/perl-blead/bin -Dusedevel -Duse64bitall -Duseithreads'
    hint=recommended
    useposix=true
    d_sigaction=define
    useithreads=define
    usemultiplicity=define
    use64bitint=define
    use64bitall=define
    uselongdouble=undef
    usemymalloc=n
    default_inc_excludes_dot=define
  Compiler:
    cc='cc'
    ccflags ='-D_REENTRANT -D_GNU_SOURCE -fwrapv -fno-strict-aliasing -pipe -fstack-protector-strong -I/usr/local/include -D_LARGEFILE_SOURCE -D_FILE_OFFSET_BITS=64'
    optimize='-O2'
    cppflags='-D_REENTRANT -D_GNU_SOURCE -fwrapv -fno-strict-aliasing -pipe -fstack-protector-strong -I/usr/local/include'
    ccversion=''
    gccversion='5.4.0 20160609'
    gccosandvers=''
    intsize=4
    longsize=8
    ptrsize=8
    doublesize=8
    byteorder=12345678
    doublekind=3
    d_longlong=define
    longlongsize=8
    d_longdbl=define
    longdblsize=16
    longdblkind=3
    ivtype='long'
    ivsize=8
    nvtype='double'
    nvsize=8
    Off_t='off_t'
    lseeksize=8
    alignbytes=8
    prototype=define
  Linker and Libraries:
    ld='cc'
    ldflags =' -fstack-protector-strong -L/usr/local/lib'
    libpth=/usr/local/lib /usr/lib/gcc/x86_64-linux-gnu/5/include-fixed /usr/include/x86_64-linux-gnu /usr/lib /lib/x86_64-linux-gnu /lib/../lib /usr/lib/x86_64-linux-gnu /usr/lib/../lib /lib
    libs=-lpthread -lnsl -ldb -ldl -lm -lcrypt -lutil -lc
    perllibs=-lpthread -lnsl -ldl -lm -lcrypt -lutil -lc
    libc=libc-2.23.so
    so=so
    useshrplib=false
    libperl=libperl.a
    gnulibc_version='2.23'
  Dynamic Linking:
    dlsrc=dl_dlopen.xs
    dlext=so
    d_dlsymun=undef
    ccdlflags='-Wl,-E'
    cccdlflags='-fPIC'
    lddlflags='-shared -O2 -L/usr/local/lib -fstack-protector-strong'


Characteristics of this binary (from libperl): 
  Compile-time options:
    HAS_TIMES
    MULTIPLICITY
    PERLIO_LAYERS
    PERL_COPY_ON_WRITE
    PERL_DONT_CREATE_GVSV
    PERL_IMPLICIT_CONTEXT
    PERL_MALLOC_WRAP
    PERL_OP_PARENT
    PERL_PRESERVE_IVUV
    PERL_USE_DEVEL
    USE_64_BIT_ALL
    USE_64_BIT_INT
    USE_ITHREADS
    USE_LARGE_FILES
    USE_LOCALE
    USE_LOCALE_COLLATE
    USE_LOCALE_CTYPE
    USE_LOCALE_NUMERIC
    USE_LOCALE_TIME
    USE_PERLIO
    USE_PERL_ATOF
    USE_REENTRANT_API
    USE_THREAD_SAFE_LOCALE
  Built under linux
  Compiled at Oct 25 2020 11:59:56
  %ENV:
    PERL5LIB=""
    PERL5OPT=""
    PERL5_CPANPLUS_IS_RUNNING="15548"
    PERL5_CPAN_IS_RUNNING="15548"
    PERL_MM_USE_DEFAULT="1"
    PERL_USE_UNSAFE_INC="1"
    PERL_VERSION="blead"
  @INC:
    /home/cpan/bin/perl-blead/lib/site_perl/5.33.4/x86_64-linux-thread-multi
    /home/cpan/bin/perl-blead/lib/site_perl/5.33.4
    /home/cpan/bin/perl-blead/lib/5.33.4/x86_64-linux-thread-multi
    /home/cpan/bin/perl-blead/lib/5.33.4
    .