Report for App-Sysadmin-Log-Simple-0.009

Back
From: metabase:user:320bfe00-2aae-11df-837a-5e0a49663a4f
Subject: PASS App-Sysadmin-Log-Simple-0.009 v5.23.3 GNU/Linux
Date: 2015-09-19T09:28:18Z

This distribution has been tested as part of the CPAN Testers
project, supporting the Perl programming language.  See
http://wiki.cpantesters.org/ for more information or email
questions to cpan-testers-discuss@perl.org


--
Dear Mike Doherty,

This is a computer-generated report for App-Sysadmin-Log-Simple-0.009
on perl 5.23.3, created by CPAN-Reporter-1.2015.

Thank you for uploading your work to CPAN.  Congratulations!
All tests were successful.

Sections of this report:

    * Tester comments
    * Program output
    * Prerequisites
    * Environment and other context

------------------------------
TESTER COMMENTS
------------------------------

Additional comments from tester:

this report is from an automated smoke testing program
and was not reviewed by a human for accuracy

------------------------------
PROGRAM OUTPUT
------------------------------

Output from './Build test':

t/00-compile.t .. ok
t/01-load.t ..... ok
t/02-view.t ..... ok
t/03-log.t ...... ok
t/04-index.t .... ok
t/05-twitter.t .. ok
t/06-http.t ..... skipped: Test requires module 'Test::HTTP::Server' but it's not found
All tests successful.
Files=7, Tests=30,  2 wallclock secs ( 0.05 usr  0.05 sys +  1.66 cusr  0.26 csys =  2.02 CPU)
Result: PASS

------------------------------
PREREQUISITES
------------------------------

Prerequisite modules loaded:

requires:

    Module                          Need    Have    
    ------------------------------- ------- --------
    autodie                         0       2.29    
    Carp                            0       1.37    
    Config::General                 0       2.58    
    DateTime                        0       1.20    
    DateTime::TimeZone              0       1.93    
    File::Find::Rule                0       0.33    
    File::HomeDir                   0       1.00    
    Getopt::Long                    0       2.47    
    HTTP::Tiny                      0       0.056   
    IO::Pager                       0       0.34    
    IO::Socket::INET                0       1.35    
    Module::Pluggable               0       5.2     
    Net::Twitter::Lite::WithAPIv1_1 0       0.12006 
    Path::Tiny                      0       0.072   
    perl                            v5.10.1 5.023003
    Pod::Usage                      0       1.67    
    strict                          0       1.09    
    Try::Tiny                       0       0.22    
    URI::Escape                     0       3.31    
    warnings                        0       1.33    

build_requires:

    Module                          Need    Have    
    ------------------------------- ------- --------
    File::Spec                      0       3.58    
    IO::Handle                      0       1.35    
    IO::Scalar                      0       2.111   
    IPC::Open3                      0       1.19    
    Module::Build                   0.3601  0.4214  
    Path::Tiny                      0.015   0.072   
    Test::More                      0.96    1.001014
    Test::Output                    0       1.03    
    Test::Requires                  0       0.10    
    Test::Script                    1.05    1.10    

configure_requires:

    Module                          Need    Have    
    ------------------------------- ------- --------
    Module::Build                   0.3601  0.4214  


------------------------------
ENVIRONMENT AND OTHER CONTEXT
------------------------------

Environment variables:

    AUTOMATED_TESTING = 1
    LANG = en_US.UTF-8
    LANGUAGE = en_US:en
    PATH = /home/sand/bin:/usr/local/bin:/usr/bin:/bin:/usr/games:/usr/local/perl/bin:/usr/X11/bin:/sbin:/usr/sbin
    PERL = /tmp/basesmoker-reloperl-kw4_/bin/perl
    PERL5LIB = 
    PERL5OPT = 
    PERL5_CPANPLUS_IS_RUNNING = 29382
    PERL5_CPAN_IS_RUNNING = 29382
    PERL_MM_USE_DEFAULT = 1
    SHELL = /usr/bin/zsh
    TERM = screen

Perl special variables (and OS-specific diagnostics, for MSWin32):

    $^X = /tmp/basesmoker-reloperl-kw4_/bin/perl
    $UID/$EUID = 1005 / 1005
    $GID = 1005 1005
    $EGID = 1005 1005

Perl module toolchain versions installed:

    Module              Have    
    ------------------- --------
    CPAN                2.10    
    CPAN::Meta          2.150005
    Cwd                 3.58    
    ExtUtils::CBuilder  0.280223
    ExtUtils::Command   7.10    
    ExtUtils::Install   2.04    
    ExtUtils::MakeMaker 7.10    
    ExtUtils::Manifest  1.70    
    ExtUtils::ParseXS   3.30    
    File::Spec          3.58    
    JSON                2.90    
    JSON::PP            2.27300 
    Module::Build       0.4214  
    Module::Signature   0.79    
    Parse::CPAN::Meta   1.4417  
    Test::Harness       3.35    
    Test::More          1.001014
    YAML                1.15    
    YAML::Syck          1.29    
    version             0.9909  


--

Summary of my perl5 (revision 5 version 23 subversion 3) configuration:
  Commit id: 6e3d6c029a00fdbf2f75673aa0f5ad22a047e329
  Platform:
    osname=linux, osvers=4.1.0-2-amd64, archname=x86_64-linux-thread-multi-ld
    uname='linux k83 4.1.0-2-amd64 #1 smp debian 4.1.6-1 (2015-08-23) x86_64 gnulinux '
    config_args='-Dprefix=/home/sand/src/perl/repoperls/installed-perls/perl/v5.23.2-281-g6e3d6c0/a2da -Dmyhostname=k83 -Dinstallusrbinperl=n -Uversiononly -Dusedevel -des -Ui_db -Duseithreads -Duselongdouble -DDEBUGGING=-g'
    hint=recommended, useposix=true, d_sigaction=define
    useithreads=define, usemultiplicity=define
    use64bitint=define, use64bitall=define, uselongdouble=define
    usemymalloc=n, bincompat5005=undef
  Compiler:
    cc='cc', ccflags ='-D_REENTRANT -D_GNU_SOURCE -fwrapv -fno-strict-aliasing -pipe -fstack-protector-strong -I/usr/local/include -D_LARGEFILE_SOURCE -D_FILE_OFFSET_BITS=64',
    optimize='-O2 -g',
    cppflags='-D_REENTRANT -D_GNU_SOURCE -fwrapv -fno-strict-aliasing -pipe -fstack-protector-strong -I/usr/local/include'
    ccversion='', gccversion='5.2.1 20150911', gccosandvers=''
    intsize=4, longsize=8, ptrsize=8, doublesize=8, byteorder=12345678, doublekind=3
    d_longlong=define, longlongsize=8, d_longdbl=define, longdblsize=16, longdblkind=3
    ivtype='long', ivsize=8, nvtype='long double', nvsize=16, Off_t='off_t', lseeksize=8
    alignbytes=16, prototype=define
  Linker and Libraries:
    ld='cc', ldflags =' -fstack-protector-strong -L/usr/local/lib'
    libpth=/usr/local/lib /usr/lib/gcc/x86_64-linux-gnu/5/include-fixed /usr/include/x86_64-linux-gnu /usr/lib /lib/x86_64-linux-gnu /lib/../lib /usr/lib/x86_64-linux-gnu /usr/lib/../lib /lib
    libs=-lpthread -lnsl -lgdbm -ldb -ldl -lm -lcrypt -lutil -lc -lgdbm_compat
    perllibs=-lpthread -lnsl -ldl -lm -lcrypt -lutil -lc
    libc=libc-2.19.so, so=so, useshrplib=false, libperl=libperl.a
    gnulibc_version='2.19'
  Dynamic Linking:
    dlsrc=dl_dlopen.xs, dlext=so, d_dlsymun=undef, ccdlflags='-Wl,-E'
    cccdlflags='-fPIC', lddlflags='-shared -O2 -g -L/usr/local/lib -fstack-protector-strong'


Characteristics of this binary (from libperl): 
  Compile-time options: HAS_TIMES MULTIPLICITY PERLIO_LAYERS
                        PERL_COPY_ON_WRITE PERL_DONT_CREATE_GVSV
                        PERL_HASH_FUNC_ONE_AT_A_TIME_HARD
                        PERL_IMPLICIT_CONTEXT PERL_MALLOC_WRAP
                        PERL_PRESERVE_IVUV PERL_USE_DEVEL USE_64_BIT_ALL
                        USE_64_BIT_INT USE_ITHREADS USE_LARGE_FILES
                        USE_LOCALE USE_LOCALE_COLLATE USE_LOCALE_CTYPE
                        USE_LOCALE_NUMERIC USE_LOCALE_TIME USE_LONG_DOUBLE
                        USE_PERLIO USE_PERL_ATOF USE_REENTRANT_API
  Built under linux
  Compiled at Sep 18 2015 21:38:05
  %ENV:
    PERL="/tmp/basesmoker-reloperl-kw4_/bin/perl"
    PERL5LIB=""
    PERL5OPT=""
    PERL5_CPANPLUS_IS_RUNNING="29382"
    PERL5_CPAN_IS_RUNNING="29382"
    PERL_MM_USE_DEFAULT="1"
  @INC:
    /home/sand/src/perl/repoperls/installed-perls/perl/v5.23.2-281-g6e3d6c0/a2da/lib/site_perl/5.23.3/x86_64-linux-thread-multi-ld
    /home/sand/src/perl/repoperls/installed-perls/perl/v5.23.2-281-g6e3d6c0/a2da/lib/site_perl/5.23.3
    /home/sand/src/perl/repoperls/installed-perls/perl/v5.23.2-281-g6e3d6c0/a2da/lib/5.23.3/x86_64-linux-thread-multi-ld
    /home/sand/src/perl/repoperls/installed-perls/perl/v5.23.2-281-g6e3d6c0/a2da/lib/5.23.3
    .